{"text_format":"1","workbook":"xlsx","n_sheets":18,"sheets":["ControlPanel","Macro_SFQ","Rep_LocusStats","Rep_AlleleStats","Fig_PeakHeight","Fig_BP","Fig_Allele","Fig_Density","Fig_Robin","Data","Data_Compare","Introduction","ReadMe","Data_Differences","Stuff to do","LocalMaster","DateTime","Work"],"not_rendered":{"charts":6,"images":1,"macros":1,"external_links":0,"defined_names":277,"comments":0,"pivot_tables":0},"unopened":[],"bounds":{"document_bytes":16777216,"sheet_cells":100000,"rows_first":2000,"rows_last":500,"rows_between":2000,"halvings":0,"cell_chars":16384,"cell_head_chars":4096},"cells_cut":0,"cells_raw":0,"read":"whole","date_system":"1900"}

{"sheet":"ControlPanel","index":0,"n_rows":68,"n_cols":19,"rows_kept":68,"cut":false,"hidden":false,"merged":[[7,1,8,1],[4,1,5,1],[0,0,2,1],[35,1,36,1],[20,1,21,1],[17,1,18,1],[14,1,15,1],[10,1,11,1],[32,1,33,1],[29,1,30,1],[26,1,27,1],[23,1,24,1],[41,3,42,3],[35,3,36,3],[38,3,39,3],[61,1,62,1],[64,1,65,1],[38,1,39,1],[41,1,42,1],[44,1,45,1],[50,0,51,1]]}
[null,null,null,"Parameter","Value",null,null,"Sheet","Locus","bp","Status","RowFst","RowLst",null,"#Alleles","ColHts","ColSze","ColNam","#Ratios"]
[null,null,null,"System:","STR_StutterFreq <27-Aug-2020>"]
[null,null,null,"Directory:","C:\\Users\\dlduewer\\Desktop\\Work\\DNA\\STR_StutterFreq"]
[null,null,null,"Workbook:","Clear"]
[]
[null,null,null,"Direction:","Reverse"]
[null,null,null,"# Δbp:",1]
[null,null,null,null,null,"Excludes:"]
[null,null,null,"Min PkHt:",50]
[null,null,null,"Max PkHt:",999999]
[null,null,null,"Allow Stutter²:","No"]
[null,null,null,"Allow Forward:","No"]
[null,null,null,"Max %Stutter:",30]
[]
[null,null,null,"Min #Ratio:",7]
[null,null,null,"Max bp window:",0.5]
[]
[null,null,null,{"$f":"\"Use \"&IF(E18,\"Median/MADe\",\"Mean/SD\")&\":\"","v":"Use Mean/SD:"},false]
[]
[null,null,null,"Identify stutter peaks using...",null,"#Ratios:"]
[null,null,null,"Peaks:",1]
[null,null,null,"Called Alleles:"]
[null,null,null,"Stored profiles:"]
[]
[null,null,null,"Data:","Clear"]
[]
[null,null,null,"Rep_LocusStats:","Clear"]
[null,null,null,"Rep_AlleleStats:","Clear"]
[]
[null,null,null,"Fig_PeakHeight:","Clear"]
[null,null,null,"Fig_BP:","Clear"]
[null,null,null,"Fig_Allele:","Clear"]
[null,null,null,"Fig_Density:","Clear"]
[null,null,null,"Fig_Robin:","Clear"]
[]
[]
[]
[]
[]
[]
[]
[]
[]
[]
[]
[]
[]
[]
[]
[]
[null,null,null,"Status:","Loaded"]
[null,null,null,"Directory:","D:\\Work\\DNA\\STR_MakeMaster"]
[null,null,null,"Workbook:","MasterList_NIST_DLD.xls"]
[null,null,null,"Date Loaded:",44070.502087384259]
[null,null,null,"#Samples:",1407]
[null,null,null,"#Calls:",139066]
[]
[]
[]
[]
[null,null,"Engineering Controls"]
[]
[]
["*****","****************"]
[]
[]
[]
["*****","****************"]

{"sheet":"Macro_SFQ","index":1,"n_rows":235,"n_cols":55,"rows_kept":235,"cut":false,"hidden":false,"merged":[]}
["SFQ_Globals","Parameter","Value","SFQ_GetParameters","SFQ_DoItAll","SFQ_ClearUser","SFQ_ClearSheets","SFQ_LocateUser","SFQ_Locate_Long","SFQ_Locate_Wide","SFQ_FetchUser","SFQ_ExtractSize","SFQ_ExtractName","SFQ_ExtractProfile","SFQ_ExtractReverse","SFQ_ExtractForward","SFQ_ExtractStore","SFQ_RepLocusStatsUser","SFQ_RepAlleleStatsUser","SFQ_FigPeakHeightUser","SFQ_FigPeakHeightParameters","SFQ_FigPeakHeightOptionals","SFQ_FigPeakHeightNext","SFQ_FigBPUser","SFQ_FigBPNext","SFQ_FigAlleleUser","SFQ_FigBPAParameters","SFQ_FigAlleleNext","SFQ_FigDensityUser","SFQ_FigDensityParameters","SFQ_FigDensityCalc","SFQ_FigDensityNext","SFQ_FigRobinUser","SFQ_FigRobinParameters","SFQ_FigRobinOptionals","SFQ_FigRobinNext","SFQ_FilterList","SFQ_Print","SFQ_Exit","SFQ_GetMasterList","SFQ_GetMasterListIndex","SFQ_SetZoom","SFQ_ConBack","SFQ_ReadMe","SFQ_Introduction","SFQ_DataStore","SFQ_DataCompare","SFQ_ChangeStats","Utility_Whoopsie","Utility_ShowMacro","Utility_AlignControls","Utility_ResetHeaders","Utility_DateTimeDependencies","Utility_CleanUpNames","Atmp1"]
["! In the normal course of events, this is ONLY run by the Auto_Open VBA Macro","R1C1 mode",true,"! Get user-settable parameters","! Driver for the entire Convert function","! User access","! Clear the decks","! User access","! Get the loci from a long-form worksheet","! Get the loci from a Wide-form worksheet","! User access","! Get the allele-size identified stutter data for this sample","! Get the allele-name identified stutter data for this sample","! Get the stored-profile identified stutter data for this sample","! Find and evaluate a reverse-stutter peak","! Find and evaluate a forward-stutter peak","! Store a ratio","! User access","! User access","! User access","! Get the parameters","! Display the optional line elements","! Cycle through the loci","! User access","! Cycle through the loci","! User access","! Get the parameters","! Cycle through the loci","! User access","! Get the parameters","! Make the trace and Gaussian","! Cycle through the loci","! User access","! Get the parameters","! Display the optional line elements","! Cycle through the loci","! List the filters along the left side","! Print active sheet","! Restore baseline system just prior to quiting","! Open the MasterList","! Store an index of locus columns","! Set the default zoom","! Return to next task on Control","! Transfer control to the readme sheet","! Transfer control to the readme sheet","! Compare a saved Data worksheet to the current one","! Compare a saved Data worksheet to the current one","! Toggle from Mean to median","! Report a miss-call that would damage this sheet","! Unide all hidden sheets","! Make sure the buttons are in the right spot","! Reset Page Headers of visible files","! Check the DateTime format setting","! Get rid of all the transcients","Atmp2"]
["! If you diddle any of the constants, make sure you re-run it yourself before you evaluate the diddle","Calculation mode",3,{"$f":"ECHO(FALSE)","v":true},null,null,{"$f":"ECHO(FALSE)","v":true},null,null,null,null,null,null,null,null,null,null,null,null,null,{"$f":"DLD_MsgBar(TEXT(NOW(),AlngDatTim)&Msub0&U$1&\" > Started\")","v":0},{"$f":"DLD_MsgBar(TEXT(NOW(),AlngDatTim)&\" \"&V$1&\" Started\")","v":0},{"$f":"DLD_MsgBar(TEXT(NOW(),AlngDatTim)&\" \"&W$1&\" Started\")","v":0},null,{"$f":"DLD_MsgBar(TEXT(NOW(),AlngDatTim)&\" \"&Y$1&\" Started\")","v":0},null,{"$f":"DLD_MsgBar(TEXT(NOW(),AlngDatTim)&Msub0&AA$1&\" > Started\")","v":0},{"$f":"DLD_MsgBar(TEXT(NOW(),AlngDatTim)&\" \"&AB$1&\" Started\")","v":0},null,{"$f":"DLD_MsgBar(TEXT(NOW(),AlngDatTim)&Msub0&AD$1&\" > Started\")","v":0},{"$f":"DLD_MsgBar(TEXT(NOW(),AlngDatTim)&Msub0&AE$1&\" > Make traces\")","v":0},{"$f":"DLD_MsgBar(TEXT(NOW(),AlngDatTim)&\" \"&AF$1&\" Started\")","v":0},null,{"$f":"DLD_MsgBar(TEXT(NOW(),AlngDatTim)&Msub0&AH$1&\" > Started\")","v":0},{"$f":"DLD_MsgBar(TEXT(NOW(),AlngDatTim)&\" \"&AI$1&\" Started\")","v":0},{"$f":"DLD_MsgBar(TEXT(NOW(),AlngDatTim)&\" \"&AJ$1&\" Started\")","v":0},{"$f":"ECHO(FALSE)","v":true},{"$f":"DLD_MsgBar(TEXT(NOW(),AlngDatTim)&\" \"&AL$1)","v":0},{"$f":"DLD_MsgBar(TEXT(NOW(),AlngDatTim)&\" \"&AM$1)","v":0},{"$f":"DLD_MsgBar(TEXT(NOW(),AlngDatTim)&\" \"&AN$1)","v":0},{"$f":"ACTIVATE(S0lcm)","v":true},{"$f":"DLD_MsgBar(TEXT(NOW(),AlngDatTim)&\" \"&AP$1)","v":0},{"$f":"ECHO(FALSE)","v":true},null,null,{"$f":"DLD_MsgBar(TEXT(NOW(),AlngDatTim)&\" \"&AT$1)","v":0},{"$f":"DLD_MsgBar(TEXT(NOW(),AlngDatTim)&\" \"&AU$1)","v":0},{"$f":"DLD_MsgBar(TEXT(NOW(),AlngDatTim)&\" \"&AV$1)","v":0},{"$f":"ECHO(TRUE)","v":true},{"$f":"DLD_MsgBar(TEXT(NOW(),AlngDatTim)&\" \"&AX$1)","v":0},{"$f":"ECHO(FALSE)","v":true},{"$f":"DLD_MsgBar(TEXT(NOW(),AlngDatTim)&\" \"&AZ$1)","v":0},{"$f":"DLD_MsgBar(BA$1)","v":0},null,"Atmp3"]
[{"$f":"SET.NAME(\"Asyst\",\"STR_StutterFreq\")","v":true},"Start datetime","2020-08-27T12:03:55.300",null,"! Set the message display flag for the subroutine calls","! Null the message display flag",null,"! Null the message display flag","! Get the number of alleles","! Loop over the markers","! Null the message display flag","! Ok.  Loop over all the possible alleles","! Ok.  Loop over all the possible alleles","! Is this sample in the MasterList?",{"$f":"SET.NAME(\"IsOK\",-1)","v":true},{"$f":"SET.NAME(\"IsOK\",-1)","v":true},{"$f":"SET.NAME(\"Nrat\",Nrat+1)","v":true},"! Null the message display flag","! Null the message display flag","! Null the message display flag",{"$f":"ECHO(FALSE)","v":true},{"$f":"ECHO(FALSE)","v":true},{"$f":"ECHO(FALSE)","v":true},"! Null the message display flag",{"$f":"ECHO(FALSE)","v":true},"! Null the message display flag",{"$f":"ECHO(FALSE)","v":true},{"$f":"ECHO(FALSE)","v":true},"! Null the message display flag",{"$f":"ECHO(FALSE)","v":true},{"$f":"ECHO(FALSE)","v":true},{"$f":"ECHO(FALSE)","v":true},"! Null the message display flag",{"$f":"ECHO(FALSE)","v":true},{"$f":"ECHO(FALSE)","v":true},{"$f":"ECHO(FALSE)","v":true},null,{"$f":"ECHO(FALSE)","v":true},{"$f":"ECHO(FALSE)","v":true},{"$f":"SFQ_ConRestore(A0con,ColPar,\"A1\")","v":0},{"$f":"DLD_ClearCols(254,-1)","v":0},{"$f":"SFQ_ConRestore(A0con,ColPar,\"A1\")","v":0},{"$f":"SET.NAME(\"S0tmp\",GET.DOCUMENT(76))","v":true},{"$f":"ECHO(FALSE)","v":true},{"$f":"ECHO(FALSE)","v":true},{"$f":"ECHO(FALSE)","v":true},{"$f":"ECHO(FALSE)","v":true},{"$f":"ECHO(FALSE)","v":true},{"$f":"DLD_MsgBar(\"Stop mucking about!\")","v":false},{"$f":"ECHO(FALSE)","v":true},{"$f":"RUN(SFQ_Globals,FALSE)","v":{"$error":"#N/A"}},{"$f":"ECHO(FALSE)","v":true},{"$f":"ECHO(FALSE)","v":true},{"$f":"SET.NAME(\"Atmp1\",COUNTA(NAMES()))","v":true},"SFQ_Clear"]
[{"$f":"SET.NAME(\"Adate\",\"27-Aug-2020\")","v":true},"Stop datetime",44070.503235532407,{"$f":"SET.NAME(\"IsOk\",0)","v":true},{"$f":"SET.NAME(\"Msub0\",\" \"&E$1&\" > \")","v":true},{"$f":"ECHO(FALSE)","v":true},"! Clear Data worksheet",{"$f":"ECHO(FALSE)","v":true},{"$f":"SET.NAME(\"Nall\",COUNTIF(INDIRECT(\"'\"&S1tmp&\"'!\"&Arow&1,FALSE),\"Allele*\"))","v":true},{"$f":"FOR(\"Icol\",1,Ncol,1)","v":true},{"$f":"ECHO(FALSE)","v":true},{"$f":"FOR(\"Iall\",2,Ncnt,1)","v":true},{"$f":"FOR(\"Iall\",2,Ncnt,1)","v":true},{"$f":"SET.NAME(\"Jrow\",MATCH(Asam,INDIRECT(\"'\"&S0lcm&\"'!\"&Acol&6,FALSE),0))","v":true},null,{"$f":"SET.NAME(\"Nxcld3\",\"na\")","v":true},{"$f":"FORMULA(Asam,INDIRECT(\"'\"&S0dat&\"'!\"&Arow&Nrat+2&Acol&Jcol,FALSE))","v":true},{"$f":"ECHO(FALSE)","v":true},{"$f":"ECHO(FALSE)","v":true},{"$f":"ECHO(FALSE)","v":true},null,null,null,{"$f":"ECHO(FALSE)","v":true},null,{"$f":"ECHO(FALSE)","v":true},null,null,{"$f":"ECHO(FALSE)","v":true},null,null,null,{"$f":"ECHO(FALSE)","v":true},null,null,null,"! Get the active sheet",null,null,{"$f":"ECHO(FALSE)","v":true},null,{"$f":"ECHO(FALSE)","v":true},null,{"$f":"ACTIVATE(S0rme)","v":true},{"$f":"ACTIVATE(S0int)","v":true},null,null,null,{"$f":"ALERT(\"Error! Stop mucking about!  That can only be called from a Report/Figure sheet.\",1)","v":true},null,null,{"$f":"RUN(SFQ_Globals,FALSE)","v":{"$error":"#N/A"}},null,{"$f":"FOR(\"Atmp2\",Atmp1,1,-1)","v":true},"SFQ_ClearSheets"]
[{"$f":"DLD_MsgBar(\"\")","v":0},"User",null,{"$f":"ACTIVATE(S0con)","v":true},null,{"$f":"SET.NAME(\"Msub0\",\" \")","v":true},{"$f":"ACTIVATE(S0dat)","v":true},{"$f":"SET.NAME(\"Msub0\",\" \")","v":true},null,{"$f":"  SET.NAME(\"Aloc\",DEREF(INDIRECT(\"'\"&S1tmp&\"'!\"&Arow&1&Acol&Icol,FALSE)))","v":true},{"$f":"SET.NAME(\"Msub0\",\" \")","v":true},{"$f":"  SET.NAME(\"XpkhP\",DEREF(INDIRECT(\"'\"&S0wrk&\"'!\"&Arow&Irow&Acol&Icol0+Iall-1,FALSE)))","v":true},null,{"$f":"IF(NOT(ISERROR(Jrow)))","v":true},"! Is there a reverse stutter peak?",{"$f":"SET.NAME(\"Nxcld4\",\"na\")","v":true},{"$f":"FORMULA(AallS,INDIRECT(\"'\"&S0dat&\"'!\"&Arow&Nrat+2&Acol&Jcol+1,FALSE))","v":true},{"$f":"SET.NAME(\"Msub0\",\" \")","v":true},{"$f":"SET.NAME(\"Msub0\",\" \")","v":true},{"$f":"SET.NAME(\"Msub0\",\" \")","v":true},"! Set the locus default","! Clear","! Update the locus specification",{"$f":"SET.NAME(\"Msub0\",\" \")","v":true},"! Update the locus specification",{"$f":"SET.NAME(\"Msub0\",\" \")","v":true},"! Get the calling sheet","! Update the locus specification",{"$f":"SET.NAME(\"Msub0\",\" \")","v":true},"! X-axis minimum","! Header","! Update the locus specification",{"$f":"SET.NAME(\"Msub0\",\" \")","v":true},"! Set the locus default","! Clear","! Update the locus specification",{"$f":"SET.NAME(\"S0tmp\",GET.DOCUMENT(76))","v":true},"! Print any 'Finished' Reports","! Restore calculation and RC states",null,"! Loop over all the locus headings",null,{"$f":"ACTIVATE(S0con)","v":true},{"$f":"DLD_GoToCell(\"A1\",\"A1\")","v":0},{"$f":"DLD_GoToCell(\"A1\",\"D27\")","v":0},"! Is there a current dataset","! Is there a current dataset",{"$f":"SET.NAME(\"Atmp\",UserTypeStats)","v":true},null,"! Unhide","! Clear the sheets",null,"! Unhide the date/time check system",{"$f":"  SET.NAME(\"Atmp3\",INDEX(NAMES(),Atmp2))","v":true},"SFQ_ClearUser"]
[{"$f":"ECHO(FALSE)","v":true},"Number invocations",null,{"$f":"ECHO(TRUE)","v":true},"! Clear things",{"$f":"SET.NAME(\"AFrmWhnc\",\"User\")","v":true},{"$f":"DLD_ClearCols(1,-1,TRUE)","v":0},{"$f":"SET.NAME(\"AFrmWhnc\",\"User\")","v":true},"! Get all the loci held on this sheet",{"$f":"  IF(LEFT(Aloc,6)=\"Marker\")","v":true},{"$f":"SET.NAME(\"AFrmWhnc\",\"User\")","v":true},{"$f":"  SET.NAME(\"XpksP\",DEREF(INDIRECT(\"'\"&S0wrk&\"'!\"&Arow&Irow&Acol&Icol1+Iall-1,FALSE)))","v":true},"! is this a numeric-named allele?",null,{"$f":"SET.NAME(\"NpkS\",0)","v":true},null,{"$f":"FORMULA(AallP,INDIRECT(\"'\"&S0dat&\"'!\"&Arow&Nrat+2&Acol&Jcol+2,FALSE))","v":true},{"$f":"ACTIVATE(S0rp1)","v":true},{"$f":"ACTIVATE(S0rp2)","v":true},{"$f":"ACTIVATE(S0fg1)","v":true},{"$f":"SET.NAME(\"Atmp1\",IF(ISBLANK(INDIRECT(\"'\"&S0fg1&\"'!\"&Arow&10&Acol&ColFigPar+1,FALSE)),NA(),DEREF(INDIRECT(\"'\"&S0fg1&\"'!\"&Arow&10&Acol&ColFigPar+1,FALSE))))","v":true},{"$f":"ACTIVATE(S0fg1)","v":true},{"$f":"SFQ_IncrementLocus(S0fg1,RowFigLocB,ColFigPar,10)","v":0},{"$f":"ACTIVATE(S0fg2)","v":true},{"$f":"SFQ_IncrementLocus(S0fg2,RowFigLocB,ColFigPar,10)","v":0},{"$f":"ACTIVATE(S0fg3)","v":true},{"$f":"SET.NAME(\"S0tmp\",GET.DOCUMENT(76))","v":true},{"$f":"SFQ_IncrementLocus(S0fg3,RowFigLocB,ColFigPar,10)","v":0},{"$f":"ACTIVATE(S0fg4)","v":true},{"$f":"SET.NAME(\"Atmp1\",IF(ISBLANK(INDIRECT(\"'\"&S0fg4&\"'!\"&Arow&2&Acol&ColFigPar+2,FALSE)),NA(),DEREF(INDIRECT(\"'\"&S0fg4&\"'!\"&Arow&2&Acol&ColFigPar+2,FALSE))))","v":true},{"$f":"FORMULA(\"#\",INDIRECT(\"'\"&S0fg4&\"'!\"&Arow&1&Acol&ColOu,FALSE))","v":true},{"$f":"SFQ_IncrementLocus(S0fg4,RowFigLocB,ColFigPar,8)","v":0},{"$f":"ACTIVATE(S0fg5)","v":true},{"$f":"SET.NAME(\"Atmp1\",IF(ISBLANK(INDIRECT(\"'\"&S0fg5&\"'!\"&Arow&10&Acol&ColFigPar+1,FALSE)),NA(),DEREF(INDIRECT(\"'\"&S0fg5&\"'!\"&Arow&10&Acol&ColFigPar+1,FALSE))))","v":true},{"$f":"ACTIVATE(S0fg5)","v":true},{"$f":"SFQ_IncrementLocus(S0fg5,RowFigLocB,ColFigPar,10)","v":0},{"$f":"IF(S0tmp=S0mac,RUN(Utility_Whoopsie,FALSE))","v":false},{"$f":"ACTIVATE(S0con)","v":true},{"$f":"SET.NAME(\"Atmp1\",DEREF(INDIRECT(\"'\"&S0mac&\"'!\"&Arow&2&Acol&3,FALSE)))","v":true},"! Setup the record",{"$f":"SET.NAME(\"Nloc\",0)","v":true},"! Get current Zoom",{"$f":"IF(S0tmp=S0rp1,DLD_GoToCell(\"A1\",\"B15\"))","v":false},{"$f":"ECHO(TRUE)","v":true},{"$f":"ECHO(TRUE)","v":true},{"$f":"SET.NAME(\"Nloc\",COUNTA(INDIRECT(\"'\"&S0dat&\"'!\"&Arow&1,FALSE)))","v":false},{"$f":"SET.NAME(\"Nloc\",COUNTA(INDIRECT(\"'\"&S0dat&\"'!\"&Arow&1,FALSE)))","v":true},{"$f":"SET.NAME(\"UserTypeStats\",IF(ISBLANK(INDIRECT(\"'\"&S0con&\"'!\"&Arow&RowMed&Acol&ColPar+1,FALSE)),1/0,DEREF(INDIRECT(\"'\"&S0con&\"'!\"&Arow&RowMed&Acol&ColPar+1,FALSE))))","v":true},{"$f":"HALT()","v":true},{"$f":"ERROR(FALSE)","v":true},{"$f":"RUN(SFQ_Clear,FALSE)","v":{"$error":"#N/A"}},{"$f":"SET.NAME(\"Atmp\",\"STR Stutter Frequency Analyzer\")","v":true},{"$f":"ACTIVATE(S0dti)","v":true},{"$f":"  IF(ISERROR(MATCH(Atmp3,BC:BC,0)),DELETE.NAME(Atmp3))","v":true},"SFQ_ConBack"]
[null,null,null,null,{"$f":"RUN(SFQ_Clear,FALSE)","v":{"$error":"#N/A"}},{"$f":"GOTO(F$15)","v":true},null,{"$f":"GOTO(H$13)","v":true},{"$f":"SET.NAME(\"Irow1\",-1)","v":true},null,{"$f":"GOTO(K$13)","v":true},{"$f":"  SET.NAME(\"AallP\",DEREF(INDIRECT(\"'\"&S0wrk&\"'!\"&Arow&Irow&Acol&Icol2+Iall-1,FALSE)))","v":true},{"$f":"  SET.NAME(\"AallP\",DEREF(INDIRECT(\"'\"&S0wrk&\"'!\"&Arow&Irow&Acol&Icol2+Iall-1,FALSE)))","v":true},"!  Ok.  Is this locus in the MasterList?",{"$f":"FOR(\"Jall\",JoffP-1,1,-1)","v":true},"! Is there a forward stutter peak?",{"$f":"FORMULA(XpksS,INDIRECT(\"'\"&S0dat&\"'!\"&Arow&Nrat+2&Acol&Jcol+3,FALSE))","v":true},null,null,null,{"$f":"SET.NAME(\"Iloc\",MATCH(Atmp1,INDIRECT(\"'\"&S0fg1&\"'!\"&Arow&RowFigLocB+1&Acol&ColFigPar&Asep&Arow&RowFigLocB+50&Acol&ColFigPar,FALSE),0))","v":true},{"$f":"DLD_ClearCols(ColFigDat+30,-1)","v":0},null,null,null,null,{"$f":"IF(S0tmp=S0mac,RUN(Utility_Whoopsie,FALSE))","v":false},null,null,{"$f":"IF(ISERROR(Atmp1*1))","v":true},{"$f":"FORMULA(\"Xtrace\",INDIRECT(\"'\"&S0fg4&\"'!\"&Arow&1&Acol&ColOu+1,FALSE))","v":true},null,null,{"$f":"SET.NAME(\"Iloc\",MATCH(Atmp1,INDIRECT(\"'\"&S0fg5&\"'!\"&Arow&RowFigLocB+1&Acol&ColFigPar&Asep&Arow&RowFigLocB+50&Acol&ColFigPar,FALSE),0))","v":true},{"$f":"DLD_ClearCols(ColFigDat+10,-1)","v":0},null,{"$f":"IF(S0tmp=S0con,RUN(Utility_Whoopsie,FALSE))","v":false},{"$f":"SET.NAME(\"Npnt\",0)","v":true},{"$f":"IF(ISERROR(Atmp1),SET.NAME(\"Atmp1\",TRUE))","v":false},{"$f":"DLD_ClearRange(BRowLoad,ColPar,BRowLoad+6,ColPar+1)","v":0},{"$f":"SET.NAME(\"Ntmp\",COUNTA(INDIRECT(\"'\"&S0lcm&\"'!\"&Arow&1,FALSE)))","v":true},{"$f":"SET.NAME(\"CurZoom\",DEREF(INDIRECT(\"'\"&S0mac&\"'!\"&Arow&9&Acol&3,FALSE)))","v":true},{"$f":"IF(S0tmp=S0rp2,DLD_GoToCell(\"A1\",\"B18\"))","v":false},null,null,{"$f":"IF(Nloc<0.5)","v":true},{"$f":"IF(Nloc<0.5)","v":true},{"$f":"IF(NOT(ISLOGICAL(UserTypeStats)),SET.NAME(\"UserTypeStats\",TRUE))","v":false},null,{"$f":"  WORKBOOK.UNHIDE(MID(S0lcm,FIND(\"]\",S0lcm)+1,100))","v":true},null,null,{"$f":"ERROR(FALSE)","v":true},{"$f":"NEXT()","v":true},"SFQ_DataCompare"]
["! Make sheetnames","CurZoom",100,"! Get the stutter direction (Reverse or Forward)",null,null,"! Clear Work worksheet",null,{"$f":"SET.NAME(\"Irow2\",1)","v":true},"! New locus",null,null,{"$f":"  IF(NOT(ISERROR(AallP+0)))","v":true},{"$f":"  SET.NAME(\"Krow\",MATCH(Aloc,INDIRECT(\"'\"&S0lcm&\"'!\"&Acol&254,FALSE),0))","v":true},{"$f":"  SET.NAME(\"Atmp\",DEREF(INDIRECT(\"'\"&S0wrk&\"'!\"&Arow&Irow&Acol&Icol1+Jall-1,FALSE)))","v":true},{"$f":"SET.NAME(\"NpkS\",0)","v":true},{"$f":"FORMULA(XpksP,INDIRECT(\"'\"&S0dat&\"'!\"&Arow&Nrat+2&Acol&Jcol+4,FALSE))","v":true},"SFQ_RepLocusStats","SFQ_RepAlleleStats","SFQ_FigPeakHeight",{"$f":"IF(ISERROR(Iloc))","v":true},{"$f":"FORMULA.ARRAY(\" \",INDIRECT(\"'\"&S0fg1&\"'!\"&Arow&5&Acol&ColFigDat+2&Asep&Arow&6&Acol&ColFigDat+2,FALSE))","v":true},"! Update the figure","SFQ_FigBP","! Update the figure","SFQ_FigAllele",null,"! Update the figure","SFQ_FigDensity",{"$f":"  SET.NAME(\"Xmin\",DEREF(INDIRECT(\"'\"&S0fg4&\"'!\"&Arow&2&Acol&ColFigPar+1,FALSE)))","v":true},{"$f":"FORMULA(\"Ytrace\",INDIRECT(\"'\"&S0fg4&\"'!\"&Arow&1&Acol&ColOu+2,FALSE))","v":true},"! Update the figure","SFQ_FigRobin",{"$f":"IF(ISERROR(Iloc),SET.NAME(\"Iloc\",1))","v":false},{"$f":"SET.NAME(\"Nall\",COUNTA(INDIRECT(\"'\"&S0fg5&\"'!\"&Acol&ColFigDat,FALSE)))","v":true},"! Update the figure",null,null,{"$f":"A1.R1C1(NOT(Atmp1))","v":true},{"$f":"FORMULA(\"Status:\",INDIRECT(\"'\"&S0con&\"'!\"&Arow&BRowLoad&Acol&ColPar,FALSE))","v":true},null,{"$f":"IF(ISERROR(1/CurZoom),SET.NAME(\"CurZoom\",0))","v":false},{"$f":"IF(S0tmp=S0fg1,DLD_GoToCell(\"A1\",\"B21\"))","v":false},{"$f":"DLD_MsgBar(TEXT(NOW(),AlngDatTim)&\" \"&AR$1&\" > Finished!\")","v":0},{"$f":"DLD_MsgBar(TEXT(NOW(),AlngDatTim)&\" \"&AS$1&\" > Finished!\")","v":0},{"$f":"  DLD_MsgBar(\"No current data.\")","v":0},{"$f":"  DLD_MsgBar(\"No current data.\")","v":false},{"$f":"FORMULA(UserTypeStats,INDIRECT(\"'\"&S0con&\"'!\"&Arow&RowMed&Acol&ColPar+1,FALSE))","v":true},null,{"$f":"  WORKBOOK.UNHIDE(MID(S0dti,FIND(\"]\",S0dti)+1,100))","v":true},"! Hide the trivial worksheets","! Introduction",{"$f":"  WORKBOOK.UNHIDE(\"DateTime\")","v":{"$error":"#VALUE!"}},null,"SFQ_DataStore"]
[{"$f":"SET.NAME(\"Drtry0\",GET.DOCUMENT(2))","v":true},null,null,{"$f":"SET.NAME(\"Atmp\",UserStutDir)","v":true},"! Locate the worksheet","SFQ_Clear",{"$f":"ERROR(FALSE)","v":true},"SFQ_Locate",{"$f":"WHILE(Irow1+0.5<Nrow)","v":true},{"$f":"    SET.NAME(\"Icol3\",Icol)","v":true},"SFQ_Fetch","! Is this a new peak?",null,{"$f":"  IF(NOT(ISERROR(Krow)))","v":true},{"$f":"  IF(ABS(XpksP-Atmp-Ydbp)<=UserWind)","v":true},{"$f":"FOR(\"Jall\",JoffP+1,Ncnt,1)","v":true},{"$f":"FORMULA(XpkhS,INDIRECT(\"'\"&S0dat&\"'!\"&Arow&Nrat+2&Acol&Jcol+5,FALSE))","v":true},"! Make the frequency tables","! Make the frequency tables","! Make the peak height scatter",{"$f":"  SET.NAME(\"Aloc\",\"None\")","v":true},{"$f":"FORMULA.ARRAY(\" \",INDIRECT(\"'\"&S0fg1&\"'!\"&Arow&5&Acol&ColFigDat+6&Asep&Arow&6&Acol&ColFigDat+6,FALSE))","v":true},{"$f":"RUN(SFQ_FigPeakHeightUpdate,FALSE)","v":{"$error":"#N/A"}},"! Make the frequency plot",{"$f":"RUN(SFQ_FigBPUpdate,FALSE)","v":{"$error":"#N/A"}},"! Make the frequency plot","! Set the locus default",{"$f":"RUN(SFQ_FigAlleleUpdate,FALSE)","v":{"$error":"#N/A"}},"! Make the histogram for one locus",{"$f":"  FORMULA(\"Use default\",INDIRECT(\"'\"&S0fg4&\"'!\"&Arow&2&Acol&ColFigPar+2,FALSE))","v":true},{"$f":"FORMULA(\"Xgauss\",INDIRECT(\"'\"&S0fg4&\"'!\"&Arow&1&Acol&ColOu+3,FALSE))","v":true},{"$f":"RUN(SFQ_FigDensityUpdate,FALSE)","v":{"$error":"#N/A"}}," %Stutter vs Size plot for 1 locus only",{"$f":"SET.NAME(\"Aloc\",DEREF(INDIRECT(\"'\"&S0fg5&\"'!\"&Arow&RowFigLocB+Iloc&Acol&ColFigPar,FALSE)))","v":true},null,{"$f":"RUN(SFQ_FigRobinUpdate,FALSE)","v":{"$error":"#N/A"}},"! Title Rows","! Loop over Reports",{"$f":"SET.NAME(\"Atmp2\",DEREF(INDIRECT(\"'\"&S0mac&\"'!\"&Arow&3&Acol&3,FALSE)))","v":true},{"$f":"FORMULA(\"Clear\",INDIRECT(\"'\"&S0con&\"'!\"&Arow&BRowLoad&Acol&ColPar+1,FALSE))","v":true},{"$f":"FOR(\"Icol\",7,Ntmp,1)","v":true},{"$f":"IF(OR(CurZoom<30,CurZoom>200),SET.NAME(\"CurZoom\",75))","v":false},{"$f":"IF(S0tmp=S0fg2,DLD_GoToCell(\"A1\",\"B24\"))","v":false},{"$f":"HALT()","v":true},{"$f":"HALT()","v":true},{"$f":"  ACTIVATE(S0con)","v":true},{"$f":"  ACTIVATE(S0con)","v":true},{"$f":"IF(NOT(Atmp=UserTypeStats),SET.NAME(\"IsOK\",IsOk+1))","v":true},null,{"$f":"  WORKBOOK.UNHIDE(MID(S0mac,FIND(\"]\",S0mac)+1,100))","v":true},{"$f":"DLD_MsgBar(TEXT(NOW(),AlngDatTim)&\" \"&AY$1)","v":0},{"$f":"ACTIVATE(S0int)","v":true},{"$f":"ERROR(TRUE)","v":true},{"$f":"RUN(SFQ_Globals,FALSE)","v":{"$error":"#N/A"}},"SFQ_DoItAll"]
[{"$f":"SET.NAME(\"WrkBk0\",GET.DOCUMENT(88))","v":true},null,null,{"$f":"SET.NAME(\"UserStutDir\",IF(ISBLANK(INDIRECT(\"'\"&S0con&\"'!\"&Arow&RowWay&Acol&ColPar+1,FALSE)),\"Reverse\",DEREF(INDIRECT(\"'\"&S0con&\"'!\"&Arow&RowWay&Acol&ColPar+1,FALSE))))","v":true},{"$f":"RUN(SFQ_Locate,FALSE)","v":{"$error":"#N/A"}},"! Clear the decks",{"$f":"  WORKBOOK.UNHIDE(MID(S0wrk,FIND(\"]\",S0wrk)+1,100))","v":{"$error":"#VALUE!"}},"! Get the input workbook and its worksheets",{"$f":"  SET.NAME(\"Irow1\",Irow2+1)","v":true},{"$f":"    SET.NAME(\"Icol0\",MATCH(\"Height 1\",INDIRECT(\"'\"&S1tmp&\"'!\"&Arow&1&Acol&Icol3&Asep&Arow&1&Acol&Ncol,FALSE),0))","v":true},"! Get all the useable stutter data",{"$f":"  SET.NAME(\"Atmp\",DEREF(INDIRECT(\"'\"&S0wrk&\"'!\"&Arow&Irow&Acol&Icol1+Iall-2,FALSE)))","v":true},"! Ok.  Sum any non-homozygote multiple peak-matches",null,{"$f":"    SET.NAME(\"NpkS\",NpkS+1)","v":true},{"$f":"  SET.NAME(\"Atmp\",DEREF(INDIRECT(\"'\"&S0wrk&\"'!\"&Arow&Irow&Acol&Icol1+Jall-1,FALSE)))","v":true},{"$f":"FORMULA(XpkhP,INDIRECT(\"'\"&S0dat&\"'!\"&Arow&Nrat+2&Acol&Jcol+6,FALSE))","v":true},{"$f":"DLD_MsgBar(TEXT(NOW(),AlngDatTim)&Msub0&R$9&\" > Starting\")","v":0},{"$f":"DLD_MsgBar(TEXT(NOW(),AlngDatTim)&Msub0&S$9&\" > Starting\")","v":0},{"$f":"DLD_MsgBar(TEXT(NOW(),AlngDatTim)&Msub0&T$9&\" > Starting\")","v":0},{"$f":"ELSE()","v":true},null,null,{"$f":"SET.NAME(\"S0from\",GET.DOCUMENT(76))","v":true},null,{"$f":"SET.NAME(\"S0from\",GET.DOCUMENT(76))","v":true},{"$f":"SET.NAME(\"Atmp1\",IF(ISBLANK(INDIRECT(\"'\"&S0tmp&\"'!\"&Arow&10&Acol&ColFigPar+1,FALSE)),NA(),DEREF(INDIRECT(\"'\"&S0tmp&\"'!\"&Arow&10&Acol&ColFigPar+1,FALSE))))","v":true},null,{"$f":"DLD_MsgBar(TEXT(NOW(),AlngDatTim)&Msub0&AC$9&\" > Starting\")","v":0},{"$f":"ELSE()","v":true},{"$f":"FORMULA(\"Ygauss\",INDIRECT(\"'\"&S0fg4&\"'!\"&Arow&1&Acol&ColOu+4,FALSE))","v":true},null,{"$f":"DLD_MsgBar(TEXT(NOW(),AlngDatTim)&Msub0&AG$9&\" > Starting\")","v":0},{"$f":"FORMULA(Aloc,INDIRECT(\"'\"&S0fg5&\"'!\"&Arow&10&Acol&ColFigPar+1,FALSE))","v":true},"! Make sure about the settings",null,{"$f":"FORMULA(\"Data from: \"&WrkBk1,INDIRECT(\"'\"&S0tmp&\"'!\"&Arow&1&Acol&ColOutFst,FALSE))","v":true},{"$f":"FOR(\"Itmp\",1,NumRep,1)","v":true},{"$f":"IF(ISERROR(Atmp2),SET.NAME(\"Atmp2\",3))","v":false},{"$f":"FORMULA(\"Directory:\",INDIRECT(\"'\"&S0con&\"'!\"&Arow&BRowLoad+1&Acol&ColPar,FALSE))","v":true},{"$f":"  SET.NAME(\"Atmp\",DEREF(INDIRECT(\"'\"&S0lcm&\"'!\"&Arow&1&Acol&Icol,FALSE)))","v":true},null,{"$f":"IF(S0tmp=S0fg3,DLD_GoToCell(\"A1\",\"B27\"))","v":false},null,null,{"$f":"  DLD_GoToCell(\"A1\",\"A11\")","v":0},{"$f":"  DLD_GoToCell(\"A1\",\"A11\")","v":false},null,null,{"$f":"  WORKBOOK.UNHIDE(MID(S0wrk,FIND(\"]\",S0wrk)+1,100))","v":true},{"$f":"ERROR(FALSE)","v":true},{"$f":"FORMULA(\"Welcome to \"&Asyst&\"!\",INDIRECT(\"'\"&S0int&\"'!\"&Arow&1&Acol&3,FALSE))","v":true},null,{"$f":"RUN(Utility_StartUp,FALSE)","v":{"$error":"#N/A"}},"SFQ_ExtractForward"]
[{"$f":"SET.NAME(\"A0con\",\"ControlPanel\")","v":true},null,null,{"$f":"IF(ISERROR(UserStutDir),SET.NAME(\"UserStutDir\",\"Reverse\"))","v":false},null,{"$f":"SET.NAME(\"AFrmWhnc\",\"Internal\")","v":true},{"$f":"ERROR(TRUE)","v":true},{"$f":"SET.NAME(\"AFrmWhnc\",\"Internal\")","v":true},{"$f":"  SET.NAME(\"Aloc\",DEREF(INDIRECT(\"'\"&S1tmp&\"'!\"&Arow&Irow1&Acol&2,FALSE)))","v":true},{"$f":"    SET.NAME(\"Icol0\",Icol3+Icol0-1)","v":true},{"$f":"SET.NAME(\"AFrmWhnc\",\"Internal\")","v":true},{"$f":"  IF(ABS(Atmp-XpksP)>Elon)","v":true},{"$f":"    SET.NAME(\"XpkhP\",DEREF(INDIRECT(\"'\"&S0wrk&\"'!\"&Arow&Irow&Acol&Icol0+Iall-1,FALSE)))","v":true},"! Ok.  Are there any alleles in the MasterList?",{"$f":"    IF(NpkS<1.5,SET.NAME(\"Kcol0\",Jall))","v":true},{"$f":"  IF(ABS(Atmp-XpksP-Ydbp)<=UserWind)","v":false},{"$f":"FORMULA(PkhRat,INDIRECT(\"'\"&S0dat&\"'!\"&Arow&Nrat+2&Acol&Jcol+7,FALSE))","v":true},{"$f":"SET.NAME(\"S0tmp\",GET.DOCUMENT(76))","v":true},{"$f":"SET.NAME(\"S0tmp\",GET.DOCUMENT(76))","v":true},{"$f":"SET.NAME(\"S0from\",GET.DOCUMENT(76))","v":true},{"$f":"  SET.NAME(\"Aloc\",DEREF(INDIRECT(\"'\"&S0fg1&\"'!\"&Arow&RowFigLocB+Iloc&Acol&ColFigPar,FALSE)))","v":false},"! Make sure about the settings",{"$f":"DLD_MsgBar(TEXT(NOW(),AlngDatTim)&\"  Wall-clock time this session of \"&WrkBk0&\": \"&TEXT(Atmp3,\"0\"&Adcp&\"000\")&\" hours.\")","v":0},{"$f":"ACTIVATE(S0con)","v":true},{"$f":"DLD_MsgBar(TEXT(NOW(),AlngDatTim)&\"  Wall-clock time this session of \"&WrkBk0&\": \"&TEXT(Atmp3,\"0\"&Adcp&\"000\")&\" hours.\")","v":0},{"$f":"ACTIVATE(S0con)","v":true},{"$f":"SET.NAME(\"Iloc\",MATCH(Atmp1,INDIRECT(\"'\"&S0tmp&\"'!\"&Arow&RowFigLocB+1&Acol&ColFigPar&Asep&Arow&RowFigLocB+50&Acol&ColFigPar,FALSE),0))","v":true},{"$f":"DLD_MsgBar(TEXT(NOW(),AlngDatTim)&\"  Wall-clock time this session of \"&WrkBk0&\": \"&TEXT(Atmp3,\"0\"&Adcp&\"000\")&\" hours.\")","v":0},{"$f":"SET.NAME(\"S0from\",GET.DOCUMENT(76))","v":true},{"$f":"  SET.NAME(\"Xmin\",Atmp1)","v":true},{"$f":"FORMULA(\"Xthsh\",INDIRECT(\"'\"&S0fg4&\"'!\"&Arow&1&Acol&ColOu+5,FALSE))","v":true},{"$f":"DLD_MsgBar(TEXT(NOW(),AlngDatTim)&\"  Wall-clock time this session of \"&WrkBk0&\": \"&TEXT(Atmp3,\"0\"&Adcp&\"000\")&\" hours.\")","v":0},{"$f":"SET.NAME(\"S0from\",GET.DOCUMENT(76))","v":true},null,{"$f":"SET.NAME(\"Ntmp\",0)","v":true},{"$f":"DLD_MsgBar(TEXT(NOW(),AlngDatTim)&\"  Wall-clock time this session of \"&WrkBk0&\": \"&TEXT(Atmp3,\"0\"&Adcp&\"000\")&\" hours.\")","v":0},{"$f":"FORMULA(\"Stutter Direction: \"&UserStutDir&\",  #Δbp Repeats: \"&UserStutUnt,INDIRECT(\"'\"&S0tmp&\"'!\"&Arow&2&Acol&ColOutFst,FALSE))","v":true},{"$f":"  SET.NAME(\"Jrow\",RowRep+Itmp-1)","v":true},{"$f":"OPTIONS.CALCULATION(Atmp2)","v":true},{"$f":"FORMULA(\"Workbook:\",INDIRECT(\"'\"&S0con&\"'!\"&Arow&BRowLoad+2&Acol&ColPar,FALSE))","v":true},null,"! Ask for new zoom",{"$f":"IF(S0tmp=S0fg4,DLD_GoToCell(\"A1\",\"B30\"))","v":false},null,null,{"$f":"  ECHO(TRUE)","v":true},{"$f":"  ECHO(TRUE)","v":true},{"$f":"CALCULATE.DOCUMENT()","v":true},null,{"$f":"  WORKBOOK.UNHIDE(MID(S0dao,FIND(\"]\",S0dao)+1,100))","v":{"$error":"#VALUE!"}},{"$f":"  WORKBOOK.UNHIDE(MID(S0dti,FIND(\"]\",S0dti)+1,100))","v":{"$error":"#VALUE!"}},{"$f":"FORMULA(\"Version <\"&TEXT(Adate,\"dd-mmm-yy\")&\">\",INDIRECT(\"'\"&S0int&\"'!\"&Arow&2&Acol&3,FALSE))","v":true},"! Get the current formats",{"$f":"RUN(SFQ_ClearUser,FALSE)","v":{"$error":"#N/A"}},"SFQ_ExtractName"]
[{"$f":"SET.NAME(\"S0con\",\"[\"&WrkBk0&\"]\"&A0con)","v":true},null,null,{"$f":"SET.NAME(\"UserStutDir\",IF(UPPER(LEFT(UserStutDir,1))=\"F\",\"Forward\",\"Reverse\"))","v":true},"! Get the useful data",null,{"$f":"ACTIVATE(S0wrk)","v":true},null,{"$f":"  SET.NAME(\"Irow2\",MATCH(Aloc,INDIRECT(\"'\"&S1tmp&\"'!\"&Acol&Icol3,FALSE),1))","v":true},{"$f":"    SET.NAME(\"Icol1\",MATCH(\"Size 1\",INDIRECT(\"'\"&S1tmp&\"'!\"&Arow&1&Acol&Icol3&Asep&Arow&1&Acol&Ncol,FALSE),0))","v":true},null,null,{"$f":"    SET.NAME(\"XpksP\",DEREF(INDIRECT(\"'\"&S0wrk&\"'!\"&Arow&Irow&Acol&Icol1+Iall-1,FALSE)))","v":true},{"$f":"    SET.NAME(\"Jcol1\",DEREF(INDIRECT(\"'\"&S0lcm&\"'!\"&Arow&Krow&Acol&255,FALSE)))","v":true},{"$f":"    SET.NAME(\"Kcol1\",Jall)","v":true},{"$f":"    SET.NAME(\"NpkS\",NpkS+1)","v":true},null,{"$f":"ACTIVATE(S0con)","v":true},{"$f":"ACTIVATE(S0con)","v":true},{"$f":"ACTIVATE(S0con)","v":true},{"$f":"END.IF()","v":true},{"$f":"FOR(\"Itmp\",1,4,1)","v":true},{"$f":"RETURN()","v":true},{"$f":"DLD_GoToCell(\"A1\",\"B24\")","v":0},{"$f":"RETURN()","v":true},{"$f":"DLD_GoToCell(\"A1\",\"B27\")","v":0},{"$f":"IF(ISERROR(Iloc))","v":true},{"$f":"RETURN()","v":true},{"$f":"ACTIVATE(S0con)","v":true},{"$f":"END.IF()","v":true},{"$f":"FORMULA(\"Ythsh\",INDIRECT(\"'\"&S0fg4&\"'!\"&Arow&1&Acol&ColOu+6,FALSE))","v":true},{"$f":"RETURN()","v":true},{"$f":"ACTIVATE(S0con)","v":true},"! Get the locus",{"$f":"FOR(\"Itmp\",1,5,1)","v":true},{"$f":"RETURN()","v":true},{"$f":"dld_selectrange(1,ColOutFst,2,Jcol)","v":0},{"$f":"  SET.NAME(\"Atmp\",DEREF(INDIRECT(\"'\"&S0con&\"'!\"&Arow&Jrow&Acol&ColPar+1,FALSE)))","v":true},{"$f":"OPTIONS.VIEW(TRUE,TRUE)","v":true},{"$f":"FORMULA(\"Date Loaded:\",INDIRECT(\"'\"&S0con&\"'!\"&Arow&BRowLoad+3&Acol&ColPar,FALSE))","v":true},"! Look for more of this locus",{"$f":"SET.NAME(\"Atmp1\",CurZoom)","v":true},{"$f":"IF(S0tmp=S0fg5,DLD_GoToCell(\"A1\",\"B33\"))","v":0},null,null,{"$f":"  ALERT(\"No data on the 'Data' worksheet.\"&Acar&Acar&\"Locate and Fetch some data and try again.\",2)","v":true},{"$f":"  ALERT(\"No data on the 'Data' worksheet.\"&Acar&Acar&\"Locate and Fetch some data and try again.\",2)","v":true},null,null,{"$f":"  WORKBOOK.UNHIDE(MID(S0dif,FIND(\"]\",S0dif)+1,100))","v":{"$error":"#VALUE!"}},{"$f":"  WORKBOOK.UNHIDE(MID(S0lcm,FIND(\"]\",S0lcm)+1,100))","v":{"$error":"#VALUE!"}},{"$f":"PAGE.SETUP(\"&L&\"\"Arial,Regular\"\"&8Built by: DL Duewer, NIST&C&\"\"Arial,Bold\"\"&16\"&Asyst&\" &\"\"Arial,Regular\"\"&12<\"&TEXT(Adate,\"dd-mmm-yy\")&\">\n\"&Atmp&\"&R&\"\"Arial,Regular\"\"&8Paid for, in part, by: NIJ\",\"&L&\"\"Arial,Regular\"\"&6&F!&A&C&\"\"Arial,Regular\"\"&6&D &T&R&\"\"Arial,Regular\"\"&6&P / &N\",0.5,0.5,1.3,0.5,FALSE,FALSE,TRUE,FALSE,2,1,{1,#N/A},\"Auto\",1,FALSE,,0.7,0.3,FALSE,FALSE)","v":true},{"$f":"SET.NAME(\"Atmp\",NOW())","v":true},{"$f":"DLD_GoToCell(\"A1\",\"A1\")","v":0},"SFQ_ExtractProfile"]
[{"$f":"SET.NAME(\"S0dat\",\"[\"&WrkBk0&\"]Data\")","v":true},null,null,{"$f":"FORMULA(UserStutDir,INDIRECT(\"'\"&S0con&\"'!\"&Arow&RowWay&Acol&ColPar+1,FALSE))","v":true},{"$f":"RUN(SFQ_Fetch,FALSE)","v":{"$error":"#N/A"}},{"$f":"DLD_MsgBar(TEXT(NOW(),AlngDatTim)&Msub0&F$10)","v":0},{"$f":"DLD_ClearCols(1,-1,TRUE)","v":0},{"$f":"DLD_MsgBar(TEXT(NOW(),AlngDatTim)&Msub0&H$10)","v":0},{"$f":"  IF(ISERROR(Irow2),GOTO(I43))","v":true},{"$f":"    SET.NAME(\"Icol1\",Icol3+Icol1-1)","v":true},{"$f":"DLD_MsgBar(TEXT(NOW(),AlngDatTim)&Msub0&K$10)","v":0},"! New peak.  Is this peakheight large enough?",{"$f":"    SET.NAME(\"Itmp\",MATCH(AallP,INDIRECT(\"'\"&S0wrk&\"'!\"&Arow&Irow&Acol&Icol2&Asep&Arow&Irow&Acol&Icol2+NAll-1,FALSE),1))","v":true},{"$f":"    SET.NAME(\"Jcol2\",DEREF(INDIRECT(\"'\"&S0lcm&\"'!\"&Arow&Krow&Acol&256,FALSE)))","v":true},{"$f":"  END.IF()","v":true},{"$f":"    IF(NpkS<1.5,SET.NAME(\"Kcol0\",Jall))","v":true},{"$f":"RETURN()","v":true},{"$f":"DLD_GoToCell(\"A1\",\"B15\")","v":0},{"$f":"DLD_GoToCell(\"A1\",\"B18\")","v":0},{"$f":"DLD_GoToCell(\"A1\",\"B21\")","v":0},{"$f":"FORMULA(Aloc,INDIRECT(\"'\"&S0fg1&\"'!\"&Arow&10&Acol&ColFigPar+1,FALSE))","v":true},{"$f":"  SET.NAME(\"Atmp\",IF(ISBLANK(INDIRECT(\"'\"&S0fg1&\"'!\"&Arow&Itmp+11&Acol&ColFigPar+1,FALSE)),FALSE,DEREF(INDIRECT(\"'\"&S0fg1&\"'!\"&Arow&Itmp+11&Acol&ColFigPar+1,FALSE))))","v":true},null,{"$f":"ECHO(TRUE)","v":true},null,{"$f":"ECHO(TRUE)","v":true},{"$f":"  SET.NAME(\"Aloc\",\"None\")","v":true},null,{"$f":"DLD_GoToCell(\"A1\",\"B30\")","v":0},null,{"$f":"dld_selectrange(1,ColOu,1,ColOu+6)","v":0},null,{"$f":"DLD_GoToCell(\"A1\",\"B33\")","v":0},{"$f":"SET.NAME(\"Atmp1\",IF(ISBLANK(INDIRECT(\"'\"&S0fg5&\"'!\"&Arow&10&Acol&ColFigPar+2,FALSE)),NA(),DEREF(INDIRECT(\"'\"&S0fg5&\"'!\"&Arow&10&Acol&ColFigPar+2,FALSE))))","v":true},{"$f":"  SET.NAME(\"Atmp\",IF(ISBLANK(INDIRECT(\"'\"&S0fg5&\"'!\"&Arow&Itmp+11&Acol&ColFigPar+1,FALSE)),FALSE,DEREF(INDIRECT(\"'\"&S0fg5&\"'!\"&Arow&Itmp+11&Acol&ColFigPar+1,FALSE))))","v":true},null,{"$f":"ALIGNMENT(7,FALSE,3,0)","v":true},{"$f":"  IF(Atmp=\"Finished\")","v":true},null,{"$f":"FORMULA(\"#Samples:\",INDIRECT(\"'\"&S0con&\"'!\"&Arow&BRowLoad+4&Acol&ColPar,FALSE))","v":true},{"$f":"  SET.NAME(\"Itmp\",0)","v":true},{"$f":"ZOOM(Atmp1)","v":true},{"$f":"IF(S0tmp=S0int,DLD_GoToCell(\"A1\",\"A1\"))","v":false},null,null,{"$f":"  HALT()","v":true},{"$f":"  HALT()","v":true},{"$f":"DLD_MsgBar(TEXT(NOW(),AlngDatTim)&Msub0&AV$1&\" > Finished!\")","v":0},null,{"$f":"ERROR(TRUE)","v":true},{"$f":"  WORKBOOK.UNHIDE(MID(S0wrk,FIND(\"]\",S0wrk)+1,100))","v":true},{"$f":"DLD_GoToCell(\"A1\",\"A1\")","v":0},{"$f":"FOR(\"Irow\",2,4,1)","v":true},null,"SFQ_ExtractReverse"]
[{"$f":"SET.NAME(\"S0dao\",\"[\"&WrkBk0&\"]Data_Compare\")","v":true},null,null,{"$f":"IF(NOT(Atmp=UserStutDir),SET.NAME(\"IsOK\",IsOk+1))","v":false},null,{"$f":"ACTIVATE(S0con)","v":true},{"$f":"WORKBOOK.HIDE()","v":true},{"$f":"ACTIVATE(S0con)","v":true},null,{"$f":"    SET.NAME(\"Icol2\",MATCH(\"Allele 1\",INDIRECT(\"'\"&S1tmp&\"'!\"&Arow&1&Acol&Icol3&Asep&Arow&1&Acol&Ncol,FALSE),0))","v":true},null,{"$f":"    IF(XpkhP<UserMinPkht)","v":true},{"$f":"    IF(ISERROR(Itmp),SET.NAME(\"Itmp\",-1))","v":false},{"$f":"    SET.NAME(\"Ntru\",COUNTA(INDIRECT(\"'\"&S0lcm&\"'!\"&Arow&Jrow&Acol&Jcol1&Asep&Arow&Jrow&Acol&Jcol2,FALSE)))","v":true},{"$f":"NEXT()","v":true},{"$f":"    SET.NAME(\"Kcol1\",Jall)","v":true},null,{"$f":"ECHO(TRUE)","v":true},{"$f":"ECHO(TRUE)","v":true},{"$f":"ECHO(TRUE)","v":true},null,{"$f":"  IF(NOT(ISLOGICAL(Atmp)),SET.NAME(\"Atmp\",FALSE))","v":false},null,{"$f":"FORMULA(\"Started\",INDIRECT(\"'\"&S0con&\"'!\"&Arow&RowFig+1&Acol&ColPar+1,FALSE))","v":true},null,{"$f":"FORMULA(\"Started\",INDIRECT(\"'\"&S0con&\"'!\"&Arow&RowFig+2&Acol&ColPar+1,FALSE))","v":true},{"$f":"ELSE()","v":true},null,{"$f":"ECHO(TRUE)","v":true},"! X-axis maximum",{"$f":"BORDER(1)","v":true},null,{"$f":"ECHO(TRUE)","v":true},{"$f":"SET.NAME(\"Iloc\",MATCH(Atmp1,INDIRECT(\"'\"&S0fg5&\"'!\"&Arow&RowFigLocB+1&Acol&ColFigPar&Asep&Arow&RowFigLocB+50&Acol&ColFigPar,FALSE),0))","v":true},{"$f":"  IF(NOT(ISLOGICAL(Atmp)),SET.NAME(\"Atmp\",FALSE))","v":false},null,{"$f":"FONT.PROPERTIES(\"Arial\",\"Bold\",11,,,,,,,1)","v":true},{"$f":"    SET.NAME(\"S0tmp\",EVALUATE(\"S0rp\"&Itmp))","v":true},"! Restore screensize",{"$f":"FORMULA(\"#Calls:\",INDIRECT(\"'\"&S0con&\"'!\"&Arow&BRowLoad+5&Acol&ColPar,FALSE))","v":true},{"$f":"  FOR(\"Jcol\",Icol+1,Icol+2,1)","v":true},{"$f":"ECHO(TRUE)","v":true},{"$f":"IF(S0tmp=S0rme,DLD_GoToCell(\"A1\",\"D39\"))","v":false},null,null,{"$f":"END.IF()","v":false},{"$f":"END.IF()","v":false},{"$f":"RETURN()","v":true},null,null,{"$f":"  WORKBOOK.UNHIDE(MID(S0dao,FIND(\"]\",S0dao)+1,100))","v":{"$error":"#VALUE!"}},null,{"$f":"  FORMULA(Atmp,INDIRECT(\"'\"&S0dti&\"'!\"&Arow&Irow&Acol&2,FALSE))","v":true},{"$f":"HALT()","v":true},"SFQ_ExtractSize"]
[{"$f":"SET.NAME(\"S0dif\",\"[\"&WrkBk0&\"]Data_Differences\")","v":true},null,null,null,"! Reports",{"$f":"DLD_GoToCell(\"A1\",\"B5\")","v":0},null,{"$f":"DLD_ClearCols(ColLast+1,-1)","v":0},"! Try to get the Delta-bp",{"$f":"    SET.NAME(\"Icol2\",Icol3+Icol2-1)","v":true},"! Check the parameters",{"$f":"       SET.NAME(\"Nxcld1\",Nxcld1+1)","v":true},{"$f":"    SET.NAME(\"NpkP\",Itmp-Iall+1)","v":true},{"$f":"    IF(Ntru>0.5)","v":true},{"$f":"IF(NpkS<0.5,RETURN())","v":false},{"$f":"  END.IF()","v":true},null,{"$f":"FORMULA(\"Started\",INDIRECT(\"'\"&S0con&\"'!\"&Arow&RowRep&Acol&ColPar+1,FALSE))","v":true},{"$f":"FORMULA(\"Started\",INDIRECT(\"'\"&S0con&\"'!\"&Arow&RowRep+1&Acol&ColPar+1,FALSE))","v":true},{"$f":"FORMULA(\"Started\",INDIRECT(\"'\"&S0con&\"'!\"&Arow&RowFig&Acol&ColPar+1,FALSE))","v":true},"! Get the locus",{"$f":"  FORMULA(Atmp,INDIRECT(\"'\"&S0fg1&\"'!\"&Arow&Itmp+11&Acol&ColFigPar+1,FALSE))","v":true},null,{"$f":"ECHO(FALSE)","v":true},null,{"$f":"ECHO(FALSE)","v":true},{"$f":"  SET.NAME(\"Aloc\",DEREF(INDIRECT(\"'\"&S0tmp&\"'!\"&Arow&RowFigLocB+Iloc&Acol&ColFigPar,FALSE)))","v":false},null,{"$f":"FORMULA(\"Started\",INDIRECT(\"'\"&S0con&\"'!\"&Arow&RowFig+3&Acol&ColPar+1,FALSE))","v":true},{"$f":"SET.NAME(\"Atmp1\",IF(ISBLANK(INDIRECT(\"'\"&S0fg4&\"'!\"&Arow&3&Acol&ColFigPar+2,FALSE)),NA(),DEREF(INDIRECT(\"'\"&S0fg4&\"'!\"&Arow&3&Acol&ColFigPar+2,FALSE))))","v":true},{"$f":"ALIGNMENT(3,FALSE,3,0)","v":true},null,{"$f":"FORMULA(\"Started\",INDIRECT(\"'\"&S0con&\"'!\"&Arow&RowFig+4&Acol&ColPar+1,FALSE))","v":true},{"$f":"IF(ISERROR(Iloc))","v":true},{"$f":"  FORMULA(Atmp,INDIRECT(\"'\"&S0fg5&\"'!\"&Arow&Itmp+11&Acol&ColFigPar+1,FALSE))","v":true},null,null,{"$f":"    ACTIVATE(S0tmp)","v":true},{"$f":"FULL.SCREEN(FALSE)","v":true},null,{"$f":"    SET.NAME(\"Atmp1\",DEREF(INDIRECT(\"'\"&S0lcm&\"'!\"&Arow&1&Acol&Jcol,FALSE)))","v":true},{"$f":"  SET.NAME(\"CurZoom\",Atmp1)","v":true},null,null,null,null,null,null,null,"! format",{"$f":"  WORKBOOK.UNHIDE(MID(S0dif,FIND(\"]\",S0dif)+1,100))","v":true},"! Readme",{"$f":"  SET.NAME(\"Atmp1\",GET.CELL(7,INDIRECT(\"'\"&S0dti&\"'!\"&Arow&Irow&Acol&2,FALSE)))","v":true},null,"SFQ_ExtractStore"]
[{"$f":"SET.NAME(\"S0dti\",\"[\"&WrkBk0&\"]DateTime\")","v":true},"AlngDat","dd-mmm-yy","! Get the stutter number repeat units (integer or 0.5 only)",{"$f":"RUN(SFQ_RepLocusStats,FALSE)","v":{"$error":"#N/A"}},{"$f":"ECHO(FALSE)","v":true},"! Format the Report worksheet",{"$f":"DLD_GoToCell(\"A1\",\"B8\")","v":0},{"$f":"  SET.NAME(\"Aloc\",SUBSTITUTE(Aloc,\" \",\"_\"))","v":true},{"$f":"    SET.NAME(\"Nall\",Icol1-Icol2)","v":true},{"$f":"RUN(SFQ_GetParameters,FALSE)","v":{"$error":"#N/A"}},null,{"$f":"    IF(NpkP>1.5)","v":true},null,null,{"$f":"NEXT()","v":true},null,{"$f":"ECHO(FALSE)","v":true},{"$f":"ECHO(FALSE)","v":true},{"$f":"ECHO(FALSE)","v":true},{"$f":"SET.NAME(\"Atmp1\",IF(ISBLANK(INDIRECT(\"'\"&S0fg1&\"'!\"&Arow&10&Acol&ColFigPar+2,FALSE)),NA(),DEREF(INDIRECT(\"'\"&S0fg1&\"'!\"&Arow&10&Acol&ColFigPar+2,FALSE))))","v":true},{"$f":"NEXT()","v":true},null,null,null,null,{"$f":"END.IF()","v":true},null,{"$f":"ECHO(FALSE)","v":true},{"$f":"IF(ISERROR(1/Atmp1))","v":true},{"$f":"dld_selectrange(1,ColOu,-1,ColOu)","v":0},null,{"$f":"ECHO(FALSE)","v":true},{"$f":"  FORMULA(\"Use default\",INDIRECT(\"'\"&S0fg5&\"'!\"&Arow&10&Acol&ColFigPar+2,FALSE))","v":true},{"$f":"  IF(Atmp,SET.NAME(\"Ntmp\",Ntmp+1))","v":true},null,"! Format the range",{"$f":"    DLD_SetColWidth(1,0,TRUE)","v":0},{"$f":"WINDOW.MAXIMIZE()","v":true},"! Get a Masterlist",{"$f":"    IF(Atmp1=Atmp,SET.NAME(\"Itmp\",Itmp+1),SET.NAME(\"Jcol\",Icol+3))","v":true},{"$f":"  SET.NAME(\"Atmp1\",INPUT(\"Current 'ZOOM' is \"&CurZoom&\"%.\"&Acar&\"Valid ZOOMs are from 30 to 200%.\"&Acar&Acar&\"What ZOOM do you want?\",1,\"% ZOOM?\",CurZoom,5*72))","v":true},{"$f":"RETURN()","v":true},null,null,"! Copy","! Is there a stored dataset",null,null,{"$f":"ACTIVATE(S0mac)","v":true},{"$f":"ERROR(TRUE)","v":true},{"$f":"ACTIVATE(S0rme)","v":true},{"$f":"  IF(NOT(ISERROR(FIND(\";\",Atmp1))),SET.NAME(\"Atmp1\",LEFT(Atmp1,FIND(\";\",Atmp1)-1)))","v":false},null,"SFQ_Fetch"]
[{"$f":"SET.NAME(\"S0lcm\",\"[\"&WrkBk0&\"]LocalMaster\")","v":true},"AlngTim","hh:mm:s",{"$f":"SET.NAME(\"Atmp\",UserStutUnt)","v":true},{"$f":"RUN(SFQ_RepAlleleStats,FALSE)","v":{"$error":"#N/A"}},null,{"$f":"FOR(\"Itmp\",1,NumRep,1)","v":true},{"$f":"ECHO(FALSE)","v":true},{"$f":"  SET.NAME(\"Itmp\",MATCH(Aloc,INDIRECT(\"'\"&S0lcm&\"'!\"&Acol&1,FALSE),0))","v":true},null,null,"! Ok. Is this peakheight small enough?",{"$f":"      FOR(\"Jall\",Iall+1,Itmp,1)","v":true},"! Ok.  Loop over the profile alleles","! Ok.  Sum any non-homozygote multiple peak-matches",{"$f":"IF(NpkS<0.5,RETURN())","v":true},null,null,null,null,{"$f":"SET.NAME(\"Iloc\",MATCH(Atmp1,INDIRECT(\"'\"&S0fg1&\"'!\"&Arow&RowFigLocB+1&Acol&ColFigPar&Asep&Arow&RowFigLocB+50&Acol&ColFigPar,FALSE),0))","v":true},{"$f":"SET.NAME(\"Ntmp\",0)","v":true},null,"! Make sure the Fetch is current",null,"! Make sure the Fetch is current",{"$f":"FORMULA(Aloc,INDIRECT(\"'\"&S0tmp&\"'!\"&Arow&10&Acol&ColFigPar+1,FALSE))","v":true},null,null,{"$f":"  SET.NAME(\"Xmax\",DEREF(INDIRECT(\"'\"&S0fg4&\"'!\"&Arow&3&Acol&ColFigPar+1,FALSE)))","v":true},{"$f":"FORMAT.NUMBER(\"0\")","v":true},null,null,{"$f":"ELSE()","v":true},{"$f":"NEXT()","v":true},null,{"$f":"DLD_ClearRange(Jrow,1,0,2)","v":0},null,null,{"$f":"ERROR(FALSE)","v":true},{"$f":"  NEXT()","v":true},{"$f":"  IF(ISERROR(1/Atmp1),SET.NAME(\"Atmp1\",CurZoom))","v":false},null,null,null,{"$f":"sfq_DataStore_Copy(S0dat,S0dao)","v":0},{"$f":"SET.NAME(\"NlocOld\",COUNTA(INDIRECT(\"'\"&S0dao&\"'!\"&Arow&1,FALSE)))","v":true},null,null,{"$f":"WINDOW.MAXIMIZE()","v":true},"!=ACTIVATE(S0dti)",{"$f":"FORMULA(Asyst,INDIRECT(\"'\"&S0rme&\"'!\"&Arow&1&Acol&3,FALSE))","v":true},{"$f":"  IF(NOT(ISERROR(FIND(\"]\",Atmp1))),SET.NAME(\"Atmp1\",MID(Atmp1,FIND(\"]\",Atmp1)+1,100)))","v":false},null,"SFQ_FetchUser"]
[{"$f":"SET.NAME(\"S0int\",\"[\"&WrkBk0&\"]Introduction\")","v":true},"AlngDatTim","dd-mmm-yy hh:mm:s",{"$f":"SET.NAME(\"UserStutUnt\",IF(ISBLANK(INDIRECT(\"'\"&S0con&\"'!\"&Arow&RowWay+1&Acol&ColPar+1,FALSE)),1,DEREF(INDIRECT(\"'\"&S0con&\"'!\"&Arow&RowWay+1&Acol&ColPar+1,FALSE))))","v":true},null,"! Don't repeat if it is already cleared",{"$f":"  SET.NAME(\"S0tmp\",EVALUATE(\"S0rp\"&Itmp))","v":true},null,{"$f":"  IF(ISERROR(Itmp))","v":true},"! Try to get the Delta-bp","! Is Fetching necessary?",{"$f":"    ELSE.IF(XpkhP>UserMaxPkht)","v":true},{"$f":"        SET.NAME(\"Atmp\",DEREF(INDIRECT(\"'\"&S0wrk&\"'!\"&Arow&Irow&Acol&Icol1+Jall-1,FALSE)))","v":true},{"$f":"      FOR(\"Itru\",1,Ntru,1)","v":true},{"$f":"SET.NAME(\"XpkhS\",DEREF(INDIRECT(\"'\"&S0wrk&\"'!\"&Arow&Irow&Acol&Icol0+Kcol1-1,FALSE)))","v":true},null,null,"! Make sure the Fetch is current","! Make sure the Fetch is current","! Make sure the Fetch is current",{"$f":"IF(ISERROR(Iloc))","v":true},{"$f":"FOR(\"Itmp\",1,2,1)","v":true},null,{"$f":"RUN(SFQ_Fetch,FALSE)","v":{"$error":"#N/A"}},null,{"$f":"RUN(SFQ_Fetch,FALSE)","v":{"$error":"#N/A"}},null,null,"! Make sure the Fetch is current",{"$f":"  FORMULA(\"Use default\",INDIRECT(\"'\"&S0fg4&\"'!\"&Arow&3&Acol&ColFigPar+2,FALSE))","v":true},null,null,"! Make sure the Fetch is current",{"$f":"  SET.NAME(\"ALoc\",DEREF(INDIRECT(\"'\"&S0fg5&\"'!\"&Arow&RowFigLocB+Iloc&Acol&ColFigPar,FALSE)))","v":true},{"$f":"IF(Ntmp<0.5,FORMULA(TRUE,INDIRECT(\"'\"&S0fg5&\"'!\"&Arow&12&Acol&ColFigPar+1,FALSE)))","v":false},null,{"$f":"dld_selectrange(Jrow,2,0,2)","v":0},{"$f":"    IF(Npnt<0.5)","v":true},"! Exit nicely",{"$f":"SET.NAME(\"Atmp\",DIRECTORY(Drtry2))","v":true},null,{"$f":"  IF(OR(Atmp1<30,Atmp1>500),SET.NAME(\"Atmp1\",CurZoom))","v":false},null,null,null,null,{"$f":"IF(NlocOld<0.5)","v":true},null,null,{"$f":"OPTIONS.VIEW(TRUE,TRUE,FALSE,TRUE,1,TRUE,TRUE,TRUE,TRUE,TRUE,TRUE,TRUE,TRUE,TRUE,TRUE)","v":true},"!=WORKBOOK.HIDE()",{"$f":"FORMULA(\"Version <\"&TEXT(Adate,\"dd-mmm-yy\")&\">\",INDIRECT(\"'\"&S0rme&\"'!\"&Arow&2&Acol&3,FALSE))","v":true},{"$f":"  FORMULA(Atmp1,INDIRECT(\"'\"&S0dti&\"'!\"&Arow&Irow&Acol&3,FALSE))","v":true},null,"SFQ_FigAllele"]
[{"$f":"SET.NAME(\"S0mac\",\"[\"&WrkBk0&\"]Macro_SFQ\")","v":true},"Acol","C",{"$f":"IF(ISERROR(UserStutUnt),SET.NAME(\"UserStutUnt\",1))","v":false},"! Major Figures",{"$f":"SET.NAME(\"Astat\",DEREF(INDIRECT(\"'\"&S0con&\"'!\"&Arow&RowDst&Acol&ColPar+1,FALSE)))","v":true},{"$f":"  FORMULA(MID(S0tmp,FIND(\"]\",S0tmp)+1,100)&\":\",INDIRECT(\"'\"&S0con&\"'!\"&Arow&RowRep+Itmp-1&Acol&ColPar,FALSE))","v":true},"Check if it was cleared",{"$f":"    SET.NAME(\"Xdbp\",\"?\")","v":false},{"$f":"    SET.NAME(\"Aloc\",DEREF(INDIRECT(\"'\"&S1tmp&\"'!\"&Arow&2&Acol&Icol,FALSE)))","v":true},{"$f":"SET.NAME(\"Astat\",DEREF(INDIRECT(\"'\"&S0con&\"'!\"&Arow&RowDst&Acol&ColPar+1,FALSE)))","v":true},{"$f":"       SET.NAME(\"Nxcld2\",Nxcld2+1)","v":true},{"$f":"        IF(ABS(Atmp-XpksP)>Elon)","v":true},{"$f":"        SET.NAME(\"AallP\",DEREF(INDIRECT(\"'\"&S0lcm&\"'!\"&Arow&Jrow&Acol&Jcol1+Itru-1,FALSE)))","v":true},{"$f":"SET.NAME(\"XpksS\",DEREF(INDIRECT(\"'\"&S0wrk&\"'!\"&Arow&Irow&Acol&Icol1+Kcol1-1,FALSE)))","v":true},"! Ok.  Sum any non-homozygote multiple peak-matches",null,{"$f":"RUN(SFQ_Fetch,FALSE)","v":{"$error":"#N/A"}},{"$f":"RUN(SFQ_Fetch,FALSE)","v":{"$error":"#N/A"}},{"$f":"RUN(SFQ_Fetch,FALSE)","v":{"$error":"#N/A"}},{"$f":"  FORMULA(\"Use default\",INDIRECT(\"'\"&S0fg1&\"'!\"&Arow&10&Acol&ColFigPar+2,FALSE))","v":true},{"$f":"  SET.NAME(\"Atmp\",DEREF(INDIRECT(\"'\"&S0fg1&\"'!\"&Arow&Itmp+11&Acol&ColFigPar+1,FALSE)))","v":true},null,null,null,null,"! Get the locus",null,{"$f":"RUN(SFQ_Fetch,FALSE)","v":{"$error":"#N/A"}},{"$f":"ELSE()","v":true},"! Make stats",null,{"$f":"RUN(SFQ_Fetch,FALSE)","v":{"$error":"#N/A"}},{"$f":"END.IF()","v":true},null,null,{"$f":"ALIGNMENT(2)","v":true},{"$f":"      ECHO(TRUE)","v":true},{"$f":"SFQ_ConRestore(A0con,ColPar,\"A1\")","v":0},{"$f":"ERROR(TRUE)","v":true},"! Store the pointers",{"$f":"IF(ABS(Atmp1-CurZoom)>0.5,GOTO(AP$14))","v":false},null,null,null,"! Format return",{"$f":"  DLD_MsgBar(\"No stored data.\")","v":false},null,null,{"$f":"FREEZE.PANES(FALSE)","v":true},"!=ACTIVATE(S0lcm)",{"$f":"PAGE.SETUP(\"&L&\"\"Arial,Regular\"\"&8Built by: DL Duewer, NIST&C&\"\"Arial,Bold\"\"&16\"&Asyst&\" &\"\"Arial,Regular\"\"&12<\"&TEXT(Adate,\"dd-mmm-yy\")&\">\n\"&Atmp&\"&R&\"\"Arial,Regular\"\"&8Paid for, in part, by: NIJ\",\"&L&\"\"Arial,Regular\"\"&6&F!&A&C&\"\"Arial,Regular\"\"&6&D &T&R&\"\"Arial,Regular\"\"&6&P / &N\",0.5,0.5,1.3,0.5,FALSE,FALSE,TRUE,FALSE,2,1,{1,#N/A},\"Auto\",1,FALSE,,0.7,0.3,FALSE,FALSE)","v":true},{"$f":"  FORMULA(\"?\",INDIRECT(\"'\"&S0dti&\"'!\"&Arow&Irow&Acol&4,FALSE))","v":true},null,"SFQ_FigAlleleNext"]
[{"$f":"SET.NAME(\"S0rme\",\"[\"&WrkBk0&\"]ReadMe\")","v":true},"Adcp",".",{"$f":"IF(UserStutUnt<1,SET.NAME(\"UserStutUnt\",1))","v":false},{"$f":"RUN(SFQ_FigPeakHeight,FALSE)","v":{"$error":"#N/A"}},{"$f":"IF(OR(NOT(Astat=\"Cleared\"),AFrmWhnc=\"User\"))","v":true},{"$f":"  FORMULA(\"Clear\",INDIRECT(\"'\"&S0con&\"'!\"&Arow&RowRep+Itmp-1&Acol&ColPar+1,FALSE))","v":true},{"$f":"SET.NAME(\"Astat\",DEREF(INDIRECT(\"'\"&S0con&\"'!\"&Arow&RowDst&Acol&ColPar+1,FALSE)))","v":true},{"$f":"    SET.NAME(\"Astat\",\"Unknown locus\")","v":false},{"$f":"    SET.NAME(\"Aloc\",SUBSTITUTE(Aloc,\" \",\"_\"))","v":true},{"$f":"IF(OR(NOT(Astat=\"Fetched\"),NOT(IsOk=0),AFrmWhnc=\"User\"))","v":true},null,{"$f":"          SET.NAME(\"XpkhP\",XpkhP+INDIRECT(\"'\"&S0wrk&\"'!\"&Arow&Irow&Acol&Icol0+Jall-1,FALSE))","v":true},null,{"$f":"IF(NpkS>1.5)","v":true},{"$f":"SET.NAME(\"XpkhS\",DEREF(INDIRECT(\"'\"&S0wrk&\"'!\"&Arow&Irow&Acol&Icol0+Kcol1-1,FALSE)))","v":true},null,null,null,null,{"$f":"ELSE()","v":true},{"$f":"  IF(Atmp,SET.NAME(\"Ntmp\",Ntmp+1))","v":true},null,{"$f":"ACTIVATE(S0con)","v":true},null,{"$f":"ACTIVATE(S0con)","v":true},{"$f":"SET.NAME(\"Atmp1\",IF(ISBLANK(INDIRECT(\"'\"&S0tmp&\"'!\"&Arow&10&Acol&ColFigPar+2,FALSE)),NA(),DEREF(INDIRECT(\"'\"&S0tmp&\"'!\"&Arow&10&Acol&ColFigPar+2,FALSE))))","v":true},null,null,{"$f":"  SET.NAME(\"Xmax\",Atmp1)","v":true},{"$f":"SET.NAME(\"Nrat\",COUNT(INDIRECT(\"'\"&S0fg4&\"'!\"&Acol&ColIn,FALSE)))","v":true},null,null,{"$f":"SET.NAME(\"Iloc\",MATCH(Aloc,INDIRECT(\"'\"&S0fg5&\"'!\"&Arow&RowFigLocB+1&Acol&ColFigPar&Asep&Arow&RowFigLocB+50&Acol&ColFigPar,FALSE),0))","v":true},"! Mean Dots",null,{"$f":"FORMAT.NUMBER(\"General\")","v":true},{"$f":"      SET.NAME(\"Atmp1\",PRINT?(1))","v":true},null,{"$f":"IF(ISERROR(Atmp),SET.NAME(\"Drtry2\",Drtry0))","v":false},{"$f":"  SET.NAME(\"Nloc\",Nloc+1)","v":true},{"$f":"ECHO(FALSE)","v":true},null,null,null,{"$f":"SFQ_ConRestore(A0con,ColPar,\"B\"&BRowFetch)","v":0},{"$f":"  ACTIVATE(S0con)","v":true},null,null,{"$f":"FREEZE.PANES(TRUE,0,1)","v":true},"!=WORKBOOK.HIDE()",{"$f":"DLD_GoToCell(\"A1\",\"A1\")","v":0},{"$f":"NEXT()","v":true},null,"SFQ_FigAlleleUpdate"]
[{"$f":"SET.NAME(\"S0wrk\",\"[\"&WrkBk0&\"]Work\")","v":true},"Agnl","General",{"$f":"IF(UserStutUnt>1,SET.NAME(\"UserStutUnt\",1))","v":false},{"$f":"RUN(SFQ_FigBP,FALSE)","v":{"$error":"#N/A"}},null,{"$f":"  ACTIVATE(S0tmp)","v":true},{"$f":"IF(NOT(Astat=\"Clear\"))","v":true},{"$f":"  ELSE()","v":true},{"$f":"    SET.NAME(\"Itmp\",MATCH(Aloc,INDIRECT(\"'\"&S0lcm&\"'!\"&Acol&1,FALSE),0))","v":true},null,"! Ok.  Check the stutter peak",{"$f":"        END.IF()","v":true},"! Take care of homozygote specification - move to right-most instance",{"$f":"  SET.NAME(\"Atmp\",STDEVP(INDIRECT(\"'\"&S0wrk&\"'!\"&Arow&Irow&Acol&Icol1+Kcol0-1&Asep&Arow&Irow&Acol&Icol1+Kcol1-1,FALSE)))","v":true},{"$f":"SET.NAME(\"XpksS\",DEREF(INDIRECT(\"'\"&S0wrk&\"'!\"&Arow&Irow&Acol&Icol1+Kcol1-1,FALSE)))","v":true},null,"! Basic Format","! Basic Format","! Format the Figure sheet",{"$f":"  SET.NAME(\"Aloc\",DEREF(INDIRECT(\"'\"&S0fg1&\"'!\"&Arow&RowFigLocB+Iloc&Acol&ColFigPar,FALSE)))","v":true},{"$f":"NEXT()","v":true},null,{"$f":"ECHO(TRUE)","v":true},null,{"$f":"ECHO(TRUE)","v":true},{"$f":"SET.NAME(\"Iloc\",MATCH(Atmp1,INDIRECT(\"'\"&S0tmp&\"'!\"&Arow&RowFigLocB+1&Acol&ColFigPar&Asep&Arow&RowFigLocB+50&Acol&ColFigPar,FALSE),0))","v":true},null,"! Format the Figure sheet",{"$f":"END.IF()","v":true},{"$f":"FORMULA(Nrat,INDIRECT(\"'\"&S0fg4&\"'!\"&Arow&RowFigLocA+1&Acol&ColIn-26,FALSE))","v":true},null,"! Format the Figure sheet",{"$f":"FORMULA(Aloc,INDIRECT(\"'\"&S0fg5&\"'!\"&Arow&10&Acol&ColFigPar+2,FALSE))","v":true},{"$f":"FORMULA(\"YAvDot\",INDIRECT(\"'\"&S0fg5&\"'!\"&Arow&1&Acol&ColFigDat+10,FALSE))","v":true},null,null,{"$f":"      ECHO(FALSE)","v":true},{"$f":"SET.NAME(\"Atmp1\",NOW())","v":true},null,{"$f":"  FORMULA(Atmp,INDIRECT(\"'\"&S0lcm&\"'!\"&Arow&Nloc&Acol&254,FALSE))","v":true},null,null,null,null,null,{"$f":"  DLD_GoToCell(\"A1\",\"A42\")","v":false},null,null,{"$f":"ZOOM(CurZoom)","v":true},"!=ACTIVATE(S0wrk)",null,null,null,"SFQ_FigAlleleUser"]
[null,"Alsp",",",{"$f":"SET.NAME(\"UserStutUnt\",IF(UserStutUnt<1,0.5,INT(UserStutUnt+Elon)))","v":true},{"$f":"RUN(SFQ_FigAllele,FALSE)","v":{"$error":"#N/A"}},"! Clear the old summaries",{"$f":"  DLD_ClearCols(ColOutFst,-1,TRUE)","v":0},{"$f":"  RUN(SFQ_Clear,FALSE)","v":{"$error":"#N/A"}},{"$f":"    SET.NAME(\"Xdbp\",DEREF(INDIRECT(\"'\"&S0lcm&\"'!\"&Arow&Itmp&Acol&2,FALSE)))","v":true},{"$f":"    IF(ISERROR(Itmp))","v":true},"! Clear the deck",{"$f":"    ELSE()","v":true},{"$f":"      NEXT()","v":true},{"$f":"        SET.NAME(\"Itru\",MATCH(AallP,INDIRECT(\"'\"&S0lcm&\"'!\"&Arow&Jrow&Acol&Jcol1&Asep&Arow&Jrow&Acol&Jcol2,FALSE),1))","v":true},{"$f":"  IF(Atmp>Elon,SET.NAME(\"XpkhS\",SUM(INDIRECT(\"'\"&S0wrk&\"'!\"&Arow&Irow&Acol&Icol0+Kcol0-1&Asep&Arow&Irow&Acol&Icol0+Kcol1-1,FALSE))))","v":true},{"$f":"IF(NpkS>1.5)","v":true},null,{"$f":"ECHO(FALSE)","v":true},{"$f":"ECHO(FALSE)","v":true},{"$f":"ECHO(FALSE)","v":true},{"$f":"END.IF()","v":true},{"$f":"IF(Ntmp<0.5,FORMULA(TRUE,INDIRECT(\"'\"&S0fg1&\"'!\"&Arow&12&Acol&ColFigPar+1,FALSE)))","v":false},null,{"$f":"DLD_MsgBar(TEXT(NOW(),AlngDatTim)&Msub0&X$9&\" > Starting\")","v":0},null,{"$f":"DLD_MsgBar(TEXT(NOW(),AlngDatTim)&Msub0&Z$9&\" > Starting\")","v":0},{"$f":"IF(ISERROR(Iloc))","v":true},null,{"$f":"ECHO(FALSE)","v":true},null,null,null,{"$f":"ECHO(FALSE)","v":true},{"$f":"FORMULA(\"Stutter Direction: \"&UserStutDir&\",  #Δbp Repeats: \"&UserStutUnt&\"     Locus: \"&Aloc,INDIRECT(\"'\"&S0fg5&\"'!\"&Arow&2&Acol&ColOutFst,FALSE))","v":true},{"$f":"SET.NAME(\"Atmp\",DEREF(INDIRECT(\"'\"&S0fg5&\"'!\"&Arow&13&Acol&ColFigPar+1,FALSE)))","v":true},null,"! Date and Version",{"$f":"      IF(Atmp1)","v":true},{"$f":"FORMULA(Atmp1,INDIRECT(\"'\"&S0mac&\"'!\"&Arow&5&Acol&3,FALSE))","v":true},{"$f":"SET.NAME(\"Atmp0\",\"*MasterList*.XLS*\")","v":true},{"$f":"  FORMULA(Icol,INDIRECT(\"'\"&S0lcm&\"'!\"&Arow&Nloc&Acol&255,FALSE))","v":true},"! Store as new default",null,null,null,{"$f":"DLD_MsgBar(TEXT(NOW(),AlngDatTim)&Msub0&AT$1&\" > Finished!\")","v":0},{"$f":"  ECHO(TRUE)","v":true},null,null,null,"!=WORKBOOK.HIDE()","! ControlPanel","! Check the Date format",null,"SFQ_FigBP"]
[{"$f":"SET.NAME(\"S0fg1\",\"[\"&WrkBk0&\"]Fig_PeakHeight\")","v":true},"Arow","R",{"$f":"FORMULA(UserStutUnt,INDIRECT(\"'\"&S0con&\"'!\"&Arow&RowWay+1&Acol&ColPar+1,FALSE))","v":true},{"$f":"RUN(SFQ_FigDensity,FALSE)","v":{"$error":"#N/A"}},{"$f":"  DLD_ClearCols(ColPar+2,-1,FALSE)","v":0},{"$f":"  DLD_GoToCell(\"A1\",\"A1\")","v":0},{"$f":"  DLD_MsgBar(TEXT(NOW(),AlngDatTim)&Msub0&H$10)","v":0},{"$f":"    SET.NAME(\"Astat\",IF(OR(LEFT(Aloc,4)=\"AMEL\",Aloc=\"Yindel\"),\"Not STR\",\"Ok\"))","v":true},{"$f":"      SET.NAME(\"Xdbp\",\"?\")","v":false},{"$f":"  DLD_ClearRange(RowDir+1,ColLast,-1,ColLast)","v":0},{"$f":"      SET.NAME(\"JoffP\",Iall)","v":true},{"$f":"    END.IF()","v":true},null,{"$f":"END.IF()","v":true},{"$f":"  SET.NAME(\"Atmp\",STDEVP(INDIRECT(\"'\"&S0wrk&\"'!\"&Arow&Irow&Acol&Icol1+Kcol0-1&Asep&Arow&Irow&Acol&Icol1+Kcol1-1,FALSE)))","v":true},null,{"$f":"ACTIVATE(S0rp1)","v":true},{"$f":"ACTIVATE(S0rp2)","v":true},{"$f":"ACTIVATE(S0fg1)","v":true},{"$f":"FORMULA(Aloc,INDIRECT(\"'\"&S0fg1&\"'!\"&Arow&10&Acol&ColFigPar+2,FALSE))","v":true},null,null,null,null,null,{"$f":"  FORMULA(\"Use default\",INDIRECT(\"'\"&S0tmp&\"'!\"&Arow&10&Acol&ColFigPar+2,FALSE))","v":true},null,{"$f":"ACTIVATE(S0fg4)","v":true},"! Bin width",{"$f":"IF(UserTypeStats)","v":true},null,{"$f":"ACTIVATE(S0fg5)","v":true},null,{"$f":"IF(Atmp)","v":true},null,{"$f":"FORMULA(\"Created on:\",INDIRECT(\"'\"&S0tmp&\"'!\"&Arow&Jrow&Acol&1,FALSE))","v":true},{"$f":"        SET.NAME(\"Npnt\",Npnt+1)","v":true},{"$f":"SET.NAME(\"Atmp2\",DEREF(INDIRECT(\"'\"&S0mac&\"'!\"&Arow&4&Acol&3,FALSE)))","v":true},{"$f":"SET.NAME(\"Afiles\",FILES(Atmp0))","v":true},{"$f":"  FORMULA(Icol+Itmp,INDIRECT(\"'\"&S0lcm&\"'!\"&Arow&Nloc&Acol&256,FALSE))","v":true},{"$f":"FORMULA(CurZoom,INDIRECT(\"'\"&S0mac&\"'!\"&Arow&9&Acol&3,FALSE))","v":true},null,null,null,{"$f":"RETURN()","v":true},{"$f":"  ALERT(\"No data on the Data_Compare worksheet.\"&Acar&Acar&\"Use the 'Store' command to store a dataset and try again.\",2)","v":true},null,null,{"$f":"FORMULA.GOTO(Utility_ShowMacro,TRUE)","v":true},"!=ACTIVATE(S0dao)",{"$f":"ACTIVATE(S0con)","v":true},{"$f":"SET.NAME(\"AlngDat\",DEREF(INDIRECT(\"'\"&S0dti&\"'!\"&Arow&2&Acol&3,FALSE)))","v":true},null,"SFQ_FigBPAParameters"]
[{"$f":"SET.NAME(\"S0fg2\",\"[\"&WrkBk0&\"]Fig_BP\")","v":true},"NumNew",0,{"$f":"IF(NOT(Atmp=UserStutUnt),SET.NAME(\"IsOK\",IsOk+1))","v":false},{"$f":"RUN(SFQ_FigRobin,FALSE)","v":{"$error":"#N/A"}},null,{"$f":"NEXT()","v":true},{"$f":"END.IF()","v":true},{"$f":"    IF(AND(UserStutUnt<1,Xdbp/2-INT(Xdbp/2+Elon)>0.1),SET.NAME(\"Astat\",\"Odd #bp Repeat\"))","v":false},{"$f":"      SET.NAME(\"Astat\",\"Unknown locus\")","v":false},{"$f":"  DLD_ClearRange(RowExc,ColPar+2,RowFlt,ColPar+2)","v":0},{"$f":"      IF(UserStutDir=\"Reverse\",RUN(SFQ_ExtractReverse,FALSE),RUN(SFQ_ExtractForward,FALSE))","v":{"$error":"#N/A"}},null,"! Is this allele present?",{"$f":"SET.NAME(\"AallS\",DEREF(INDIRECT(\"'\"&S0wrk&\"'!\"&Arow&Irow&Acol&Icol2+Kcol1-1,FALSE)))","v":true},{"$f":"  IF(Atmp>Elon,SET.NAME(\"XpkhS\",SUM(INDIRECT(\"'\"&S0wrk&\"'!\"&Arow&Irow&Acol&Icol0+Kcol0-1&Asep&Arow&Irow&Acol&Icol0+Kcol1-1,FALSE))))","v":true},null,{"$f":"SET.NAME(\"Nloc\",COUNTA(INDIRECT(\"'\"&S0dat&\"'!\"&Arow&1,FALSE)))","v":true},{"$f":"SET.NAME(\"NRpfSeg\",3)","v":true},{"$f":"DLD_ClearCols(ColFigDat,-1)","v":0},null,"! All Specks",null,"! Format the Figure sheet",null,"! Format the Figure sheet",{"$f":"ELSE()","v":true},null,{"$f":"DLD_ClearCols(ColFigDat,-1)","v":0},{"$f":"SET.NAME(\"Atmp1\",IF(ISBLANK(INDIRECT(\"'\"&S0fg4&\"'!\"&Arow&4&Acol&ColFigPar+2,FALSE)),NA(),DEREF(INDIRECT(\"'\"&S0fg4&\"'!\"&Arow&4&Acol&ColFigPar+2,FALSE))))","v":true},{"$f":"  SET.NAME(\"Xmed\",MEDIAN(INDIRECT(\"'\"&S0fg4&\"'!\"&Acol&ColIn,FALSE)))","v":true},null,{"$f":"DLD_ClearCols(ColFigDat-1,-1)","v":0},"! Xmin",{"$f":"  COPY(INDIRECT(\"'\"&S0fg5&\"'!\"&Arow&2&Acol&ColFigDat+3&Asep&Arow&NAll&Acol&ColFigDat+3,FALSE),INDIRECT(\"'\"&S0fg5&\"'!\"&Arow&2&Acol&ColFigDat+10,FALSE))","v":true},null,{"$f":"FORMULA(NOW(),INDIRECT(\"'\"&S0tmp&\"'!\"&Arow&Jrow&Acol&2,FALSE))","v":true},{"$f":"        FORMULA(\"Printed\",INDIRECT(\"'\"&S0con&\"'!\"&Arow&RowRep+Itmp-1&Acol&ColPar+1,FALSE))","v":false},{"$f":"SET.NAME(\"Atmp3\",24*(Atmp1-Atmp2))","v":true},{"$f":"SET.NAME(\"Nfile\",IF(ISERROR(Afiles),0,COLUMNS(Afiles)))","v":true},null,null,null,null,null,null,{"$f":"  HALT()","v":true},null,null,{"$f":"DLD_MsgBar(TEXT(NOW(),AlngDatTim)&\" \"&AX$1&\" > Finished!\")","v":0},"!=WORKBOOK.HIDE()",{"$f":"PAGE.SETUP(\"&L&\"\"Arial,Regular\"\"&8Built by: DL Duewer, NIST&C&\"\"Arial,Bold\"\"&16\"&Asyst&\" &\"\"Arial,Regular\"\"&12<\"&TEXT(Adate,\"dd-mmm-yy\")&\">\n\"&Atmp&\"&R&\"\"Arial,Regular\"\"&8Paid for, in part, by: NIJ\",\"&L&\"\"Arial,Regular\"\"&6&F!&A&C&\"\"Arial,Regular\"\"&6&D &T&R&\"\"Arial,Regular\"\"&6&P / &N\",0.5,0.5,1.3,0.5,FALSE,FALSE,FALSE,FALSE,2,1,{1,#N/A},\"Auto\",1,FALSE,,0.7,0.3,FALSE,FALSE)","v":true},{"$f":"SET.NAME(\"Jtmp\",TEXT(NOW(),AlngDat))","v":true},null,"SFQ_FigBPNext"]
[{"$f":"SET.NAME(\"S0fg3\",\"[\"&WrkBk0&\"]Fig_Allele\")","v":true},null,null,null,null,"! Get the current Directory",null,null,{"$f":"  END.IF()","v":true},{"$f":"    ELSE()","v":true},{"$f":"  DLD_GoToCell(\"A1\",\"B\"&BRowFetch)","v":0},null,"! Ok.  Is the peak height large enough?",{"$f":"        SET.NAME(\"JoffP\",MATCH(AallP,INDIRECT(\"'\"&S0wrk&\"'!\"&Arow&Irow&Acol&Icol2&Asep&Arow&Irow&Acol&Icol2+NAll-1,FALSE),0))","v":true},null,{"$f":"END.IF()","v":true},null,{"$f":"DLD_ClearCols(ColOutFst,ColOutFst+21,TRUE)","v":0},{"$f":"SET.NAME(\"NRpfWth\",8)","v":true},{"$f":"DLD_ClearCols(ColOutFst-1,ColOutFst+2)","v":0},"! Xmin",{"$f":"FORMULA(\"Y1AllDot\",INDIRECT(\"'\"&S0fg1&\"'!\"&Arow&1&Acol&ColFigDat+30,FALSE))","v":true},null,{"$f":"ECHO(FALSE)","v":true},null,{"$f":"ECHO(FALSE)","v":true},{"$f":"  SET.NAME(\"Aloc\",DEREF(INDIRECT(\"'\"&S0tmp&\"'!\"&Arow&RowFigLocB+Iloc&Acol&ColFigPar,FALSE)))","v":true},null,{"$f":"DLD_ClearRange(1,ColOutFst-1,2,ColOutFst+1)","v":0},{"$f":"IF(ISERROR(1/Atmp1))","v":true},{"$f":"  SET.NAME(\"Xdsp\",DLD_madE(INDIRECT(\"'\"&S0fg4&\"'!\"&Acol&ColIn,FALSE)))","v":false},null,{"$f":"DLD_ClearRange(1,ColOutFst-1,2,ColFigPar-1)","v":0},{"$f":"SET.NAME(\"Xmin\",DEREF(INDIRECT(\"'\"&S0fg5&\"'!\"&Arow&RowFigLocB+Iloc&Acol&ColFigPar+2,FALSE)))","v":true},{"$f":"  CANCEL.COPY(FALSE)","v":true},null,{"$f":"dld_selectrange(Jrow,2,Jrow,2)","v":0},{"$f":"      END.IF()","v":true},null,{"$f":"IF(Nfile<0.5)","v":true},{"$f":"  SET.NAME(\"Icol\",Icol+Itmp)","v":true},"! Set all the user-viewable sheets to the same zoom",null,null,null,null,{"$f":"END.IF()","v":false},null,null,{"$f":"HALT()","v":true},"!=ACTIVATE(S0dif)",{"$f":"DLD_GoToCell(\"A1\",\"A1\")","v":0},{"$f":"IF(Jtmp=AlngDat,SET.NAME(\"Jtmp\",NA()))","v":false},null,"SFQ_FigBPUpdate"]
[{"$f":"SET.NAME(\"S0fg4\",\"[\"&WrkBk0&\"]Fig_Density\")","v":true},null,null,"! Get the minimum height for this to be considered a true peak","! Format return",{"$f":"  SET.NAME(\"Atmp\",UserDirectory)","v":true},"! Format the Figures worksheets","! Try to set directory to the last specified",null,{"$f":"      SET.NAME(\"Xdbp\",DEREF(INDIRECT(\"'\"&S0lcm&\"'!\"&Arow&Itmp&Acol&2,FALSE)))","v":true},{"$f":"  ECHO(FALSE)","v":true},"! if Ok, record it",{"$f":"    IF(XpkhP<UserMinPkht)","v":true},{"$f":"        IF(NOT(ISERROR(JoffP)))","v":true},"! Ok.  Are the data good?",{"$f":"SET.NAME(\"AallS\",DEREF(INDIRECT(\"'\"&S0wrk&\"'!\"&Arow&Irow&Acol&Icol2+Kcol1-1,FALSE)))","v":true},null,{"$f":"dld_selectrange(6,ColOutFst+3,5+Nloc,ColOutFst+20)","v":0},{"$f":"DLD_ClearCols(ColOutFst,ColOutFst+NRpfWth*NRpfSeg, TRUE)","v":0},{"$f":"dld_selectrange(1,ColOutFst-1,-1,ColOutFst+1)","v":0},{"$f":"SET.NAME(\"Xmin\",DEREF(INDIRECT(\"'\"&S0fg1&\"'!\"&Arow&2&Acol&ColFigPar+1,FALSE)))","v":true},{"$f":"FORMULA(\"Y2AllDot\",INDIRECT(\"'\"&S0fg1&\"'!\"&Arow&1&Acol&ColFigDat+31,FALSE))","v":true},null,{"$f":"ACTIVATE(S0fg2)","v":true},null,{"$f":"ACTIVATE(S0fg3)","v":true},{"$f":"END.IF()","v":true},null,{"$f":"DLD_ClearRange(RowFigLocA+1,ColFigPar+1,RowFigLocA+6,ColFigPar+2)","v":0},{"$f":"  SET.NAME(\"Xwth\",DEREF(INDIRECT(\"'\"&S0fg4&\"'!\"&Arow&4&Acol&ColFigPar+1,FALSE)))","v":true},{"$f":"ELSE()","v":true},null,{"$f":"DLD_ClearRange(RowFigLocB+1,ColFigPar,0,ColFigPar+5)","v":0},{"$f":"SET.NAME(\"Xmin\",INT(Xmin-1))","v":true},{"$f":"END.IF()","v":true},null,{"$f":"FORMAT.NUMBER(AlngDatTim)","v":true},{"$f":"    ELSE()","v":true},{"$f":"DLD_MsgBar(TEXT(NOW(),AlngDatTim)&\"  Wall-clock time this session of \"&WrkBk0&\": \"&TEXT(Atmp3,\"0\"&Adcp&\"000\")&\" hours.\")","v":0},null,{"$f":"NEXT()","v":true},{"$f":"FOR(\"Itmp\",1,NumFig,1)","v":true},null,null,null,null,null,null,null,null,"!=WORKBOOK.HIDE()",null,{"$f":"IF(ISERROR(Jtmp*1),SET.NAME(\"Jtmp\",NA()))","v":false},null,"SFQ_FigBPUser"]
[{"$f":"SET.NAME(\"S0fg5\",\"[\"&WrkBk0&\"]Fig_Robin\")","v":true},null,null,{"$f":"SET.NAME(\"Atmp\",UserMinPkht)","v":true},{"$f":"SFQ_ConRestore(A0con,ColPar,\"B36\")","v":0},{"$f":"  SET.NAME(\"UserDirectory\",IF(ISBLANK(INDIRECT(\"'\"&S0con&\"'!\"&Arow&3&Acol&ColPar+1,FALSE)),\"\",DEREF(INDIRECT(\"'\"&S0con&\"'!\"&Arow&3&Acol&ColPar+1,FALSE))))","v":true},{"$f":"ACTIVATE(S0fg4)","v":true},{"$f":"ECHO(FALSE)","v":true},"! Record this one",{"$f":"      SET.NAME(\"Astat\",IF(OR(LEFT(Aloc,4)=\"AMEL\",Aloc=\"Yindel\"),\"Not STR\",\"Ok\"))","v":true},null,{"$f":"      IF(IsOk>0,RUN(SFQ_ExtractStore,FALSE))","v":{"$error":"#N/A"}},{"$f":"      SET.NAME(\"Nxcld1\",Nxcld1+1)","v":true},null,{"$f":"IF(ISERROR(XpkhS+XpksS),RETURN())","v":false},null,null,{"$f":"FORMAT.NUMBER(\"0.0\")","v":true},null,{"$f":"COLUMN.WIDTH(61)","v":true},{"$f":"SET.NAME(\"Atmp1\",IF(ISBLANK(INDIRECT(\"'\"&S0fg1&\"'!\"&Arow&2&Acol&ColFigPar+2,FALSE)),NA(),DEREF(INDIRECT(\"'\"&S0fg1&\"'!\"&Arow&2&Acol&ColFigPar+2,FALSE))))","v":true},{"$f":"FORMULA(\"Y1OneDot\",INDIRECT(\"'\"&S0fg1&\"'!\"&Arow&1&Acol&ColFigDat+33,FALSE))","v":true},null,null,null,null,{"$f":"FORMULA(Aloc,INDIRECT(\"'\"&S0tmp&\"'!\"&Arow&10&Acol&ColFigPar+2,FALSE))","v":true},null,{"$f":"DLD_ClearRange(RowFigLocB+1,ColFigPar,0,ColFigPar+2)","v":0},{"$f":"  FORMULA(\"Use default\",INDIRECT(\"'\"&S0fg4&\"'!\"&Arow&4&Acol&ColFigPar+2,FALSE))","v":true},{"$f":"  SET.NAME(\"Xmed\",AVERAGE(INDIRECT(\"'\"&S0fg4&\"'!\"&Acol&ColIn,FALSE)))","v":true},null,null,{"$f":"FORMULA(Xmin,INDIRECT(\"'\"&S0fg5&\"'!\"&Arow&2&Acol&ColFigPar+1,FALSE))","v":true},null,null,{"$f":"FORMULA(\"From Version:\",INDIRECT(\"'\"&S0tmp&\"'!\"&Arow&Jrow+1&Acol&1,FALSE))","v":true},{"$f":"      PRINT(1)","v":true},{"$f":"RETURN()","v":true},"! No files in main directory",{"$f":"DLD_SetColWidth(254,0,TRUE)","v":0},{"$f":"  SET.NAME(\"S0tmp\",EVALUATE(\"S0fg\"&Itmp))","v":true},null,null,null,null,"! Check that they have the same number of loci",null,null,null,null,"! Figures",{"$f":"IF(ISERROR(Jtmp))","v":true},null,"SFQ_FigDensity"]
[{"$f":"SET.NAME(\"NumFig\",5)","v":true},null,null,{"$f":"SET.NAME(\"UserMinPkht\",IF(ISBLANK(INDIRECT(\"'\"&S0con&\"'!\"&Arow&RowExc&Acol&ColPar+1,FALSE)),1/0,DEREF(INDIRECT(\"'\"&S0con&\"'!\"&Arow&RowExc&Acol&ColPar+1,FALSE))))","v":true},null,{"$f":"  IF(ISERROR(UserDirectory),SET.NAME(\"UserDirectory\",\"\"))","v":false},{"$f":"DLD_ClearRange(RowFigLocA+1,ColFigPar+1,RowFigLocA+5,ColFigPar+2)","v":0},{"$f":"SET.NAME(\"Drtry1\",DEREF(INDIRECT(\"'\"&S0con&\"'!\"&Arow&3&Acol&ColPar+1,FALSE)))","v":true},{"$f":"  SET.NAME(\"Nloc\",Nloc+1)","v":true},{"$f":"      IF(AND(UserStutUnt<1,Xdbp/2-INT(Xdbp/2+Elon)>0.1),SET.NAME(\"Astat\",\"Odd #bp Repeat\"))","v":false},"Check if it was Located",null,null,"! Ok.  Sum any non-homozygote multiple peak-matches",null,"! Ok.  Are the data good?",null,{"$f":"dld_selectrange(1,1,2,1)","v":0},{"$f":"FOR(\"Iinr\",1,NRpfSeg,1)","v":true},{"$f":"DLD_ClearRange(RowFigLocB+1,ColFigPar,0,ColFigPar+5)","v":0},{"$f":"IF(ISERROR(Atmp1*1))","v":true},{"$f":"FORMULA(\"Y2OneDot\",INDIRECT(\"'\"&S0fg1&\"'!\"&Arow&1&Acol&ColFigDat+34,FALSE))","v":true},null,{"$f":"DLD_ClearCols(ColFigDat,-1)","v":0},null,{"$f":"DLD_ClearCols(ColFigDat,-1)","v":0},null,null,null,{"$f":"ELSE()","v":true},{"$f":"  SET.NAME(\"Xdsp\",STDEV(INDIRECT(\"'\"&S0fg4&\"'!\"&Acol&ColIn,FALSE)))","v":true},null,"! List the filters",null,"! Mean Line",null,{"$f":"FORMULA(Adate,INDIRECT(\"'\"&S0tmp&\"'!\"&Arow&Jrow+1&Acol&2,FALSE))","v":true},{"$f":"      SET.NAME(\"Npnt\",Npnt+1)","v":true},null,{"$f":"  SET.NAME(\"Atmp1\",ALERT(\"There is no MasterList in the current directory: \"&Drtry2&\".\"&Acar&Acar&\"Click 'OK' to browse, 'Cancel' to abort.\",1))","v":true},null,{"$f":"  ACTIVATE(S0tmp)","v":true},null,null,null,null,{"$f":"IF(NOT(Nloc=NlocOld))","v":true},null,null,null,"! Format the Introduction",{"$f":"ACTIVATE(S0fg1)","v":true},{"$f":"  SET.NAME(\"NumNew\",NumNew+1)","v":true},null,"SFQ_FigDensityCalc"]
[{"$f":"SET.NAME(\"S0rp1\",\"[\"&WrkBk0&\"]Rep_LocusStats\")","v":true},null,null,{"$f":"IF(ISERROR(UserMinPkht*1),SET.NAME(\"UserMinPkht\",50))","v":true},{"$f":"DLD_MsgBar(TEXT(NOW(),AlngDatTim)&Msub0&\" > Finished!\")","v":0},null,{"$f":"DLD_ClearRange(RowFigLocB+1,ColFigPar,0,ColFigPar+2)","v":0},{"$f":"ERROR(FALSE)","v":true},{"$f":"  FORMULA(MID(S1tmp,FIND(\"]\",S1tmp)+1,100),INDIRECT(\"'\"&S0con&\"'!\"&Arow&RowDir+Nloc&Acol&ColLoc,FALSE))","v":true},{"$f":"    END.IF()","v":true},{"$f":"  SET.NAME(\"Astat\",DEREF(INDIRECT(\"'\"&S0con&\"'!\"&Arow&RowDst&Acol&ColPar+1,FALSE)))","v":true},{"$f":"    END.IF()","v":true},"! Ok. Is this peakheight small enough?",{"$f":"          SET.NAME(\"XpkhP\",DEREF(INDIRECT(\"'\"&S0wrk&\"'!\"&Arow&Irow&Acol&Icol0+JoffP-1,FALSE)))","v":true},"! If user cares, check if there's a big peak to 1 repeat to the right of the Parent",{"$f":"IF(ISERROR(XpkhS+XpksS),RETURN())","v":false},null,{"$f":"FONT.PROPERTIES(\"Arial\",\"Regular\",10,,,,,,,2)","v":true},{"$f":"  SET.NAME(\"Icol\",ColOutFst+(Iinr-1)*NRpfWth)","v":true},{"$f":"CALCULATE.DOCUMENT()","v":true},{"$f":"  FORMULA(\"UseDefault\",INDIRECT(\"'\"&S0fg1&\"'!\"&Arow&2&Acol&ColFigPar+2,FALSE))","v":true},{"$f":"SET.NAME(\"Atmp\",DEREF(INDIRECT(\"'\"&S0fg1&\"'!\"&Arow&12&Acol&ColFigPar+1,FALSE)))","v":true},null,{"$f":"dld_selectrange(1,15,0,0)","v":0},null,{"$f":"dld_selectrange(1,15,0,0)","v":0},"! Xmin",null,"! List the filters",{"$f":"  SET.NAME(\"Xwth\",Atmp1)","v":true},{"$f":"END.IF()","v":true},null,{"$f":"SET.NAME(\"Jcol\",ColOutFst)","v":true},{"$f":"SET.NAME(\"Atmp1\",IF(ISBLANK(INDIRECT(\"'\"&S0fg5&\"'!\"&Arow&2&Acol&ColFigPar+2,FALSE)),NA(),DEREF(INDIRECT(\"'\"&S0fg5&\"'!\"&Arow&2&Acol&ColFigPar+2,FALSE))))","v":true},{"$f":"FORMULA(\"YAvLne\",INDIRECT(\"'\"&S0fg5&\"'!\"&Arow&1&Acol&ColFigDat+11,FALSE))","v":true},null,{"$f":"dld_selectrange(Jrow+1,2,Jrow+1,2)","v":0},{"$f":"      FORMULA(\"Printed\",INDIRECT(\"'\"&S0con&\"'!\"&Arow&Jrow&Acol&ColPar+1,FALSE))","v":false},null,{"$f":"  IF(NOT(Atmp1))","v":true},"! Record stuff",{"$f":"  ZOOM(CurZoom)","v":true},null,null,null,null,{"$f":"  DLD_MsgBar(\"Data and Data_Compare do not contain the same number of loci.\")","v":false},null,null,null,{"$f":"ACTIVATE(S0int)","v":true},{"$f":"PAGE.SETUP(\"&L&\"\"Arial,Regular\"\"&8Built by: DL Duewer, NIST&C&\"\"Arial,Bold\"\"&16\"&Asyst&\" &\"\"Arial,Regular\"\"&12<\"&TEXT(Adate,\"dd-mmm-yy\")&\">\n\"&Atmp&\"&R&\"\"Arial,Regular\"\"&8Paid for, in part, by: NIJ\",\"&L&\"\"Arial,Regular\"\"&6&F!&A&C&\"\"Arial,Regular\"\"&6&D &T&R&\"\"Arial,Regular\"\"&6&P / &N\",0.5,0.5,1.3,0.5,FALSE,FALSE,TRUE,FALSE,2,TRUE,{1,1},\"Auto\",1,FALSE,,0.7,0.3,FALSE,FALSE)","v":true},{"$f":"  FORMULA(\"Invalid!\",INDIRECT(\"'\"&S0dti&\"'!\"&Arow&2&Acol&4,FALSE))","v":true},null,"SFQ_FigDensityNext"]
[{"$f":"SET.NAME(\"S0rp2\",\"[\"&WrkBk0&\"]Rep_AlleleStats\")","v":true},null,null,{"$f":"SET.NAME(\"UserMinPkht\",MAX(5,MIN(500,UserMinPkht)))","v":true},{"$f":"RETURN()","v":true},"! Get any stored parameters",{"$f":"FORMULA(\"\",INDIRECT(\"'\"&S0fg4&\"'!\"&Arow&RowFigLocA&Acol&ColFigPar+2,FALSE))","v":true},{"$f":"  IF(ISERROR(DIRECTORY(Drtry1)),SET.NAME(\"Drtry1\",UserDirectory))","v":false},{"$f":"  FORMULA(Aloc,INDIRECT(\"'\"&S0con&\"'!\"&Arow&RowDir+Nloc&Acol&ColLoc+1,FALSE))","v":true},null,{"$f":"  IF(NOT(OR(Astat=\"Fetched\",Astat=\"Located\")))","v":true},{"$f":"  END.IF()","v":true},{"$f":"    ELSE.IF(XpkhP>UserMaxPkht)","v":true},{"$f":"          SET.NAME(\"XpksP\",DEREF(INDIRECT(\"'\"&S0wrk&\"'!\"&Arow&Irow&Acol&Icol1+JoffP-1,FALSE)))","v":true},{"$f":"IF(UserStutStut=\"No\")","v":true},null,null,{"$f":"ALIGNMENT(7,,,,,,,1)","v":true},{"$f":"  dld_selectrange(1,Icol+2,-1,Icol+2)","v":0},null,{"$f":"ELSE()","v":true},{"$f":"SET.NAME(\"Ntmp\",COUNT(INDIRECT(\"'\"&S0fg1&\"'!\"&Acol&ColFigDat+16,FALSE)))","v":true},null,{"$f":"FORMAT.NUMBER(\"0.00\")","v":true},null,{"$f":"FORMAT.NUMBER(\"0.00\")","v":true},{"$f":"SET.NAME(\"Xmin\",DEREF(INDIRECT(\"'\"&S0tmp&\"'!\"&Arow&2&Acol&ColFigPar+1,FALSE)))","v":true},null,{"$f":"SET.NAME(\"Jcol\",ColOutFst)","v":true},{"$f":"END.IF()","v":true},{"$f":"FORMULA(Xmed,INDIRECT(\"'\"&S0fg4&\"'!\"&Arow&RowFigLocA+2&Acol&ColIn-26,FALSE))","v":true},null,{"$f":"SET.NAME(\"Jrow\",7)","v":true},{"$f":"IF(ISERROR(Atmp1*1))","v":true},{"$f":"SET.NAME(\"Atmp\",DEREF(INDIRECT(\"'\"&S0fg5&\"'!\"&Arow&14&Acol&ColFigPar+1,FALSE)))","v":true},null,{"$f":"FORMAT.NUMBER(AlngDat)","v":true},{"$f":"    END.IF()","v":true},null,{"$f":"    DLD_MsgBar(TEXT(NOW(),AlngDatTim)&\" \"&AN$1&\" >  Request to browse for MasterList file aborted by user.\")","v":false},{"$f":"SET.NAME(\"Msam\",COUNTA(INDIRECT(\"'\"&S0lcm&\"'!\"&Acol&6,FALSE))-1)","v":true},{"$f":"  DLD_GoToCell(\"A1\",\"A1\")","v":0},null,null,null,null,{"$f":"  ACTIVATE(S0con)","v":true},null,null,null,{"$f":"DLD_GoToCell(\"A1\",\"A1\")","v":0},{"$f":"DLD_GoToCell(\"A1\",\"A1\")","v":0},{"$f":"  DLD_SetColWidth(1,4,TRUE)","v":false},null,"SFQ_FigDensityParameters"]
[{"$f":"SET.NAME(\"NumRep\",2)","v":true},null,null,{"$f":"FORMULA(UserMinPkht,INDIRECT(\"'\"&S0con&\"'!\"&Arow&RowExc&Acol&ColPar+1,FALSE))","v":true},null,{"$f":"  RUN(SFQ_GetParameters,FALSE)","v":{"$error":"#N/A"}},null,{"$f":"  IF(ISERROR(DIRECTORY(Drtry1)),DIRECTORY(Drtry0))","v":false},{"$f":"  FORMULA(Xdbp,INDIRECT(\"'\"&S0con&\"'!\"&Arow&RowDir+Nloc&Acol&ColLoc+2,FALSE))","v":true},"! Record this one",{"$f":"    RUN(SFQ_Locate,FALSE)","v":{"$error":"#N/A"}},{"$f":"NEXT()","v":true},{"$f":"       SET.NAME(\"Nxcld2\",Nxcld2+1)","v":true},{"$f":"          SET.NAME(\"Itmp\",MATCH(AallP,INDIRECT(\"'\"&S0wrk&\"'!\"&Arow&Irow&Acol&Icol2&Asep&Arow&Irow&Acol&Icol2+NAll-1,FALSE),1))","v":true},{"$f":"  SET.NAME(\"XpkhU\",0)","v":true},"! OK.  Is there a bigger peak within 1 repeat to the right of the forward stutter?",null,null,{"$f":"  FORMAT.NUMBER(\"0.0\")","v":true},"! List the filters",{"$f":"  SET.NAME(\"Xmin\",MAX(0,Atmp1))","v":true},{"$f":"IF(AND(Atmp,Ntmp>1.5))","v":true},null,{"$f":"DLD_ClearRange(1,1,0,3)","v":0},null,{"$f":"DLD_ClearRange(1,1,0,3)","v":0},{"$f":"SET.NAME(\"Atmp1\",IF(ISBLANK(INDIRECT(\"'\"&S0tmp&\"'!\"&Arow&2&Acol&ColFigPar+2,FALSE)),NA(),DEREF(INDIRECT(\"'\"&S0tmp&\"'!\"&Arow&2&Acol&ColFigPar+2,FALSE))))","v":true},null,{"$f":"SET.NAME(\"Jrow\",7)","v":true},null,{"$f":"FORMULA(Xdsp,INDIRECT(\"'\"&S0fg4&\"'!\"&Arow&RowFigLocA+3&Acol&ColIn-26,FALSE))","v":true},null,{"$f":"RUN(SFQ_FilterList,FALSE)","v":{"$error":"#N/A"}},{"$f":"  FORMULA(\"UseDefault\",INDIRECT(\"'\"&S0fg5&\"'!\"&Arow&2&Acol&ColFigPar+2,FALSE))","v":true},{"$f":"IF(Atmp)","v":true},null,null,{"$f":"  END.IF()","v":true},null,{"$f":"    SFQ_ConRestore(A0con,ColPar,\"B\"&BRowLoad)","v":false},{"$f":"SET.NAME(\"Mdat\",COUNTA(INDIRECT(\"'\"&S0lcm&\"'!\"&Acol&7&Asep&Acol&250,FALSE))-COUNTA(INDIRECT(\"'\"&S0lcm&\"'!\"&Arow&1&Acol&7&Asep&Arow&1&Acol&250,FALSE)))","v":true},{"$f":"NEXT()","v":true},null,null,null,null,{"$f":"  DLD_GoToCell(\"A1\",\"A11\")","v":false},null,null,null,{"$f":"SELECT(\"Button 2\")","v":true},{"$f":"ACTIVATE(S0fg2)","v":true},null,null,"SFQ_FigDensityUpdate"]
[null,null,null,{"$f":"IF(NOT(Atmp=UserMinPkht),SET.NAME(\"IsOK\",IsOk+1))","v":false},null,null,{"$f":"FOR(\"Itmp\",1,NumFig,1)","v":true},{"$f":"ERROR(TRUE)","v":true},{"$f":"  FORMULA(Astat,INDIRECT(\"'\"&S0con&\"'!\"&Arow&RowDir+Nloc&Acol&ColLoc+3,FALSE))","v":true},{"$f":"    SET.NAME(\"Nloc\",Nloc+1)","v":true},{"$f":"    DLD_MsgBar(TEXT(NOW(),AlngDatTim)&Msub0&K$10)","v":0},null,null,{"$f":"          SET.NAME(\"NpkP\",Itmp-JoffP+1)","v":true},{"$f":"  SET.NAME(\"XpksU\",0)","v":true},{"$f":"SET.NAME(\"XpkhU\",0)","v":true},null,"! List the filters",{"$f":"  dld_selectrange(1,Icol+5,-1,Icol+6)","v":0},{"$f":"SET.NAME(\"Jcol\",ColOutFst+1)","v":true},{"$f":"  FORMULA(Xmin,INDIRECT(\"'\"&S0fg1&\"'!\"&Arow&2&Acol&ColFigPar+2,FALSE))","v":true},{"$f":"  COPY(INDIRECT(\"'\"&S0fg1&\"'!\"&Arow&2&Acol&ColFigDat+15&Asep&Arow&Ntmp&Acol&ColFigDat+15,FALSE),INDIRECT(\"'\"&S0fg1&\"'!\"&Arow&2&Acol&ColFigDat+30,FALSE))","v":true},null,{"$f":"DLD_ClearRange(RowFigLocB+1,ColFigPar,0,ColFigPar+5)","v":0},null,{"$f":"DLD_ClearRange(RowFigLocB+1,ColFigPar,0,ColFigPar+5)","v":0},{"$f":"IF(ISERROR(Atmp1*1))","v":true},null,{"$f":"RUN(SFQ_FilterList,FALSE)","v":{"$error":"#N/A"}},"! % Threshold",null,null,null,{"$f":"ELSE()","v":true},{"$f":"  COPY(INDIRECT(\"'\"&S0fg5&\"'!\"&Arow&2&Acol&ColFigDat+3&Asep&Arow&NAll&Acol&ColFigDat+3,FALSE),INDIRECT(\"'\"&S0fg5&\"'!\"&Arow&2&Acol&ColFigDat+11,FALSE))","v":true},null,"! Number loci and ratios",{"$f":"NEXT()","v":true},null,{"$f":"    HALT()","v":true},{"$f":"FORMULA(\"Loaded\",INDIRECT(\"'\"&S0con&\"'!\"&Arow&BRowLoad&Acol&ColPar+1,FALSE))","v":true},{"$f":"FOR(\"Itmp\",1,NumRep,1)","v":true},null,null,null,null,{"$f":"  ECHO(TRUE)","v":false},null,null,null,{"$f":"FORMAT.SIZE(239,24)","v":true},{"$f":"PAGE.SETUP(\"&L&\"\"Arial,Regular\"\"&8Built by: DL Duewer, NIST&C&\"\"Arial,Bold\"\"&16\"&Asyst&\" &\"\"Arial,Regular\"\"&12<\"&TEXT(Adate,\"dd-mmm-yy\")&\">\n\"&Atmp&\"&R&\"\"Arial,Regular\"\"&8Paid for, in part, by: NIJ\",\"&L&\"\"Arial,Regular\"\"&6&F!&A&C&\"\"Arial,Regular\"\"&6&D &T&R&\"\"Arial,Regular\"\"&6&P / &N\",0.5,0.5,1.3,0.5,FALSE,FALSE,TRUE,FALSE,2,TRUE,{1,1},\"Auto\",1,FALSE,,0.7,0.3,FALSE,FALSE)","v":true},{"$f":"  dld_selectrange(2,2,2,2)","v":false},null,"SFQ_FigDensityUser"]
["! Country-Version dependencies that can be automatically determined",null,null,null,null,"! Set display format",{"$f":"  SET.NAME(\"S0tmp\",EVALUATE(\"S0fg\"&Itmp))","v":true},null,{"$f":"  FORMULA(Irow1,INDIRECT(\"'\"&S0con&\"'!\"&Arow&RowDir+Nloc&Acol&ColLoc+4,FALSE))","v":true},{"$f":"    FORMULA(MID(S1tmp,FIND(\"]\",S1tmp)+1,100),INDIRECT(\"'\"&S0con&\"'!\"&Arow&RowDir+Nloc&Acol&ColLoc,FALSE))","v":true},{"$f":"  END.IF()","v":true},{"$f":"RETURN()","v":true},"! Ok.  Check the stutter peak",{"$f":"          IF(NpkP>1.5)","v":true},{"$f":"  FOR(\"Jall\",JoffP+1,Ncnt,1)","v":true},{"$f":"SET.NAME(\"XpksU\",0)","v":true},null,{"$f":"SET.NAME(\"Jcol\",ColOutFst+20)","v":true},{"$f":"  FORMAT.NUMBER(\"0.0\")","v":true},{"$f":"SET.NAME(\"Jrow\",7)","v":true},{"$f":"END.IF()","v":true},{"$f":"  CANCEL.COPY(FALSE)","v":true},null,{"$f":"dld_selectrange(RowFigLocB+1,ColFigPar+2,0,ColFigPar+3)","v":0},null,{"$f":"dld_selectrange(RowFigLocB+1,ColFigPar+2,0,ColFigPar+3)","v":0},{"$f":"  FORMULA(\"UseDefault\",INDIRECT(\"'\"&S0tmp&\"'!\"&Arow&2&Acol&ColFigPar+2,FALSE))","v":true},null,null,{"$f":"SET.NAME(\"Atmp1\",IF(ISBLANK(INDIRECT(\"'\"&S0fg4&\"'!\"&Arow&6&Acol&ColFigPar+2,FALSE)),NA(),DEREF(INDIRECT(\"'\"&S0fg4&\"'!\"&Arow&6&Acol&ColFigPar+2,FALSE))))","v":true},"! Get % less than mean + 3SD",null,"! Data headers",{"$f":"  SET.NAME(\"Xmin\",MAX(0,Atmp1))","v":true},{"$f":"  CANCEL.COPY(FALSE)","v":true},null,{"$f":"SET.NAME(\"Nrat\",0)","v":true},null,null,{"$f":"  END.IF()","v":false},{"$f":"FORMULA(Drtry2,INDIRECT(\"'\"&S0con&\"'!\"&Arow&BRowLoad+1&Acol&ColPar+1,FALSE))","v":true},{"$f":"  SET.NAME(\"S0tmp\",EVALUATE(\"S0rp\"&Itmp))","v":true},null,null,null,null,{"$f":"  ALERT(\"The 'Data' and 'Data_Compare' worksheets must have the same number of loci.\"&Acr&Acr&\"Use the 'Store' command to store the current dataset and try again.\",2)","v":false},null,null,null,{"$f":"FORMAT.MOVE(1,1,Arow&24&Acol&4)","v":true},{"$f":"DLD_GoToCell(\"A1\",\"A1\")","v":0},{"$f":"  OPTIONS.VIEW(TRUE,TRUE)","v":true},null,"SFQ_FigPeakHeight"]
[{"$f":"SET.NAME(\"Acar\",CHAR(10))","v":true},null,null,"! Get the maximum height for a peak to be used",null,"!=  DLD_ClearRange(1,ColPar,BRowLoad-2,-1)",{"$f":"  FORMULA(MID(S0tmp,FIND(\"]\",S0tmp)+1,100)&\":\",INDIRECT(\"'\"&S0con&\"'!\"&Arow&RowFig+Itmp-1&Acol&ColPar,FALSE))","v":true},"! Try to get the file to inport",{"$f":"  FORMULA(Irow2,INDIRECT(\"'\"&S0con&\"'!\"&Arow&RowDir+Nloc&Acol&ColLoc+5,FALSE))","v":true},{"$f":"    FORMULA(Aloc,INDIRECT(\"'\"&S0con&\"'!\"&Arow&RowDir+Nloc&Acol&ColLoc+1,FALSE))","v":true},null,null,{"$f":"    ELSE()","v":true},{"$f":"            FOR(\"Jall\",JoffP+1,Itmp,1)","v":true},{"$f":"    SET.NAME(\"Atmp\",DEREF(INDIRECT(\"'\"&S0wrk&\"'!\"&Arow&Irow&Acol&Icol1+Jall-1,FALSE)))","v":true},{"$f":"FOR(\"Jall\",Kcol1+1,Ncnt,1)","v":true},null,{"$f":"SET.NAME(\"Jrow\",4)","v":true},{"$f":"NEXT()","v":true},{"$f":"RUN(SFQ_FilterList,FALSE)","v":{"$error":"#N/A"}},null,{"$f":"  COPY(INDIRECT(\"'\"&S0fg1&\"'!\"&Arow&2&Acol&ColFigDat+17&Asep&Arow&Ntmp&Acol&ColFigDat+17,FALSE),INDIRECT(\"'\"&S0fg1&\"'!\"&Arow&2&Acol&ColFigDat+31,FALSE))","v":true},null,{"$f":"FORMAT.NUMBER(\"0.0\")","v":true},null,{"$f":"FORMAT.NUMBER(\"0.0\")","v":true},{"$f":"ELSE()","v":true},null,"! Set the display-locus to default",{"$f":"IF(ISERROR(1/Atmp1),SET.NAME(\"Atmp1\",0))","v":true},{"$f":"SET.NAME(\"Xtmp\",COUNTIF(INDIRECT(\"'\"&S0fg4&\"'!\"&Acol&ColIn,FALSE),\"<\"&Xmed+3*Xdsp))","v":true},null,{"$f":"FORMULA(\"Allele\",INDIRECT(\"'\"&S0fg5&\"'!\"&Arow&1&Acol&ColFigDat,FALSE))","v":true},{"$f":"  FORMULA(Xmin,INDIRECT(\"'\"&S0fg5&\"'!\"&Arow&2&Acol&ColFigPar+2,FALSE))","v":false},{"$f":"END.IF()","v":true},null,{"$f":"SET.NAME(\"Nloc\",COUNTA(INDIRECT(\"'\"&S0dat&\"'!\"&Arow&1,FALSE)))","v":true},"! Loop over Figures",null,{"$f":"  SET.NAME(\"Atmp1\",OPEN?(,0,FALSE))","v":true},{"$f":"FORMULA(Wrkbk2,INDIRECT(\"'\"&S0con&\"'!\"&Arow&BRowLoad+2&Acol&ColPar+1,FALSE))","v":true},{"$f":"  ACTIVATE(S0tmp)","v":true},null,null,null,null,{"$f":"  HALT()","v":true},null,null,null,{"$f":"DLD_GoToCell(\"A1\",\"A1\")","v":0},{"$f":"ACTIVATE(S0fg3)","v":true},{"$f":"  ECHO(TRUE)","v":true},null,"SFQ_FigPeakHeightNext"]
[{"$f":"SET.NAME(\"Acol\",INDEX(GET.WORKSPACE(37),7))","v":true},null,null,{"$f":"SET.NAME(\"Atmp\",UserMaxPkht)","v":true},null,{"$f":"  dld_selectrange(1,ColPar,-1,ColPar)","v":0},{"$f":"  FORMULA(\"Clear\",INDIRECT(\"'\"&S0con&\"'!\"&Arow&RowFig+Itmp-1&Acol&ColPar+1,FALSE))","v":true},{"$f":"SET.NAME(\"Afile\",OPEN.DIALOG(,,\"Please select the desired workbook.\"))","v":true},null,{"$f":"    FORMULA(Xdbp,INDIRECT(\"'\"&S0con&\"'!\"&Arow&RowDir+Nloc&Acol&ColLoc+2,FALSE))","v":true},"! Take care of any deletions",{"$f":"    ALERT(\"Debug ExtractName\",2)","v":true},{"$f":"      SET.NAME(\"JoffP\",Iall)","v":true},{"$f":"              SET.NAME(\"Atmp\",DEREF(INDIRECT(\"'\"&S0wrk&\"'!\"&Arow&Irow&Acol&Icol1+Jall-1,FALSE)))","v":true},{"$f":"    IF(ABS(Atmp-XpksP-Xdbp)<=UserWind)","v":true},{"$f":"  SET.NAME(\"Atmp\",DEREF(INDIRECT(\"'\"&S0wrk&\"'!\"&Arow&Irow&Acol&Icol1+Jall-1,FALSE)))","v":true},null,{"$f":"RUN(SFQ_FilterList,FALSE)","v":{"$error":"#N/A"}},{"$f":"dld_selectrange(1,1,2,1)","v":0},null,"! Xmax",{"$f":"  CANCEL.COPY(FALSE)","v":true},null,{"$f":"dld_selectrange(RowFigLocB+1,ColFigPar+4,0,Acol&ColFigPar+5)","v":{"$error":"#VALUE!"}},null,{"$f":"dld_selectrange(RowFigLocB+1,ColFigPar+4,0,ColFigPar+5)","v":0},{"$f":"  SET.NAME(\"Xmin\",MAX(0,Atmp1))","v":true},null,{"$f":"FORMULA(\"Use Default\",INDIRECT(\"'\"&S0fg4&\"'!\"&Arow&8&Acol&ColFigPar+2,FALSE))","v":true},{"$f":"IF(OR(Atmp1<1,Atmp1>99.99))","v":true},{"$f":"FORMULA(100*Xtmp/Nrat,INDIRECT(\"'\"&S0fg4&\"'!\"&Arow&RowFigLocA+6&Acol&ColIn-26,FALSE))","v":true},null,{"$f":"FORMULA(\"#Rat\",INDIRECT(\"'\"&S0fg5&\"'!\"&Arow&1&Acol&ColFigDat+1,FALSE))","v":true},{"$f":"END.IF()","v":true},null,null,{"$f":"FOR(\"Iloc\",1,Nloc,1)","v":true},{"$f":"FOR(\"Itmp\",1,NumFig,1)","v":true},null,{"$f":"  IF(NOT(Atmp1))","v":true},{"$f":"FORMULA(NOW(),INDIRECT(\"'\"&S0con&\"'!\"&Arow&BRowLoad+3&Acol&ColPar+1,FALSE))","v":true},{"$f":"  ZOOM(CurZoom)","v":true},null,null,null,null,{"$f":"END.IF()","v":false},null,null,null,{"$f":"SELECT(\"Button 1\")","v":true},{"$f":"PAGE.SETUP(\"&L&\"\"Arial,Regular\"\"&8Built by: DL Duewer, NIST&C&\"\"Arial,Bold\"\"&16\"&Asyst&\" &\"\"Arial,Regular\"\"&12<\"&TEXT(Adate,\"dd-mmm-yy\")&\">\n\"&Atmp&\"&R&\"\"Arial,Regular\"\"&8Paid for, in part, by: NIJ\",\"&L&\"\"Arial,Regular\"\"&6&F!&A&C&\"\"Arial,Regular\"\"&6&D &T&R&\"\"Arial,Regular\"\"&6&P / &N\",0.5,0.5,1.3,0.5,FALSE,FALSE,TRUE,FALSE,2,TRUE,{1,1},\"Auto\",1,FALSE,,0.7,0.3,FALSE,FALSE)","v":true},{"$f":"  DLD_MsgBar(\"Missing a valid day, month, year format.\")","v":false},null,"SFQ_FigPeakHeightOptionals"]
[{"$f":"SET.NAME(\"Adcp\",INDEX(GET.WORKSPACE(37),3))","v":true},null,null,{"$f":"SET.NAME(\"UserMaxPkht\",IF(ISBLANK(INDIRECT(\"'\"&S0con&\"'!\"&Arow&RowExc+1&Acol&ColPar+1,FALSE)),1/0,DEREF(INDIRECT(\"'\"&S0con&\"'!\"&Arow&RowExc+1&Acol&ColPar+1,FALSE))))","v":true},null,{"$f":"  ALIGNMENT(4,FALSE,3,0)","v":true},{"$f":"  ACTIVATE(S0tmp)","v":true},{"$f":"IF(ISERROR(Afile),SET.NAME(\"Afile\",FALSE))","v":false},{"$f":"  FORMULA(NAll,INDIRECT(\"'\"&S0con&\"'!\"&Arow&RowDir+Nloc&Acol&ColLoc+7,FALSE))","v":true},{"$f":"    FORMULA(Astat,INDIRECT(\"'\"&S0con&\"'!\"&Arow&RowDir+Nloc&Acol&ColLoc+3,FALSE))","v":true},{"$f":"  ACTIVATE(S0con)","v":true},null,{"$f":"      IF(UserStutDir=\"Reverse\",RUN(SFQ_ExtractReverse,FALSE),RUN(SFQ_ExtractForward,FALSE))","v":{"$error":"#N/A"}},{"$f":"              IF(ABS(Atmp-XpksP)>Elon)","v":true},{"$f":"      IF(ABS(Atmp-XpksU)>Elon,SET.NAME(\"XpkhU\",XpkhU+DEREF(INDIRECT(\"'\"&S0wrk&\"'!\"&Arow&Irow&Acol&Icol0+Jall-1,FALSE))))","v":true},{"$f":"  IF(ABS(Atmp-XpksS-Xdbp)<=UserWind)","v":true},null,null,{"$f":"FONT.PROPERTIES(\"Arial\",\"Regular\",10,,,,,,,2)","v":true},"! Data Headers",{"$f":"SET.NAME(\"Xmax\",DEREF(INDIRECT(\"'\"&S0fg1&\"'!\"&Arow&3&Acol&ColFigPar+1,FALSE)))","v":true},{"$f":"END.IF()","v":true},null,{"$f":"FORMAT.NUMBER(\"0.00\")","v":true},null,{"$f":"FORMAT.NUMBER(\"0.00\")","v":true},{"$f":"  FORMULA(Xmin,INDIRECT(\"'\"&S0tmp&\"'!\"&Arow&2&Acol&ColFigPar+2,FALSE))","v":false},null,null,{"$f":"  SET.NAME(\"Pthsh\",DEREF(INDIRECT(\"'\"&S0fg4&\"'!\"&Arow&6&Acol&ColFigPar+1,FALSE)))","v":true},null,null,{"$f":"FORMULA(\"bp\",INDIRECT(\"'\"&S0fg5&\"'!\"&Arow&1&Acol&ColFigDat+2,FALSE))","v":true},null,"! Coverage Bars",null,{"$f":"  SET.NAME(\"Icol\",8+(Iloc-1)*NDrep)","v":true},{"$f":"  SET.NAME(\"Jrow\",RowFig+Itmp-1)","v":true},null,{"$f":"    DLD_MsgBar(TEXT(NOW(),AlngDatTim)&\" \"&AN$1&\" >  Browsing for MasterList file aborted by user.\")","v":false},{"$f":"FORMULA(Msam,INDIRECT(\"'\"&S0con&\"'!\"&Arow&BRowLoad+4&Acol&ColPar+1,FALSE))","v":true},{"$f":"  DLD_GoToCell(\"A1\",\"A1\")","v":0},null,null,null,null,null,null,null,null,{"$f":"FORMAT.SIZE(239,36)","v":true},{"$f":"DLD_GoToCell(\"A1\",\"A1\")","v":0},{"$f":"  ALERT(\"Please format this as a valid date (day, month, year) with\"&Acar&\" Excel's standard cell format tool (Format > Cells… > Number > Date).\"&Acar&Acar&\"Then click 'Check It' to proceed.\")","v":true},null,"SFQ_FigPeakHeightParameters"]
[{"$f":"SET.NAME(\"Agnl\",INDEX(GET.WORKSPACE(37),26))","v":true},null,null,{"$f":"IF(ISERROR(UserMaxPkht*1),SET.NAME(\"UserMaxPkht\",999999))","v":true},null,{"$f":"  dld_selectrange(1,ColPar+1,-1,ColPar+1)","v":0},{"$f":"  DLD_ClearCols(ColFigDat,-1,TRUE)","v":0},{"$f":"IF(Afile=FALSE)","v":true},{"$f":"  FORMULA(Icol0,INDIRECT(\"'\"&S0con&\"'!\"&Arow&RowDir+Nloc&Acol&ColLoc+8,FALSE))","v":true},{"$f":"    FORMULA(2,INDIRECT(\"'\"&S0con&\"'!\"&Arow&RowDir+Nloc&Acol&ColLoc+4,FALSE))","v":true},{"$f":"  SET.NAME(\"Nloc\",0)","v":true},null,null,{"$f":"                SET.NAME(\"XpkhP\",XpkhP+INDIRECT(\"'\"&S0wrk&\"'!\"&Arow&Irow&Acol&Icol0+Jall-1,FALSE))","v":true},{"$f":"      SET.NAME(\"XpksU\",Atmp)","v":true},{"$f":"    IF(ABS(Atmp-XpksU)>Elon,SET.NAME(\"XpkhU\",XpkhU+INDIRECT(\"'\"&S0wrk&\"'!\"&Arow&Irow&Acol&Icol0+Jall-1,FALSE)))","v":true},null,"! Header rows",{"$f":"ALIGNMENT(7,,,,,,,1)","v":true},{"$f":"FORMULA(\"XAll\",INDIRECT(\"'\"&S0fg1&\"'!\"&Arow&1&Acol&ColFigDat,FALSE))","v":true},{"$f":"SET.NAME(\"Atmp1\",IF(ISBLANK(INDIRECT(\"'\"&S0fg1&\"'!\"&Arow&3&Acol&ColFigPar+2,FALSE)),NA(),DEREF(INDIRECT(\"'\"&S0fg1&\"'!\"&Arow&3&Acol&ColFigPar+2,FALSE))))","v":true},null,null,null,null,null,{"$f":"END.IF()","v":true},null,"! Type Stats",{"$f":"  FORMULA(\"Use default\",INDIRECT(\"'\"&S0fg4&\"'!\"&Arow&6&Acol&ColFigPar+2,FALSE))","v":true},"! Make counts within each bin",null,{"$f":"IF(UserTypeStats)","v":true},"! Xmax",{"$f":"FORMULA(\"YBarA\",INDIRECT(\"'\"&S0fg5&\"'!\"&Arow&1&Acol&ColFigDat+12,FALSE))","v":true},null,{"$f":"  SET.NAME(\"Nrat\",Nrat+COUNT(INDIRECT(\"'\"&S0dat&\"'!\"&Acol&Icol,FALSE)))","v":true},{"$f":"  SET.NAME(\"Atmp\",DEREF(INDIRECT(\"'\"&S0con&\"'!\"&Arow&Jrow&Acol&ColPar+1,FALSE)))","v":true},null,{"$f":"    SFQ_ConRestore(A0con,ColPar,\"A1\")","v":false},{"$f":"FORMULA(Mdat,INDIRECT(\"'\"&S0con&\"'!\"&Arow&BRowLoad+5&Acol&ColPar+1,FALSE))","v":true},{"$f":"NEXT()","v":true},null,null,null,null,"! Unhide the comparison sheets",null,null,null,{"$f":"FORMAT.MOVE(1,1,Arow&27&Acol&4)","v":true},{"$f":"ACTIVATE(S0fg4)","v":true},{"$f":"  HALT()","v":true},null,"SFQ_FigPeakHeightUpdate"]
[{"$f":"SET.NAME(\"Alsp\",INDEX(GET.WORKSPACE(37),5))","v":true},null,null,{"$f":"SET.NAME(\"UserMaxPkht\",MIN(999999,MAX(UserMinPkht*10,UserMaxPkht)))","v":true},null,{"$f":"  ALIGNMENT(2,FALSE,3,0)","v":true},{"$f":"  DLD_ClearRange(RowFigLocB+1,ColFigPar,0,ColFigDat-1)","v":0},{"$f":"  DLD_MsgBar(TEXT(NOW(),AlngDatTim)&Msub0&H$10&\" > Browsing aborted by user.\")","v":0},{"$f":"  FORMULA(Icol1,INDIRECT(\"'\"&S0con&\"'!\"&Arow&RowDir+Nloc&Acol&ColLoc+9,FALSE))","v":true},{"$f":"    FORMULA(Nrow,INDIRECT(\"'\"&S0con&\"'!\"&Arow&RowDir+Nloc&Acol&ColLoc+5,FALSE))","v":true},{"$f":"  SET.NAME(\"Ntmp\",0)","v":true},null,"! if Ok, record it",{"$f":"              END.IF()","v":true},{"$f":"    END.IF()","v":true},{"$f":"    SET.NAME(\"XpksU\",Atmp)","v":true},null,{"$f":"SET.NAME(\"NRepRow\",4)","v":true},null,{"$f":"FORMULA(\"YAll\",INDIRECT(\"'\"&S0fg1&\"'!\"&Arow&1&Acol&ColFigDat+1,FALSE))","v":true},{"$f":"IF(ISERROR(1/Atmp1))","v":true},{"$f":"SET.NAME(\"Ntmp\",COUNT(INDIRECT(\"'\"&S0fg1&\"'!\"&Acol&ColFigDat+26,FALSE)))","v":true},null,"! List the filters",null,"! List the filters",null,null,{"$f":"IF(UserTypeStats)","v":true},{"$f":"ELSE()","v":true},{"$f":"SET.NAME(\"Nold\",0)","v":true},null,{"$f":"  FORMULA(\"Median %\",INDIRECT(\"'\"&S0fg5&\"'!\"&Arow&1&Acol&ColFigDat+3,FALSE))","v":true},{"$f":"SET.NAME(\"Xmax\",DEREF(INDIRECT(\"'\"&S0fg5&\"'!\"&Arow&RowFigLocB+Iloc&Acol&ColFigPar+3,FALSE)))","v":true},{"$f":"FORMULA(\"YBarU\",INDIRECT(\"'\"&S0fg5&\"'!\"&Arow&1&Acol&ColFigDat+13,FALSE))","v":true},null,{"$f":"NEXT()","v":true},{"$f":"  IF(Atmp=\"Finished\")","v":true},null,{"$f":"    HALT()","v":true},null,null,null,null,null,null,{"$f":"ERROR(FALSE)","v":true},null,null,null,{"$f":"DLD_GoToCell(\"A1\",\"D27\")","v":0},{"$f":"PAGE.SETUP(\"&L&\"\"Arial,Regular\"\"&8Built by: DL Duewer, NIST&C&\"\"Arial,Bold\"\"&16\"&Asyst&\" &\"\"Arial,Regular\"\"&12<\"&TEXT(Adate,\"dd-mmm-yy\")&\">\n\"&Atmp&\"&R&\"\"Arial,Regular\"\"&8Paid for, in part, by: NIJ\",\"&L&\"\"Arial,Regular\"\"&6&F!&A&C&\"\"Arial,Regular\"\"&6&D &T&R&\"\"Arial,Regular\"\"&6&P / &N\",0.5,0.5,1.3,0.5,FALSE,FALSE,TRUE,FALSE,2,TRUE,{1,1},\"Auto\",1,FALSE,,0.7,0.3,FALSE,FALSE)","v":true},{"$f":"ELSE()","v":true},null,"SFQ_FigPeakHeightUser"]
[{"$f":"SET.NAME(\"Arow\",INDEX(GET.WORKSPACE(37),6))","v":true},null,null,{"$f":"FORMULA(UserMaxPkht,INDIRECT(\"'\"&S0con&\"'!\"&Arow&RowExc+1&Acol&ColPar+1,FALSE))","v":true},null,{"$f":"  FORMAT.NUMBER(Agnl)","v":true},{"$f":"  DLD_SetColWidth(ColFigPar,0,TRUE)","v":0},{"$f":"  ACTIVATE(S0con)","v":true},{"$f":"  FORMULA(Icol2,INDIRECT(\"'\"&S0con&\"'!\"&Arow&RowDir+Nloc&Acol&ColLoc+10,FALSE))","v":true},null,{"$f":"  FOR(\"Irow\",RowDir+1,250,1)","v":true},null,{"$f":"      IF(IsOk>0,RUN(SFQ_ExtractStore,FALSE))","v":{"$error":"#N/A"}},{"$f":"            NEXT()","v":true},{"$f":"  NEXT()","v":true},{"$f":"  END.IF()","v":true},null,{"$f":"FORMULA(\"Percentage Stutter\",INDIRECT(\"'\"&S0rp1&\"'!\"&Arow&NRepRow&Acol&ColOutFst+3,FALSE))","v":true},"! List the filters",{"$f":"FORMULA(\"EqAll\",INDIRECT(\"'\"&S0fg1&\"'!\"&Arow&1&Acol&ColFigDat+2,FALSE))","v":true},{"$f":"  FORMULA(\"UseDefault\",INDIRECT(\"'\"&S0fg1&\"'!\"&Arow&3&Acol&ColFigPar+2,FALSE))","v":true},{"$f":"IF(AND(Atmp,Ntmp>1.5))","v":true},null,{"$f":"SET.NAME(\"Jcol\",ColOutFst)","v":true},null,{"$f":"SET.NAME(\"Jcol\",ColOutFst)","v":true},"! Xmax",null,{"$f":"  FORMULA(\"Median\",INDIRECT(\"'\"&S0fg4&\"'!\"&Arow&13&Acol&7,FALSE))","v":true},{"$f":"  SET.NAME(\"Pthsh\",Atmp1)","v":true},{"$f":"SET.NAME(\"Nbin\",COUNT(INDIRECT(\"'\"&S0fg4&\"'!\"&Acol&ColFigDat,FALSE)))","v":true},null,{"$f":"  FORMULA(\"MADe\",INDIRECT(\"'\"&S0fg5&\"'!\"&Arow&1&Acol&ColFigDat+4,FALSE))","v":true},{"$f":"SET.NAME(\"Xmax\",INT(Xmax+1.999))","v":true},{"$f":"SET.NAME(\"Atmp\",DEREF(INDIRECT(\"'\"&S0fg5&\"'!\"&Arow&15&Acol&ColFigPar+1,FALSE)))","v":true},null,{"$f":"FORMULA(\"Total #Loci:\",INDIRECT(\"'\"&S0tmp&\"'!\"&Arow&Jrow+3&Acol&1,FALSE))","v":true},{"$f":"    SET.NAME(\"S0tmp\",EVALUATE(\"S0fg\"&Itmp))","v":true},null,{"$f":"  END.IF()","v":false},"! Back to the Control",{"$f":"ACTIVATE(S0dat)","v":true},null,null,null,null,{"$f":"  WORKBOOK.UNHIDE(MID(S0dao,FIND(\"]\",S0dao)+1,100))","v":{"$error":"#VALUE!"}},null,null,null,null,{"$f":"DLD_GoToCell(\"A1\",\"A1\")","v":0},{"$f":"  FORMULA(\"Valid\",INDIRECT(\"'\"&S0dti&\"'!\"&Arow&2&Acol&4,FALSE))","v":true},null,"SFQ_FigRobin"]
[{"$f":"SET.NAME(\"Asep\",\":\")","v":true},null,null,{"$f":"IF(NOT(Atmp=UserMaxPkht),SET.NAME(\"IsOK\",IsOk+1))","v":false},null,null,{"$f":"  DLD_GoToCell(\"A1\",\"A1\")","v":0},{"$f":"  ALERT(\"No data file was specified.\",2)","v":true},{"$f":"NEXT()","v":true},{"$f":"    FORMULA(NAll,INDIRECT(\"'\"&S0con&\"'!\"&Arow&RowDir+Nloc&Acol&ColLoc+7,FALSE))","v":true},{"$f":"    IF(NOT(ISBLANK(INDIRECT(\"'\"&S0con&\"'!\"&Arow&Irow&Acol&ColLoc,FALSE))))","v":true},null,{"$f":"    END.IF()","v":true},{"$f":"          END.IF()","v":true},{"$f":"  IF(100*XpkhU/XpkhP>UserMaxRato)","v":true},{"$f":"NEXT()","v":true},null,{"$f":"dld_selectrange(NRepRow,ColOutFst+3,NRepRow,ColOutFst+20)","v":0},{"$f":"SET.NAME(\"Jrow\",4)","v":true},{"$f":"FORMULA(\"XOne\",INDIRECT(\"'\"&S0fg1&\"'!\"&Arow&1&Acol&ColFigDat+4,FALSE))","v":true},{"$f":"ELSE()","v":true},{"$f":"  COPY(INDIRECT(\"'\"&S0fg1&\"'!\"&Arow&2&Acol&ColFigDat+25&Asep&Arow&Ntmp&Acol&ColFigDat+25,FALSE),INDIRECT(\"'\"&S0fg1&\"'!\"&Arow&2&Acol&ColFigDat+33,FALSE))","v":true},null,{"$f":"SET.NAME(\"Jrow\",7)","v":true},null,{"$f":"SET.NAME(\"Jrow\",7)","v":true},{"$f":"SET.NAME(\"Xmax\",DEREF(INDIRECT(\"'\"&S0tmp&\"'!\"&Arow&3&Acol&ColFigPar+1,FALSE)))","v":true},null,{"$f":"  FORMULA(\"MADe\",INDIRECT(\"'\"&S0fg4&\"'!\"&Arow&14&Acol&7,FALSE))","v":true},{"$f":"END.IF()","v":true},{"$f":"FOR(\"Ibin\",1,Nbin,1)","v":true},null,{"$f":"ELSE()","v":true},{"$f":"FORMULA(Xmax,INDIRECT(\"'\"&S0fg5&\"'!\"&Arow&3&Acol&ColFigPar+1,FALSE))","v":true},{"$f":"IF(Atmp)","v":true},null,{"$f":"FORMULA(Nloc,INDIRECT(\"'\"&S0tmp&\"'!\"&Arow&Jrow+3&Acol&2,FALSE))","v":true},{"$f":"    ACTIVATE(S0tmp)","v":true},null,null,{"$f":"SFQ_ConRestore(A0con,ColPar,\"A1\")","v":0},{"$f":"ZOOM(CurZoom)","v":true},null,null,null,null,{"$f":"  WORKBOOK.UNHIDE(MID(S0dif,FIND(\"]\",S0dif)+1,100))","v":{"$error":"#VALUE!"}},null,null,null,"! Format the ReadMe",null,{"$f":"  dld_selectrange(2,2,2,2)","v":false},null,"SFQ_FigRobinNext"]
[{"$f":"SET.NAME(\"ADirSep\",\"/\")","v":true},null,null,null,null,"! Parameters",{"$f":"  CALCULATE.DOCUMENT()","v":true},{"$f":"  HALT()","v":true},null,{"$f":"    FORMULA(Icol0,INDIRECT(\"'\"&S0con&\"'!\"&Arow&RowDir+Nloc&Acol&ColLoc+8,FALSE))","v":true},{"$f":"      SET.NAME(\"Nloc\",Nloc+1)","v":true},null,{"$f":"  END.IF()","v":true},null,{"$f":"    SET.NAME(\"Nxcld3\",Nxcld3+1)","v":true},{"$f":"IF(XpkhU>XpkhS,RETURN())","v":false},null,{"$f":"ALIGNMENT(7,FALSE,3,0)","v":true},{"$f":"SET.NAME(\"Jcol\",ColOutFst+NRpfWth*NRpfSeg-2)","v":true},{"$f":"FORMULA(\"YOne\",INDIRECT(\"'\"&S0fg1&\"'!\"&Arow&1&Acol&ColFigDat+5,FALSE))","v":true},{"$f":"  SET.NAME(\"Xmax\",MAX(Xmin,Atmp1))","v":true},{"$f":"  CANCEL.COPY(FALSE)","v":true},null,{"$f":"RUN(SFQ_FilterList,FALSE)","v":{"$error":"#N/A"}},null,{"$f":"RUN(SFQ_FilterList,FALSE)","v":{"$error":"#N/A"}},{"$f":"SET.NAME(\"Atmp1\",IF(ISBLANK(INDIRECT(\"'\"&S0tmp&\"'!\"&Arow&3&Acol&ColFigPar+2,FALSE)),NA(),DEREF(INDIRECT(\"'\"&S0tmp&\"'!\"&Arow&3&Acol&ColFigPar+2,FALSE))))","v":true},null,{"$f":"  FORMULA(\"Median\",INDIRECT(\"'\"&S0fg4&\"'!\"&Arow&RowFigLocB&Acol&9,FALSE))","v":false},{"$f":"FORMULA(Pthsh&\"%(emprical)\",INDIRECT(\"'\"&S0fg4&\"'!\"&Arow&RowFigLocA+4&Acol&ColFigPar,FALSE))","v":true},{"$f":"  SET.NAME(\"Xval\",DEREF(INDIRECT(\"'\"&S0fg4&\"'!\"&Arow&Ibin+1&Acol&ColFigDat,FALSE)))","v":true},null,{"$f":"  FORMULA(\"Mean %\",INDIRECT(\"'\"&S0fg5&\"'!\"&Arow&1&Acol&ColFigDat+3,FALSE))","v":true},null,{"$f":"  FOR(\"Irow\",2,NAll,1)","v":true},null,{"$f":"FORMULA(\"Total #Ratios:\",INDIRECT(\"'\"&S0tmp&\"'!\"&Arow&Jrow+4&Acol&1,FALSE))","v":true},{"$f":"    DLD_GoToCell(\"A1\",\"A1\")","v":0},null,"! One or more file in main directory",null,{"$f":"DLD_GoToCell(\"A1\",\"D4\")","v":0},null,null,null,null,{"$f":"ERROR(TRUE)","v":true},null,null,null,{"$f":"ACTIVATE(S0rme)","v":true},"! Report",{"$f":"  FORMAT.NUMBER(AlngDat)","v":true},null,"SFQ_FigRobinOptionals"]
[null,null,null,"! Get whether reverse stutter-stutter is counted as reverse stutter (for large peaks 1 repeat downstream of another large peak).",null,{"$f":"  FORMULA(\"Parameter\",INDIRECT(\"'\"&S0con&\"'!\"&Arow&RowDir&Acol&ColPar,FALSE))","v":true},{"$f":"NEXT()","v":true},{"$f":"END.IF()","v":false},{"$f":"RETURN()","v":true},{"$f":"    FORMULA(Icol1,INDIRECT(\"'\"&S0con&\"'!\"&Arow&RowDir+Nloc&Acol&ColLoc+9,FALSE))","v":true},{"$f":"      FORMULA(Nloc,INDIRECT(\"'\"&S0con&\"'!\"&Arow&Irow&Acol&ColLast,FALSE))","v":true},null,{"$f":"NEXT()","v":true},"! Ok.  Is the peak height large enough?",{"$f":"    RETURN()","v":true},null,null,null,{"$f":"RUN(SFQ_FilterList,FALSE)","v":{"$error":"#N/A"}},{"$f":"FORMULA(\"EqOne\",INDIRECT(\"'\"&S0fg1&\"'!\"&Arow&1&Acol&ColFigDat+6,FALSE))","v":true},{"$f":"  FORMULA(Xmax,INDIRECT(\"'\"&S0fg1&\"'!\"&Arow&3&Acol&ColFigPar+2,FALSE))","v":false},{"$f":"  COPY(INDIRECT(\"'\"&S0fg1&\"'!\"&Arow&2&Acol&ColFigDat+27&Asep&Arow&Ntmp&Acol&ColFigDat+27,FALSE),INDIRECT(\"'\"&S0fg1&\"'!\"&Arow&2&Acol&ColFigDat+34,FALSE))","v":true},null,null,null,null,{"$f":"IF(ISERROR(1/Atmp1))","v":true},null,{"$f":"  FORMULA(\"MADe\",INDIRECT(\"'\"&S0fg4&\"'!\"&Arow&RowFigLocB&Acol&10,FALSE))","v":false},{"$f":"FORMULA(Pthsh&\"%(Gaussian)\",INDIRECT(\"'\"&S0fg4&\"'!\"&Arow&RowFigLocA+5&Acol&ColFigPar,FALSE))","v":true},{"$f":"  SET.NAME(\"Nsum\",COUNTIF(INDIRECT(\"'\"&S0fg4&\"'!\"&Acol&ColIn,FALSE),\"<=\"&Xval))","v":true},null,{"$f":"  FORMULA(\"SD\",INDIRECT(\"'\"&S0fg5&\"'!\"&Arow&1&Acol&ColFigDat+4,FALSE))","v":true},{"$f":"SET.NAME(\"Atmp1\",IF(ISBLANK(INDIRECT(\"'\"&S0fg5&\"'!\"&Arow&3&Acol&ColFigPar+2,FALSE)),NA(),DEREF(INDIRECT(\"'\"&S0fg5&\"'!\"&Arow&3&Acol&ColFigPar+2,FALSE))))","v":true},{"$f":"    SET.NAME(\"Ntmp\",DEREF(INDIRECT(\"'\"&S0fg5&\"'!\"&Arow&Irow&Acol&ColFigDat,FALSE)))","v":true},null,{"$f":"FORMULA(Nrat,INDIRECT(\"'\"&S0tmp&\"'!\"&Arow&Jrow+4&Acol&2,FALSE))","v":true},{"$f":"    IF(Npnt<0.5)","v":true},null,{"$f":"ELSE.IF(Nfile>1.5)","v":true},{"$f":"DLD_MsgBar(TEXT(NOW(),AlngDatTim)&\" \"&AN$1&\" > Finished!\")","v":0},{"$f":"ACTIVATE(S0int)","v":true},null,null,null,null,null,null,null,null,{"$f":"DLD_GoToCell(\"A1\",\"A1\")","v":0},{"$f":"ACTIVATE(S0rp1)","v":true},{"$f":"END.IF()","v":true},null,"SFQ_FigRobinParameters"]
["! Store a few workspace parameters",null,null,{"$f":"SET.NAME(\"Atmp\",UserStutStut)","v":true},null,{"$f":"  FORMULA(\"Value\",INDIRECT(\"'\"&S0con&\"'!\"&Arow&RowDir&Acol&ColPar+1,FALSE))","v":true},null,null,null,{"$f":"    FORMULA(Icol3+1,INDIRECT(\"'\"&S0con&\"'!\"&Arow&RowDir+Nloc&Acol&ColLoc+10,FALSE))","v":true},{"$f":"    ELSE()","v":true},null,null,{"$f":"          IF(XpkhP<UserMinPkht)","v":true},{"$f":"  END.IF()","v":false},"! Ok.  Is the stutter too big?",null,{"$f":"SET.NAME(\"NRepRow\",NRepRow+1)","v":true},null,{"$f":"FORMULA(\"Locus\",INDIRECT(\"'\"&S0fg1&\"'!\"&Arow&1&Acol&ColFigDat+9,FALSE))","v":true},{"$f":"END.IF()","v":true},{"$f":"  CANCEL.COPY(FALSE)","v":true},null,"! Data headers",null,"! Data headers",{"$f":"  FORMULA(\"UseDefault\",INDIRECT(\"'\"&S0tmp&\"'!\"&Arow&3&Acol&ColFigPar+2,FALSE))","v":true},null,{"$f":"ELSE()","v":true},null,{"$f":"  SET.NAME(\"Ncnt\",Nsum-Nold)","v":true},null,{"$f":"END.IF()","v":true},{"$f":"IF(ISERROR(1/Atmp1))","v":true},{"$f":"    IF(Ntmp>1.5)","v":true},null,null,{"$f":"      ECHO(TRUE)","v":true},null,{"$f":"  SET.NAME(\"Atmp1\",OPEN?(Atmp0,0,FALSE))","v":true},{"$f":"RETURN()","v":true},{"$f":"ZOOM(CurZoom)","v":true},null,null,null,null,"! Clear anything old",null,null,null,{"$f":"SELECT(\"Button 1\")","v":true},{"$f":"PAGE.SETUP(\"&L&\"\"Arial,Regular\"\"&8Built by: DL Duewer, NIST&C&\"\"Arial,Bold\"\"&16\"&Asyst&\" &\"\"Arial,Regular\"\"&12<\"&TEXT(Adate,\"dd-mmm-yy\")&\">\n\"&Atmp&\"&R&\"\"Arial,Regular\"\"&8Paid for, in part, by: NIJ\",\"&L&\"\"Arial,Regular\"\"&6&F!&A&C&\"\"Arial,Regular\"\"&6&D &T&R&\"\"Arial,Regular\"\"&6&P / &N\",0.5,0.5,1.3,0.5,FALSE,FALSE,TRUE,FALSE,2,TRUE,{1,1},\"Auto\",1,FALSE,,0.7,0.3,FALSE,FALSE)","v":true},null,null,"SFQ_FigRobinUpdate"]
[{"$f":"FORMULA(GET.WORKSPACE(4),INDIRECT(\"'\"&S0mac&\"'!\"&Arow&2&Acol&3,FALSE))","v":true},null,null,{"$f":"SET.NAME(\"UserStutStut\",IF(ISBLANK(INDIRECT(\"'\"&S0con&\"'!\"&Arow&RowExc+2&Acol&ColPar+1,FALSE)),\"No\",DEREF(INDIRECT(\"'\"&S0con&\"'!\"&Arow&RowExc+2&Acol&ColPar+1,FALSE))))","v":true},null,{"$f":"  dld_selectrange(RowDir,ColPar,RowDir,ColPar+1)","v":0},"! Clear the data difference worksheet","! Open the file",null,{"$f":"  END.IF()","v":true},{"$f":"      SET.NAME(\"Ntmp\",Ntmp+1)","v":true},null,{"$f":"RETURN()","v":true},{"$f":"            SET.NAME(\"Nxcld1\",Nxcld1+1)","v":true},{"$f":"END.IF()","v":true},{"$f":"SET.NAME(\"PkhRat\",100*XpkhS/XpkhP)","v":true},null,{"$f":"dld_selectrange(NRepRow,ColOutFst,NRepRow,0)","v":0},"! Loop over the loci",{"$f":"COPY(INDIRECT(\"'\"&S0dat&\"'!\"&Arow&2&Acol&1&Asep&Arow&2&Acol&8,FALSE),INDIRECT(\"'\"&S0fg1&\"'!\"&Arow&1&Acol&ColFigDat+10,FALSE))","v":true},null,{"$f":"END.IF()","v":true},null,{"$f":"FORMULA(\"Locus\",INDIRECT(\"'\"&S0fg2&\"'!\"&Arow&1&Acol&ColFigDat,FALSE))","v":true},null,{"$f":"FORMULA(\"Locus\",INDIRECT(\"'\"&S0fg3&\"'!\"&Arow&1&Acol&ColFigDat,FALSE))","v":true},{"$f":"ELSE()","v":true},null,{"$f":"  FORMULA(\"Mean\",INDIRECT(\"'\"&S0fg4&\"'!\"&Arow&13&Acol&7,FALSE))","v":true},"! Locus",{"$f":"  SET.NAME(\"Nold\",Nsum)","v":true},null,{"$f":"dld_selectrange(1,ColFigDat,1,ColFigDat+4)","v":0},{"$f":"  FORMULA(\"UseDefault\",INDIRECT(\"'\"&S0fg5&\"'!\"&Arow&3&Acol&ColFigPar+2,FALSE))","v":true},{"$f":"      SET.NAME(\"Atmp1\",DEREF(INDIRECT(\"'\"&S0fg5&\"'!\"&Arow&Irow&Acol&ColFigDat+3,FALSE)))","v":true},null,"! Filters",{"$f":"      SET.NAME(\"Atmp1\",PRINT?(1))","v":true},null,{"$f":"  IF(NOT(Atmp1))","v":true},null,{"$f":"DLD_GoToCell(\"A1\",\"D31\")","v":0},null,null,null,null,{"$f":"ACTIVATE(S0dif)","v":true},null,null,null,{"$f":"FORMAT.SIZE(55,24)","v":true},{"$f":"DLD_GoToCell(\"A1\",\"A1\")","v":0},"! Check the Time format",null,"SFQ_FigRobinUser"]
[{"$f":"FORMULA(GET.DOCUMENT(14),INDIRECT(\"'\"&S0mac&\"'!\"&Arow&3&Acol&3,FALSE))","v":true},null,null,{"$f":"IF(ISLOGICAL(UserStutStut),SET.NAME(\"UserStutStut\",IF(UserStutStut,\"Yes\",\"No\")))","v":false},null,{"$f":"  ALIGNMENT(3,FALSE,3,0)","v":true},{"$f":"ERROR(FALSE)","v":true},{"$f":"ERROR(FALSE)","v":true},null,{"$f":"NEXT()","v":true},{"$f":"    END.IF()","v":true},null,null,null,null,{"$f":"IF(PkhRat>UserMaxRato)","v":true},null,{"$f":"ALIGNMENT(3,FALSE,3,0)","v":true},{"$f":"SET.NAME(\"Nloc\",COUNTA(INDIRECT(\"'\"&S0dat&\"'!\"&Arow&1,FALSE)))","v":true},{"$f":"CANCEL.COPY(FALSE)","v":true},"! Ymin1",{"$f":"IF(NOT(Atmp),FORMULA(FALSE,INDIRECT(\"'\"&S0fg1&\"'!\"&Arow&15&Acol&ColFigPar+1,FALSE)))","v":false},null,{"$f":"FORMULA(\"Allele\",INDIRECT(\"'\"&S0fg2&\"'!\"&Arow&1&Acol&ColFigDat+1,FALSE))","v":true},null,{"$f":"FORMULA(\"Allele\",INDIRECT(\"'\"&S0fg3&\"'!\"&Arow&1&Acol&ColFigDat+1,FALSE))","v":true},{"$f":"  SET.NAME(\"Xmax\",MAX(Xmin,Atmp1))","v":true},null,{"$f":"  FORMULA(\"SD\",INDIRECT(\"'\"&S0fg4&\"'!\"&Arow&14&Acol&7,FALSE))","v":true},{"$f":"SET.NAME(\"Atmp1\",IF(ISBLANK(INDIRECT(\"'\"&S0fg4&\"'!\"&Arow&8&Acol&ColFigPar+2,FALSE)),\"None\",DEREF(INDIRECT(\"'\"&S0fg4&\"'!\"&Arow&8&Acol&ColFigPar+2,FALSE))))","v":true},{"$f":"  FORMULA(Ncnt,INDIRECT(\"'\"&S0fg4&\"'!\"&Arow&Ibin+1&Acol&ColOu,FALSE))","v":true},null,{"$f":"ALIGNMENT(3,FALSE,3,0)","v":true},{"$f":"ELSE()","v":true},{"$f":"      SET.NAME(\"Atmp2\",DEREF(INDIRECT(\"'\"&S0fg5&\"'!\"&Arow&Irow&Acol&ColFigDat+4,FALSE)))","v":true},null,{"$f":"FORMULA(\"Filter\",INDIRECT(\"'\"&S0tmp&\"'!\"&Arow&Jrow+6&Acol&1,FALSE))","v":true},{"$f":"      ECHO(FALSE)","v":true},null,{"$f":"    DLD_MsgBar(TEXT(NOW(),AlngDatTim)&\" \"&AN$1&\" >  Browsing for MasterData file aborted by user.\")","v":0},null,{"$f":"ZOOM(CurZoom)","v":true},null,null,null,null,{"$f":"DLD_ClearCols(3,-1)","v":0},null,null,null,{"$f":"FORMAT.MOVE(2,2,Arow&1&Acol&1)","v":true},{"$f":"ACTIVATE(S0rp2)","v":true},{"$f":"SET.NAME(\"AlngTim\",DEREF(INDIRECT(\"'\"&S0dti&\"'!\"&Arow&3&Acol&3,FALSE)))","v":true},null,"SFQ_FilterList"]
[{"$f":"FORMULA(NOW(),INDIRECT(\"'\"&S0mac&\"'!\"&Arow&4&Acol&3,FALSE))","v":true},null,null,{"$f":"SET.NAME(\"UserStutStut\",IF(UPPER(LEFT(UserStutStut,1))=\"Y\",\"Yes\",\"No\"))","v":true},null,{"$f":"  BORDER(0,0,0,0,1)","v":true},{"$f":"  WORKBOOK.UNHIDE(MID(S0dif,FIND(\"]\",S0dif)+1,100))","v":{"$error":"#VALUE!"}},{"$f":"  SET.NAME(\"Atmp1\",OPEN(Afile,0,FALSE,,,,,,,,1))","v":true},null,null,{"$f":"  NEXT()","v":true},null,null,"! Ok. Is this peakheight small enough?","! If user cares, check for forward stutter from a down-field peak",{"$f":"  SET.NAME(\"Nxcld5\",Nxcld5+1)","v":true},null,{"$f":"FORMULA(\"Locus\",INDIRECT(\"'\"&S0rp1&\"'!\"&Arow&NRepRow&Acol&ColOutFst,FALSE))","v":true},{"$f":"SET.NAME(\"NRepBse\",1)","v":true},{"$f":"COPY(INDIRECT(\"'\"&S0fg1&\"'!\"&Arow&1&Acol&ColFigDat+9&Asep&Arow&1&Acol&ColFigDat+17,FALSE),INDIRECT(\"'\"&S0fg1&\"'!\"&Arow&1&Acol&ColFigDat+19,FALSE))","v":true},{"$f":"SET.NAME(\"Ymin1\",DEREF(INDIRECT(\"'\"&S0fg1&\"'!\"&Arow&4&Acol&ColFigPar+1,FALSE)))","v":true},null,null,{"$f":"FORMULA(\"#\",INDIRECT(\"'\"&S0fg2&\"'!\"&Arow&1&Acol&ColFigDat+2,FALSE))","v":true},null,{"$f":"FORMULA(\"#\",INDIRECT(\"'\"&S0fg3&\"'!\"&Arow&1&Acol&ColFigDat+2,FALSE))","v":true},{"$f":"  FORMULA(Xmax,INDIRECT(\"'\"&S0tmp&\"'!\"&Arow&3&Acol&ColFigPar+2,FALSE))","v":false},null,{"$f":"  FORMULA(\"Mean\",INDIRECT(\"'\"&S0fg4&\"'!\"&Arow&RowFigLocB&Acol&9,FALSE))","v":true},{"$f":"IF(ISERROR(Atmp1),SET.NAME(\"Atmp1\",\"None\"))","v":false},{"$f":"NEXT()","v":true},null,{"$f":"BORDER(1)","v":true},{"$f":"  SET.NAME(\"Xmax\",MAX(Xmin,Atmp1))","v":true},{"$f":"      SET.NAME(\"Atmp3\",TINV(1-Pcover/100,Ntmp-1))","v":true},null,{"$f":"FORMULA(\"Setting\",INDIRECT(\"'\"&S0tmp&\"'!\"&Arow&Jrow+6&Acol&2,FALSE))","v":true},{"$f":"      IF(Atmp1)","v":true},null,{"$f":"    SFQ_ConRestore(A0con,ColPar,\"B\"&BRowLoad)","v":0},null,null,null,null,null,null,{"$f":"DLD_ClearRows(4,-1)","v":0},null,null,null,{"$f":"FREEZE.PANES(FALSE)","v":true},{"$f":"PAGE.SETUP(\"&L&\"\"Arial,Regular\"\"&8Built by: DL Duewer, NIST&C&\"\"Arial,Bold\"\"&16\"&Asyst&\" &\"\"Arial,Regular\"\"&12<\"&TEXT(Adate,\"dd-mmm-yy\")&\">\n\"&Atmp&\"&R&\"\"Arial,Regular\"\"&8Paid for, in part, by: NIJ\",\"&L&\"\"Arial,Regular\"\"&6&F!&A&C&\"\"Arial,Regular\"\"&6&D &T&R&\"\"Arial,Regular\"\"&6&P / &N\",0.5,0.5,1.3,0.5,FALSE,FALSE,TRUE,FALSE,1,TRUE,{1,#N/A},\"Auto\",1,FALSE,,0.7,0.3,FALSE,FALSE)","v":true},{"$f":"SET.NAME(\"Jtmp\",TEXT(NOW(),AlngTim))","v":true},null,"SFQ_GetMasterList"]
[null,null,null,{"$f":"FORMULA(UserStutStut,INDIRECT(\"'\"&S0con&\"'!\"&Arow&RowExc+2&Acol&ColPar+1,FALSE))","v":true},null,null,{"$f":"ERROR(TRUE)","v":true},{"$f":"ERROR(TRUE)","v":true},null,{"$f":"RETURN()","v":true},null,null,null,{"$f":"          ELSE.IF(XpkhP>UserMaxPkht)","v":true},{"$f":"IF(UserRvPlsFr=\"No\")","v":true},{"$f":"  RETURN()","v":true},null,{"$f":"FORMULA(\"#Ratio\",INDIRECT(\"'\"&S0rp1&\"'!\"&Arow&NRepRow&Acol&ColOutFst+1,FALSE))","v":true},{"$f":"SET.NAME(\"IrowLocus\",1)","v":true},{"$f":"CANCEL.COPY(FALSE)","v":true},{"$f":"SET.NAME(\"Atmp1\",IF(ISBLANK(INDIRECT(\"'\"&S0fg1&\"'!\"&Arow&4&Acol&ColFigPar+2,FALSE)),NA(),DEREF(INDIRECT(\"'\"&S0fg1&\"'!\"&Arow&4&Acol&ColFigPar+2,FALSE))))","v":true},"! Lines",null,{"$f":"FORMULA(\"bp\",INDIRECT(\"'\"&S0fg2&\"'!\"&Arow&1&Acol&ColFigDat+3,FALSE))","v":true},null,{"$f":"FORMULA(\"#Rep\",INDIRECT(\"'\"&S0fg3&\"'!\"&Arow&1&Acol&ColFigDat+3,FALSE))","v":true},{"$f":"END.IF()","v":true},null,{"$f":"  FORMULA(\"SD\",INDIRECT(\"'\"&S0fg4&\"'!\"&Arow&RowFigLocB&Acol&10,FALSE))","v":true},{"$f":"SET.NAME(\"Itmp\",MATCH(Atmp1,INDIRECT(\"'\"&S0con&\"'!\"&Acol&ColLoc+1,FALSE),0))","v":true},null,null,null,{"$f":"  FORMULA(Xmax,INDIRECT(\"'\"&S0fg5&\"'!\"&Arow&3&Acol&ColFigPar+2,FALSE))","v":false},{"$f":"      FORMULA(Atmp1,INDIRECT(\"'\"&S0fg5&\"'!\"&Arow&Irow&Acol&ColFigDat+12,FALSE))","v":true},null,{"$f":"dld_selectrange(Jrow+6,1,Jrow+6,2)","v":0},{"$f":"        SET.NAME(\"Npnt\",Npnt+1)","v":true},null,{"$f":"    HALT()","v":true},null,{"$f":"SFQ_ConRestore(A0con,ColPar,\"D36\")","v":0},null,null,null,null,{"$f":"FORMULA(\"**************\",INDIRECT(\"'\"&S0dif&\"'!\"&Arow&3&Acol&1,FALSE))","v":true},null,null,null,{"$f":"FREEZE.PANES(TRUE,1,2)","v":true},{"$f":"DLD_GoToCell(\"A1\",\"A1\")","v":0},{"$f":"IF(Jtmp=AlngTim,SET.NAME(\"Jtmp\",NA()))","v":false},null,"SFQ_GetMasterListIndex"]
["! Is this the first time for a new user?",null,null,{"$f":"IF(NOT(Atmp=UserStutStut),SET.NAME(\"IsOK\",IsOk+1))","v":false},null,{"$f":"  FORMULA(\"System:\",INDIRECT(\"'\"&S0con&\"'!\"&Arow&RowDir+1&Acol&ColPar,FALSE))","v":true},{"$f":"ACTIVATE(S0dif)","v":true},{"$f":"IF(ISERROR(Atmp1),SET.NAME(\"Atmp1\",TRUE))","v":false},null,null,"! If any change, take care of it",null,null,{"$f":"             SET.NAME(\"Nxcld2\",Nxcld2+1)","v":true},{"$f":"  SET.NAME(\"XpkhU\",0)","v":true},{"$f":"END.IF()","v":true},null,{"$f":"dld_selectrange(NRepRow,ColOutFst,NRepRow,ColOutFst+1)","v":0},{"$f":"FOR(\"Iotr\",1,Nloc,NRpfSeg)","v":true},null,{"$f":"IF(ISERROR(Atmp1*1))","v":true},{"$f":"FORMULA(\"YAllLne\",INDIRECT(\"'\"&S0fg1&\"'!\"&Arow&1&Acol&ColFigDat+36,FALSE))","v":true},null,{"$f":"FORMULA(\"Avg %\",INDIRECT(\"'\"&S0fg2&\"'!\"&Arow&1&Acol&ColFigDat+4,FALSE))","v":true},null,{"$f":"FORMULA(\"Avg %\",INDIRECT(\"'\"&S0fg3&\"'!\"&Arow&1&Acol&ColFigDat+4,FALSE))","v":true},null,null,{"$f":"END.IF()","v":true},{"$f":"IF(ISERROR(Itmp))","v":true},"! Make the normalization factor",null,"! Set the display-locus to default",{"$f":"END.IF()","v":true},{"$f":"      FORMULA(Atmp2*Atmp3,INDIRECT(\"'\"&S0fg5&\"'!\"&Arow&Irow&Acol&ColFigDat+13,FALSE))","v":true},null,{"$f":"ALIGNMENT(3)","v":true},{"$f":"        FORMULA(\"Printed\",INDIRECT(\"'\"&S0con&\"'!\"&Arow&RowRep+Itmp-1&Acol&ColPar+1,FALSE))","v":false},null,{"$f":"  END.IF()","v":false},null,null,null,null,null,null,null,null,null,null,{"$f":"DLD_GoToCell(\"A1\",\"A1\")","v":0},null,{"$f":"IF(ISERROR(Jtmp*1),SET.NAME(\"Jtmp\",NA()))","v":false},null,"SFQ_GetParameters"]
[{"$f":"SET.NAME(\"Atmp\",DEREF(INDIRECT(\"'\"&S0mac&\"'!\"&Arow&6&Acol&3,FALSE)))","v":true},null,null,null,null,{"$f":"  FORMULA(Asyst&\" <\"&Adate&\">\",INDIRECT(\"'\"&S0con&\"'!\"&Arow&RowDir+1&Acol&ColPar+1,FALSE))","v":true},{"$f":"DLD_ClearRows(4,-1)","v":0},{"$f":"IF(Atmp1=FALSE)","v":true},null,null,{"$f":"  IF(Ntmp>0.5)","v":true},null,null,null,{"$f":"  SET.NAME(\"XpksU\",0)","v":true},null,null,{"$f":"BORDER(0,0,0,0,1)","v":true},{"$f":"  SET.NAME(\"NRepBse\",NRepBse+3)","v":true},"! Copy all the relevant data",{"$f":"  FORMULA(\"UseDefault\",INDIRECT(\"'\"&S0fg1&\"'!\"&Arow&4&Acol&ColFigPar+2,FALSE))","v":true},{"$f":"FORMULA(\"YOneLne\",INDIRECT(\"'\"&S0fg1&\"'!\"&Arow&1&Acol&ColFigDat+38,FALSE))","v":true},null,{"$f":"FORMULA(\"SD(Avg)\",INDIRECT(\"'\"&S0fg2&\"'!\"&Arow&1&Acol&ColFigDat+5,FALSE))","v":true},null,{"$f":"FORMULA(\"SD(Avg)\",INDIRECT(\"'\"&S0fg3&\"'!\"&Arow&1&Acol&ColFigDat+5,FALSE))","v":true},"! Ymin",null,null,{"$f":"  SET.NAME(\"Aloc\",\"None\")","v":true},{"$f":"SET.NAME(\"Xhrng\",Xdsp*4)","v":true},null,{"$f":"FORMULA(\"Use Default\",INDIRECT(\"'\"&S0fg5&\"'!\"&Arow&10&Acol&ColFigPar+2,FALSE))","v":true},null,{"$f":"    END.IF()","v":true},null,{"$f":"BORDER(1)","v":true},{"$f":"      END.IF()","v":true},null,null,null,{"$f":"DLD_MsgBar(TEXT(NOW(),AlngDatTim)&\" \"&AP$1&\" > Finished!\")","v":0},null,null,null,null,"! Make Headers",null,null,null,null,"! Data",{"$f":"IF(ISERROR(Jtmp))","v":true},null,"SFQ_Globals"]
[{"$f":"SET.NAME(\"Atmp1\",GET.WORKSPACE(26))","v":true},null,null,"! Get whether forward stutter is counted as reverse stutter (for upstream {n,n+2} pairs).",null,{"$f":"  FORMULA(\"Directory:\",INDIRECT(\"'\"&S0con&\"'!\"&Arow&RowDir+2&Acol&ColPar,FALSE))","v":true},{"$f":"DLD_ClearCols(3,-1)","v":0},{"$f":"  DLD_MsgBar(TEXT(NOW(),AlngDatTim)&Msub0&H$10&\" > File (\"&Afile&\") could not be opened.\")","v":false},null,null,{"$f":"    ACTIVATE(S0con)","v":true},null,null,"! Ok.  Check the stutter peak",{"$f":"  FOR(\"Jall\",Kcol1-1,1,-1)","v":true},"! Ok!",null,{"$f":"FORMULA(\"Mean\",INDIRECT(\"'\"&S0rp1&\"'!\"&Arow&NRepRow&Acol&ColOutFst+3,FALSE))","v":true},null,{"$f":"SET.NAME(\"Nuse\",0)","v":true},{"$f":"ELSE()","v":true},{"$f":"SET.NAME(\"Atmp\",DEREF(INDIRECT(\"'\"&S0fg1&\"'!\"&Arow&13&Acol&ColFigPar+1,FALSE)))","v":true},null,{"$f":"FORMULA(\"U(Avg)\",INDIRECT(\"'\"&S0fg2&\"'!\"&Arow&1&Acol&ColFigDat+6,FALSE))","v":true},null,{"$f":"FORMULA(\"U(Avg)\",INDIRECT(\"'\"&S0fg3&\"'!\"&Arow&1&Acol&ColFigDat+6,FALSE))","v":true},{"$f":"SET.NAME(\"Ymin\",DEREF(INDIRECT(\"'\"&S0tmp&\"'!\"&Arow&4&Acol&ColFigPar+1,FALSE)))","v":true},null,"! Make the combined set and load the possibilities",{"$f":"  FORMULA(\"Use default\",INDIRECT(\"'\"&S0fg4&\"'!\"&Arow&8&Acol&ColFigPar+2,FALSE))","v":true},{"$f":"SET.NAME(\"Xstp\",Xhrng/(Npts-1))","v":true},null,null,"! Ymin",{"$f":"  NEXT()","v":true},null,null,{"$f":"    ELSE()","v":true},null,{"$f":"ELSE()","v":true},null,{"$f":"RETURN()","v":true},null,null,null,null,{"$f":"FORMULA(\"Ratios in 'Data' not in 'Data_Compare'\",INDIRECT(\"'\"&S0dif&\"'!\"&Arow&1&Acol&3,FALSE))","v":true},null,null,null,"! Format the ControlPanel",{"$f":"ACTIVATE(S0dat)","v":true},{"$f":"  SET.NAME(\"NumNew\",NumNew+1)","v":true},null,"SFQ_Introduction"]
[{"$f":"FORMULA(Atmp1,INDIRECT(\"'\"&S0mac&\"'!\"&Arow&6&Acol&3,FALSE))","v":true},null,null,{"$f":"SET.NAME(\"Atmp\",UserRvPlsFr)","v":true},null,{"$f":"  SET.NAME(\"Drtry1\",IF(ISBLANK(INDIRECT(\"'\"&S0con&\"'!\"&Arow&RowDir+2&Acol&ColPar+1,FALSE)),\"Clear\",DEREF(INDIRECT(\"'\"&S0con&\"'!\"&Arow&RowDir+2&Acol&ColPar+1,FALSE))))","v":true},{"$f":"DLD_SetColWidth(2,0,FALSE)","v":0},{"$f":"  ACTIVATE(S0con)","v":true},null,null,{"$f":"    dld_selectrange(RowDir+1,ColLoc,0,ColLast)","v":0},null,null,{"$f":"          ELSE()","v":true},{"$f":"    SET.NAME(\"Atmp\",DEREF(INDIRECT(\"'\"&S0wrk&\"'!\"&Arow&Irow&Acol&Icol1+Jall-1,FALSE)))","v":true},{"$f":"SET.NAME(\"IsOK\",1)","v":true},null,{"$f":"FORMULA(\"SD\",INDIRECT(\"'\"&S0rp1&\"'!\"&Arow&NRepRow&Acol&ColOutFst+4,FALSE))","v":true},"! Loop over the number of output segments",{"$f":"SET.NAME(\"Nrow\",2)","v":true},{"$f":"  SET.NAME(\"Ymin1\",MAX(0,Atmp1))","v":false},{"$f":"IF(Atmp)","v":true},null,{"$f":"dld_selectrange(1,ColFigDat,1,ColFigDat+6)","v":0},null,{"$f":"dld_selectrange(1,ColFigDat,1,ColFigDat+6)","v":0},{"$f":"SET.NAME(\"Atmp1\",IF(ISBLANK(INDIRECT(\"'\"&S0tmp&\"'!\"&Arow&4&Acol&ColFigPar+2,FALSE)),NA(),DEREF(INDIRECT(\"'\"&S0tmp&\"'!\"&Arow&4&Acol&ColFigPar+2,FALSE))))","v":true},null,{"$f":"DLD_MsgBar(TEXT(NOW(),AlngDatTim)&Msub0&AC$9&\" > Combining loci\")","v":0},{"$f":"ELSE()","v":true},{"$f":"SET.NAME(\"Nval\",MAX(INDIRECT(\"'\"&S0fg4&\"'!\"&Acol&ColOu,FALSE)))","v":true},null,"! Display the usable loci",{"$f":"SET.NAME(\"Ymin\",DEREF(INDIRECT(\"'\"&S0fg5&\"'!\"&Arow&RowFigLocB+Iloc&Acol&ColFigPar+4,FALSE)))","v":true},{"$f":"END.IF()","v":true},null,"! List the filters",{"$f":"      PRINT(1)","v":true},null,"! One and only one found",null,null,null,null,null,null,{"$f":"FORMULA(\"Ratios in 'Data_Compare' not in 'Data'\",INDIRECT(\"'\"&S0dif&\"'!\"&Arow&1&Acol&13,FALSE))","v":true},null,null,null,{"$f":"ACTIVATE(S0con)","v":true},{"$f":"DLD_ClearCols(1,-1,TRUE)","v":0},{"$f":"  FORMULA(\"Invalid!\",INDIRECT(\"'\"&S0dti&\"'!\"&Arow&3&Acol&4,FALSE))","v":true},null,"SFQ_Locate"]
[{"$f":"IF(Atmp=Atmp1)","v":true},null,null,{"$f":"SET.NAME(\"UserRvPlsFr\",IF(ISBLANK(INDIRECT(\"'\"&S0con&\"'!\"&Arow&RowExc+3&Acol&ColPar+1,FALSE)),\"No\",DEREF(INDIRECT(\"'\"&S0con&\"'!\"&Arow&RowExc+3&Acol&ColPar+1,FALSE))))","v":true},null,{"$f":"  FORMULA(Drtry1,INDIRECT(\"'\"&S0con&\"'!\"&Arow&RowDir+2&Acol&ColPar+1,FALSE))","v":true},{"$f":"WORKBOOK.HIDE()","v":true},{"$f":"  ALERT(\"File (\"&Afile&\") could not be opened.\",2)","v":false},null,null,{"$f":"    SORT(1,INDIRECT(\"'\"&S0con&\"'!\"&Acol&ColLast,FALSE),1,,,,1)","v":true},null,null,{"$f":"            IF(UserStutDir=\"Reverse\",RUN(SFQ_ExtractReverse,FALSE),RUN(SFQ_ExtractForward,FALSE))","v":{"$error":"#N/A"}},{"$f":"    IF(ABS(XpksS-Atmp-Xdbp)<=UserWind)","v":true},null,null,{"$f":"dld_selectrange(NRepRow,ColOutFst+3,NRepRow,ColOutFst+4)","v":0},{"$f":"  SET.NAME(\"NAllMax\",0)","v":true},{"$f":"SET.NAME(\"Nloc\",COUNTA(INDIRECT(\"'\"&S0dat&\"'!\"&Arow&1,FALSE)))","v":true},{"$f":"  FORMULA(Ymin1,INDIRECT(\"'\"&S0fg1&\"'!\"&Arow&4&Acol&ColFigPar+2,FALSE))","v":false},{"$f":"  COPY(INDIRECT(\"'\"&S0fg1&\"'!\"&Arow&2&Acol&ColFigDat+1&Asep&Arow&19&Acol&ColFigDat+1,FALSE),INDIRECT(\"'\"&S0fg1&\"'!\"&Arow&2&Acol&ColFigDat+36,FALSE))","v":true},null,{"$f":"BORDER(1)","v":true},null,{"$f":"BORDER(1)","v":true},{"$f":"IF(ISERROR(Atmp1*1))","v":true},null,{"$f":"SET.NAME(\"Itmp\",0)","v":true},{"$f":"  SET.NAME(\"ALoc\",DEREF(INDIRECT(\"'\"&S0con&\"'!\"&Arow&Itmp&Acol&ColLoc+1,FALSE)))","v":true},{"$f":"SET.NAME(\"Yold\",(Xstp/Xwth)*Nval/(Nrat-1))","v":true},null,{"$f":"SET.NAME(\"Nrow\",RowFigLocB)","v":true},{"$f":"FORMULA(Ymin,INDIRECT(\"'\"&S0fg5&\"'!\"&Arow&4&Acol&ColFigPar+1,FALSE))","v":true},null,null,{"$f":"FORMULA(\"Fetch\",INDIRECT(\"'\"&S0tmp&\"'!\"&Arow&Jrow+7&Acol&1,FALSE))","v":true},{"$f":"      SET.NAME(\"Npnt\",Npnt+1)","v":true},null,{"$f":"  OPEN(Afiles,0,FALSE)","v":true},null,null,null,null,null,null,{"$f":"FORMULA(\"Ratios that differ between 'Data' and 'Data_Compare'\",INDIRECT(\"'\"&S0dif&\"'!\"&Arow&1&Acol&23,FALSE))","v":true},null,null,null,{"$f":"dld_selectrange(1,1,0,0)","v":0},{"$f":"PAGE.SETUP(\"&L&\"\"Arial,Regular\"\"&8Built by: DL Duewer, NIST&C&\"\"Arial,Bold\"\"&16\"&Asyst&\" &\"\"Arial,Regular\"\"&12<\"&TEXT(Adate,\"dd-mmm-yy\")&\">\n\"&Atmp&\"&R&\"\"Arial,Regular\"\"&8Paid for, in part, by: NIJ\",\"&L&\"\"Arial,Regular\"\"&6&F!&A&C&\"\"Arial,Regular\"\"&6&D &T&R&\"\"Arial,Regular\"\"&6&P / &N\",0.5,0.5,1.3,0.5,FALSE,FALSE,FALSE,FALSE,2,1,{1,#N/A},\"Auto\",1,FALSE,,0.7,0.3,FALSE,FALSE)","v":true},{"$f":"  DLD_SetColWidth(1,4,TRUE)","v":false},null,"SFQ_Locate_Long"]
[{"$f":"  SET.NAME(\"Atmp2\",DEREF(INDIRECT(\"'\"&S0mac&\"'!\"&Arow&7&Acol&3,FALSE)))","v":true},null,null,{"$f":"IF(ISLOGICAL(UserRvPlsFr),SET.NAME(\"UserRvPlsFr\",IF(UserRvPlsFr,\"Yes\",\"No\")))","v":false},null,{"$f":"  FORMULA(\"Workbook:\",INDIRECT(\"'\"&S0con&\"'!\"&Arow&RowDir+3&Acol&ColPar,FALSE))","v":true},null,{"$f":"  HALT()","v":true},null,null,{"$f":"    DLD_ClearRange(RowDir+1,ColLast,-1,ColLast)","v":0},null,null,null,{"$f":"      IF(ABS(Atmp-XpksU)>Elon,SET.NAME(\"XpkhU\",XpkhU+INDIRECT(\"'\"&S0wrk&\"'!\"&Arow&Irow&Acol&Icol0+Jall-1,FALSE)))","v":true},{"$f":"RETURN()","v":true},null,{"$f":"BORDER(1)","v":true},{"$f":"  FOR(\"Iinr\",1,NRpfSeg,1)","v":true},{"$f":"FOR(\"Iloc\",1,Nloc,1)","v":true},{"$f":"END.IF()","v":true},{"$f":"  CANCEL.COPY(FALSE)","v":true},null,{"$f":"COPY(INDIRECT(\"'\"&S0fg2&\"'!\"&Arow&1&Acol&ColFigDat&Asep&Arow&1&Acol&ColFigDat+6,FALSE),INDIRECT(\"'\"&S0fg2&\"'!\"&Arow&1&Acol&ColFigDat+12,FALSE))","v":true},null,{"$f":"COPY(INDIRECT(\"'\"&S0fg3&\"'!\"&Arow&1&Acol&ColFigDat&Asep&Arow&1&Acol&ColFigDat+6,FALSE),INDIRECT(\"'\"&S0fg3&\"'!\"&Arow&1&Acol&ColFigDat+12,FALSE))","v":true},{"$f":"  FORMULA(\"UseDefault\",INDIRECT(\"'\"&S0tmp&\"'!\"&Arow&4&Acol&ColFigPar+2,FALSE))","v":true},null,{"$f":"SET.NAME(\"Nrat\",1)","v":true},{"$f":"  FORMULA(Aloc,INDIRECT(\"'\"&S0fg4&\"'!\"&Arow&8&Acol&ColFigPar+2,FALSE))","v":true},{"$f":"SET.NAME(\"Yval\",NORMDIST(Xmed,Xmed,Xdsp,FALSE)*Xstp)","v":true},null,{"$f":"SET.NAME(\"Nloc\",COUNTA(INDIRECT(\"'\"&S0dat&\"'!\"&Arow&1,FALSE)))","v":true},null,"! Coverage Lines",null,{"$f":"FORMULA(NameFetchType,INDIRECT(\"'\"&S0tmp&\"'!\"&Arow&Jrow+7&Acol&2,FALSE))","v":true},{"$f":"      FORMULA(\"Printed\",INDIRECT(\"'\"&S0con&\"'!\"&Arow&Jrow&Acol&ColPar+1,FALSE))","v":false},null,{"$f":"END.IF()","v":true},null,null,null,null,null,null,{"$f":"FOR(\"Itmp\",1,3,1)","v":true},null,null,null,{"$f":"ROW.HEIGHT(,,,3)","v":true},{"$f":"DLD_GoToCell(\"A1\",\"A1\")","v":0},null,null,"SFQ_Locate_Wide"]
[{"$f":"  IF(ISERROR(Atmp2),SET.NAME(\"Atmp2\",0))","v":false},null,null,{"$f":"SET.NAME(\"UserRvPlsFr\",IF(UPPER(LEFT(UserRvPlsFr,1))=\"Y\",\"Yes\",\"No\"))","v":true},null,{"$f":"  FORMULA(\"Clear\",INDIRECT(\"'\"&S0con&\"'!\"&Arow&RowDir+3&Acol&ColPar+1,FALSE))","v":true},{"$f":"ACTIVATE(S0con)","v":true},{"$f":"END.IF()","v":false},null,null,{"$f":"    DLD_ClearRange(RowDir+Nloc+1,ColLoc,0,ColLast)","v":0},null,null,"! If Ok, record it",{"$f":"      SET.NAME(\"XpksU\",Atmp)","v":true},null,null,{"$f":"dld_selectrange(NRepRow+1,ColOutFst+3,NRepRow+Nloc,ColOutFst+4)","v":0},{"$f":"    SET.NAME(\"Iloc\",Iotr+Iinr-1)","v":true},{"$f":"  SET.NAME(\"Jcol\",1+(Iloc-1)*NDrep)","v":true},null,{"$f":"  COPY(INDIRECT(\"'\"&S0fg1&\"'!\"&Arow&2&Acol&ColFigDat+5&Asep&Arow&19&Acol&ColFigDat+5,FALSE),INDIRECT(\"'\"&S0fg1&\"'!\"&Arow&2&Acol&ColFigDat+38,FALSE))","v":true},null,{"$f":"CANCEL.COPY(FALSE)","v":true},null,{"$f":"CANCEL.COPY(FALSE)","v":true},{"$f":"ELSE()","v":true},null,{"$f":"SET.NAME(\"Nloc\",COUNTA(INDIRECT(\"'\"&S0con&\"'!\"&Arow&RowDir+1&Acol&ColLoc&Asep&Arow&RowDir+50&Acol&ColLoc,FALSE)))","v":true},{"$f":"END.IF()","v":true},{"$f":"SET.NAME(\"Ynrm\",MAX(Yold,Yval))","v":true},null,{"$f":"FOR(\"Iloc\",1,Nloc,1)","v":true},{"$f":"SET.NAME(\"Atmp1\",IF(ISBLANK(INDIRECT(\"'\"&S0fg5&\"'!\"&Arow&4&Acol&ColFigPar+2,FALSE)),NA(),DEREF(INDIRECT(\"'\"&S0fg5&\"'!\"&Arow&4&Acol&ColFigPar+2,FALSE))))","v":true},{"$f":"FORMULA(\"YLow\",INDIRECT(\"'\"&S0fg5&\"'!\"&Arow&1&Acol&ColFigDat+14,FALSE))","v":true},null,{"$f":"FORMULA(\"Min PkHt\",INDIRECT(\"'\"&S0tmp&\"'!\"&Arow&Jrow+8&Acol&1,FALSE))","v":true},{"$f":"    END.IF()","v":true},null,{"$f":"SET.NAME(\"Drtry2\",GET.DOCUMENT(2))","v":true},null,null,null,null,null,null,{"$f":"  dld_selectrange(1,(Itmp-1)*NDrep+3,1,(Itmp-1)*NDrep+11)","v":false},null,null,null,{"$f":"COLUMN.WIDTH(,,,3)","v":true},null,{"$f":"  dld_selectrange(3,2,3,2)","v":false},null,"SFQ_LocateUser"]
[{"$f":"  SET.NAME(\"Atmp2\",Atmp2+1)","v":true},null,null,{"$f":"FORMULA(UserRvPlsFr,INDIRECT(\"'\"&S0con&\"'!\"&Arow&RowExc+3&Acol&ColPar+1,FALSE))","v":true},null,null,{"$f":"RETURN()","v":true},null,null,null,{"$f":"    DLD_GoToCell(\"A1\",\"B\"&BRowFetch)","v":0},null,null,{"$f":"            IF(IsOk>0,RUN(SFQ_ExtractStore,FALSE))","v":{"$error":"#N/A"}},{"$f":"    END.IF()","v":true},null,null,{"$f":"BORDER(1)","v":true},{"$f":"    IF(NOT(Iloc>Nloc))","v":true},{"$f":"  SET.NAME(\"Aloc\",DEREF(INDIRECT(\"'\"&S0dat&\"'!\"&Arow&1&Acol&Jcol,FALSE)))","v":true},"! Ymax1",{"$f":"  CANCEL.COPY(FALSE)","v":true},null,null,null,null,{"$f":"  SET.NAME(\"Ymin\",MAX(0,Atmp1))","v":true},null,{"$f":"FOR(\"Iloc\",1,Nloc,1)","v":true},{"$f":"FORMULA(Aloc,INDIRECT(\"'\"&S0fg4&\"'!\"&Arow&RowFigLocA&Acol&ColFigPar+2,FALSE))","v":true},null,null,{"$f":"  SET.NAME(\"Jcol\",1+(Iloc-1)*NDrep)","v":true},{"$f":"IF(ISERROR(Atmp1*1))","v":true},{"$f":"FORMULA(\"YHig\",INDIRECT(\"'\"&S0fg5&\"'!\"&Arow&1&Acol&ColFigDat+15,FALSE))","v":true},null,{"$f":"FORMULA(UserMinPkht,INDIRECT(\"'\"&S0tmp&\"'!\"&Arow&Jrow+8&Acol&2,FALSE))","v":true},{"$f":"  END.IF()","v":true},null,{"$f":"SET.NAME(\"Wrkbk2\",GET.DOCUMENT(88))","v":true},null,null,null,null,null,null,{"$f":"  ALIGNMENT(7,FALSE,3,0)","v":true},null,null,null,null,"! LocalMaster",{"$f":"  OPTIONS.VIEW(TRUE,TRUE)","v":true},null,"SFQ_Print"]
[{"$f":"ELSE()","v":true},null,null,{"$f":"IF(NOT(Atmp=UserRvPlsFr),SET.NAME(\"IsOK\",IsOk+1))","v":false},null,{"$f":"  FORMULA(\"Excludes:\",INDIRECT(\"'\"&S0con&\"'!\"&Arow&RowExc-1&Acol&ColPar+2,FALSE))","v":true},null,"! Make & store file info",null,null,{"$f":"    ECHO(FALSE)","v":true},null,null,{"$f":"          END.IF()","v":true},{"$f":"  NEXT()","v":true},null,null,{"$f":"FORMULA(\"Median\",INDIRECT(\"'\"&S0rp1&\"'!\"&Arow&NRepRow&Acol&ColOutFst+6,FALSE))","v":true},null,{"$f":"  SET.NAME(\"Ndat\",COUNTA(INDIRECT(\"'\"&S0dat&\"'!\"&Acol&Jcol,FALSE)))","v":true},{"$f":"SET.NAME(\"Ymax1\",DEREF(INDIRECT(\"'\"&S0fg1&\"'!\"&Arow&5&Acol&ColFigPar+1,FALSE)))","v":true},{"$f":"ELSE()","v":true},null,{"$f":"FORMULA(\"Label\",INDIRECT(\"'\"&S0fg2&\"'!\"&Arow&1&Acol&ColFigDat+8,FALSE))","v":true},null,{"$f":"FORMULA(\"Label\",INDIRECT(\"'\"&S0fg3&\"'!\"&Arow&1&Acol&ColFigDat+8,FALSE))","v":true},{"$f":"  FORMULA(Ymin,INDIRECT(\"'\"&S0tmp&\"'!\"&Arow&4&Acol&ColFigPar+2,FALSE))","v":false},null,{"$f":"  SET.NAME(\"Atmp\",DEREF(INDIRECT(\"'\"&S0con&\"'!\"&Arow&RowDir+Iloc&Acol&ColLoc+3,FALSE)))","v":true},null,"! Make Trace",null,null,{"$f":"  FORMULA(\"UseDefault\",INDIRECT(\"'\"&S0fg5&\"'!\"&Arow&4&Acol&ColFigPar+2,FALSE))","v":true},{"$f":"SET.NAME(\"Atmp\",DEREF(INDIRECT(\"'\"&S0fg5&\"'!\"&Arow&16&Acol&ColFigPar+1,FALSE)))","v":true},null,{"$f":"FORMULA(\"Max PkHt\",INDIRECT(\"'\"&S0tmp&\"'!\"&Arow&Jrow+9&Acol&1,FALSE))","v":true},{"$f":"NEXT()","v":true},null,null,null,null,null,null,null,null,{"$f":"  FORMULA(\"Locus\",INDIRECT(\"'\"&S0dif&\"'!\"&Arow&2&Acol&(Itmp-1)*NDrep+3,FALSE))","v":false},null,null,null,{"$f":"SELECT(\"Button 1\")","v":true},{"$f":"ACTIVATE(S0lcm)","v":true},{"$f":"  ECHO(TRUE)","v":true},null,"SFQ_ReadMe"]
[{"$f":"  SET.NAME(\"Atmp2\",1)","v":true},null,null,null,null,{"$f":"  dld_selectrange(RowExc-1,ColPar+2,RowExc-1,ColPar+2)","v":0},null,{"$f":"SET.NAME(\"Drtry1\",GET.DOCUMENT(2))","v":true},null,null,null,null,null,{"$f":"        END.IF()","v":true},{"$f":"  IF(100*XpkhU/XpkhP>UserMaxRato)","v":true},null,null,{"$f":"FORMULA(\"MADe\",INDIRECT(\"'\"&S0rp1&\"'!\"&Arow&NRepRow&Acol&ColOutFst+7,FALSE))","v":true},"! Do this locus",null,{"$f":"SET.NAME(\"Atmp1\",IF(ISBLANK(INDIRECT(\"'\"&S0fg1&\"'!\"&Arow&5&Acol&ColFigPar+2,FALSE)),NA(),DEREF(INDIRECT(\"'\"&S0fg1&\"'!\"&Arow&5&Acol&ColFigPar+2,FALSE))))","v":true},{"$f":"  FORMULA(FALSE,INDIRECT(\"'\"&S0fg1&\"'!\"&Arow&14&Acol&ColFigPar+1,FALSE))","v":true},null,{"$f":"FORMULA(\"Xlab\",INDIRECT(\"'\"&S0fg2&\"'!\"&Arow&1&Acol&ColFigDat+9,FALSE))","v":true},null,{"$f":"FORMULA(\"Xlab\",INDIRECT(\"'\"&S0fg3&\"'!\"&Arow&1&Acol&ColFigDat+9,FALSE))","v":true},{"$f":"END.IF()","v":true},null,{"$f":"  IF(Atmp=\"OK\")","v":true},{"$f":"DLD_MsgBar(TEXT(NOW(),AlngDatTim)&Msub0&AD$1&\" >Finished\")","v":0},{"$f":"SET.NAME(\"Xval\",DEREF(INDIRECT(\"'\"&S0fg4&\"'!\"&Arow&2&Acol&ColFigDat,FALSE)))","v":true},null,{"$f":"  SET.NAME(\"Nall\",COUNT(INDIRECT(\"'\"&S0dat&\"'!\"&Acol&Jcol+7,FALSE)))","v":true},{"$f":"ELSE()","v":true},{"$f":"IF(Atmp)","v":true},null,{"$f":"FORMULA(UserMaxPkht,INDIRECT(\"'\"&S0tmp&\"'!\"&Arow&Jrow+9&Acol&2,FALSE))","v":true},null,null,"! Check that it has minimum structure",null,null,null,null,null,null,{"$f":"  dld_selectrange(2,(Itmp-1)*NDrep+3,2,(Itmp-1)*NDrep+3)","v":false},null,null,null,{"$f":"FORMAT.SIZE(86,36)","v":true},{"$f":"PAGE.SETUP(\"&L&\"\"Arial,Regular\"\"&8Built by: DL Duewer, NIST&C&\"\"Arial,Bold\"\"&16\"&Asyst&\" &\"\"Arial,Regular\"\"&12<\"&TEXT(Adate,\"dd-mmm-yy\")&\">\n\"&Atmp&\"&R&\"\"Arial,Regular\"\"&8Paid for, in part, by: NIJ\",\"&L&\"\"Arial,Regular\"\"&6&F!&A&C&\"\"Arial,Regular\"\"&6&D &T&R&\"\"Arial,Regular\"\"&6&P / &N\",0.5,0.5,1.3,0.5,FALSE,FALSE,FALSE,FALSE,2,1,{1,#N/A},\"Auto\",1,FALSE,,0.7,0.3,FALSE,FALSE)","v":true},{"$f":"  DLD_MsgBar(\"Missing a valid hours, minutes, seconds format.\")","v":false},null,"SFQ_RepAlleleStats"]
[{"$f":"END.IF()","v":true},null,null,"! Get the maximum stutter ratio for this to be true stutter",null,{"$f":"  ALIGNMENT(3,FALSE,3,0)","v":true},null,{"$f":"SET.NAME(\"WrkBk1\",GET.DOCUMENT(88))","v":true},null,null,"! Clear all the report and Figure sheets",null,null,{"$f":"      NEXT()","v":true},{"$f":"    SET.NAME(\"Nxcld4\",Nxcld4+1)","v":true},null,null,{"$f":"dld_selectrange(NRepRow,ColOutFst+6,NRepRow,ColOutFst+7)","v":0},{"$f":"      SET.NAME(\"Icol\",ColOutFst+(Iinr-1)*NRpfWth)","v":true},"! Is it ok?",{"$f":"IF(ISERROR(Atmp1*1))","v":true},{"$f":"END.IF()","v":true},null,{"$f":"FORMULA(\"Ylab\",INDIRECT(\"'\"&S0fg2&\"'!\"&Arow&1&Acol&ColFigDat+10,FALSE))","v":true},null,{"$f":"FORMULA(\"Ylab\",INDIRECT(\"'\"&S0fg3&\"'!\"&Arow&1&Acol&ColFigDat+10,FALSE))","v":true},null,null,{"$f":"    SET.NAME(\"Aloc\",DEREF(INDIRECT(\"'\"&S0con&\"'!\"&Arow&RowDir+Iloc&Acol&ColLoc+1,FALSE)))","v":true},{"$f":"RETURN()","v":true},{"$f":"SET.NAME(\"Jbin\",1)","v":true},null,{"$f":"  IF(NAll>1.5)","v":true},{"$f":"  SET.NAME(\"Ymin\",MAX(0,Atmp1))","v":true},{"$f":"  FOR(\"Irow\",2,NAll,1)","v":true},null,{"$f":"FORMULA(\"Allow Stutter^2\",INDIRECT(\"'\"&S0tmp&\"'!\"&Arow&Jrow+10&Acol&1,FALSE))","v":true},"! Back to Control",null,{"$f":"FOR(\"Itmp\",1,2,1)","v":true},null,null,null,null,null,null,{"$f":"  BORDER(0,0,0,0,1)","v":true},null,null,null,{"$f":"FORMAT.MOVE(2,2,Arow&1&Acol&1)","v":true},{"$f":"DLD_GoToCell(\"A1\",\"A1\")","v":0},{"$f":"  ALERT(\"Please format this as a valid time (hours, minutes, seconds) with\"&Acar&\" Excel's standard cell format tool (Format > Cells… > Number > Time).\"&Acar&Acar&\"Then click 'Check It' to proceed.\")","v":true},null,"SFQ_RepAlleleStats"]
[{"$f":"FORMULA(Atmp2,INDIRECT(\"'\"&S0mac&\"'!\"&Arow&7&Acol&3,FALSE))","v":true},null,null,{"$f":"SET.NAME(\"Atmp\",UserMaxRato)","v":true},null,{"$f":"  BORDER(0,0,0,0,1)","v":true},null,{"$f":"FORMULA(Drtry1,INDIRECT(\"'\"&S0con&\"'!\"&Arow&RowDir+2&Acol&ColPar+1,FALSE))","v":true},null,null,{"$f":"    RUN(SFQ_ClearSheets,FALSE)","v":{"$error":"#N/A"}},null,null,null,{"$f":"    RETURN()","v":true},null,null,{"$f":"BORDER(1)","v":true},{"$f":"      SET.NAME(\"NRepRow\",NRepBse)","v":true},null,{"$f":"  FORMULA(\"UseDefault\",INDIRECT(\"'\"&S0fg1&\"'!\"&Arow&5&Acol&ColFigPar+2,FALSE))","v":true},null,null,{"$f":"dld_selectrange(1,ColFigDat+8,1,ColFigDat+10)","v":0},null,{"$f":"dld_selectrange(1,ColFigDat+8,1,ColFigDat+10)","v":0},"! Ymax",null,{"$f":"    SET.NAME(\"Icol\",MATCH(Aloc,INDIRECT(\"'\"&S0dat&\"'!\"&Arow&1,FALSE),0))","v":true},null,{"$f":"SET.NAME(\"Yold\",0)","v":true},null,{"$f":"    SET.NAME(\"Nrow\",Nrow+1)","v":true},{"$f":"  FORMULA(Ymin,INDIRECT(\"'\"&S0fg5&\"'!\"&Arow&4&Acol&ColFigPar+2,FALSE))","v":true},{"$f":"    SET.NAME(\"Ntmp\",DEREF(INDIRECT(\"'\"&S0fg5&\"'!\"&Arow&Irow&Acol&ColFigDat,FALSE)))","v":true},null,{"$f":"FORMULA(UserStutStut,INDIRECT(\"'\"&S0tmp&\"'!\"&Arow&Jrow+10&Acol&2,FALSE))","v":true},{"$f":"SFQ_ConRestore(A0con,ColPar,\"B34\")","v":0},null,{"$f":"  SET.NAME(\"Atmp\",IF(Itmp=1,\"Strings\",\"Calls\"))","v":true},null,null,null,null,null,null,{"$f":"  ALIGNMENT(3,FALSE,3,0)","v":true},null,null,null,null,null,{"$f":"  HALT()","v":true},null,"SFQ_RepAlleleStatsUser"]
[null,null,null,{"$f":"SET.NAME(\"UserMaxRato\",IF(ISBLANK(INDIRECT(\"'\"&S0con&\"'!\"&Arow&RowExc+4&Acol&ColPar+1,FALSE)),1/0,DEREF(INDIRECT(\"'\"&S0con&\"'!\"&Arow&RowExc+4&Acol&ColPar+1,FALSE))))","v":true},null,null,null,{"$f":"FORMULA(WrkBk1,INDIRECT(\"'\"&S0con&\"'!\"&Arow&RowDir+3&Acol&ColPar+1,FALSE))","v":true},null,null,{"$f":"  END.IF()","v":true},null,null,{"$f":"    END.IF()","v":true},{"$f":"  END.IF()","v":false},null,null,{"$f":"dld_selectrange(NRepRow+1,ColOutFst+6,NRepRow+Nloc,ColOutFst+7)","v":0},{"$f":"      SET.NAME(\"Jcol\",1+(Iloc-1)*NDrep)","v":true},{"$f":"  SET.NAME(\"Atmp\",DEREF(INDIRECT(\"'\"&S0con&\"'!\"&Arow&RowDir+Iloc&Acol&ColLoc+3,FALSE)))","v":true},{"$f":"ELSE()","v":true},"! Equations",null,{"$f":"BORDER(1)","v":true},null,{"$f":"BORDER(1)","v":true},{"$f":"SET.NAME(\"Ymax\",DEREF(INDIRECT(\"'\"&S0tmp&\"'!\"&Arow&5&Acol&ColFigPar+1,FALSE)))","v":true},null,{"$f":"    SET.NAME(\"Nrow\",COUNTA(INDIRECT(\"'\"&S0dat&\"'!\"&Acol&Icol,FALSE),0))","v":true},null,{"$f":"FOR(\"Ibin\",1,Nbin-1,1)","v":true},null,{"$f":"    SET.NAME(\"Aloc\",DEREF(INDIRECT(\"'\"&S0dat&\"'!\"&Arow&1&Acol&Jcol,FALSE)))","v":true},{"$f":"END.IF()","v":true},{"$f":"    IF(Ntmp>1.5)","v":true},null,{"$f":"FORMULA(\"Allow Forward\",INDIRECT(\"'\"&S0tmp&\"'!\"&Arow&Jrow+11&Acol&1,FALSE))","v":true},null,null,{"$f":"  SET.NAME(\"S2tm\"&Itmp,\"[\"&Wrkbk2&\"]\"&Atmp)","v":true},null,null,null,null,null,null,{"$f":"  COPY(INDIRECT(\"'\"&S0dat&\"'!\"&Arow&2&Acol&1&Asep&Arow&2&Acol&8,FALSE),INDIRECT(\"'\"&S0dif&\"'!\"&Arow&2&Acol&(Itmp-1)*NDrep+4,FALSE))","v":false},null,null,null,{"$f":"FOR(\"Itmp\",1,3,1)","v":true},"! Macro",{"$f":"ELSE()","v":true},null,"SFQ_RepAlleleStatsUser"]
["! Turn calculation off and set to R1C1",null,null,{"$f":"IF(ISERROR(UserMaxRato*1),SET.NAME(\"UserMaxRato\",30))","v":true},null,{"$f":"  FORMULA(\"Direction:\",INDIRECT(\"'\"&S0con&\"'!\"&Arow&RowWay&Acol&ColPar,FALSE))","v":true},null,null,null,null,null,null,null,{"$f":"  END.IF()","v":true},{"$f":"END.IF()","v":true},null,null,{"$f":"BORDER(1)","v":true},{"$f":"      SET.NAME(\"Aloc\",DEREF(INDIRECT(\"'\"&S0dat&\"'!\"&Arow&1&Acol&Jcol,FALSE)))","v":true},{"$f":"  IF(AND(Ndat>2.5,Atmp=\"OK\"))","v":true},{"$f":"  SET.NAME(\"Ymax1\",MAX(Ymin,Atmp1))","v":true},{"$f":"SET.NAME(\"Atmp\",DEREF(INDIRECT(\"'\"&S0fg1&\"'!\"&Arow&14&Acol&ColFigPar+1,FALSE)))","v":true},null,{"$f":"dld_selectrange(1,ColFigDat,1,0)","v":0},null,{"$f":"dld_selectrange(1,ColFigDat,1,0)","v":0},{"$f":"SET.NAME(\"Atmp1\",IF(ISBLANK(INDIRECT(\"'\"&S0tmp&\"'!\"&Arow&5&Acol&ColFigPar+2,FALSE)),NA(),DEREF(INDIRECT(\"'\"&S0tmp&\"'!\"&Arow&5&Acol&ColFigPar+2,FALSE))))","v":true},null,{"$f":"    COPY(INDIRECT(\"'\"&S0dat&\"'!\"&Arow&3&Acol&Icol+7&Asep&Arow&Nrow&Acol&Icol+7,FALSE),INDIRECT(\"'\"&S0fg4&\"'!\"&Arow&Nrat&Acol&ColFigDat+20,FALSE))","v":true},null,{"$f":"  SET.NAME(\"Xval\",DEREF(INDIRECT(\"'\"&S0fg4&\"'!\"&Arow&Ibin+1&Acol&ColFigDat,FALSE)))","v":true},null,{"$f":"    SET.NAME(\"Xmin\",MIN(INDIRECT(\"'\"&S0dat&\"'!\"&Acol&Jcol+4,FALSE)))","v":true},null,{"$f":"      SET.NAME(\"Atmp1\",DEREF(INDIRECT(\"'\"&S0fg5&\"'!\"&Arow&Irow&Acol&ColFigDat+3,FALSE)))","v":true},null,{"$f":"FORMULA(UserRvPlsFr,INDIRECT(\"'\"&S0tmp&\"'!\"&Arow&Jrow+11&Acol&2,FALSE))","v":true},"! Tell about nothing printed",null,{"$f":"  SET.NAME(\"S2tmp\",EVALUATE(\"S2tm\"&Itmp))","v":true},null,null,null,null,null,null,{"$f":"  CANCEL.COPY(FALSE)","v":false},null,null,null,{"$f":"  SELECT(\"Button \"&Itmp+1)","v":true},{"$f":"ACTIVATE(S0mac)","v":true},{"$f":"  FORMULA(\"Valid\",INDIRECT(\"'\"&S0dti&\"'!\"&Arow&3&Acol&4,FALSE))","v":true},null,"SFQ_RepLocusStats"]
[{"$f":"OPTIONS.CALCULATION(3)","v":true},null,null,{"$f":"SET.NAME(\"UserMaxRato\",MAX(10,MIN(99,UserMaxRato)))","v":true},null,{"$f":"  FORMULA(UserStutDir,INDIRECT(\"'\"&S0con&\"'!\"&Arow&RowWay&Acol&ColPar+1,FALSE))","v":true},null,"! Delete connections",null,null,"! Zero the exclude counters",null,null,{"$f":"END.IF()","v":true},null,null,null,{"$f":"FORMULA(\"Min\",INDIRECT(\"'\"&S0rp1&\"'!\"&Arow&NRepRow&Acol&ColOutFst+9,FALSE))","v":true},{"$f":"      DLD_MsgBar(TEXT(NOW(),AlngDatTim)&Msub0&S$9&\" >Summarizing locus: \"&Aloc)","v":0},null,{"$f":"  FORMULA(Ymax1,INDIRECT(\"'\"&S0fg1&\"'!\"&Arow&5&Acol&ColFigPar+2,FALSE))","v":true},{"$f":"IF(Atmp)","v":true},null,{"$f":"ALIGNMENT(3,FALSE,3,0)","v":true},null,{"$f":"ALIGNMENT(3,FALSE,3,0)","v":true},{"$f":"IF(ISERROR(Atmp1*1))","v":true},null,{"$f":"    CANCEL.COPY(FALSE)","v":true},null,{"$f":"  SET.NAME(\"Nval\",DEREF(INDIRECT(\"'\"&S0fg4&\"'!\"&Arow&Ibin+2&Acol&ColOu,FALSE)))","v":true},null,{"$f":"    SET.NAME(\"Xmax\",MAX(INDIRECT(\"'\"&S0dat&\"'!\"&Acol&Jcol+4,FALSE)))","v":true},"! Ymax",{"$f":"      SET.NAME(\"Atmp2\",DEREF(INDIRECT(\"'\"&S0fg5&\"'!\"&Arow&Irow&Acol&ColFigDat+4,FALSE)))","v":true},null,{"$f":"FORMULA(\"Max %Stutter\",INDIRECT(\"'\"&S0tmp&\"'!\"&Arow&Jrow+12&Acol&1,FALSE))","v":true},{"$f":"IF(Npnt<0.5)","v":true},null,{"$f":"  ERROR(FALSE)","v":true},null,null,null,null,null,null,{"$f":"NEXT()","v":true},null,null,null,{"$f":"  FORMAT.SIZE(65,24)","v":true},{"$f":"PAGE.SETUP(\"&L&\"\"Arial,Regular\"\"&8Built by: DL Duewer, NIST&C&\"\"Arial,Bold\"\"&16\"&Asyst&\" &\"\"Arial,Regular\"\"&12<\"&TEXT(Adate,\"dd-mmm-yy\")&\">\n\"&Atmp&\"&R&\"\"Arial,Regular\"\"&8Paid for, in part, by: NIJ\",\"&L&\"\"Arial,Regular\"\"&8&F!&A&C&\"\"Arial,Regular\"\"&8&D &T&R&\"\"Arial,Regular\"\"&8&P / &N\",0.5,0.5,1.3,0.5,FALSE,FALSE,FALSE,FALSE,2,1,{1,#N/A},\"Auto\",1,FALSE,,0.7,0.3,FALSE,FALSE)","v":true},{"$f":"  dld_selectrange(3,2,3,2)","v":false},null,"SFQ_RepLocusStatsUser"]
[{"$f":"A1.R1C1(FALSE)","v":true},null,null,{"$f":"FORMULA(UserMaxRato,INDIRECT(\"'\"&S0con&\"'!\"&Arow&RowExc+4&Acol&ColPar+1,FALSE))","v":true},null,{"$f":"  FORMULA(\"# Δbp:\",INDIRECT(\"'\"&S0con&\"'!\"&Arow&RowWay+1&Acol&ColPar,FALSE))","v":true},null,{"$f":"dld_deleteconnections(WrkBk1)","v":0},null,null,{"$f":"  FOR(\"Itmp\",1,5,1)","v":true},null,null,null,"! Ok.  Is the PHR too large?",null,null,{"$f":"FORMULA(\"'1%\",INDIRECT(\"'\"&S0rp1&\"'!\"&Arow&NRepRow&Acol&ColOutFst+10,FALSE))","v":true},null,"! Copy this locus",{"$f":"END.IF()","v":true},{"$f":"  COPY(INDIRECT(\"'\"&S0fg1&\"'!\"&Arow&2&Acol&ColFigDat+2&Asep&Arow&3&Acol&ColFigDat+2,FALSE),INDIRECT(\"'\"&S0fg1&\"'!\"&Arow&5&Acol&ColFigDat+2,FALSE))","v":true},null,null,null,null,{"$f":"  FORMULA(\"UseDefault\",INDIRECT(\"'\"&S0tmp&\"'!\"&Arow&5&Acol&ColFigPar+2,FALSE))","v":true},null,null,null,{"$f":"  SET.NAME(\"Yval\",(Xstp/Xwth)*(Nval/(Nrat-1))/Ynrm)","v":true},null,{"$f":"    SET.NAME(\"Ymin\",MIN(INDIRECT(\"'\"&S0dat&\"'!\"&Acol&Jcol+7,FALSE)))","v":true},{"$f":"SET.NAME(\"Ymax\",DEREF(INDIRECT(\"'\"&S0fg5&\"'!\"&Arow&RowFigLocB+Iloc&Acol&ColFigPar+5,FALSE)))","v":true},{"$f":"      SET.NAME(\"Atmp3\",TINV(1-Pcover/100,Ntmp-1))","v":true},null,{"$f":"FORMULA(UserMaxRato,INDIRECT(\"'\"&S0tmp&\"'!\"&Arow&Jrow+12&Acol&2,FALSE))","v":true},{"$f":"  DLD_MsgBar(TEXT(NOW(),AlngDatTim)&\" \"&AL$1&\" > Error… None of the reports are 'Finished'.\")","v":0},null,{"$f":"    SET.NAME(\"Atmp1\",ACTIVATE(S2tmp))","v":true},null,null,null,null,null,null,{"$f":"DLD_SetColWidth(1,0,TRUE)","v":0},null,null,null,{"$f":"  FORMAT.MOVE(2,2,Arow&(Itmp-1)*3+5&Acol&2)","v":true},{"$f":"DLD_ClearRange(6,3,7,3)","v":0},{"$f":"  FORMAT.NUMBER(AlngTim)","v":true},null,"SFQ_SetZoom"]
[{"$f":"COLOR.PALETTE(\"\")","v":true},null,null,{"$f":"IF(NOT(Atmp=UserMaxRato),SET.NAME(\"IsOK\",IsOk+1))","v":false},null,{"$f":"  FORMULA(UserStutUnt,INDIRECT(\"'\"&S0con&\"'!\"&Arow&RowWay+1&Acol&ColPar+1,FALSE))","v":true},null,null,null,null,{"$f":"    SET.NAME(\"Nxcld\"&Itmp,0)","v":true},null,null,{"$f":"RETURN()","v":true},{"$f":"SET.NAME(\"PkhRat\",100*XpkhS/XpkhP)","v":true},null,null,{"$f":"FORMULA(\"'2.5%\",INDIRECT(\"'\"&S0rp1&\"'!\"&Arow&NRepRow&Acol&ColOutFst+11,FALSE))","v":true},"! Make Header row 1",{"$f":"    SET.NAME(\"Nuse\",Nuse+1)","v":true},null,{"$f":"  CANCEL.COPY(FALSE)","v":true},null,{"$f":"FORMULA(\"Label\",INDIRECT(\"'\"&S0fg2&\"'!\"&Arow&1&Acol&ColFigDat+20,FALSE))","v":true},null,{"$f":"FORMULA(\"Label\",INDIRECT(\"'\"&S0fg3&\"'!\"&Arow&1&Acol&ColFigDat+20,FALSE))","v":true},{"$f":"ELSE()","v":true},null,{"$f":"    SET.NAME(\"Nrat\",Nrat+Nrow-3)","v":true},null,{"$f":"  SET.NAME(\"Jbin\",Jbin+1)","v":true},null,{"$f":"    SET.NAME(\"Ymax\",MAX(INDIRECT(\"'\"&S0dat&\"'!\"&Acol&Jcol+7,FALSE)))","v":true},{"$f":"SET.NAME(\"Ymax\",MAX(Ymin,Ymax))","v":true},{"$f":"      FORMULA(Atmp1-Atmp2*Atmp3,INDIRECT(\"'\"&S0fg5&\"'!\"&Arow&Irow&Acol&ColFigDat+14,FALSE))","v":true},null,null,{"$f":"  ECHO(TRUE)","v":true},null,{"$f":"  ERROR(TRUE)","v":true},null,null,null,null,null,null,null,null,null,null,{"$f":"NEXT()","v":true},{"$f":"DLD_GoToCell(\"A1\",\"A1\")","v":0},{"$f":"END.IF()","v":true},null,"Utility_AlignControls"]
[null,null,null,null,null,{"$f":"  dld_selectrange(RowWay,ColPar+1,RowWay+1,ColPar+1)","v":0},null,"! Find the worksheet names",null,null,{"$f":"  NEXT()","v":true},null,null,null,{"$f":"IF(ISERROR(PkhRat),SET.NAME(\"PkhRat\",UserMaxRato+1))","v":false},null,null,{"$f":"FORMULA(\"'5%\",INDIRECT(\"'\"&S0rp1&\"'!\"&Arow&NRepRow&Acol&ColOutFst+12,FALSE))","v":true},{"$f":"      FORMULA(\"Stutter\",INDIRECT(\"'\"&S0rp2&\"'!\"&Arow&NRepRow&Acol&Icol+4,FALSE))","v":true},{"$f":"    COPY(INDIRECT(\"'\"&S0dat&\"'!\"&Arow&3&Acol&Jcol&Asep&Arow&Ndat&Acol&Jcol+7,FALSE),INDIRECT(\"'\"&S0fg1&\"'!\"&Arow&Nrow&Acol&ColFigDat+10,FALSE))","v":true},"! Ymin2",{"$f":"  COPY(INDIRECT(\"'\"&S0fg1&\"'!\"&Arow&2&Acol&ColFigDat+6&Asep&Arow&3&Acol&ColFigDat+6,FALSE),INDIRECT(\"'\"&S0fg1&\"'!\"&Arow&5&Acol&ColFigDat+6,FALSE))","v":true},null,{"$f":"FORMULA(\"Xlab\",INDIRECT(\"'\"&S0fg2&\"'!\"&Arow&1&Acol&ColFigDat+21,FALSE))","v":true},null,{"$f":"FORMULA(\"Xlab\",INDIRECT(\"'\"&S0fg3&\"'!\"&Arow&1&Acol&ColFigDat+21,FALSE))","v":true},{"$f":"  SET.NAME(\"Ymax\",MAX(Ymin,Atmp1))","v":true},null,{"$f":"    SET.NAME(\"Itmp\",Itmp+1)","v":true},null,{"$f":"  FORMULA(Xval,INDIRECT(\"'\"&S0fg4&\"'!\"&Arow&Jbin&Acol&ColOu+1,FALSE))","v":true},null,{"$f":"    FORMULA(Aloc,INDIRECT(\"'\"&S0fg5&\"'!\"&Arow&Nrow&Acol&ColFigPar,FALSE))","v":true},{"$f":"FORMULA(Ymax,INDIRECT(\"'\"&S0fg5&\"'!\"&Arow&5&Acol&ColFigPar+1,FALSE))","v":true},{"$f":"      FORMULA(Atmp1+Atmp2*Atmp3,INDIRECT(\"'\"&S0fg5&\"'!\"&Arow&Irow&Acol&ColFigDat+15,FALSE))","v":true},null,{"$f":"FORMULA(\"Min #Ratio\",INDIRECT(\"'\"&S0tmp&\"'!\"&Arow&Jrow+14&Acol&1,FALSE))","v":true},{"$f":"  ALERT(\"Nothing has been printed; things haven't been generated, have already been printed, or you Canceled.\"&Acar&Acar&\"Please generate any (new) ones you want and try again.\",2)","v":true},null,{"$f":"  IF(ISERROR(Atmp1))","v":true},null,null,null,null,null,null,"! Loop over all the loci",null,null,null,null,null,null,null,"Utility_CleanUpNames"]
["! Set some useful globals",null,null,"! Get the minimum number",null,{"$f":"  FONT.PROPERTIES(,\"Bold\",,,,,,,,3)","v":true},null,{"$f":"WORKBOOK.ACTIVATE(WrkBk1)","v":true},null,null,null,null,null,null,{"$f":"IF(PkhRat>UserMaxRato)","v":true},null,null,{"$f":"FORMULA(\"'10%\",INDIRECT(\"'\"&S0rp1&\"'!\"&Arow&NRepRow&Acol&ColOutFst+13,FALSE))","v":true},{"$f":"      dld_selectrange(NRepRow,Icol+4,NRepRow,Icol+6)","v":0},{"$f":"    CANCEL.COPY(FALSE)","v":true},{"$f":"SET.NAME(\"Ymin2\",DEREF(INDIRECT(\"'\"&S0fg1&\"'!\"&Arow&6&Acol&ColFigPar+1,FALSE)))","v":true},{"$f":"  CANCEL.COPY(FALSE)","v":true},null,{"$f":"FORMULA(\"Ylab\",INDIRECT(\"'\"&S0fg2&\"'!\"&Arow&1&Acol&ColFigDat+22,FALSE))","v":true},null,{"$f":"FORMULA(\"Ylab\",INDIRECT(\"'\"&S0fg3&\"'!\"&Arow&1&Acol&ColFigDat+22,FALSE))","v":true},{"$f":"  FORMULA(Ymax,INDIRECT(\"'\"&S0tmp&\"'!\"&Arow&5&Acol&ColFigPar+2,FALSE))","v":true},null,{"$f":"    FORMULA(Aloc,INDIRECT(\"'\"&S0fg4&\"'!\"&Arow&RowFigLocB+Itmp&Acol&ColFigPar,FALSE))","v":true},null,{"$f":"  FORMULA(Yold,INDIRECT(\"'\"&S0fg4&\"'!\"&Arow&Jbin&Acol&ColOu+2,FALSE))","v":true},null,{"$f":"    FORMULA(NAll,INDIRECT(\"'\"&S0fg5&\"'!\"&Arow&Nrow&Acol&ColFigPar+1,FALSE))","v":true},null,{"$f":"    END.IF()","v":true},null,{"$f":"FORMULA(UserMinNmbr,INDIRECT(\"'\"&S0tmp&\"'!\"&Arow&Jrow+14&Acol&2,FALSE))","v":true},{"$f":"END.IF()","v":true},null,{"$f":"    DLD_MsgBar(TEXT(NOW(),AlngDatTim)&Msub0&AN$1&\" > MasterList (\"&Wrkbk2&\") does not contain sheet (\"&Atmp&\").\")","v":false},null,null,null,null,null,null,{"$f":"SET.NAME(\"Idif12\",2)","v":true},null,null,null,{"$f":"FOR(\"Itmp\",1,11,1)","v":true},"! Go back to the control panel","! Check the DateTime format",null,"Utility_DateTimeDependencies"]
[{"$f":"SET.NAME(\"Elon\",0.001)","v":true},null,null,{"$f":"SET.NAME(\"Atmp\",UserMinNmbr)","v":true},null,null,null,{"$f":"SET.NAME(\"Ntmp\",GET.WORKBOOK(4,WrkBk1))","v":true},null,null,"! Try to open the workbook",null,null,null,{"$f":"  SET.NAME(\"Nxcld5\",Nxcld5+1)","v":true},null,null,{"$f":"FORMULA(\"'25%\",INDIRECT(\"'\"&S0rp1&\"'!\"&Arow&NRepRow&Acol&ColOutFst+14,FALSE))","v":true},{"$f":"      ALIGNMENT(7,FALSE,3,0)","v":true},null,{"$f":"SET.NAME(\"Atmp1\",IF(ISBLANK(INDIRECT(\"'\"&S0fg1&\"'!\"&Arow&6&Acol&ColFigPar+2,FALSE)),NA(),DEREF(INDIRECT(\"'\"&S0fg1&\"'!\"&Arow&6&Acol&ColFigPar+2,FALSE))))","v":true},{"$f":"END.IF()","v":true},null,{"$f":"dld_selectrange(1,ColFigDat+20,1,ColFigDat+22)","v":0},null,{"$f":"dld_selectrange(1,ColFigDat+20,1,ColFigDat+22)","v":0},{"$f":"END.IF()","v":true},null,{"$f":"    SET.NAME(\"Ntmp\",COUNT(INDIRECT(\"'\"&S0dat&\"'!\"&Acol&Icol+7,FALSE)))","v":true},null,{"$f":"  SET.NAME(\"Jbin\",Jbin+1)","v":true},null,{"$f":"    FORMULA(Xmin,INDIRECT(\"'\"&S0fg5&\"'!\"&Arow&Nrow&Acol&ColFigPar+2,FALSE))","v":true},{"$f":"SET.NAME(\"Atmp1\",IF(ISBLANK(INDIRECT(\"'\"&S0fg5&\"'!\"&Arow&5&Acol&ColFigPar+2,FALSE)),NA(),DEREF(INDIRECT(\"'\"&S0fg5&\"'!\"&Arow&5&Acol&ColFigPar+2,FALSE))))","v":true},{"$f":"  NEXT()","v":true},null,{"$f":"FORMULA(\"BpWin\",INDIRECT(\"'\"&S0tmp&\"'!\"&Arow&Jrow+15&Acol&1,FALSE))","v":true},null,null,{"$f":"    ACTIVATE(S0con)","v":true},null,null,null,null,null,null,{"$f":"SET.NAME(\"Idif21\",2)","v":true},null,null,null,{"$f":"  SELECT(\"Button \"&Itmp+4)","v":true},{"$f":"ACTIVATE(S0con)","v":true},{"$f":"SET.NAME(\"AlngDatTim\",AlngDat&\" \"&AlngTim)","v":true},null,"Utility_ResetHeaders"]
[{"$f":"SET.NAME(\"NDrep\",9)","v":true},null,null,{"$f":"SET.NAME(\"UserMinNmbr\",IF(ISBLANK(INDIRECT(\"'\"&S0con&\"'!\"&Arow&RowFlt&Acol&ColPar+1,FALSE)),1/0,DEREF(INDIRECT(\"'\"&S0con&\"'!\"&Arow&RowFlt&Acol&ColPar+1,FALSE))))","v":true},null,{"$f":"  FORMULA(\"Min PkHt:\",INDIRECT(\"'\"&S0con&\"'!\"&Arow&RowExc&Acol&ColPar,FALSE))","v":true},null,{"$f":"SET.NAME(\"Nloc\",0)","v":true},null,null,{"$f":"  SET.NAME(\"Drtry1\",DEREF(INDIRECT(\"'\"&S0con&\"'!\"&Arow&3&Acol&ColPar+1,FALSE)))","v":true},null,null,null,{"$f":"  RETURN()","v":true},null,null,{"$f":"FORMULA(\"'75%\",INDIRECT(\"'\"&S0rp1&\"'!\"&Arow&NRepRow&Acol&ColOutFst+15,FALSE))","v":true},null,{"$f":"    FORMULA.ARRAY(Aloc,INDIRECT(\"'\"&S0fg1&\"'!\"&Arow&Nrow&Acol&ColFigDat+9&Asep&Arow&Nrow+Ndat-3&Acol&ColFigDat+9,FALSE))","v":true},{"$f":"IF(ISERROR(Atmp1*1))","v":true},null,null,{"$f":"BORDER(1)","v":true},null,{"$f":"BORDER(1)","v":true},null,null,{"$f":"    FORMULA(Ntmp,INDIRECT(\"'\"&S0fg4&\"'!\"&Arow&RowFigLocB+Itmp&Acol&ColFigPar+1,FALSE))","v":true},null,{"$f":"  FORMULA(Xval,INDIRECT(\"'\"&S0fg4&\"'!\"&Arow&Jbin&Acol&ColOu+1,FALSE))","v":true},null,{"$f":"    FORMULA(Xmax,INDIRECT(\"'\"&S0fg5&\"'!\"&Arow&Nrow&Acol&ColFigPar+3,FALSE))","v":true},{"$f":"IF(ISERROR(Atmp1*1))","v":true},{"$f":"END.IF()","v":true},null,{"$f":"FORMULA(UserWind,INDIRECT(\"'\"&S0tmp&\"'!\"&Arow&Jrow+15&Acol&2,FALSE))","v":true},{"$f":"DLD_MsgBar(TEXT(NOW(),AlngDatTim)&\" \"&AL$1&\" > Finished!\")","v":0},null,{"$f":"    DLD_GoToCell(\"A1\",\"A1\")","v":false},null,null,null,null,null,null,{"$f":"SET.NAME(\"IdifDif\",0)","v":true},null,null,null,{"$f":"  FORMAT.SIZE(65,24)","v":true},{"$f":"DLD_ClearRange(RowExc,ColPar+1,RowFlt+1,ColPar+1)","v":0},{"$f":"FORMULA(AlngDatTim,INDIRECT(\"'\"&S0dti&\"'!\"&Arow&4&Acol&3,FALSE))","v":true},null,"Utility_ShowMacro"]
[{"$f":"SET.NAME(\"Npts\",100)","v":true},null,null,{"$f":"IF(ISERROR(UserMinNmbr*1),SET.NAME(\"UserMinNmbr\",7))","v":true},null,{"$f":"  FORMULA(UserMinPkht,INDIRECT(\"'\"&S0con&\"'!\"&Arow&RowExc&Acol&ColPar+1,FALSE))","v":true},null,{"$f":"FOR(\"Ishts\",1,Ntmp,1)","v":true},null,null,{"$f":"  SET.NAME(\"WrkBk1\",DEREF(INDIRECT(\"'\"&S0con&\"'!\"&Arow&RowDir+3&Acol&ColPar+1,FALSE)))","v":true},null,null,null,{"$f":"END.IF()","v":true},null,null,{"$f":"FORMULA(\"'90%\",INDIRECT(\"'\"&S0rp1&\"'!\"&Arow&NRepRow&Acol&ColOutFst+16,FALSE))","v":true},"! Make Header row 2",{"$f":"    SET.NAME(\"Nrow\",Nrow+Ndat-2)","v":true},{"$f":"  FORMULA(\"UseDefault\",INDIRECT(\"'\"&S0fg1&\"'!\"&Arow&6&Acol&ColFigPar+2,FALSE))","v":true},"! Legend",null,{"$f":"dld_selectrange(1,ColFigDat,1,-1)","v":0},null,{"$f":"dld_selectrange(1,ColFigDat,1,-1)","v":0},"! %Coverage",null,{"$f":"    IF(UserTypeStats)","v":true},null,{"$f":"  FORMULA(Yval,INDIRECT(\"'\"&S0fg4&\"'!\"&Arow&Jbin&Acol&ColOu+2,FALSE))","v":true},null,{"$f":"    FORMULA(Ymin,INDIRECT(\"'\"&S0fg5&\"'!\"&Arow&Nrow&Acol&ColFigPar+4,FALSE))","v":true},{"$f":"  FORMULA(\"UseDefault\",INDIRECT(\"'\"&S0fg5&\"'!\"&Arow&5&Acol&ColFigPar+2,FALSE))","v":true},null,null,{"$f":"dld_selectrange(Jrow+15,2,Jrow+15,2)","v":0},{"$f":"RETURN()","v":true},null,{"$f":"    ECHO(TRUE)","v":true},null,null,null,null,null,null,{"$f":"FOR(\"Iloc\",1,Nloc,1)","v":true},null,null,null,{"$f":"  FORMAT.MOVE(2,2,Arow&(Itmp-1)*3+15&Acol&2)","v":true},{"$f":"DLD_ClearRange(RowTyp+1,ColPar+1,RowTyp+2,ColPar+1)","v":0},{"$f":"SET.NAME(\"Jtmp\",TEXT(NOW(),AlngDatTim))","v":true},null,"Utility_StartUp"]
[{"$f":"SET.NAME(\"ColPar\",4)","v":true},null,null,{"$f":"SET.NAME(\"UserMinNmbr\",MAX(1,MIN(21,UserMinNmbr)))","v":true},null,{"$f":"  FORMULA(\"Max PkHt:\",INDIRECT(\"'\"&S0con&\"'!\"&Arow&RowExc+1&Acol&ColPar,FALSE))","v":true},null,{"$f":"  SET.NAME(\"S1tmp\",INDEX(GET.WORKBOOK(1,WrkBk1),Ishts))","v":true},null,null,{"$f":"  ERROR(FALSE)","v":true},null,null,null,null,null,null,{"$f":"FORMULA(\"'95%\",INDIRECT(\"'\"&S0rp1&\"'!\"&Arow&NRepRow&Acol&ColOutFst+17,FALSE))","v":true},{"$f":"      SET.NAME(\"NRepRow\",NRepRow+1)","v":true},null,{"$f":"ELSE()","v":true},{"$f":"SET.NAME(\"Atmp\",DEREF(INDIRECT(\"'\"&S0fg1&\"'!\"&Arow&15&Acol&ColFigPar+1,FALSE)))","v":true},null,{"$f":"ALIGNMENT(3,FALSE,3,0)","v":true},null,{"$f":"ALIGNMENT(3,FALSE,3,0)","v":true},{"$f":"SET.NAME(\"Pcover\",IF(ISBLANK(INDIRECT(\"'\"&S0tmp&\"'!\"&Arow&8&Acol&ColFigPar+1,FALSE)),NA(),DEREF(INDIRECT(\"'\"&S0tmp&\"'!\"&Arow&8&Acol&ColFigPar+1,FALSE))))","v":true},null,{"$f":"      SET.NAME(\"Xmed\",MEDIAN(INDIRECT(\"'\"&S0dat&\"'!\"&Acol&Icol+7,FALSE)))","v":false},null,{"$f":"  SET.NAME(\"Yold\",Yval)","v":true},null,{"$f":"    FORMULA(Ymax,INDIRECT(\"'\"&S0fg5&\"'!\"&Arow&Nrow&Acol&ColFigPar+5,FALSE))","v":true},{"$f":"ELSE()","v":true},"! Specks",null,{"$f":"FORMAT.NUMBER(\"0.00\")","v":true},null,null,{"$f":"    ALERT(\"Error: MasterList (\"&Wrkbk2&\") does not contain sheet (\"&Atmp&\").\"&Acar&Acar&\"Correct workbook structure and try again.\",2)","v":false},null,null,null,null,null,null,{"$f":"  SET.NAME(\"Icol\",(Iloc-1)*NDrep+1)","v":false},null,null,null,{"$f":"NEXT()","v":true},null,{"$f":"IF(Jtmp=AlngDatTim,SET.NAME(\"Jtmp\",NA()))","v":false},null,"Utility_Whoopsie"]
[{"$f":"SET.NAME(\"ColLoc\",8)","v":true},null,null,{"$f":"FORMULA(UserMinNmbr,INDIRECT(\"'\"&S0con&\"'!\"&Arow&RowFlt&Acol&ColPar+1,FALSE))","v":true},null,{"$f":"  FORMULA(UserMaxPkht,INDIRECT(\"'\"&S0con&\"'!\"&Arow&RowExc+1&Acol&ColPar+1,FALSE))","v":true},null,null,null,null,{"$f":"    SET.NAME(\"Atmp\",WORKBOOK.ACTIVATE(WrkBk1))","v":true},null,null,null,"! Ok!",null,null,{"$f":"FORMULA(\"'97.5%\",INDIRECT(\"'\"&S0rp1&\"'!\"&Arow&NRepRow&Acol&ColOutFst+18,FALSE))","v":true},{"$f":"      FORMULA(\"Locus\",INDIRECT(\"'\"&S0rp2&\"'!\"&Arow&NRepRow&Acol&Icol,FALSE))","v":true},"! Store locus-stats",{"$f":"  SET.NAME(\"Ymin2\",MAX(0,Atmp1))","v":false},{"$f":"IF(Atmp)","v":true},null,null,null,null,{"$f":"IF(ISERROR(1/Pcover),SET.NAME(\"Pcover\",0))","v":false},null,{"$f":"      SET.NAME(\"Xdsp\",DLD_madE(INDIRECT(\"'\"&S0dat&\"'!\"&Acol&Icol+7,FALSE)))","v":false},null,{"$f":"NEXT()","v":true},null,{"$f":"  END.IF()","v":true},{"$f":"  SET.NAME(\"Ymax\",MAX(Ymin,Atmp1))","v":true},{"$f":"FORMULA(\"Xin\",INDIRECT(\"'\"&S0fg5&\"'!\"&Arow&1&Acol&ColFigDat+17,FALSE))","v":true},null,null,null,null,{"$f":"    HALT()","v":true},null,null,null,null,null,null,{"$f":"  SET.NAME(\"Aloc\",DEREF(INDIRECT(\"'\"&S0dat&\"'!\"&Arow&1&Acol&Icol,FALSE)))","v":true},null,null,null,null,{"$f":"RUN(SFQ_GetParameters,FALSE)","v":{"$error":"#N/A"}},{"$f":"IF(ISERROR(Jtmp*1),SET.NAME(\"Jtmp\",NA()))","v":false}]
[{"$f":"SET.NAME(\"ColLast\",ColLoc+11)","v":true},null,null,{"$f":"IF(NOT(Atmp=UserMinNmbr),SET.NAME(\"IsOK\",IsOk+1))","v":false},null,{"$f":"  FORMULA(\"Allow Stutter²:\",INDIRECT(\"'\"&S0con&\"'!\"&Arow&RowExc+2&Acol&ColPar,FALSE))","v":true},null,"! Check basic structure",null,null,{"$f":"    IF(ISERROR(Atmp),SET.NAME(\"Atmp\",OPEN(Drtry1&ADirSep&WrkBk1,0,FALSE,,,,,,,,1)))","v":true},null,null,null,{"$f":"SET.NAME(\"IsOK\",1)","v":true},null,null,{"$f":"FORMULA(\"'99%\",INDIRECT(\"'\"&S0rp1&\"'!\"&Arow&NRepRow&Acol&ColOutFst+19,FALSE))","v":true},{"$f":"      FORMULA(\"Allele\",INDIRECT(\"'\"&S0rp2&\"'!\"&Arow&NRepRow&Acol&Icol+1,FALSE))","v":true},{"$f":"    FORMULA(Aloc,INDIRECT(\"'\"&S0fg1&\"'!\"&Arow&RowFigLocB+Nuse&Acol&ColFigPar,FALSE))","v":true},{"$f":"  FORMULA(Ymin2,INDIRECT(\"'\"&S0fg1&\"'!\"&Arow&6&Acol&ColFigPar+2,FALSE))","v":false},{"$f":"  COPY(INDIRECT(\"'\"&S0fg1&\"'!\"&Arow&20&Acol&ColFigDat+1&Asep&Arow&24&Acol&ColFigDat+1,FALSE),INDIRECT(\"'\"&S0fg1&\"'!\"&Arow&20&Acol&ColFigDat+36,FALSE))","v":true},null,"! Get Data",null,"! Get Data",{"$f":"IF(OR(Pcover<50,Pcover>100),SET.NAME(\"Pcover\",95))","v":false},null,{"$f":"    ELSE()","v":true},null,null,null,{"$f":"NEXT()","v":true},{"$f":"  FORMULA(Ymax,INDIRECT(\"'\"&S0fg5&\"'!\"&Arow&5&Acol&ColFigPar+2,FALSE))","v":true},{"$f":"FORMULA(\"Yin\",INDIRECT(\"'\"&S0fg5&\"'!\"&Arow&1&Acol&ColFigDat+18,FALSE))","v":true},null,"! Format",null,null,{"$f":"  END.IF()","v":false},null,null,null,null,null,null,{"$f":"  DLD_MsgBar(\"Locus: \"&Aloc)","v":0},null,null,null,{"$f":"FOR(\"Itmp\",1,3,1)","v":true},{"$f":"SFQ_ConRestore(A0con,ColPar,\"A1\")","v":0},{"$f":"IF(ISERROR(Jtmp))","v":true}]
[{"$f":"SET.NAME(\"ColOutFst\",4)","v":true},null,null,null,null,{"$f":"  FORMULA(UserStutStut,INDIRECT(\"'\"&S0con&\"'!\"&Arow&RowExc+2&Acol&ColPar+1,FALSE))","v":true},null,{"$f":"  SET.NAME(\"Ahed\",DEREF(INDIRECT(\"'\"&S1tmp&\"'!\"&Arow&1&Acol&1,FALSE)))","v":true},null,null,{"$f":"  ERROR(TRUE)","v":true},null,null,null,null,null,null,{"$f":"FORMULA(\"Max\",INDIRECT(\"'\"&S0rp1&\"'!\"&Arow&NRepRow&Acol&ColOutFst+20,FALSE))","v":true},{"$f":"      FORMULA(\"Size\",INDIRECT(\"'\"&S0rp2&\"'!\"&Arow&NRepRow&Acol&Icol+2,FALSE))","v":true},{"$f":"    FORMULA(Ndat,INDIRECT(\"'\"&S0fg1&\"'!\"&Arow&RowFigLocB+Nuse&Acol&ColFigPar+1,FALSE))","v":true},{"$f":"END.IF()","v":true},{"$f":"  CANCEL.COPY(FALSE)","v":true},null,{"$f":"SFQ_FigPlotData(S0con,S0dat,S0fg2,UserMinNmbr,RowDir,RowFigLocB,ColLoc,ColFigDat,ColFigPar,244)","v":0},null,{"$f":"SFQ_FigPlotData(S0con,S0dat,S0fg3,UserMinNmbr,RowDir,RowFigLocB,ColLoc,ColFigDat,ColFigPar,242)","v":0},{"$f":"FORMULA(Pcover,INDIRECT(\"'\"&S0tmp&\"'!\"&Arow&8&Acol&ColFigPar+1,FALSE))","v":true},null,{"$f":"      SET.NAME(\"Xmed\",AVERAGE(INDIRECT(\"'\"&S0dat&\"'!\"&Acol&Icol+7,FALSE)))","v":true},null,"! Make Gaussian",null,null,{"$f":"END.IF()","v":true},{"$f":"FORMULA(\"Xout\",INDIRECT(\"'\"&S0fg5&\"'!\"&Arow&1&Acol&ColFigDat+19,FALSE))","v":true},null,{"$f":"DLD_SetColWidth(1,ColOutFst-1,TRUE)","v":0},null,null,{"$f":"NEXT()","v":true},null,null,null,null,null,null,null,null,null,null,{"$f":"  SELECT(\"Button \"&Itmp+15)","v":true},null,{"$f":"  SET.NAME(\"NumNew\",NumNew+1)","v":true}]
[{"$f":"SET.NAME(\"ColFigPar\",7)","v":true},null,null,"! Get the median/MADe Vs mean/SD stats",null,{"$f":"  FORMULA(\"Allow Forward:\",INDIRECT(\"'\"&S0con&\"'!\"&Arow&RowExc+3&Acol&ColPar,FALSE))","v":true},null,{"$f":"  SET.NAME(\"Icol0\",MATCH(\"Height 1\",INDIRECT(\"'\"&S1tmp&\"'!\"&Arow&1,FALSE),0))","v":true},null,null,null,null,null,null,{"$f":"RETURN()","v":true},null,null,{"$f":"dld_selectrange(NRepRow,ColOutFst+9,NRepRow,ColOutFst+20)","v":0},{"$f":"      dld_selectrange(NRepRow,Icol,NRepRow,Icol+2)","v":0},{"$f":"    SET.NAME(\"Atmp\",MIN(INDIRECT(\"'\"&S0dat&\"'!\"&Acol&Jcol+6,FALSE)))","v":true},null,{"$f":"  COPY(INDIRECT(\"'\"&S0fg1&\"'!\"&Arow&20&Acol&ColFigDat+5&Asep&Arow&24&Acol&ColFigDat+5,FALSE),INDIRECT(\"'\"&S0fg1&\"'!\"&Arow&20&Acol&ColFigDat+38,FALSE))","v":true},null,null,null,null,null,null,{"$f":"      SET.NAME(\"Xdsp\",STDEV(INDIRECT(\"'\"&S0dat&\"'!\"&Acol&Icol+7,FALSE)))","v":true},null,{"$f":"SET.NAME(\"Jrow\",1)","v":true},null,"! Check that there are some data to plot",null,{"$f":"FORMULA(\"Yout\",INDIRECT(\"'\"&S0fg5&\"'!\"&Arow&1&Acol&ColFigDat+20,FALSE))","v":true},null,null,null,null,null,null,null,null,null,null,null,"! Copy this locus",null,null,null,{"$f":"  FORMAT.SIZE(65,24)","v":true},{"$f":"DLD_MsgBar(TEXT(NOW(),AlngDatTim)&\" \"&AZ$1&\" > Finished!\")","v":0},{"$f":"  FORMULA(\"Invalid!\",INDIRECT(\"'\"&S0dti&\"'!\"&Arow&4&Acol&4,FALSE))","v":true}]
[{"$f":"SET.NAME(\"ColFigDat\",14)","v":true},null,null,{"$f":"SET.NAME(\"Atmp\",UserTypeStats)","v":true},null,{"$f":"  FORMULA(UserRvPlsFr,INDIRECT(\"'\"&S0con&\"'!\"&Arow&RowExc+3&Acol&ColPar+1,FALSE))","v":true},null,{"$f":"  SET.NAME(\"Icol1\",MATCH(\"Size 1\",INDIRECT(\"'\"&S1tmp&\"'!\"&Arow&1,FALSE),0))","v":true},null,null,{"$f":"  IF(ISERROR(Atmp))","v":true},null,null,null,null,null,null,{"$f":"BORDER(1)","v":true},{"$f":"      ALIGNMENT(3,FALSE,3,0)","v":true},{"$f":"    FORMULA(Atmp,INDIRECT(\"'\"&S0fg1&\"'!\"&Arow&RowFigLocB+Nuse&Acol&ColFigPar+2,FALSE))","v":true},"! Ymax2",{"$f":"  CANCEL.COPY(FALSE)","v":true},null,"! Is there data?",null,"! Is there data?",{"$f":"SET.NAME(\"Atmp1\",IF(ISBLANK(INDIRECT(\"'\"&S0tmp&\"'!\"&Arow&8&Acol&ColFigPar+2,FALSE)),NA(),DEREF(INDIRECT(\"'\"&S0tmp&\"'!\"&Arow&8&Acol&ColFigPar+2,FALSE))))","v":true},null,{"$f":"    END.IF()","v":true},null,{"$f":"FOR(\"Xval\",Xmed-Xhrng,Xmed+Xhrng,Xstp)","v":true},null,{"$f":"IF(Nrow=RowFigLocB)","v":true},"! #Summary",{"$f":"SET.NAME(\"Atmp\",DEREF(INDIRECT(\"'\"&S0fg5&\"'!\"&Arow&12&Acol&ColFigPar+1,FALSE)))","v":true},null,{"$f":"RETURN()","v":true},null,null,"! Copy the MasterList to the Info sheet",null,null,null,null,null,null,{"$f":"  COPY(INDIRECT(\"'\"&S0dat&\"'!\"&Acol&Icol&Asep&Acol&Icol+8,FALSE),INDIRECT(\"'\"&S0dif&\"'!\"&Arow&1&Acol&41,FALSE))","v":true},null,null,null,{"$f":"  FORMAT.MOVE(2,2,Arow&(Itmp-1)*3+36&Acol&4)","v":true},{"$f":"RETURN()","v":true},{"$f":"  DLD_SetColWidth(1,2,TRUE)","v":false}]
[{"$f":"SET.NAME(\"RowFigLocA\",11)","v":true},null,null,{"$f":"SET.NAME(\"UserTypeStats\",IF(ISBLANK(INDIRECT(\"'\"&S0con&\"'!\"&Arow&RowMed&Acol&ColPar+1,FALSE)),1/0,DEREF(INDIRECT(\"'\"&S0con&\"'!\"&Arow&RowMed&Acol&ColPar+1,FALSE))))","v":true},null,{"$f":"  FORMULA(\"Max %Stutter:\",INDIRECT(\"'\"&S0con&\"'!\"&Arow&RowExc+4&Acol&ColPar,FALSE))","v":true},null,{"$f":"  SET.NAME(\"Icol2\",MATCH(\"Allele 1\",INDIRECT(\"'\"&S1tmp&\"'!\"&Arow&1,FALSE),0))","v":true},null,null,{"$f":"    DLD_MsgBar(TEXT(NOW(),AlngDatTim)&Msub0&K$1&\" > Bad directory/file specification.\")","v":0},null,null,null,null,null,null,{"$f":"dld_selectrange(NRepRow+1,ColOutFst+9,NRepRow+Nloc,ColOutFst+20)","v":0},{"$f":"      BORDER(0,0,0,0,1)","v":true},{"$f":"    SET.NAME(\"Atmp\",MAX(INDIRECT(\"'\"&S0dat&\"'!\"&Acol&Jcol+6,FALSE)))","v":true},{"$f":"SET.NAME(\"Ymax2\",DEREF(INDIRECT(\"'\"&S0fg1&\"'!\"&Arow&7&Acol&ColFigPar+1,FALSE)))","v":true},{"$f":"END.IF()","v":true},null,{"$f":"SET.NAME(\"Ntmp\",COUNT(INDIRECT(\"'\"&S0fg2&\"'!\"&Acol&ColFigDat+1,FALSE)))","v":true},null,{"$f":"SET.NAME(\"Ntmp\",COUNT(INDIRECT(\"'\"&S0fg3&\"'!\"&Acol&ColFigDat+1,FALSE)))","v":true},{"$f":"IF(ISERROR(1/Atmp1),SET.NAME(\"Atmp1\",0))","v":true},null,{"$f":"    FORMULA(Xmed,INDIRECT(\"'\"&S0fg4&\"'!\"&Arow&RowFigLocB+Itmp&Acol&ColFigPar+2,FALSE))","v":true},null,{"$f":"  SET.NAME(\"Yval\",NORMDIST(Xval,Xmed,Xdsp,FALSE)*Xstp/Ynrm)","v":true},null,{"$f":"  DLD_MsgBar(TEXT(NOW(),AlngDatTim)&AG$9&\" > Too few data to generate this plot.\")","v":false},{"$f":"SET.NAME(\"Ncover\",IF(ISBLANK(INDIRECT(\"'\"&S0fg5&\"'!\"&Arow&7&Acol&ColFigPar+1,FALSE)),NA(),DEREF(INDIRECT(\"'\"&S0fg5&\"'!\"&Arow&7&Acol&ColFigPar+1,FALSE))))","v":true},{"$f":"IF(Atmp)","v":true},null,null,null,null,{"$f":"ACTIVATE(S0lcm)","v":true},null,null,null,null,null,null,{"$f":"  CANCEL.COPY(FALSE)","v":false},null,null,null,{"$f":"NEXT()","v":true}]
[{"$f":"SET.NAME(\"RowFigLocB\",20)","v":true},null,null,{"$f":"IF(NOT(ISLOGICAL(UserTypeStats)),SET.NAME(\"UserTypeStats\",TRUE))","v":false},null,{"$f":"  FORMULA(UserMaxRato,INDIRECT(\"'\"&S0con&\"'!\"&Arow&RowExc+4&Acol&ColPar+1,FALSE))","v":true},null,{"$f":"  SET.NAME(\"Icol3\",MATCH(\"Marker\",INDIRECT(\"'\"&S1tmp&\"'!\"&Arow&1,FALSE),0))","v":true},null,null,{"$f":"    ACTIVATE(S0con)","v":true},null,null,null,null,null,null,{"$f":"BORDER(1)","v":true},{"$f":"      FORMULA(\"#\",INDIRECT(\"'\"&S0rp2&\"'!\"&Arow&NRepRow&Acol&Icol+4,FALSE))","v":true},{"$f":"    FORMULA(Atmp,INDIRECT(\"'\"&S0fg1&\"'!\"&Arow&RowFigLocB+Nuse&Acol&ColFigPar+3,FALSE))","v":true},{"$f":"SET.NAME(\"Atmp1\",IF(ISBLANK(INDIRECT(\"'\"&S0fg1&\"'!\"&Arow&7&Acol&ColFigPar+2,FALSE)),NA(),DEREF(INDIRECT(\"'\"&S0fg1&\"'!\"&Arow&7&Acol&ColFigPar+2,FALSE))))","v":true},null,null,{"$f":"IF(Ntmp<1.5)","v":true},null,{"$f":"IF(Ntmp<1.5)","v":true},{"$f":"IF(OR(Atmp1<50,Atmp1>100))","v":true},null,{"$f":"    FORMULA(Xdsp,INDIRECT(\"'\"&S0fg4&\"'!\"&Arow&RowFigLocB+Itmp&Acol&ColFigPar+3,FALSE))","v":true},null,{"$f":"  SET.NAME(\"Jrow\",Jrow+1)","v":true},null,{"$f":"  ACTIVATE(S0fg5)","v":false},{"$f":"IF(ISERROR(1/Ncover),SET.NAME(\"Ncover\",0))","v":false},{"$f":"  SET.NAME(\"Nrat\",COUNTA(INDIRECT(\"'\"&S0fg5&\"'!\"&Acol&ColFigDat+6,FALSE)))","v":true},null,null,null,null,{"$f":"DLD_ClearCols(1,-1,TRUE)","v":0},null,null,null,null,null,null,{"$f":"  COPY(INDIRECT(\"'\"&S0dao&\"'!\"&Acol&Icol&Asep&Acol&Icol+8,FALSE),INDIRECT(\"'\"&S0dif&\"'!\"&Arow&1&Acol&51,FALSE))","v":true},null,null,null,null,null,{"$f":"  dld_selectrange(4,1,4,1)","v":false}]
[null,null,null,{"$f":"FORMULA(UserTypeStats,INDIRECT(\"'\"&S0con&\"'!\"&Arow&RowMed&Acol&ColPar+1,FALSE))","v":true},null,{"$f":"  FORMULA(\"Min #Ratio:\",INDIRECT(\"'\"&S0con&\"'!\"&Arow&RowFlt&Acol&ColPar,FALSE))","v":true},null,{"$f":"  IF(AND(Ahed=\"Sample Name\",NOT(ISERROR(Icol0+Icol1+Icol2+Icol3))))","v":true},null,null,{"$f":"    DLD_GoToCell(\"A1\",\"B\"&BRowClear)","v":0},null,null,null,null,null,null,null,null,{"$f":"    SET.NAME(\"Atmp\",MIN(INDIRECT(\"'\"&S0dat&\"'!\"&Acol&Jcol+7,FALSE)))","v":true},{"$f":"IF(ISERROR(Atmp1*1))","v":true},"! Calculate",null,{"$f":"  DLD_MsgBar(TEXT(NOW(),AlngDatTim)&Msub0&X$1&\" > Too few data to generate this plot.\")","v":0},null,{"$f":"  DLD_MsgBar(TEXT(NOW(),AlngDatTim)&Msub0&Z$1&\" > Too few data to generate this plot.\")","v":0},{"$f":"  FORMULA(\"Use default\",INDIRECT(\"'\"&S0tmp&\"'!\"&Arow&8&Acol&ColFigPar+2,FALSE))","v":true},null,null,null,{"$f":"  FORMULA(Xval,INDIRECT(\"'\"&S0fg4&\"'!\"&Arow&Jrow&Acol&ColOu+3,FALSE))","v":true},null,{"$f":"  DLD_GoToCell(\"A1\",\"A1\")","v":0},{"$f":"IF(Ncover<1.5,SET.NAME(\"Ncover\",5))","v":false},{"$f":"  FOR(\"Irow\",2,Nrat,1)","v":true},null,null,null,null,{"$f":"COPY(INDIRECT(\"'\"&S2tm1&\"'!\"&Acol&1&Asep&Acol&5,FALSE),INDIRECT(\"'\"&S0lcm&\"'!\"&Arow&1&Acol&1,FALSE))","v":true},null,null,null,null,null,null,{"$f":"  CANCEL.COPY(FALSE)","v":false},null,null,null,{"$f":"SELECT(\"Button 21\")","v":true},null,{"$f":"  OPTIONS.VIEW(TRUE,TRUE)","v":true}]
[{"$f":"SET.NAME(\"RowDir\",1)","v":true},1,null,{"$f":"IF(NOT(Atmp=UserTypeStats),SET.NAME(\"IsOK\",IsOk+1))","v":false},null,{"$f":"  FORMULA(UserMinNmbr,INDIRECT(\"'\"&S0con&\"'!\"&Arow&RowFlt&Acol&ColPar+1,FALSE))","v":true},null,null,null,null,{"$f":"    ALERT(\"Error: The stored Directory:File cannot be found.  Click 'Clear' and try again.\",2)","v":true},null,null,null,null,null,null,{"$f":"ACTIVATE(S0dat)","v":true},"! Median/MADe or Mean/SD",{"$f":"    FORMULA(Atmp,INDIRECT(\"'\"&S0fg1&\"'!\"&Arow&RowFigLocB+Nuse&Acol&ColFigPar+4,FALSE))","v":true},{"$f":"  FORMULA(\"UseDefault\",INDIRECT(\"'\"&S0fg1&\"'!\"&Arow&7&Acol&ColFigPar+2,FALSE))","v":true},{"$f":"CALCULATE.DOCUMENT()","v":true},null,{"$f":"  ACTIVATE(S0fg2)","v":true},null,{"$f":"  ACTIVATE(S0fg3)","v":true},{"$f":"ELSE()","v":true},null,"! Get % less than mean + 3SD",null,{"$f":"  FORMULA(Yval,INDIRECT(\"'\"&S0fg4&\"'!\"&Arow&Jrow&Acol&ColOu+4,FALSE))","v":true},null,{"$f":"  ECHO(TRUE)","v":true},{"$f":"FORMULA(Ncover,INDIRECT(\"'\"&S0fg5&\"'!\"&Arow&7&Acol&ColFigPar+1,FALSE))","v":true},{"$f":"    SET.NAME(\"Atmp1\",DEREF(INDIRECT(\"'\"&S0fg5&\"'!\"&Arow&Irow&Acol&ColFigDat+7,FALSE)))","v":true},null,null,null,null,{"$f":"CANCEL.COPY(FALSE)","v":true},null,null,null,null,null,null,null,null,null,null,{"$f":"FORMAT.SIZE(86,24)","v":true},null,{"$f":"  ECHO(TRUE)","v":true}]
[{"$f":"SET.NAME(\"RowWay\",RowDir+5)","v":true},6,null,null,null,{"$f":"  FORMULA(\"Max bp window:\",INDIRECT(\"'\"&S0con&\"'!\"&Arow&RowFlt+1&Acol&ColPar,FALSE))","v":true},null,"! Sort by locus",null,null,{"$f":"    ECHO(TRUE)","v":true},null,null,null,null,null,null,"! Loop over the loci",{"$f":"      IF(UserTypeStats)","v":true},{"$f":"    SET.NAME(\"Atmp\",MAX(INDIRECT(\"'\"&S0dat&\"'!\"&Acol&Jcol+7,FALSE)))","v":true},{"$f":"ELSE()","v":true},{"$f":"DLD_GoToCell(\"A1\",\"A1\")","v":0},null,{"$f":"  DLD_GoToCell(\"A1\",\"A1\")","v":0},null,{"$f":"  DLD_GoToCell(\"A1\",\"A1\")","v":0},{"$f":"  SET.NAME(\"PCover\",Atmp1)","v":true},null,{"$f":"    SET.NAME(\"Xtmp\",COUNTIF(INDIRECT(\"'\"&S0dat&\"'!\"&Acol&Icol+7,FALSE),\"<\"&Xmed+3*Xdsp))","v":true},null,{"$f":"NEXT()","v":true},null,{"$f":"  ALERT(\"Error: There must be at least a few data at at least one locus make this plot.\"&Acar&Acar&\"Get more data and try again.\",2)","v":false},null,{"$f":"    SET.NAME(\"Atmp3\",MAX(Xmin,MIN(Xmax,Atmp1)))","v":true},null,null,null,null,{"$f":"COPY(INDIRECT(\"'\"&S2tm2&\"'!\"&Acol&1&Asep&Acol&250,FALSE),INDIRECT(\"'\"&S0lcm&\"'!\"&Arow&1&Acol&6,FALSE))","v":true},null,null,null,null,null,null,"! Sort them into sample/allele order",null,null,null,{"$f":"FORMAT.MOVE(2,2,Arow&51&Acol&1)","v":true},null,{"$f":"  DLD_MsgBar(\"Date-Time format is not valid.\")","v":false}]
[{"$f":"SET.NAME(\"RowExc\",RowWay+3)","v":true},9,null,"! Get the bp window for peak-size matching",null,{"$f":"  FORMULA(UserWind,INDIRECT(\"'\"&S0con&\"'!\"&Arow&RowFlt+1&Acol&ColPar+1,FALSE))","v":true},null,{"$f":"    ACTIVATE(S1tmp)","v":true},null,null,{"$f":"    HALT()","v":true},null,null,null,null,null,null,{"$f":"SET.NAME(\"NRepBse\",1)","v":true},{"$f":"        FORMULA(\"Median\",INDIRECT(\"'\"&S0rp2&\"'!\"&Arow&NRepRow&Acol&Icol+5,FALSE))","v":true},{"$f":"    FORMULA(Atmp,INDIRECT(\"'\"&S0fg1&\"'!\"&Arow&RowFigLocB+Nuse&Acol&ColFigPar+5,FALSE))","v":true},{"$f":"  SET.NAME(\"Ymax2\",MAX(Ymin,Atmp1))","v":false},null,null,{"$f":"  ECHO(TRUE)","v":true},null,{"$f":"  ECHO(TRUE)","v":true},{"$f":"  FORMULA(Pcover,INDIRECT(\"'\"&S0tmp&\"'!\"&Arow&8&Acol&ColFigPar+2,FALSE))","v":false},null,{"$f":"    FORMULA(100*Xtmp/Ntmp,INDIRECT(\"'\"&S0fg4&\"'!\"&Arow&RowFigLocB+Itmp&Acol&ColFigPar+4,FALSE))","v":true},null,null,null,{"$f":"  ACTIVATE(S0con)","v":true},{"$f":"SET.NAME(\"Atmp1\",IF(ISBLANK(INDIRECT(\"'\"&S0fg5&\"'!\"&Arow&7&Acol&ColFigPar+2,FALSE)),NA(),DEREF(INDIRECT(\"'\"&S0fg5&\"'!\"&Arow&7&Acol&ColFigPar+2,FALSE))))","v":true},{"$f":"    SET.NAME(\"Atmp2\",DEREF(INDIRECT(\"'\"&S0fg5&\"'!\"&Arow&Irow&Acol&ColFigDat+8,FALSE)))","v":true},null,null,null,null,{"$f":"CANCEL.COPY(FALSE)","v":true},null,null,null,null,null,null,{"$f":"  ACTIVATE(S0dif)","v":false},null,null,null,null,null,{"$f":"  ALERT(\"While the Date and Time formats are ok, their combination is NOT ok.\"&Acar&\"Try reformatting the Date and/or the Time so that the combination of the two is valid using \"&Acar&\"Excel's Format > Cells… > Number > Custom tool.  Good Luck!\"&Acar&Acar&\"Cllick 'Check It' to proceed.\")","v":true}]
[{"$f":"SET.NAME(\"RowFlt\",RowExc+6)","v":true},15,null,{"$f":"SET.NAME(\"Atmp\",UserWind)","v":true},null,{"$f":"  SET.NAME(\"Atmp\",\"=\"\"Use \"\"&if(rc[1],\"\"Median/MADe\"\",\"\"Mean/SD\"\")&\"\":\"\"\")","v":true},null,{"$f":"    dld_selectrange(1,1,-1,-1)","v":0},null,null,{"$f":"  END.IF()","v":false},null,null,null,null,null,null,{"$f":"FOR(\"Iloc\",1,Nloc,1)","v":true},{"$f":"        FORMULA(\"MADe\",INDIRECT(\"'\"&S0rp2&\"'!\"&Arow&NRepRow&Acol&Icol+6,FALSE))","v":true},{"$f":"  END.IF()","v":true},{"$f":"  FORMULA(Ymax2,INDIRECT(\"'\"&S0fg1&\"'!\"&Arow&7&Acol&ColFigPar+2,FALSE))","v":false},{"$f":"DLD_MsgBar(TEXT(NOW(),AlngDatTim)&\" \"&V$1&\" > Finished!\")","v":0},null,{"$f":"  ALERT(\"Error: There must be at least \"&UserMinNmbr&\" examples of at least two alleles to make this plot.\"&Acar&Acar&\"Get more data and try again.\",2)","v":true},null,{"$f":"  ALERT(\"Error: There must be at least \"&UserMinNmbr&\" examples of at least two alleles to make this plot.\"&Acar&Acar&\"Get more data and try again.\",2)","v":true},{"$f":"END.IF()","v":true},null,{"$f":"  END.IF()","v":true},null,"! Threshold Lines",null,{"$f":"  DLD_GoToCell(\"A1\",\"B27\")","v":0},{"$f":"IF(ISERROR(1/Atmp1),SET.NAME(\"Atmp1\",0))","v":true},{"$f":"    SET.NAME(\"Atmp4\",MAX(Ymin,MIN(Ymax,Atmp2)))","v":true},null,null,null,null,null,null,null,null,null,null,null,{"$f":"  dld_selectrange(3,41,0,49)","v":0},null,null,null,{"$f":"FOR(\"Itmp\",1,4,1)","v":true},null,{"$f":"  HALT()","v":true}]
[{"$f":"SET.NAME(\"RowMed\",RowFlt+3)","v":true},18,null,{"$f":"SET.NAME(\"UserWind\",IF(ISBLANK(INDIRECT(\"'\"&S0con&\"'!\"&Arow&RowFlt+1&Acol&ColPar+1,FALSE)),1/0,DEREF(INDIRECT(\"'\"&S0con&\"'!\"&Arow&RowFlt+1&Acol&ColPar+1,FALSE))))","v":true},null,{"$f":"  FORMULA(Atmp,INDIRECT(\"'\"&S0con&\"'!\"&Arow&RowMed&Acol&ColPar,FALSE))","v":true},null,{"$f":"    SORT(1,Acol&Icol3,1,Acol&1,1,,,1)","v":true},null,null,null,null,null,null,null,null,null,{"$f":"  SET.NAME(\"Icol\",1+(Iloc-1)*NDrep)","v":true},{"$f":"      ELSE()","v":true},{"$f":"NEXT()","v":true},{"$f":"END.IF()","v":true},{"$f":"RETURN()","v":true},null,{"$f":"  ACTIVATE(S0con)","v":true},null,{"$f":"  ACTIVATE(S0con)","v":true},null,null,{"$f":"NEXT()","v":true},null,{"$f":"SET.NAME(\"Xthr\",PERCENTILE(INDIRECT(\"'\"&S0fg4&\"'!\"&Acol&ColIn,FALSE),Pthsh/100))","v":true},null,{"$f":"  ECHO(FALSE)","v":true},{"$f":"IF(Atmp1<1.5)","v":true},{"$f":"    IF(AND(Atmp1=Atmp3,Atmp2=Atmp4))","v":true},null,null,null,null,"! Close the MasterList ",null,null,null,null,null,null,{"$f":"  SORT(1,INDIRECT(\"'\"&S0dif&\"'!\"&Arow&3&Acol&41,FALSE),1,INDIRECT(\"'\"&S0dif&\"'!\"&Arow&3&Acol&43,FALSE),,,2)","v":true},null,null,null,{"$f":"  SELECT(\"Button \"&Itmp+100)","v":true},null,{"$f":"ELSE()","v":true}]
[{"$f":"SET.NAME(\"RowTyp\",RowMed+2)","v":true},20,null,{"$f":"IF(ISERROR(UserWind*1),SET.NAME(\"UserWind\",0.5))","v":true},null,{"$f":"  dld_selectrange(RowExc,ColPar+1,RowFlt+1,ColPar+1)","v":0},null,null,null,null,"! Clear the datasheet",null,null,null,null,null,null,{"$f":"  SET.NAME(\"NRepRow\",NRepRow+1)","v":true},{"$f":"        FORMULA(\"Mean\",INDIRECT(\"'\"&S0rp2&\"'!\"&Arow&NRepRow&Acol&Icol+5,FALSE))","v":true},null,null,null,null,{"$f":"  DLD_GoToCell(\"A1\",\"B24\")","v":0},null,{"$f":"  DLD_GoToCell(\"A1\",\"B27\")","v":0},{"$f":"DLD_MsgBar(TEXT(NOW(),AlngDatTim)&Msub0&AA$1&\" > Finished!\")","v":0},null,{"$f":"ACTIVATE(S0fg4)","v":true},null,{"$f":"FORMULA(Xthr,INDIRECT(\"'\"&S0fg4&\"'!\"&Arow&RowFigLocA+4&Acol&ColIn-26,FALSE))","v":true},null,{"$f":"  RETURN()","v":true},{"$f":"  FORMULA(\"Use default\",INDIRECT(\"'\"&S0fg5&\"'!\"&Arow&7&Acol&ColFigPar+2,FALSE))","v":true},{"$f":"      FORMULA(Atmp3,INDIRECT(\"'\"&S0fg5&\"'!\"&Arow&Irow&Acol&ColFigDat+17,FALSE))","v":true},null,null,null,null,{"$f":"WORKBOOK.ACTIVATE(Wrkbk2)","v":true},null,null,null,null,null,null,{"$f":"  dld_selectrange(3,51,0,59)","v":0},null,null,null,{"$f":"  FORMAT.SIZE(65,24)","v":true},null,{"$f":"  FORMULA(\"Valid\",INDIRECT(\"'\"&S0dti&\"'!\"&Arow&4&Acol&4,FALSE))","v":true}]
[{"$f":"SET.NAME(\"RowDst\",RowTyp+5)","v":true},25,null,{"$f":"SET.NAME(\"UserWind\",MAX(0.1,MIN(0.8,UserWind)))","v":true},null,{"$f":"  FONT.PROPERTIES(,,,,,,,,,3)","v":true},null,"! Do it long or wide",null,null,{"$f":"  ACTIVATE(S0dat)","v":true},null,null,null,null,null,null,{"$f":"  SET.NAME(\"Aloc\",DEREF(INDIRECT(\"'\"&S0dat&\"'!\"&Arow&1&Acol&Icol,FALSE)))","v":true},{"$f":"        FORMULA(\"SD\",INDIRECT(\"'\"&S0rp2&\"'!\"&Arow&NRepRow&Acol&Icol+6,FALSE))","v":true},"! Is there anything to plot?","! %Coverage",null,null,{"$f":"  ECHO(FALSE)","v":true},null,{"$f":"  ECHO(FALSE)","v":true},{"$f":"RETURN()","v":true},null,{"$f":"dld_selectrange(RowFigLocB+1,ColFigPar,RowFigLocB+Itmp,ColFigPar+4)","v":0},null,{"$f":"SET.NAME(\"Jrow\",MATCH(Xthr,INDIRECT(\"'\"&S0fg4&\"'!\"&Acol&ColOu+1,FALSE),1))","v":true},null,{"$f":"END.IF()","v":false},{"$f":"ELSE()","v":true},{"$f":"      FORMULA(Atmp4,INDIRECT(\"'\"&S0fg5&\"'!\"&Arow&Irow&Acol&ColFigDat+18,FALSE))","v":true},null,null,null,null,{"$f":"CLOSE(FALSE)","v":true},null,null,null,null,null,null,{"$f":"  SORT(1,INDIRECT(\"'\"&S0dif&\"'!\"&Arow&3&Acol&51,FALSE),1,INDIRECT(\"'\"&S0dif&\"'!\"&Arow&3&Acol&53,FALSE),,,2)","v":true},null,null,null,{"$f":"  FORMAT.MOVE(2,2,Arow&(INT(Itmp/2+0.51)-1)*3+62&Acol&MOD(Itmp+1,2)*2+2)","v":true},null,{"$f":"  dld_selectrange(4,2,4,2)","v":false}]
[{"$f":"SET.NAME(\"RowRep\",RowDst+2)","v":true},27,null,{"$f":"FORMULA(UserWind,INDIRECT(\"'\"&S0con&\"'!\"&Arow&RowFlt+1&Acol&ColPar+1,FALSE))","v":true},null,null,null,{"$f":"    SET.NAME(\"Nrow\",GET.DOCUMENT(10))","v":true},null,null,{"$f":"  DLD_ClearCols(1,-1,TRUE)","v":0},null,null,null,null,null,null,{"$f":"  FORMULA(Aloc,INDIRECT(\"'\"&S0rp1&\"'!\"&Arow&NRepRow&Acol&ColOutFst,FALSE))","v":true},{"$f":"      END.IF()","v":true},{"$f":"IF(Nuse<0.5)","v":true},{"$f":"SET.NAME(\"Pcover\",IF(ISBLANK(INDIRECT(\"'\"&S0fg1&\"'!\"&Arow&8&Acol&ColFigPar+1,FALSE)),NA(),DEREF(INDIRECT(\"'\"&S0fg1&\"'!\"&Arow&8&Acol&ColFigPar+1,FALSE))))","v":true},null,null,{"$f":"  RETURN()","v":true},null,{"$f":"  RETURN()","v":true},null,null,{"$f":"SORT(1,INDIRECT(\"'\"&S0fg4&\"'!\"&Arow&RowFigLocB+1&Acol&ColFigPar+2,FALSE),1,INDIRECT(\"'\"&S0fg4&\"'!\"&Arow&RowFigLocB+1&Acol&ColFigPar,FALSE),1,,,2)","v":true},null,{"$f":"SET.NAME(\"Yval\",DEREF(INDIRECT(\"'\"&S0fg4&\"'!\"&Arow&Jrow&Acol&ColOu+2,FALSE)))","v":true},null,null,{"$f":"  SET.NAME(\"Ncover\",Atmp1)","v":true},{"$f":"    ELSE()","v":true},null,null,null,null,null,null,null,null,null,null,null,null,null,null,null,{"$f":"NEXT()","v":true},null,{"$f":"  FORMAT.NUMBER(AlngDatTim)","v":true}]
[{"$f":"SET.NAME(\"RowFig\",RowRep+NumRep+1)","v":true},30,null,{"$f":"IF(NOT(Atmp=UserWind),SET.NAME(\"IsOK\",IsOk+1))","v":false},null,{"$f":"  FORMULA(\"#Ratios:\",INDIRECT(\"'\"&S0con&\"'!\"&Arow&RowTyp&Acol&ColPar+2,FALSE))","v":true},null,{"$f":"    SET.NAME(\"Ncol\",GET.DOCUMENT(12))","v":true},null,null,null,null,null,null,null,null,null,{"$f":"  SET.NAME(\"Ncnt\",COUNT(INDIRECT(\"'\"&S0dat&\"'!\"&Acol&Icol+7,FALSE)))","v":true},{"$f":"      dld_selectrange(NRepRow,Icol+4,NRepRow,Icol+6)","v":0},{"$f":"  DLD_MsgBar(TEXT(NOW(),AlngDatTim)&T$9&\" > Too few data to generate this plot.\")","v":0},{"$f":"IF(ISERROR(1/Pcover),SET.NAME(\"Pcover\",0))","v":false},null,null,{"$f":"END.IF()","v":false},null,{"$f":"END.IF()","v":false},null,null,null,null,{"$f":"FORMULA(Xthr,INDIRECT(\"'\"&S0fg4&\"'!\"&Arow&2&Acol&ColOu+5,FALSE))","v":true},null,"! Sort by number of ratios",{"$f":"  FORMULA(Ncover,INDIRECT(\"'\"&S0fg5&\"'!\"&Arow&7&Acol&ColFigPar+2,FALSE))","v":false},{"$f":"      FORMULA(Atmp3,INDIRECT(\"'\"&S0fg5&\"'!\"&Arow&Irow&Acol&ColFigDat+19,FALSE))","v":true},null,null,null,null,"! Make the index",null,null,null,null,null,null,"! Make the unique name",null,null,null,null,null,{"$f":"END.IF()","v":true}]
[null,null,null,null,null,{"$f":"  dld_selectrange(RowTyp,ColPar+2,RowTyp,ColPar+2)","v":0},null,{"$f":"    SET.NAME(\"Nmarker\",COUNTIF(INDIRECT(\"'\"&S1tmp&\"'!\"&Arow&1,FALSE),\"Marker*\"))","v":true},null,null,"! Assemble the usable data",null,null,null,null,null,null,{"$f":"  FORMULA(Ncnt,INDIRECT(\"'\"&S0rp1&\"'!\"&Arow&NRepRow&Acol&ColOutFst+1,FALSE))","v":true},{"$f":"      ALIGNMENT(3,FALSE,3,0)","v":true},{"$f":"  ACTIVATE(S0fg1)","v":true},{"$f":"IF(OR(Pcover<50,Pcover>100),SET.NAME(\"Pcover\",95))","v":false},null,null,null,null,null,null,null,"! Set the default limits",null,{"$f":"FORMULA(0,INDIRECT(\"'\"&S0fg4&\"'!\"&Arow&2&Acol&ColOu+6,FALSE))","v":true},null,{"$f":"ACTIVATE(S0fg5)","v":true},{"$f":"END.IF()","v":true},{"$f":"      FORMULA(Atmp4,INDIRECT(\"'\"&S0fg5&\"'!\"&Arow&Irow&Acol&ColFigDat+20,FALSE))","v":true},null,null,null,null,{"$f":"RUN(SFQ_GetMasterListIndex)","v":false},null,null,null,null,null,null,{"$f":"  SET.NAME(\"Nrow1\",COUNTA(INDIRECT(\"'\"&S0dif&\"'!\"&Acol&41,FALSE)))","v":true},null,null,null,{"$f":"FOR(\"Itmp\",1,3,1)","v":true}]
[{"$f":"SET.NAME(\"BRowClear\",5)","v":true},null,null,"! If these parameters have changed, clear the counts",null,{"$f":"  ALIGNMENT(3,FALSE,3,0)","v":true},null,{"$f":"    IF(Nmarker=1,RUN(SFQ_Locate_Long,FALSE),RUN(SFQ_Locate_Wide,FALSE))","v":{"$error":"#N/A"}},null,null,{"$f":"  SET.NAME(\"Nshts\",COUNTA(INDIRECT(\"'\"&S0con&\"'!\"&Acol&ColLoc,FALSE))-1)","v":true},null,null,null,null,null,null,{"$f":"  IF(Ncnt>0.5)","v":true},{"$f":"      BORDER(1)","v":true},{"$f":"  DLD_GoToCell(\"A1\",\"A1\")","v":0},{"$f":"FORMULA(Pcover,INDIRECT(\"'\"&S0fg1&\"'!\"&Arow&8&Acol&ColFigPar+1,FALSE))","v":true},null,null,"! Set the display-locus to the default",null,"! Set the display-locus to the default",null,null,{"$f":"SET.NAME(\"Xmin\",MIN(INDIRECT(\"'\"&S0fg4&\"'!\"&Acol&ColFigDat+20,FALSE)))","v":true},null,{"$f":"FORMULA(Xthr,INDIRECT(\"'\"&S0fg4&\"'!\"&Arow&3&Acol&ColOu+5,FALSE))","v":true},null,{"$f":"dld_selectrange(RowFigLocB+1,ColFigPar,Nrow,ColFigPar+5)","v":0},null,{"$f":"    END.IF()","v":true},null,null,null,null,null,null,null,null,null,null,null,{"$f":"  FOR(\"Irow\",3,Nrow1,1)","v":true},null,null,null,{"$f":"  SELECT(\"Option Button \"&Itmp)","v":true},null,"! Success"]
[{"$f":"SET.NAME(\"BRowLocate\",8)","v":true},null,null,{"$f":"IF(IsOk>0,DLD_ClearRange(RowTyp+1,ColPar+2,RowTyp+3,ColPar+2))","v":false},null,{"$f":"  BORDER(0,0,0,0,1)","v":true},null,{"$f":"  END.IF()","v":true},null,null,{"$f":"  SET.NAME(\"Jshts\",0)","v":true},null,null,null,null,null,null,{"$f":"    SET.NAME(\"Xtmp\",AVERAGE(INDIRECT(\"'\"&S0dat&\"'!\"&Arow&3&Acol&Icol+7&Asep&Arow&2+Ncnt&Acol&Icol+7,FALSE)))","v":true},{"$f":"      FORMULA(Aloc,INDIRECT(\"'\"&S0rp2&\"'!\"&Arow&NRepRow+1&Acol&Icol,FALSE))","v":true},{"$f":"  ECHO(TRUE)","v":true},null,null,null,{"$f":"FORMULA(\"Use Default\",INDIRECT(\"'\"&S0fg2&\"'!\"&Arow&10&Acol&ColFigPar+2,FALSE))","v":true},null,{"$f":"FORMULA(\"Use Default\",INDIRECT(\"'\"&S0fg3&\"'!\"&Arow&10&Acol&ColFigPar+2,FALSE))","v":true},null,null,{"$f":"SET.NAME(\"Xmax\",MAX(INDIRECT(\"'\"&S0fg4&\"'!\"&Acol&ColFigDat+20,FALSE)))","v":true},null,{"$f":"FORMULA(Yval,INDIRECT(\"'\"&S0fg4&\"'!\"&Arow&3&Acol&ColOu+6,FALSE))","v":true},null,{"$f":"SORT(1,INDIRECT(\"'\"&S0fg5&\"'!\"&Arow&RowFigLocB+1&Acol&ColFigPar+1,FALSE),2,INDIRECT(\"'\"&S0fg5&\"'!\"&Arow&RowFigLocB+1&Acol&ColFigPar,FALSE),1,,,2)","v":true},"! %Coverage",{"$f":"  NEXT()","v":true},null,null,null,null,{"$f":"DLD_MsgBar(TEXT(NOW(),AlngDatTim)&\" \"&AM$1&\" > Finished!\")","v":0},null,null,null,null,null,null,{"$f":"    SET.NAME(\"Atmp\",DEREF(INDIRECT(\"'\"&S0dif&\"'!\"&Arow&Irow&Acol&41,FALSE)))","v":true},null,null,null,{"$f":"  FORMAT.SIZE(14,12)","v":true},null,{"$f":"ACTIVATE(S0dti)","v":true}]
[{"$f":"SET.NAME(\"BRowFetch\",11)","v":true},null,null,null,null,{"$f":"  ACTIVATE(S0con)","v":true},null,null,null,null,{"$f":"  SET.NAME(\"Nuse\",0)","v":true},null,null,null,null,null,null,{"$f":"    FORMULA(Xtmp,INDIRECT(\"'\"&S0rp1&\"'!\"&Arow&NRepRow&Acol&ColOutFst+3,FALSE))","v":true},null,{"$f":"  ALERT(\"Error: There must be at least a few data at at least one locus make this plot.\"&Acar&Acar&\"Try again when you have more data.\",2)","v":true},{"$f":"SET.NAME(\"Atmp1\",IF(ISBLANK(INDIRECT(\"'\"&S0fg1&\"'!\"&Arow&8&Acol&ColFigPar+2,FALSE)),NA(),DEREF(INDIRECT(\"'\"&S0fg1&\"'!\"&Arow&8&Acol&ColFigPar+2,FALSE))))","v":true},null,null,null,null,null,null,null,{"$f":"SET.NAME(\"Xwth\",DEREF(INDIRECT(\"'\"&S0fg4&\"'!\"&Arow&4&Acol&ColFigPar+1,FALSE)))","v":true},null,null,null,null,{"$f":"SET.NAME(\"Pcover\",IF(ISBLANK(INDIRECT(\"'\"&S0fg5&\"'!\"&Arow&8&Acol&ColFigPar+1,FALSE)),NA(),DEREF(INDIRECT(\"'\"&S0fg5&\"'!\"&Arow&8&Acol&ColFigPar+1,FALSE))))","v":true},{"$f":"END.IF()","v":true},null,null,null,null,{"$f":"HALT()","v":false},null,null,null,null,null,null,{"$f":"    SET.NAME(\"Atmp\",Atmp&INDIRECT(\"'\"&S0dif&\"'!\"&Arow&Irow&Acol&44,FALSE))","v":true},null,null,null,{"$f":"  FORMAT.MOVE(2,0,Arow&Itmp+18&Acol&5)","v":true},null,{"$f":"FORMULA(\"AlngDat\",INDIRECT(\"'\"&S0mac&\"'!\"&Arow&17&Acol&2,FALSE))","v":true}]
[{"$f":"SET.NAME(\"BRowLoad\",51)","v":true},null,null,"! Get the Fetch-type",null,{"$f":"  FORMULA(\"Identify stutter peaks using...\",INDIRECT(\"'\"&S0con&\"'!\"&Arow&RowTyp&Acol&ColPar,FALSE))","v":true},null,{"$f":"NEXT()","v":true},null,null,{"$f":"  FOR(\"Ishts\",1,Nshts,1)","v":true},null,null,null,null,null,null,{"$f":"    SET.NAME(\"Xmed\",MEDIAN(INDIRECT(\"'\"&S0dat&\"'!\"&Arow&3&Acol&Icol+7&Asep&Arow&2+Ncnt&Acol&Icol+7,FALSE)))","v":true},"! Copy this locus",{"$f":"  ACTIVATE(S0con)","v":true},{"$f":"IF(ISERROR(1/Atmp1),SET.NAME(\"Atmp1\",0))","v":true},null,null,"! Get the data limits",null,"! Get the data limits",null,null,{"$f":"IF(ISERROR(1/Xwth))","v":true},null,{"$f":"SET.NAME(\"Xthr\",NORMINV(Pthsh/100,Xmed,Xdsp))","v":true},null,"SFQ_FigRobinUpdate",{"$f":"IF(ISERROR(1/Pcover),SET.NAME(\"Pcover\",0))","v":false},null,null,null,null,null,null,null,null,null,null,null,null,{"$f":"    FORMULA(Atmp,INDIRECT(\"'\"&S0dif&\"'!\"&Arow&Irow&Acol&49,FALSE))","v":true},null,null,null,{"$f":"NEXT()","v":true},null,{"$f":"FORMULA(\"AlngTim\",INDIRECT(\"'\"&S0mac&\"'!\"&Arow&18&Acol&2,FALSE))","v":true}]
[null,null,null,{"$f":"SET.NAME(\"Atmp\",UserFetchType)","v":true},null,{"$f":"  dld_selectrange(RowTyp,ColPar,RowTyp,ColPar+1)","v":0},null,null,null,null,null,null,null,null,null,null,null,{"$f":"    FORMULA(Xmed,INDIRECT(\"'\"&S0rp1&\"'!\"&Arow&NRepRow&Acol&ColOutFst+6,FALSE))","v":true},{"$f":"      DLD_ClearCols(240,247)","v":0},{"$f":"  DLD_GoToCell(\"A1\",\"B21\")","v":0},{"$f":"IF(OR(Atmp1<50,Atmp1>100))","v":true},null,null,{"$f":"SET.NAME(\"Xmin\",MAX(0,INT(MIN(INDIRECT(\"'\"&S0fg2&\"'!\"&Arow&RowFigLocB+1&Acol&ColFigPar+2&Asep&Arow&RowFigLocB+50&Acol&ColFigPar+2,FALSE)))-0.999))","v":true},null,{"$f":"SET.NAME(\"Xmin\",MAX(0,INT(MIN(INDIRECT(\"'\"&S0fg3&\"'!\"&Arow&RowFigLocB+1&Acol&ColFigPar+2&Asep&Arow&RowFigLocB+50&Acol&ColFigPar+2,FALSE)))-0.999))","v":true},null,null,{"$f":"  SET.NAME(\"Xwth\",1)","v":true},null,{"$f":"FORMULA(Xthr,INDIRECT(\"'\"&S0fg4&\"'!\"&Arow&RowFigLocA+5&Acol&ColIn-26,FALSE))","v":true},null,"! Update the plot",{"$f":"IF(OR(Pcover<50,Pcover>100),SET.NAME(\"Pcover\",95))","v":false},"! Calculate",null,null,null,null,null,null,null,null,null,null,null,{"$f":"  NEXT()","v":true},null,null,null,{"$f":"DLD_GoToCell(\"A1\",\"A1\")","v":0},null,{"$f":"FORMULA(\"AlngDatTim\",INDIRECT(\"'\"&S0mac&\"'!\"&Arow&19&Acol&2,FALSE))","v":true}]
["! Delete any connections",null,null,{"$f":"SET.NAME(\"UserFetchType\",IF(ISBLANK(INDIRECT(\"'\"&S0con&\"'!\"&Arow&RowTyp+1&Acol&ColPar+1,FALSE)),1/0,DEREF(INDIRECT(\"'\"&S0con&\"'!\"&Arow&RowTyp+1&Acol&ColPar+1,FALSE))))","v":true},null,{"$f":"  ALIGNMENT(7,FALSE,3,FALSE)","v":true},null,"! Close the input file",null,null,"! Accept loci that haven't been turned off by user",null,null,null,null,null,null,{"$f":"    IF(Ncnt>1.5)","v":true},{"$f":"      COPY(INDIRECT(\"'\"&S0dat&\"'!\"&Acol&Jcol&Asep&Acol&Jcol+7,FALSE),INDIRECT(\"'\"&S0rp2&\"'!\"&Arow&1&Acol&240,FALSE))","v":true},{"$f":"  ECHO(FALSE)","v":true},{"$f":"  FORMULA(\"Use default\",INDIRECT(\"'\"&S0fg1&\"'!\"&Arow&8&Acol&ColFigPar+2,FALSE))","v":true},null,null,{"$f":"SET.NAME(\"Xmax\",INT(MAX(INDIRECT(\"'\"&S0fg2&\"'!\"&Arow&RowFigLocB+1&Acol&ColFigPar+3&Asep&Arow&RowFigLocB+50&Acol&ColFigPar+3,FALSE)))+0.999)","v":true},null,{"$f":"SET.NAME(\"Xmax\",INT(MAX(INDIRECT(\"'\"&S0fg3&\"'!\"&Arow&RowFigLocB+1&Acol&ColFigPar+3&Asep&Arow&RowFigLocB+50&Acol&ColFigPar+3,FALSE)))+0.999)","v":true},null,null,{"$f":"  FORMULA(Xwth,INDIRECT(\"'\"&S0fg4&\"'!\"&Arow&4&Acol&ColFigPar+1,FALSE))","v":true},null,{"$f":"SET.NAME(\"Yval\",NORMDIST(Xthr,Xmed,Xdsp,FALSE)*Xstp/Ynrm)","v":true},null,{"$f":"ECHO(FALSE)","v":true},{"$f":"FORMULA(Pcover,INDIRECT(\"'\"&S0fg5&\"'!\"&Arow&8&Acol&ColFigPar+1,FALSE))","v":true},{"$f":"CALCULATE.DOCUMENT()","v":true},null,null,null,null,null,null,null,null,null,null,null,{"$f":"  SET.NAME(\"Nrow2\",COUNTA(INDIRECT(\"'\"&S0dif&\"'!\"&Acol&51,FALSE)))","v":true},null,null,null,null,null,{"$f":"FORMULA(\"Acol\",INDIRECT(\"'\"&S0mac&\"'!\"&Arow&20&Acol&2,FALSE))","v":true}]
[{"$f":"dld_deleteconnections(WrkBk0)","v":0},null,null,{"$f":"IF(ISERROR(1/UserFetchType),SET.NAME(\"UserFetchType\",1))","v":true},null,{"$f":"  FONT.PROPERTIES(,,,,,,,,TRUE)","v":true},null,{"$f":"WORKBOOK.ACTIVATE(WrkBk1)","v":true},null,null,{"$f":"    SET.NAME(\"Isok\",DEREF(INDIRECT(\"'\"&S0con&\"'!\"&Arow&RowDir+Ishts&Acol&ColLoc+3,FALSE)))","v":true},null,null,null,null,null,null,{"$f":"      SET.NAME(\"Xtmp\",STDEV(INDIRECT(\"'\"&S0dat&\"'!\"&Arow&3&Acol&Icol+7&Asep&Arow&2+Ncnt&Acol&Icol+7,FALSE)))","v":true},{"$f":"      CANCEL.COPY(FALSE)","v":true},{"$f":"  RETURN()","v":true},{"$f":"ELSE()","v":true},null,null,{"$f":"SET.NAME(\"Ymin\",MAX(0,INT(MIN(INDIRECT(\"'\"&S0fg2&\"'!\"&Arow&RowFigLocB+1&Acol&ColFigPar+4&Asep&Arow&RowFigLocB+50&Acol&ColFigPar+4,FALSE)))-0.999))","v":true},null,{"$f":"SET.NAME(\"Ymin\",MAX(0,INT(MIN(INDIRECT(\"'\"&S0fg3&\"'!\"&Arow&RowFigLocB+1&Acol&ColFigPar+4&Asep&Arow&RowFigLocB+50&Acol&ColFigPar+4,FALSE)))-0.999))","v":true},null,null,{"$f":"END.IF()","v":true},null,{"$f":"FORMULA(Xthr,INDIRECT(\"'\"&S0fg4&\"'!\"&Arow&5&Acol&ColOu+5,FALSE))","v":true},null,{"$f":"DLD_MsgBar(TEXT(NOW(),AlngDatTim)&\" \"&AG$93&\" Started\")","v":0},null,null,null,null,null,null,null,null,null,null,null,null,null,{"$f":"  FOR(\"Irow\",3,Nrow2,1)","v":true},null,null,null,"! Standardize the Report sheets",null,{"$f":"FORMULA(\"Adcp\",INDIRECT(\"'\"&S0mac&\"'!\"&Arow&21&Acol&2,FALSE))","v":true}]
[null,null,null,{"$f":"FORMULA(UserFetchType,INDIRECT(\"'\"&S0con&\"'!\"&Arow&RowTyp+1&Acol&ColPar+1,FALSE))","v":true},null,{"$f":"  FORMULA(\"Peaks:\",INDIRECT(\"'\"&S0con&\"'!\"&Arow&RowTyp+1&Acol&ColPar,FALSE))","v":true},null,{"$f":"CLOSE(TRUE)","v":true},null,null,{"$f":"    IF(IsOk=\"Insufficient Data\")","v":true},null,null,null,null,null,null,{"$f":"      FORMULA(Xtmp,INDIRECT(\"'\"&S0rp1&\"'!\"&Arow&NRepRow&Acol&ColOutFst+4,FALSE))","v":true},null,{"$f":"END.IF()","v":false},{"$f":"  SET.NAME(\"PCover\",Atmp1)","v":true},null,null,{"$f":"SET.NAME(\"Ymax\",INT(MAX(INDIRECT(\"'\"&S0fg2&\"'!\"&Arow&RowFigLocB+1&Acol&ColFigPar+5&Asep&Arow&RowFigLocB+50&Acol&ColFigPar+5,FALSE)))+0.999)","v":true},null,{"$f":"SET.NAME(\"Ymax\",INT(MAX(INDIRECT(\"'\"&S0fg3&\"'!\"&Arow&RowFigLocB+1&Acol&ColFigPar+5&Asep&Arow&RowFigLocB+50&Acol&ColFigPar+5,FALSE)))+0.999)","v":true},null,null,{"$f":"SET.NAME(\"Xmin\",MAX(0,INT(Xmin-Xwth-0.999)))","v":true},null,{"$f":"FORMULA(0,INDIRECT(\"'\"&S0fg4&\"'!\"&Arow&5&Acol&ColOu+6,FALSE))","v":true},null,null,{"$f":"SET.NAME(\"Atmp1\",IF(ISBLANK(INDIRECT(\"'\"&S0fg5&\"'!\"&Arow&8&Acol&ColFigPar+2,FALSE)),NA(),DEREF(INDIRECT(\"'\"&S0fg5&\"'!\"&Arow&8&Acol&ColFigPar+2,FALSE))))","v":true},{"$f":"DLD_MsgBar(TEXT(NOW(),AlngDatTim)&\" \"&AI$1&\" > Finished!\")","v":0},null,null,null,null,null,null,null,null,null,null,null,{"$f":"    SET.NAME(\"Atmp\",DEREF(INDIRECT(\"'\"&S0dif&\"'!\"&Arow&Irow&Acol&51,FALSE)))","v":true},null,null,null,{"$f":"FOR(\"Itmp\",1,NumRep,1)","v":true},null,{"$f":"FORMULA(\"Agnl\",INDIRECT(\"'\"&S0mac&\"'!\"&Arow&22&Acol&2,FALSE))","v":true}]
["! Get any stored parameters",null,null,{"$f":"IF(NOT(Atmp=UserFetchType),SET.NAME(\"IsOK\",IsOk+1))","v":false},null,{"$f":"  FORMULA(\"Called Alleles:\",INDIRECT(\"'\"&S0con&\"'!\"&Arow&RowTyp+2&Acol&ColPar,FALSE))","v":true},null,null,null,null,{"$f":"      SET.NAME(\"Isok\",\"Ok\")","v":true},null,null,null,null,null,null,{"$f":"      SET.NAME(\"Xtmp\",DLD_madE(INDIRECT(\"'\"&S0dat&\"'!\"&Arow&3&Acol&Icol+7&Asep&Arow&2+Ncnt&Acol&Icol+7,FALSE)))","v":true},"! Sort the ratios by allele",null,{"$f":"  FORMULA(Pcover,INDIRECT(\"'\"&S0fg1&\"'!\"&Arow&8&Acol&ColFigPar+2,FALSE))","v":false},null,null,{"$f":"FORMULA(Xmin,INDIRECT(\"'\"&S0fg2&\"'!\"&Arow&2&Acol&ColFigPar+1,FALSE))","v":true},null,{"$f":"FORMULA(Xmin,INDIRECT(\"'\"&S0fg3&\"'!\"&Arow&2&Acol&ColFigPar+1,FALSE))","v":true},null,null,{"$f":"SET.NAME(\"Xmax\",INT(Xmax+Xwth+1.999))","v":true},null,{"$f":"FORMULA(Xthr,INDIRECT(\"'\"&S0fg4&\"'!\"&Arow&6&Acol&ColOu+5,FALSE))","v":true},null,{"$f":"ACTIVATE(S0fg5)","v":true},{"$f":"IF(ISERROR(1/Atmp1),SET.NAME(\"Atmp1\",0))","v":true},{"$f":"RETURN()","v":true},null,null,null,null,null,null,null,null,null,null,null,{"$f":"    SET.NAME(\"Atmp\",Atmp&INDIRECT(\"'\"&S0dif&\"'!\"&Arow&Irow&Acol&54,FALSE))","v":true},null,null,null,{"$f":"  SET.NAME(\"S0tmp\",EVALUATE(\"S0rp\"&Itmp))","v":true},null,{"$f":"FORMULA(\"Alsp\",INDIRECT(\"'\"&S0mac&\"'!\"&Arow&23&Acol&2,FALSE))","v":true}]
[{"$f":"RUN(SFQ_GetParameters,FALSE)","v":{"$error":"#N/A"}},null,null,null,null,{"$f":"  FORMULA(\"Stored profiles:\",INDIRECT(\"'\"&S0con&\"'!\"&Arow&RowTyp+3&Acol&ColPar,FALSE))","v":true},null,"! Structure ok?",null,null,{"$f":"      FORMULA(IsOk,INDIRECT(\"'\"&S0con&\"'!\"&Arow&RowDir+Ishts&Acol&ColLoc+3,FALSE))","v":true},null,null,null,null,null,null,{"$f":"      FORMULA(Xtmp,INDIRECT(\"'\"&S0rp1&\"'!\"&Arow&NRepRow&Acol&ColOutFst+7,FALSE))","v":true},{"$f":"      ACTIVATE(S0rp2)","v":true},"! Sort Data by ratio",{"$f":"END.IF()","v":true},null,null,{"$f":"FORMULA(Xmax,INDIRECT(\"'\"&S0fg2&\"'!\"&Arow&3&Acol&ColFigPar+1,FALSE))","v":true},null,{"$f":"FORMULA(Xmax,INDIRECT(\"'\"&S0fg3&\"'!\"&Arow&3&Acol&ColFigPar+1,FALSE))","v":true},null,null,{"$f":"FORMULA(Xmin,INDIRECT(\"'\"&S0fg4&\"'!\"&Arow&2&Acol&ColFigPar+1,FALSE))","v":true},null,{"$f":"FORMULA(Yval,INDIRECT(\"'\"&S0fg4&\"'!\"&Arow&6&Acol&ColOu+6,FALSE))","v":true},null,{"$f":"DLD_GoToCell(\"A1\",\"A1\")","v":0},{"$f":"IF(OR(Atmp1<50,Atmp1>100))","v":true},null,null,null,null,null,null,null,null,null,null,null,null,{"$f":"    FORMULA(Atmp,INDIRECT(\"'\"&S0dif&\"'!\"&Arow&Irow&Acol&59,FALSE))","v":true},null,null,null,{"$f":"  ACTIVATE(S0tmp)","v":true},null,{"$f":"FORMULA(\"Arow\",INDIRECT(\"'\"&S0mac&\"'!\"&Arow&24&Acol&2,FALSE))","v":true}]
[null,null,null,"! If profiles, check that they are loaded",null,{"$f":"  FORMULA(UserFetchType,INDIRECT(\"'\"&S0con&\"'!\"&Arow&RowTyp+1&Acol&ColPar+1,FALSE))","v":true},null,{"$f":"IF(Nloc<0.5)","v":true},null,null,{"$f":"    END.IF()","v":true},null,null,null,null,null,null,{"$f":"      SET.NAME(\"Xtmp\",MIN(INDIRECT(\"'\"&S0dat&\"'!\"&Arow&3&Acol&Icol+7&Asep&Arow&2+Ncnt&Acol&Icol+7,FALSE)))","v":true},{"$f":"      SET.NAME(\"Nrat\",COUNTA(INDIRECT(\"'\"&S0rp2&\"'!\"&Acol&240,FALSE)))","v":true},{"$f":"ACTIVATE(S0fg1)","v":true},null,null,null,{"$f":"FORMULA(Ymin,INDIRECT(\"'\"&S0fg2&\"'!\"&Arow&4&Acol&ColFigPar+1,FALSE))","v":true},null,{"$f":"FORMULA(Ymin,INDIRECT(\"'\"&S0fg3&\"'!\"&Arow&4&Acol&ColFigPar+1,FALSE))","v":true},null,null,{"$f":"FORMULA(Xmax,INDIRECT(\"'\"&S0fg4&\"'!\"&Arow&3&Acol&ColFigPar+1,FALSE))","v":true},null,null,null,null,{"$f":"  FORMULA(\"Use default\",INDIRECT(\"'\"&S0fg5&\"'!\"&Arow&8&Acol&ColFigPar+2,FALSE))","v":true},null,null,null,null,null,null,null,null,null,null,null,null,{"$f":"NEXT()","v":true},null,null,null,{"$f":"  dld_selectrange(3,1,3,1)","v":0},null,{"$f":"FORMULA(\"NumNew\",INDIRECT(\"'\"&S0mac&\"'!\"&Arow&25&Acol&2,FALSE))","v":true}]
["! Set view",null,null,{"$f":"SET.NAME(\"Atmp\",DEREF(INDIRECT(\"'\"&S0con&\"'!\"&Arow&BRowLoad&Acol&ColPar+1,FALSE)))","v":true},null,{"$f":"  dld_selectrange(RowTyp+1,ColPar+1,RowTyp+3,ColPar+1)","v":0},null,{"$f":"  DLD_MsgBar(TEXT(NOW(),AlngDatTim)&Msub0&H$10&\" > Workbook (\"&WrkBk1&\") has no useable data.\")","v":0},null,null,{"$f":"    IF(IsOk=\"Ok\")","v":true},null,null,null,null,null,null,{"$f":"      FORMULA(Xtmp,INDIRECT(\"'\"&S0rp1&\"'!\"&Arow&NRepRow&Acol&ColOutFst+9,FALSE))","v":true},{"$f":"      dld_selectrange(3,240,Nrat,247)","v":0},{"$f":"dld_selectrange(1,ColFigDat+9,-1,ColFigDat+17)","v":0},{"$f":"DLD_MsgBar(TEXT(NOW(),AlngDatTim)&Msub0&U$1&\" > Finished!\")","v":0},null,null,{"$f":"FORMULA(Ymax,INDIRECT(\"'\"&S0fg2&\"'!\"&Arow&5&Acol&ColFigPar+1,FALSE))","v":true},null,{"$f":"FORMULA(Ymax,INDIRECT(\"'\"&S0fg3&\"'!\"&Arow&5&Acol&ColFigPar+1,FALSE))","v":true},null,null,{"$f":"FORMULA(1,INDIRECT(\"'\"&S0fg4&\"'!\"&Arow&4&Acol&ColFigPar+1,FALSE))","v":true},null,{"$f":"RETURN()","v":true},null,"! Get the parameters",{"$f":"ELSE()","v":true},null,null,null,null,null,null,null,null,null,null,null,null,null,null,null,null,{"$f":"  FORMULA(\"****************\")","v":true},null,{"$f":"FORMULA(AlngDat,INDIRECT(\"'\"&S0mac&\"'!\"&Arow&17&Acol&3,FALSE))","v":true}]
[{"$f":"SFQ_ConRestore(A0con,ColPar,\"A1\")","v":0},null,null,{"$f":"IF(AND(UserFetchType=3,NOT(Atmp=\"Loaded\")))","v":true},null,{"$f":"  FONT.PROPERTIES(,,,,,,,,,2)","v":true},null,{"$f":"  ACTIVATE(S0con)","v":true},null,null,{"$f":"      SET.NAME(\"Jshts\",Jshts+1)","v":true},null,null,null,null,null,null,{"$f":"      SET.NAME(\"Xtmp\",PERCENTILE(INDIRECT(\"'\"&S0dat&\"'!\"&Arow&3&Acol&Icol+7&Asep&Arow&2+Ncnt&Acol&Icol+7,FALSE),0.01))","v":true},{"$f":"      SORT(1,INDIRECT(\"'\"&S0rp2&\"'!\"&Arow&3&Acol&242,FALSE),1,INDIRECT(\"'\"&S0rp2&\"'!\"&Arow&3&Acol&247,FALSE),1,,,2)","v":true},{"$f":"SORT(1,INDIRECT(\"'\"&S0fg1&\"'!\"&Arow&2&Acol&ColFigDat+9,FALSE),1,INDIRECT(\"'\"&S0fg1&\"'!\"&Arow&2&Acol&ColFigDat+17,FALSE),2,,,1)","v":true},{"$f":"RETURN()","v":true},null,null,{"$f":"GOTO(X$113)","v":true},null,{"$f":"GOTO(Z$113)","v":true},null,null,{"$f":"FORMULA(95,INDIRECT(\"'\"&S0fg4&\"'!\"&Arow&6&Acol&ColFigPar+1,FALSE))","v":true},null,null,null,{"$f":"RUN(SFQ_FigRobinParameters,FALSE)","v":{"$error":"#N/A"}},{"$f":"  SET.NAME(\"PCover\",Atmp1)","v":true},null,null,null,null,null,null,null,null,null,null,null,null,"!  Look for 1 not in 2",null,null,null,{"$f":"  FONT.PROPERTIES(\"Arial\",\"Regular\",10,,,,,,,2)","v":true},null,{"$f":"FORMULA(AlngTim,INDIRECT(\"'\"&S0mac&\"'!\"&Arow&18&Acol&3,FALSE))","v":true}]
[{"$f":"RETURN()","v":true},null,null,{"$f":"  SET.NAME(\"UserFetchType\",1)","v":true},null,null,null,{"$f":"  ECHO(TRUE)","v":true},null,null,{"$f":"      SET.NAME(\"Jcol\",1+(Jshts-1)*NDrep)","v":true},null,null,null,null,null,null,{"$f":"      FORMULA(Xtmp,INDIRECT(\"'\"&S0rp1&\"'!\"&Arow&NRepRow&Acol&ColOutFst+10,FALSE))","v":true},null,null,null,null,null,null,null,null,null,null,{"$f":"FORMULA(\"None\",INDIRECT(\"'\"&S0fg4&\"'!\"&Arow&8&Acol&ColFigPar+1,FALSE))","v":true},null,null,null,null,{"$f":"  FORMULA(Pcover,INDIRECT(\"'\"&S0fg5&\"'!\"&Arow&8&Acol&ColFigPar+2,FALSE))","v":false},null,null,null,null,null,null,null,null,null,null,null,null,{"$f":"  FOR(\"Irow\",3,Nrow1,1)","v":true},null,null,null,{"$f":"  DLD_SetColWidth(1,3,TRUE)","v":0},null,{"$f":"FORMULA(AlngDatTim,INDIRECT(\"'\"&S0mac&\"'!\"&Arow&19&Acol&3,FALSE))","v":true}]
[null,null,null,{"$f":"  FORMULA(UserFetchType,INDIRECT(\"'\"&S0con&\"'!\"&Arow&RowTyp+1&Acol&ColPar+1,FALSE))","v":true},null,"! Loci",null,{"$f":"  ALERT(\"Error: Workbook (\"&WrkBk1&\") has no worksheets having the required structure...\"&Acar&\"One sheet per locus, each sheet containing Heights, Sizes, and Alleles.\",2)","v":true},null,null,{"$f":"      SET.NAME(\"Aloc\",DEREF(INDIRECT(\"'\"&S0con&\"'!\"&Arow&RowDir+Ishts&Acol&ColLoc+1,FALSE)))","v":true},null,null,null,null,null,null,{"$f":"      SET.NAME(\"Xtmp\",PERCENTILE(INDIRECT(\"'\"&S0dat&\"'!\"&Arow&3&Acol&Icol+7&Asep&Arow&2+Ncnt&Acol&Icol+7,FALSE),0.025))","v":true},"! Find and summarize the unique alleles","! Sort Summary by ratio",null,null,null,"SFQ_FigBPUpdate",null,"SFQ_FigAlleleUpdate",null,null,{"$f":"GOTO(AC$115)","v":true},null,null,null,"! Get the data for this loci",{"$f":"END.IF()","v":true},null,null,null,null,null,null,null,null,null,null,null,null,{"$f":"    SET.NAME(\"Atmp\",DEREF(INDIRECT(\"'\"&S0dif&\"'!\"&Arow&Irow&Acol&49,FALSE)))","v":true},null,null,null,null,null,{"$f":"FORMULA(Acol,INDIRECT(\"'\"&S0mac&\"'!\"&Arow&20&Acol&3,FALSE))","v":true}]
["Utility_StartUp",null,null,{"$f":"  DLD_MsgBar(TEXT(NOW(),AlngDatTim)&Msub0&D$1&\" > Please Load a MasterFile.\")","v":0},null,{"$f":"  FORMULA(\"Sheet\",INDIRECT(\"'\"&S0con&\"'!\"&Arow&RowDir&Acol&ColLoc,FALSE))","v":true},null,{"$f":"  HALT()","v":true},null,null,{"$f":"      SET.NAME(\"Atmp\",DEREF(INDIRECT(\"'\"&S0con&\"'!\"&Arow&RowDir+Ishts&Acol&ColLoc,FALSE)))","v":true},null,null,null,null,null,null,{"$f":"      FORMULA(Xtmp,INDIRECT(\"'\"&S0rp1&\"'!\"&Arow&NRepRow&Acol&ColOutFst+11,FALSE))","v":true},{"$f":"      SET.NAME(\"Nall\",0)","v":true},{"$f":"ACTIVATE(S0fg1)","v":true},null,null,null,"! Update the axes",null,"! Update the axes",null,null,null,null,null,null,{"$f":"DLD_ClearRange(2,ColFigDat,0,0)","v":0},null,null,null,null,null,null,null,null,null,null,null,null,null,{"$f":"    SET.NAME(\"Itmp\",MATCH(Atmp,INDIRECT(\"'\"&S0dif&\"'!\"&Acol&59,FALSE),0))","v":true},null,null,null,{"$f":"  ALIGNMENT(4,,,,,,,0)","v":true},null,{"$f":"FORMULA(Adcp,INDIRECT(\"'\"&S0mac&\"'!\"&Arow&21&Acol&3,FALSE))","v":true}]
["! Set all the constants",null,null,{"$f":"  DLD_GoToCell(\"A1\",\"B\"&BRowLoad)","v":0},null,{"$f":"  FORMULA(\"Locus\",INDIRECT(\"'\"&S0con&\"'!\"&Arow&RowDir&Acol&ColLoc+1,FALSE))","v":true},null,{"$f":"END.IF()","v":false},null,null,{"$f":"      SET.NAME(\"S1tmp\",\"[\"&WrkBk1&\"]\"&Atmp)","v":true},null,null,null,null,null,null,{"$f":"      SET.NAME(\"Xtmp\",PERCENTILE(INDIRECT(\"'\"&S0dat&\"'!\"&Arow&3&Acol&Icol+7&Asep&Arow&2+Ncnt&Acol&Icol+7,FALSE),0.05))","v":true},{"$f":"      FOR(\"Irow\",3,Nrat,1)","v":true},{"$f":"dld_selectrange(RowFigLocB+1,ColFigPar,0,ColFigPar+5)","v":0},null,null,null,{"$f":"DLD_MsgBar(TEXT(NOW(),AlngDatTim)&Msub0&X104)","v":0},null,{"$f":"DLD_MsgBar(TEXT(NOW(),AlngDatTim)&Msub0&Z104)","v":0},null,null,"SFQ_FigDensityUpdate",null,null,null,{"$f":"SET.NAME(\"Jcol\",MATCH(Aloc,INDIRECT(\"'\"&S0dat&\"'!\"&Arow&1,FALSE),0))","v":true},{"$f":"DLD_MsgBar(TEXT(NOW(),AlngDatTim)&Msub0&AH$1&\" > Finished!\")","v":0},null,null,null,null,null,null,null,null,null,null,null,null,{"$f":"    IF(ISERROR(Itmp))","v":true},null,null,null,{"$f":"  dld_selectrange(1,1,2,1)","v":0},null,{"$f":"FORMULA(Agnl,INDIRECT(\"'\"&S0mac&\"'!\"&Arow&22&Acol&3,FALSE))","v":true}]
[{"$f":"ECHO(FALSE)","v":true},null,null,{"$f":"  ALERT(\"Error: You must must first load a MasterList before you can define by 'stored profiles'.\",2)","v":true},null,{"$f":"  FORMULA(\"'bp\",INDIRECT(\"'\"&S0con&\"'!\"&Arow&RowDir&Acol&ColLoc+2,FALSE))","v":true},null,null,null,null,{"$f":"      DLD_MsgBar(TEXT(NOW(),AlngDatTim)&Msub0&K$10&\" > Fetching locus: \"&Aloc)","v":0},null,null,null,null,null,null,{"$f":"      FORMULA(Xtmp,INDIRECT(\"'\"&S0rp1&\"'!\"&Arow&NRepRow&Acol&ColOutFst+12,FALSE))","v":true},{"$f":"        SET.NAME(\"Aall\",DEREF(INDIRECT(\"'\"&S0rp2&\"'!\"&Arow&Irow&Acol&242,FALSE)))","v":true},{"$f":"SORT(1,INDIRECT(\"'\"&S0fg1&\"'!\"&Arow&RowFigLocB+1&Acol&ColFigPar+5,FALSE),2,INDIRECT(\"'\"&S0fg1&\"'!\"&Arow&RowFigLocB+1&Acol&ColFigPar,FALSE),2,,,2)","v":true},null,null,null,{"$f":"ECHO(FALSE)","v":true},null,{"$f":"ECHO(FALSE)","v":true},null,null,"! Update",null,null,null,{"$f":"SET.NAME(\"Ntmp\",COUNTA(INDIRECT(\"'\"&S0dat&\"'!\"&Acol&Jcol,FALSE)))","v":true},{"$f":"RETURN()","v":true},null,null,null,null,null,null,null,null,null,null,null,null,{"$f":"      SET.NAME(\"Idif12\",Idif12+1)","v":true},null,null,null,{"$f":"  ALIGNMENT(7,,,,,,,1)","v":true},null,{"$f":"FORMULA(Alsp,INDIRECT(\"'\"&S0mac&\"'!\"&Arow&23&Acol&3,FALSE))","v":true}]
[null,null,null,{"$f":"  ECHO(TRUE)","v":true},null,{"$f":"  FORMULA(\"Status\",INDIRECT(\"'\"&S0con&\"'!\"&Arow&RowDir&Acol&ColLoc+3,FALSE))","v":true},null,"! Set status",null,null,null,null,null,null,null,null,null,{"$f":"      SET.NAME(\"Xtmp\",PERCENTILE(INDIRECT(\"'\"&S0dat&\"'!\"&Arow&3&Acol&Icol+7&Asep&Arow&2+Ncnt&Acol&Icol+7,FALSE),0.1))","v":true},{"$f":"        SET.NAME(\"Jrow\",MATCH(Aall,INDIRECT(\"'\"&S0rp2&\"'!\"&Acol&242,FALSE),1))","v":true},{"$f":"SET.NAME(\"Aloc\",DEREF(INDIRECT(\"'\"&S0fg1&\"'!\"&Arow&RowFigLocB+1&Acol&ColFigPar,FALSE)))","v":true},null,null,null,{"$f":"ACTIVATE(S0fg2)","v":true},null,{"$f":"ACTIVATE(S0fg3)","v":true},null,null,{"$f":"DLD_MsgBar(TEXT(NOW(),AlngDatTim)&Msub0&AC106)","v":0},null,null,null,{"$f":"COPY(INDIRECT(\"'\"&S0dat&\"'!\"&Arow&2&Acol&Jcol+2&Asep&Arow&Ntmp+1&Acol&Jcol+2,FALSE),INDIRECT(\"'\"&S0fg5&\"'!\"&Arow&1&Acol&ColFigDat+6,FALSE))","v":true},null,null,null,null,null,null,null,null,null,null,null,null,null,{"$f":"      FORMULA(Aloc,INDIRECT(\"'\"&S0dif&\"'!\"&Arow&Idif12&Acol&3,FALSE))","v":true},null,null,null,{"$f":"  SELECT(\"Button 1\")","v":true},null,{"$f":"FORMULA(Arow,INDIRECT(\"'\"&S0mac&\"'!\"&Arow&24&Acol&3,FALSE))","v":true}]
["! Check that the language dependencies are set",null,null,{"$f":"  HALT()","v":true},null,{"$f":"  FORMULA(\"RowFst\",INDIRECT(\"'\"&S0con&\"'!\"&Arow&RowDir&Acol&ColLoc+4,FALSE))","v":true},null,{"$f":"FORMULA(\"Located\",INDIRECT(\"'\"&S0con&\"'!\"&Arow&RowDst&Acol&ColPar+1,FALSE))","v":true},null,null,"! Copy the sheet",null,null,null,null,null,null,{"$f":"      FORMULA(Xtmp,INDIRECT(\"'\"&S0rp1&\"'!\"&Arow&NRepRow&Acol&ColOutFst+13,FALSE))","v":true},{"$f":"        SET.NAME(\"Ncnt\",COUNT(INDIRECT(\"'\"&S0rp2&\"'!\"&Arow&Irow&Acol&247&Asep&Arow&Jrow&Acol&247,FALSE)))","v":true},{"$f":"FORMULA(Aloc,INDIRECT(\"'\"&S0fg1&\"'!\"&Arow&10&Acol&ColFigPar+2,FALSE))","v":true},null,null,null,{"$f":"SET.NAME(\"S0from\",GET.DOCUMENT(76))","v":true},null,{"$f":"SET.NAME(\"S0from\",GET.DOCUMENT(76))","v":true},null,null,{"$f":"SET.NAME(\"S0from\",GET.DOCUMENT(76))","v":true},null,null,null,{"$f":"CANCEL.COPY(FALSE)","v":true},null,null,null,null,null,null,null,null,null,null,null,null,null,{"$f":"      COPY(INDIRECT(\"'\"&S0dif&\"'!\"&Arow&Irow&Acol&41&Asep&Arow&Irow&Acol&48,FALSE),INDIRECT(\"'\"&S0dif&\"'!\"&Arow&Idif12&Acol&4,FALSE))","v":true},null,null,null,{"$f":"  FORMAT.SIZE(69,24)","v":true},null,{"$f":"FORMULA(NumNew,INDIRECT(\"'\"&S0mac&\"'!\"&Arow&25&Acol&3,FALSE))","v":true}]
[{"$f":"SET.NAME(\"NumNew\",0)","v":true},null,null,{"$f":"END.IF()","v":false},null,{"$f":"  FORMULA(\"RowLst\",INDIRECT(\"'\"&S0con&\"'!\"&Arow&RowDir&Acol&ColLoc+5,FALSE))","v":true},null,null,null,null,{"$f":"      SFQ_Fetch_Copy(S1tmp,S0wrk)","v":0},null,null,null,null,null,null,{"$f":"      SET.NAME(\"Xtmp\",PERCENTILE(INDIRECT(\"'\"&S0dat&\"'!\"&Arow&3&Acol&Icol+7&Asep&Arow&2+Ncnt&Acol&Icol+7,FALSE),0.25))","v":true},null,null,null,null,null,{"$f":"DLD_GoToCell(\"A1\",\"A1\")","v":0},null,{"$f":"DLD_GoToCell(\"A1\",\"A1\")","v":0},null,null,{"$f":"ACTIVATE(S0fg4)","v":true},null,null,null,{"$f":"COPY(INDIRECT(\"'\"&S0dat&\"'!\"&Arow&2&Acol&Jcol+4&Asep&Arow&Ntmp+1&Acol&Jcol+4,FALSE),INDIRECT(\"'\"&S0fg5&\"'!\"&Arow&1&Acol&ColFigDat+7,FALSE))","v":true},null,null,null,null,null,null,null,null,null,null,null,null,null,{"$f":"      CANCEL.COPY(FALSE)","v":false},null,null,null,{"$f":"  FORMAT.MOVE(2,2,Arow&1&Acol&1)","v":true}]
[{"$f":"RUN(Utility_DateTimeDependencies,FALSE)","v":{"$error":"#N/A"}},null,null,{"$f":"SET.NAME(\"NameFetchType\",DEREF(INDIRECT(\"'\"&S0con&\"'!\"&Arow&RowTyp+UserFetchType&Acol&ColPar,FALSE)))","v":true},null,null,null,"! Finish Fetch",null,null,null,null,null,null,null,null,null,{"$f":"      FORMULA(Xtmp,INDIRECT(\"'\"&S0rp1&\"'!\"&Arow&NRepRow&Acol&ColOutFst+14,FALSE))","v":true},"! Skip the ones with too few data","! Set the display-locus to the default",null,null,null,{"$f":"IF(COUNTA(INDIRECT(\"'\"&S0fg2&\"'!\"&Acol&ColFigDat+1,FALSE))<1.5,GOTO(X$9))","v":false},null,{"$f":"IF(COUNTA(INDIRECT(\"'\"&S0fg3&\"'!\"&Acol&ColFigDat+1,FALSE))<1.5,GOTO(Z$9))","v":false},null,null,{"$f":"DLD_GoToCell(\"A1\",\"A1\")","v":0},null,null,null,{"$f":"CANCEL.COPY(FALSE)","v":true},null,null,null,null,null,null,null,null,null,null,null,null,null,null,null,null,null,{"$f":"  DLD_GoToCell(\"A1\",\"A1\")","v":0},null,"! Hide this worksheet"]
[null,null,null,null,null,{"$f":"  FORMULA(\"#Alleles\",INDIRECT(\"'\"&S0con&\"'!\"&Arow&RowDir&Acol&ColLoc+7,FALSE))","v":true},null,{"$f":"ACTIVATE(S0con)","v":true},null,null,"! Format sheet for this Locus",null,null,null,null,null,null,{"$f":"      SET.NAME(\"Xtmp\",PERCENTILE(INDIRECT(\"'\"&S0dat&\"'!\"&Arow&3&Acol&Icol+7&Asep&Arow&2+Ncnt&Acol&Icol+7,FALSE),0.75))","v":true},{"$f":"        IF(Ncnt>UserMinNmbr-0.5)","v":true},{"$f":"FORMULA(\"Use Default\",INDIRECT(\"'\"&S0fg1&\"'!\"&Arow&10&Acol&ColFigPar+2,FALSE))","v":true},null,null,null,null,null,null,null,null,{"$f":"IF(COUNTA(INDIRECT(\"'\"&S0fg4&\"'!\"&Acol&ColFigDat,FALSE))<1.5,GOTO(SFQ_FigDensity))","v":false},null,null,null,{"$f":"COPY(INDIRECT(\"'\"&S0dat&\"'!\"&Arow&2&Acol&Jcol+7&Asep&Arow&Ntmp+1&Acol&Jcol+7,FALSE),INDIRECT(\"'\"&S0fg5&\"'!\"&Arow&1&Acol&ColFigDat+8,FALSE))","v":true},null,null,null,null,null,null,null,null,null,null,null,null,null,"! Also look for PHR differences in the ones that are in both",null,null,null,{"$f":"NEXT()","v":true},null,{"$f":"ACTIVATE(S0dti)","v":true}]
["! Set the default Zoom",null,null,"! Check whether the loci are still \"Ok\"",null,{"$f":"  FORMULA(\"ColHts\",INDIRECT(\"'\"&S0con&\"'!\"&Arow&RowDir&Acol&ColLoc+8,FALSE))","v":true},null,{"$f":"DLD_ClearCols(ColLast+1,-1)","v":0},null,null,{"$f":"      SFQ_Fetch_Header(S0dat,Aloc,Jcol)","v":0},null,null,null,null,null,null,{"$f":"      FORMULA(Xtmp,INDIRECT(\"'\"&S0rp1&\"'!\"&Arow&NRepRow&Acol&ColOutFst+15,FALSE))","v":true},{"$f":"          SET.NAME(\"Atmp\",MEDIAN(INDIRECT(\"'\"&S0rp2&\"'!\"&Arow&Irow&Acol&243&Asep&Arow&Jrow&Acol&243,FALSE)))","v":true},null,null,null,null,"! Get the Parameters",null,"! Get the Parameters",null,null,{"$f":"ECHO(FALSE)","v":true},null,null,null,{"$f":"CANCEL.COPY(FALSE)","v":true},null,null,null,null,null,null,null,null,null,null,null,null,null,{"$f":"    ELSE()","v":true},null,null,null,null,null,{"$f":"WORKBOOK.HIDE()","v":true}]
[{"$f":"SET.NAME(\"CurZoom\",DEREF(INDIRECT(\"'\"&S0mac&\"'!\"&Arow&9&Acol&3,FALSE)))","v":true},null,null,{"$f":"SET.NAME(\"Nloc\",COUNTA(INDIRECT(\"'\"&S0con&\"'!\"&Acol&ColLoc,FALSE)))","v":true},null,{"$f":"  FORMULA(\"ColSze\",INDIRECT(\"'\"&S0con&\"'!\"&Arow&RowDir&Acol&ColLoc+9,FALSE))","v":true},null,{"$f":"DLD_SetColWidth(ColPar,-1)","v":{"$error":"#VALUE!"}},null,null,null,null,null,null,null,null,null,{"$f":"      SET.NAME(\"Xtmp\",PERCENTILE(INDIRECT(\"'\"&S0dat&\"'!\"&Arow&3&Acol&Icol+7&Asep&Arow&2+Ncnt&Acol&Icol+7,FALSE),0.9))","v":true},{"$f":"          SET.NAME(\"NRepRow\",NRepRow+1)","v":true},"! Get the data limits",null,null,null,{"$f":"RUN(SFQ_FigBPAParameters,FALSE)","v":{"$error":"#N/A"}},null,{"$f":"RUN(SFQ_FigBPAParameters,FALSE)","v":{"$error":"#N/A"}},null,null,null,null,null,null,null,null,null,null,null,null,null,null,null,null,null,null,null,null,{"$f":"      SET.NAME(\"Atmp1\",DEREF(INDIRECT(\"'\"&S0dif&\"'!\"&Arow&Irow&Acol&48,FALSE)))","v":true},null,null,null,"! Standardize the Figure sheets"]
[{"$f":"IF(ISERROR(1/CurZoom),SET.NAME(\"CurZoom\",0))","v":false},null,null,{"$f":"IF(Nloc>1.5)","v":true},null,{"$f":"  FORMULA(\"ColNam\",INDIRECT(\"'\"&S0con&\"'!\"&Arow&RowDir&Acol&ColLoc+10,FALSE))","v":true},null,null,null,null,"! Loop over all samples",null,null,null,null,null,null,{"$f":"      FORMULA(Xtmp,INDIRECT(\"'\"&S0rp1&\"'!\"&Arow&NRepRow&Acol&ColOutFst+16,FALSE))","v":true},{"$f":"          SET.NAME(\"Nall\",NAll+1)","v":true},{"$f":"SET.NAME(\"Xmin\",INT(MIN(INDIRECT(\"'\"&S0fg1&\"'!\"&Acol&ColFigDat+16,FALSE))-0.99))","v":true},null,null,null,null,null,null,null,null,"! Get the Parameters",null,null,null,"! Sort the ratios by allele by ratio",null,null,null,null,null,null,null,null,null,null,null,null,null,{"$f":"      SET.NAME(\"Atmp2\",DEREF(INDIRECT(\"'\"&S0dif&\"'!\"&Arow&Itmp&Acol&58,FALSE)))","v":true},null,null,null,{"$f":"FOR(\"Itmp\",1,NumFig,1)","v":true},null,"! Do we need to restart Auto_Open?"]
[{"$f":"IF(OR(CurZoom<30,CurZoom>200),SET.NAME(\"CurZoom\",75))","v":false},null,null,{"$f":"  FOR(\"Iloc\",1,Nloc,1)","v":true},null,{"$f":"  FORMULA(\"#Ratios\",INDIRECT(\"'\"&S0con&\"'!\"&Arow&RowDir&Acol&ColLast,FALSE))","v":true},null,"! Format return",null,null,{"$f":"      SET.NAME(\"Xdbp\",DEREF(INDIRECT(\"'\"&S0con&\"'!\"&Arow&RowDir+Ishts&Acol&ColLoc+2,FALSE)))","v":true},null,null,null,null,null,null,{"$f":"      SET.NAME(\"Xtmp\",PERCENTILE(INDIRECT(\"'\"&S0dat&\"'!\"&Arow&3&Acol&Icol+7&Asep&Arow&2+Ncnt&Acol&Icol+7,FALSE),0.95))","v":true},{"$f":"          FORMULA(Aall,INDIRECT(\"'\"&S0rp2&\"'!\"&Arow&NRepRow&Acol&Icol+1,FALSE))","v":true},{"$f":"SET.NAME(\"Xmax\",MAX(INDIRECT(\"'\"&S0fg1&\"'!\"&Acol&ColFigDat+16,FALSE))+0.99)","v":true},null,null,null,"! Format the axes",null,"! Format the axes",null,null,{"$f":"RUN(SFQ_FigDensityParameters,FALSE)","v":{"$error":"#N/A"}},null,null,null,{"$f":"ACTIVATE(S0fg5)","v":true},null,null,null,null,null,null,null,null,null,null,null,null,null,{"$f":"      IF(ABS(Atmp1-Atmp2)>Elon)","v":true},null,null,null,{"$f":"  SET.NAME(\"S0tmp\",EVALUATE(\"S0fg\"&Itmp))","v":true},null,{"$f":"IF(NumNew>0.5)","v":true}]
[{"$f":"FORMULA(CurZoom,INDIRECT(\"'\"&S0mac&\"'!\"&Arow&9&Acol&3,FALSE))","v":true},null,null,{"$f":"    SET.NAME(\"Atmp\",DEREF(INDIRECT(\"'\"&S0con&\"'!\"&Arow&RowDir+Iloc&Acol&ColLoc+3,FALSE)))","v":true},null,{"$f":"  dld_selectrange(RowDir,ColLoc,RowDir,ColLast)","v":0},null,{"$f":"SFQ_ConRestore(A0con,ColPar,\"B\"&BRowFetch)","v":0},null,null,{"$f":"      SET.NAME(\"Ydbp\",INT(Xdbp*UserStutUnt+Elon))","v":true},null,null,null,null,null,null,{"$f":"      FORMULA(Xtmp,INDIRECT(\"'\"&S0rp1&\"'!\"&Arow&NRepRow&Acol&ColOutFst+17,FALSE))","v":true},{"$f":"          FORMULA(Atmp,INDIRECT(\"'\"&S0rp2&\"'!\"&Arow&NRepRow&Acol&Icol+2,FALSE))","v":true},{"$f":"SET.NAME(\"Ymin1\",INT(MIN(INDIRECT(\"'\"&S0fg1&\"'!\"&Acol&ColFigDat+15,FALSE))-0.99))","v":true},null,null,null,{"$f":"SFQ_UpdateFigAxisScale(\"Chart 1\",Xmin,Xmax,Ymin,Ymax)","v":0},null,{"$f":"SFQ_UpdateFigAxisScale(\"Chart 1\",Xmin,Xmax,Ymin,Ymax)","v":0},null,null,null,null,null,null,{"$f":"SET.NAME(\"Nrat\",COUNTA(INDIRECT(\"'\"&S0fg5&\"'!\"&Acol&ColFigDat+6,FALSE)))","v":true},null,null,null,null,null,null,null,null,null,null,null,null,null,{"$f":"        SET.NAME(\"IdifDif\",IdifDif+3)","v":true},null,null,null,{"$f":"  ACTIVATE(S0tmp)","v":true},null,{"$f":"  _xlnm.Auto_Open()","v":0}]
[null,null,null,{"$f":"    IF(OR(Atmp=\"OK\",Atmp=\"Odd #bp Repeat\",Atmp=\"No data\",Atmp=\"Insufficient data\"))","v":true},null,{"$f":"  ALIGNMENT(3,FALSE,3,0)","v":true},null,null,null,null,{"$f":"      SET.NAME(\"Irow1\",DEREF(INDIRECT(\"'\"&S0con&\"'!\"&Arow&RowDir+Ishts&Acol&ColLoc+4,FALSE)))","v":true},null,null,null,null,null,null,{"$f":"      SET.NAME(\"Xtmp\",PERCENTILE(INDIRECT(\"'\"&S0dat&\"'!\"&Arow&3&Acol&Icol+7&Asep&Arow&2+Ncnt&Acol&Icol+7,FALSE),0.975))","v":true},{"$f":"          FORMULA(Ncnt,INDIRECT(\"'\"&S0rp2&\"'!\"&Arow&NRepRow&Acol&Icol+4,FALSE))","v":true},{"$f":"SET.NAME(\"Ymax1\",INT(MAX(INDIRECT(\"'\"&S0fg1&\"'!\"&Acol&ColFigDat+15,FALSE))+0.99))","v":true},null,null,null,null,null,null,null,null,"! Make bins",null,null,null,{"$f":"dld_selectrange(2,ColFigDat+6,Nrat,ColFigDat+8)","v":0},null,null,null,null,null,null,null,null,null,null,null,null,null,{"$f":"        FORMULA(Aloc,INDIRECT(\"'\"&S0dif&\"'!\"&Arow&IdifDif&Acol&23,FALSE))","v":true},null,null,null,{"$f":"  dld_selectrange(3,1,3,1)","v":0},null,{"$f":"ELSE()","v":true}]
[{"$f":"DLD_MsgBar(TEXT(NOW(),AlngDatTim)&\"  Welcome to \"&Asyst&\"!\")","v":0},null,null,{"$f":"      SET.NAME(\"Xdbp\",DEREF(INDIRECT(\"'\"&S0con&\"'!\"&Arow&RowDir+Iloc&Acol&ColLoc+2,FALSE)))","v":true},null,{"$f":"  BORDER(0,0,0,0,1)","v":true},null,{"$f":"ECHO(TRUE)","v":true},null,null,{"$f":"      SET.NAME(\"Irow2\",DEREF(INDIRECT(\"'\"&S0con&\"'!\"&Arow&RowDir+Ishts&Acol&ColLoc+5,FALSE)))","v":true},null,null,null,null,null,null,{"$f":"      FORMULA(Xtmp,INDIRECT(\"'\"&S0rp1&\"'!\"&Arow&NRepRow&Acol&ColOutFst+18,FALSE))","v":true},{"$f":"          IF(UserTypeStats)","v":true},{"$f":"SET.NAME(\"Ymin2\",MIN(INDIRECT(\"'\"&S0fg1&\"'!\"&Acol&ColFigDat+17,FALSE)))","v":true},null,null,null,"! Make the error-bars",null,"! Make the error-bars",null,null,{"$f":"DLD_MsgBar(TEXT(NOW(),AlngDatTim)&Msub0&AC$9&\" > Binning\")","v":0},null,null,null,{"$f":"SORT(1,Arow&3&Acol&ColFigDat+6,1,Arow&3&Acol&ColFigDat+8,1,,,2)","v":true},null,null,null,null,null,null,null,null,null,null,null,null,null,{"$f":"        COPY(INDIRECT(\"'\"&S0dif&\"'!\"&Arow&Irow&Acol&41&Asep&Arow&Irow&Acol&48,FALSE),INDIRECT(\"'\"&S0dif&\"'!\"&Arow&IdifDif&Acol&24,FALSE))","v":true},null,null,null,{"$f":"  FORMULA(\"****************\")","v":true},null,{"$f":"  SFQ_ConRestore(A0con,ColPar,\"A1\")","v":0}]
[{"$f":"RETURN()","v":true},null,null,{"$f":"      SET.NAME(\"Xdbp\",Xdbp/2-INT(Xdbp/2+Elon))","v":true},null,null,null,{"$f":"MESSAGE(FALSE)","v":true},null,null,{"$f":"      SET.NAME(\"Nall\",DEREF(INDIRECT(\"'\"&S0con&\"'!\"&Arow&RowDir+Ishts&Acol&ColLoc+7,FALSE)))","v":true},null,null,null,null,null,null,{"$f":"      SET.NAME(\"Xtmp\",PERCENTILE(INDIRECT(\"'\"&S0dat&\"'!\"&Arow&3&Acol&Icol+7&Asep&Arow&2+Ncnt&Acol&Icol+7,FALSE),0.99))","v":true},{"$f":"            SET.NAME(\"Xmed\",MEDIAN(INDIRECT(\"'\"&S0rp2&\"'!\"&Arow&Irow&Acol&247&Asep&Arow&Jrow&Acol&247,FALSE)))","v":true},{"$f":"SET.NAME(\"Ymax2\",MAX(INDIRECT(\"'\"&S0fg1&\"'!\"&Acol&ColFigDat+17,FALSE)))","v":true},null,null,null,{"$f":"FOR(\"Irow\",2,Nrow,1)","v":true},null,{"$f":"FOR(\"Irow\",2,Nrow,1)","v":true},null,null,{"$f":"DLD_ClearCols(ColFigDat,ColFigDat)","v":0},null,null,null,null,null,null,null,null,null,null,null,null,null,null,null,null,null,{"$f":"        CANCEL.COPY(FALSE)","v":false},null,null,null,{"$f":"  FONT.PROPERTIES(\"Arial\",\"Regular\",10,,,,,,,2)","v":true},null,{"$f":"END.IF()","v":true}]
[null,null,null,{"$f":"      SET.NAME(\"Astat\",IF(AND(UserStutUnt<1,Xdbp>Elon),\"Odd #bp Repeat\",\"Ok\"))","v":true},null,"! Check the LocalMaster",null,{"$f":"MESSAGE(TRUE,TEXT(NOW(),AlngDatTim)&Msub0&H$10&\" > Finshed!\")","v":true},null,null,{"$f":"      SET.NAME(\"Icol0\",DEREF(INDIRECT(\"'\"&S0con&\"'!\"&Arow&RowDir+Ishts&Acol&ColLoc+8,FALSE)))","v":true},null,null,null,null,null,null,{"$f":"      FORMULA(Xtmp,INDIRECT(\"'\"&S0rp1&\"'!\"&Arow&NRepRow&Acol&ColOutFst+19,FALSE))","v":true},{"$f":"          ELSE()","v":true},{"$f":"FORMULA(Xmin,INDIRECT(\"'\"&S0fg1&\"'!\"&Arow&2&Acol&ColFigPar+1,FALSE))","v":true},null,null,null,{"$f":"  SET.NAME(\"Ncnt\",DEREF(INDIRECT(\"'\"&S0fg2&\"'!\"&Arow&Irow&Acol&ColFigDat+2,FALSE)))","v":true},null,{"$f":"  SET.NAME(\"Ncnt\",DEREF(INDIRECT(\"'\"&S0fg3&\"'!\"&Arow&Irow&Acol&ColFigDat+2,FALSE)))","v":true},null,null,{"$f":"FORMULA(\"Bin\",INDIRECT(\"'\"&S0fg4&\"'!\"&Arow&1&Acol&ColFigDat,FALSE))","v":true},null,null,null,"! Find and summarize the unique alleles",null,null,null,null,null,null,null,null,null,null,null,null,null,{"$f":"        COPY(INDIRECT(\"'\"&S0dif&\"'!\"&Arow&Itmp&Acol&51&Asep&Arow&Itmp&Acol&58,FALSE),INDIRECT(\"'\"&S0dif&\"'!\"&Arow&IdifDif+1&Acol&24,FALSE))","v":true},null,null,null,{"$f":"  DLD_SetColWidth(1,3,TRUE)","v":0}]
[null,null,null,{"$f":"      FORMULA(Astat,INDIRECT(\"'\"&S0con&\"'!\"&Arow&RowDir+Iloc&Acol&ColLoc+3,FALSE))","v":true},null,{"$f":"RUN(SFQ_GetMasterListIndex)","v":{"$error":"#N/A"}},null,null,null,null,{"$f":"      SET.NAME(\"Icol1\",DEREF(INDIRECT(\"'\"&S0con&\"'!\"&Arow&RowDir+Ishts&Acol&ColLoc+9,FALSE)))","v":true},null,null,null,null,null,null,{"$f":"      SET.NAME(\"Xtmp\",MAX(INDIRECT(\"'\"&S0dat&\"'!\"&Arow&3&Acol&Icol+7&Asep&Arow&2+Ncnt&Acol&Icol+7,FALSE)))","v":true},{"$f":"            SET.NAME(\"Xmed\",AVERAGE(INDIRECT(\"'\"&S0rp2&\"'!\"&Arow&Irow&Acol&247&Asep&Arow&Jrow&Acol&247,FALSE)))","v":true},{"$f":"FORMULA(Xmax,INDIRECT(\"'\"&S0fg1&\"'!\"&Arow&3&Acol&ColFigPar+1,FALSE))","v":true},null,null,null,{"$f":"  IF(Ncnt>1.5)","v":true},null,{"$f":"  IF(Ncnt>1.5)","v":true},null,null,{"$f":"dld_selectrange(1,ColFigDat,-1,-1)","v":0},null,null,null,{"$f":"SET.NAME(\"Nall\",0)","v":true},null,null,null,null,null,null,null,null,null,null,null,null,null,{"$f":"        CANCEL.COPY(FALSE)","v":false},null,null,null,null,null,{"$f":"DLD_MsgBar(TEXT(NOW(),AlngDatTim)&\"  Welcome to \"&Asyst&\"!\")","v":0}]
[null,null,null,{"$f":"    END.IF()","v":true},null,null,null,{"$f":"RETURN()","v":true},null,null,{"$f":"      SET.NAME(\"Icol2\",DEREF(INDIRECT(\"'\"&S0con&\"'!\"&Arow&RowDir+Ishts&Acol&ColLoc+10,FALSE)))","v":true},null,null,null,null,null,null,{"$f":"      FORMULA(Xtmp,INDIRECT(\"'\"&S0rp1&\"'!\"&Arow&NRepRow&Acol&ColOutFst+20,FALSE))","v":true},{"$f":"          END.IF()","v":true},{"$f":"FORMULA(Ymin1,INDIRECT(\"'\"&S0fg1&\"'!\"&Arow&4&Acol&ColFigPar+1,FALSE))","v":true},null,null,null,{"$f":"    SET.NAME(\"Atmp1\",DEREF(INDIRECT(\"'\"&S0fg2&\"'!\"&Arow&Irow&Acol&ColFigDat+5,FALSE)))","v":true},null,{"$f":"    SET.NAME(\"Atmp1\",DEREF(INDIRECT(\"'\"&S0fg3&\"'!\"&Arow&Irow&Acol&ColFigDat+5,FALSE)))","v":true},null,null,{"$f":"ALIGNMENT(3,FALSE,3,0)","v":true},null,null,null,{"$f":"FOR(\"Irow\",2,Nrat,1)","v":true},null,null,null,null,null,null,null,null,null,null,null,null,null,{"$f":"      END.IF()","v":true},null,null,null,{"$f":"  ALIGNMENT(4,,,,,,,0)","v":true},null,{"$f":"RETURN()","v":true}]
[null,null,null,{"$f":"  NEXT()","v":true},null,"! Clear all the report and Figure sheets",null,null,null,null,{"$f":"      SET.NAME(\"Nrat\",0)","v":true},null,null,null,null,null,null,{"$f":"    END.IF()","v":true},{"$f":"          FORMULA(Xmed,INDIRECT(\"'\"&S0rp2&\"'!\"&Arow&NRepRow&Acol&Icol+5,FALSE))","v":true},{"$f":"FORMULA(Ymax1,INDIRECT(\"'\"&S0fg1&\"'!\"&Arow&5&Acol&ColFigPar+1,FALSE))","v":true},null,null,null,{"$f":"    SET.NAME(\"Atmp2\",TINV(1-Pcover/100,Ncnt-1))","v":true},null,{"$f":"    SET.NAME(\"Atmp2\",TINV(1-Pcover/100,Ncnt-1))","v":true},null,null,{"$f":"BORDER(0,0,0,0,0)","v":true},null,null,null,{"$f":"  SET.NAME(\"Aall\",DEREF(INDIRECT(\"'\"&S0fg5&\"'!\"&Arow&Irow&Acol&ColFigDat+6,FALSE)))","v":true},null,null,null,null,null,null,null,null,null,null,null,null,null,{"$f":"    END.IF()","v":true},null,null,null,{"$f":"  FOR(\"Jtmp\",1,2,1)","v":true}]
[null,null,null,{"$f":"END.IF()","v":true},null,{"$f":"  RUN(SFQ_ClearSheets,FALSE)","v":{"$error":"#N/A"}},null,null,null,null,{"$f":"      FOR(\"Irow\",Irow1,Irow2,1)","v":true},null,null,null,null,null,null,{"$f":"  END.IF()","v":true},null,{"$f":"FORMULA(Ymin2,INDIRECT(\"'\"&S0fg1&\"'!\"&Arow&6&Acol&ColFigPar+1,FALSE))","v":true},null,null,null,{"$f":"    FORMULA(Atmp1*Atmp2,INDIRECT(\"'\"&S0fg2&\"'!\"&Arow&Irow&Acol&ColFigDat+6,FALSE))","v":true},null,{"$f":"    FORMULA(Atmp1*Atmp2,INDIRECT(\"'\"&S0fg3&\"'!\"&Arow&Irow&Acol&ColFigDat+6,FALSE))","v":true},null,null,{"$f":"SET.NAME(\"Nbin\",2+INT(0.999+(Xmax-Xmin)/Xwth))","v":true},null,null,null,{"$f":"  IF(NOT(ISERROR(Aall+0)))","v":true},null,null,null,null,null,null,null,null,null,null,null,null,null,{"$f":"  NEXT()","v":true},null,null,null,{"$f":"    dld_selectrange((Jtmp-1)*3+1,1,(Jtmp-1)*3+2,1)","v":0}]
[null,null,null,null,null,null,null,null,null,null,{"$f":"        SET.NAME(\"Asam\",DEREF(INDIRECT(\"'\"&S0wrk&\"'!\"&Arow&Irow&Acol&1,FALSE)))","v":true},null,null,null,null,null,null,{"$f":"NEXT()","v":true},{"$f":"          IF(Ncnt>1.5)","v":true},{"$f":"FORMULA(Ymax2,INDIRECT(\"'\"&S0fg1&\"'!\"&Arow&7&Acol&ColFigPar+1,FALSE))","v":true},null,null,null,{"$f":"  END.IF()","v":true},null,{"$f":"  END.IF()","v":true},null,null,{"$f":"SET.NAME(\"Xval\",Xmin-Xwth)","v":true},null,null,null,{"$f":"    SET.NAME(\"Jrow\",MATCH(Aall,INDIRECT(\"'\"&S0fg5&\"'!\"&Acol&ColFigDat+6,FALSE),1))","v":true},null,null,null,null,null,null,null,null,null,null,null,null,null,null,null,null,null,{"$f":"    ALIGNMENT(7,,,,,,,1)","v":true}]
[null,null,null,"! Display and finish",null,"! Set status flag",null,null,null,null,{"$f":"        IF(NOT(Asam=\"Ladder*\"))","v":true},null,null,null,null,null,null,null,{"$f":"            IF(UserTypeStats)","v":true},{"$f":"GOTO(T$139)","v":true},null,null,null,{"$f":"NEXT()","v":true},null,{"$f":"NEXT()","v":true},null,null,{"$f":"FOR(\"Ibin\",1,Nbin,1)","v":true},null,null,null,{"$f":"    SET.NAME(\"Ncnt\",COUNT(INDIRECT(\"'\"&S0fg5&\"'!\"&Arow&Irow&Acol&ColFigDat+8&Asep&Arow&Jrow&Acol&ColFigDat+8,FALSE)))","v":true},null,null,null,null,null,null,null,null,null,null,null,null,null,"!  Look for 2 not in 1",null,null,null,{"$f":"    SELECT(\"Button \"&Jtmp)","v":true}]
[null,null,null,{"$f":"CALCULATE.DOCUMENT()","v":true},null,{"$f":"  FORMULA(\"Data:\",INDIRECT(\"'\"&S0con&\"'!\"&Arow&RowDst&Acol&ColPar,FALSE))","v":true},null,null,null,null,{"$f":"        SET.NAME(\"Ncnt\",COUNT(INDIRECT(\"'\"&S0wrk&\"'!\"&Arow&Irow&Acol&Icol0&Asep&Arow&Irow&Acol&Icol0+NAll-1,FALSE)))","v":true},null,null,null,null,null,null,"! Sort by threshold",{"$f":"             SET.NAME(\"Xmad\",DLD_madE(INDIRECT(\"'\"&S0rp2&\"'!\"&Arow&Irow&Acol&247&Asep&Arow&Jrow&Acol&247,FALSE)))","v":true},null,null,null,null,null,null,null,null,null,{"$f":"  SET.NAME(\"Xval\",Xval+Xwth)","v":true},null,null,null,null,null,null,null,null,null,null,null,null,null,null,null,null,null,{"$f":"  FOR(\"Irow\",3,Nrow2,1)","v":true},null,null,null,{"$f":"    FORMAT.SIZE(69,24)","v":true}]
[null,null,null,null,null,{"$f":"  FORMULA(\"Clear\",INDIRECT(\"'\"&S0con&\"'!\"&Arow&RowDst&Acol&ColPar+1,FALSE))","v":true},null,null,null,null,{"$f":"        IF(Ncnt>1.5)","v":true},null,null,null,null,null,null,{"$f":"ACTIVATE(S0rp1)","v":true},{"$f":"            ELSE()","v":true},"SFQ_FigPeakHeightUpdate",null,null,null,"! If requested, copy the data for the specified locus",null,"! If requested, copy the data for the specified locus",null,null,{"$f":"  FORMULA(Xval,INDIRECT(\"'\"&S0fg4&\"'!\"&Arow&Ibin+1&Acol&ColFigDat,FALSE))","v":true},null,null,null,"! Skip the ones with too few data",null,null,null,null,null,null,null,null,null,null,null,null,null,{"$f":"    SET.NAME(\"Atmp\",DEREF(INDIRECT(\"'\"&S0dif&\"'!\"&Arow&Irow&Acol&59,FALSE)))","v":true},null,null,null,{"$f":"    FORMAT.MOVE(2,2,Arow&(Jtmp-1)*3+1&Acol&1)","v":true}]
[null,null,null,{"$f":"ECHO(FALSE)","v":true},null,{"$f":"END.IF()","v":true},null,null,null,null,{"$f":"            IF(UserFetchType=1,RUN(SFQ_ExtractSize))","v":false},null,null,null,null,null,null,{"$f":"dld_selectrange(5,ColOutFst,5+Nloc,ColOutFst+20)","v":0},{"$f":"             SET.NAME(\"Xmad\",STDEV(INDIRECT(\"'\"&S0rp2&\"'!\"&Arow&Irow&Acol&247&Asep&Arow&Jrow&Acol&247,FALSE)))","v":true},"! Just update the axis stuff",null,null,null,{"$f":"DLD_ClearRange(2,ColFigDat+12,0,0)","v":0},null,{"$f":"DLD_ClearRange(2,ColFigDat+12,-1,-1)","v":0},null,null,{"$f":"NEXT()","v":true},null,null,null,{"$f":"    IF(Ncnt+0.5>Ncover)","v":true},null,null,null,null,null,null,null,null,null,null,null,null,null,{"$f":"    SET.NAME(\"Itmp\",MATCH(Atmp,INDIRECT(\"'\"&S0dif&\"'!\"&Acol&49,FALSE),0))","v":true},null,null,null,{"$f":"  NEXT()","v":true}]
[null,null,null,{"$f":"RETURN()","v":true},null,null,null,null,null,null,{"$f":"            IF(UserFetchType=2,RUN(SFQ_ExtractName))","v":false},null,null,null,null,null,null,{"$f":"SORT(1,Arow&5&Acol&ColOutFst+6,1,Arow&5&Acol&ColOutFst,1,,,1)","v":true},{"$f":"            END.IF()","v":true},{"$f":"SET.NAME(\"S0from\",GET.DOCUMENT(76))","v":true},null,null,null,null,null,null,null,null,null,null,null,null,{"$f":"      SET.NAME(\"Atmp\",MEDIAN(INDIRECT(\"'\"&S0fg5&\"'!\"&Arow&Irow&Acol&ColFigDat+7&Asep&Arow&Jrow&Acol&ColFigDat+7,FALSE)))","v":true},null,null,null,null,null,null,null,null,null,null,null,null,null,{"$f":"    IF(ISERROR(Itmp))","v":true},null,null,null,{"$f":"  DLD_GoToCell(\"A1\",\"A1\")","v":0}]
[null,null,null,null,null,"! Format return",null,null,null,null,{"$f":"            IF(UserFetchType=3,RUN(SFQ_ExtractProfile))","v":{"$error":"#N/A"}},null,null,null,null,null,null,null,{"$f":"            FORMULA(Xmad,INDIRECT(\"'\"&S0rp2&\"'!\"&Arow&NRepRow&Acol&Icol+6,FALSE))","v":true},{"$f":"ACTIVATE(S0fg1)","v":true},null,null,null,{"$f":"IF(NOT(Aloc=\"None\"))","v":true},null,{"$f":"IF(NOT(Aloc=\"None\"))","v":true},null,null,"! Do All Locus Trace",null,null,null,{"$f":"      SET.NAME(\"Nall\",NAll+1)","v":true},null,null,null,null,null,null,null,null,null,null,null,null,null,{"$f":"      SET.NAME(\"Idif21\",Idif21+1)","v":true},null,null,null,{"$f":"NEXT()","v":true}]
[null,null,null,null,null,{"$f":"SFQ_ConRestore(A0con,ColPar,\"B8\")","v":0},null,null,null,null,{"$f":"          END.IF()","v":true},null,null,null,null,null,null,"! Finish this report",{"$f":"          END.IF()","v":true},{"$f":"DLD_GoToCell(\"A1\",\"A1\")","v":0},null,null,null,{"$f":"  SET.NAME(\"Irow1\",MATCH(Aloc,INDIRECT(\"'\"&S0fg2&\"'!\"&Acol&ColFigDat,FALSE),0))","v":true},null,{"$f":"  SET.NAME(\"Irow1\",MATCH(Aloc,INDIRECT(\"'\"&S0fg3&\"'!\"&Acol&ColFigDat,FALSE),0))","v":true},null,null,{"$f":"SET.NAME(\"ColIn\",ColFigDat+20)","v":true},null,null,null,{"$f":"      FORMULA(Aall,INDIRECT(\"'\"&S0fg5&\"'!\"&Arow&NAll+1&Acol&ColFigDat,FALSE))","v":true},null,null,null,null,null,null,null,null,null,null,null,null,null,{"$f":"      FORMULA(Aloc,INDIRECT(\"'\"&S0dif&\"'!\"&Arow&Idif21&Acol&13,FALSE))","v":true}]
[null,null,null,null,null,null,null,null,null,null,{"$f":"        END.IF()","v":true},null,null,null,null,null,null,{"$f":"ACTIVATE(S0rp1)","v":true},{"$f":"        END.IF()","v":true},{"$f":"IF(COUNTA(INDIRECT(\"'\"&S0fg1&\"'!\"&Acol&ColFigDat,FALSE))<1.5,GOTO(T$9))","v":false},null,null,null,{"$f":"  FOR(\"Itmp\",Irow1,Irow1+50,1)","v":true},null,{"$f":"  FOR(\"Itmp\",Irow1,Irow1+50,1)","v":true},null,null,{"$f":"SET.NAME(\"ColOu\",ColFigDat+2)","v":true},null,null,null,{"$f":"      FORMULA(Ncnt,INDIRECT(\"'\"&S0fg5&\"'!\"&Arow&NAll+1&Acol&ColFigDat+1,FALSE))","v":true},null,null,null,null,null,null,null,null,null,null,null,null,null,{"$f":"      COPY(INDIRECT(\"'\"&S0dif&\"'!\"&Arow&Irow&Acol&51&Asep&Arow&Irow&Acol&58,FALSE),INDIRECT(\"'\"&S0dif&\"'!\"&Arow&Idif21&Acol&14,FALSE))","v":true},null,null,null,"! Figure 1 Checkboxes"]
[null,null,null,null,null,{"$f":"ECHO(TRUE)","v":true},null,null,null,null,{"$f":"      NEXT()","v":true},null,null,null,null,null,null,{"$f":"DLD_SetColWidth(ColOutFst,0,TRUE)","v":0},{"$f":"        SET.NAME(\"Irow\",Jrow)","v":true},{"$f":"ECHO(TRUE)","v":true},null,null,null,{"$f":"    SET.NAME(\"Irow2\",Itmp)","v":true},null,{"$f":"    SET.NAME(\"Irow2\",Itmp)","v":true},null,null,{"$f":"DLD_ClearCols(ColOu,ColOu+6)","v":0},null,null,null,{"$f":"      FORMULA(Atmp,INDIRECT(\"'\"&S0fg5&\"'!\"&Arow&NAll+1&Acol&ColFigDat+2,FALSE))","v":true},null,null,null,null,null,null,null,null,null,null,null,null,null,{"$f":"      CANCEL.COPY(FALSE)","v":false},null,null,null,{"$f":"ACTIVATE(S0fg1)","v":true}]
[null,null,null,null,null,{"$f":"MESSAGE(FALSE)","v":true},null,null,null,null,null,null,null,null,null,null,null,null,{"$f":"      NEXT()","v":true},{"$f":"DLD_MsgBar(TEXT(NOW(),AlngDatTim)&Msub0&T$129)","v":0},null,null,null,{"$f":"    SET.NAME(\"Atmp\",DEREF(INDIRECT(\"'\"&S0fg2&\"'!\"&Arow&Itmp+1&Acol&ColFigDat,FALSE)))","v":true},null,{"$f":"    SET.NAME(\"Atmp\",DEREF(INDIRECT(\"'\"&S0fg3&\"'!\"&Arow&Itmp+1&Acol&ColFigDat,FALSE)))","v":true},null,null,{"$f":"RUN(SFQ_FigDensityCalc,FALSE)","v":{"$error":"#N/A"}},null,null,null,null,null,null,null,null,null,null,null,null,null,null,null,null,null,{"$f":"    END.IF()","v":true},null,null,null,{"$f":"FOR(\"Jtmp\",1,4,1)","v":true}]
[null,null,null,null,null,{"$f":"MESSAGE(TRUE,TEXT(NOW(),AlngDatTim)&Msub0&F$10&\" > Finshed!\")","v":true},null,null,null,null,"! Sort by descending Ratio",null,null,null,null,null,null,"! Confirm this report",null,{"$f":"ECHO(FALSE)","v":true},null,null,null,{"$f":"    IF(NOT(Atmp=Aloc),SET.NAME(\"Itmp\",99999))","v":true},null,{"$f":"    IF(NOT(Atmp=Aloc),SET.NAME(\"Itmp\",99999))","v":true},null,null,null,null,null,null,{"$f":"      IF(UserTypeStats)","v":true},null,null,null,null,null,null,null,null,null,null,null,null,null,{"$f":"  NEXT()","v":true},null,null,null,{"$f":"  SELECT(\"Check Box \"&Jtmp)","v":true}]
[null,null,null,null,null,null,null,null,null,null,{"$f":"      ACTIVATE(S0dat)","v":true},null,null,null,null,null,null,{"$f":"FORMULA(\"Finished\",INDIRECT(\"'\"&S0con&\"'!\"&Arow&RowRep&Acol&ColPar+1,FALSE))","v":true},"! Put in border",null,null,null,null,{"$f":"  NEXT()","v":true},null,{"$f":"  NEXT()","v":true},null,null,"! Do locus trace?",null,null,null,{"$f":"        SET.NAME(\"Xmed\",MEDIAN(INDIRECT(\"'\"&S0fg5&\"'!\"&Arow&Irow&Acol&ColFigDat+8&Asep&Arow&Jrow&Acol&ColFigDat+8,FALSE)))","v":true},null,null,null,null,null,null,null,null,null,null,null,null,null,{"$f":"NEXT()","v":true},null,null,null,{"$f":"  FORMAT.SIZE(20,14)","v":true}]
[null,null,null,null,null,{"$f":"RETURN()","v":true},null,null,null,null,{"$f":"      dld_selectrange(3,Jcol,Nrat+2,Jcol+7)","v":0},null,null,null,null,null,null,null,{"$f":"      dld_selectrange(NRepBse+2,Icol+4,NRepRow,Icol+6)","v":0},"! Clear the old line-stuff",null,null,null,{"$f":"  COPY(INDIRECT(\"'\"&S0fg2&\"'!\"&Arow&Irow1&Acol&ColFigDat&Asep&Arow&Irow2&Acol&ColFigDat+6,FALSE),INDIRECT(\"'\"&S0fg2&\"'!\"&Arow&2&Acol&ColFigDat+12,FALSE))","v":true},null,{"$f":"  COPY(INDIRECT(\"'\"&S0fg3&\"'!\"&Arow&Irow1&Acol&ColFigDat&Asep&Arow&Irow2&Acol&ColFigDat+6,FALSE),INDIRECT(\"'\"&S0fg3&\"'!\"&Arow&2&Acol&ColFigDat+12,FALSE))","v":true},null,null,{"$f":"SET.NAME(\"ColIn\",ColFigDat+21)","v":true},null,null,null,{"$f":"        SET.NAME(\"Xmad\",DLD_madE(INDIRECT(\"'\"&S0fg5&\"'!\"&Arow&Irow&Acol&ColFigDat+8&Asep&Arow&Jrow&Acol&ColFigDat+8,FALSE)))","v":true},null,null,null,null,null,null,null,null,null,null,null,null,null,null,null,null,null,{"$f":"  FORMAT.MOVE(2,0,INDIRECT(\"'\"&S0fg1&\"'!\"&Arow&RowFigLocA+Jtmp&Acol&ColFigPar+1,FALSE))","v":true}]
[null,null,null,null,null,null,null,null,null,null,{"$f":"      SORT(1,Arow&3&Acol&Jcol+7,2,,,,,2)","v":true},null,null,null,null,null,null,"! Flip back to ControlPanel unless this was called from the Fig sheet",{"$f":"      BORDER(1)","v":true},{"$f":"DLD_ClearRange(2,ColFigDat,0,ColFigDat+6)","v":0},null,null,null,{"$f":"  CANCEL.COPY(FALSE)","v":true},null,{"$f":"  CANCEL.COPY(FALSE)","v":true},null,null,{"$f":"SET.NAME(\"ColOu\",ColFigDat+10)","v":true},null,null,null,{"$f":"      ELSE()","v":true},null,null,null,null,null,null,null,null,null,null,null,null,null,"! Report \"nothing\" if nothing found",null,null,null,{"$f":"  CHECKBOX.PROPERTIES(TRUE,Arow&RowFigLocA+Jtmp&Acol&ColFigPar+1)","v":true}]
[null,null,null,null,null,null,null,null,null,null,null,null,null,null,null,null,null,{"$f":"IF(NOT(S0tmp=S0rp1))","v":true},null,null,null,null,null,null,null,null,null,null,{"$f":"DLD_ClearCols(ColOu,ColOu+6)","v":0},null,null,null,{"$f":"        SET.NAME(\"Xmed\",AVERAGE(INDIRECT(\"'\"&S0fg5&\"'!\"&Arow&Irow&Acol&ColFigDat+8&Asep&Arow&Jrow&Acol&ColFigDat+8,FALSE)))","v":true},null,null,null,null,null,null,null,null,null,null,null,null,null,{"$f":"ACTIVATE(S0dif)","v":true},null,null,null,{"$f":"  ASSIGN.TO.OBJECT(SFQ_FigPeakHeightOptionals)","v":true}]
[null,null,null,null,null,null,null,null,null,null,"! Record the number of ratios",null,null,null,null,null,null,{"$f":"  SFQ_ConRestore(A0con,ColPar,\"B18\")","v":false},"! Put in averages","! Get the parameters",null,null,null,{"$f":"  SET.NAME(\"Irow1\",MATCH(Aloc,INDIRECT(\"'\"&S0fg2&\"'!\"&Acol&ColFigDat+8,FALSE),0))","v":true},null,{"$f":"  SET.NAME(\"Irow1\",MATCH(Aloc,INDIRECT(\"'\"&S0fg3&\"'!\"&Acol&ColFigDat+8,FALSE),0))","v":true},null,null,{"$f":"DLD_ClearCols(ColIn,ColIn)","v":0},null,null,null,{"$f":"        SET.NAME(\"Xmad\",STDEV(INDIRECT(\"'\"&S0fg5&\"'!\"&Arow&Irow&Acol&ColFigDat+8&Asep&Arow&Jrow&Acol&ColFigDat+8,FALSE)))","v":true},null,null,null,null,null,null,null,null,null,null,null,null,null,{"$f":"IF(Idif12<2.5)","v":true},null,null,null,{"$f":"NEXT()","v":true}]
[null,null,null,null,null,null,null,null,null,null,{"$f":"      SET.NAME(\"Nuse\",Nuse+Nrat)","v":true},null,null,null,null,null,null,{"$f":"END.IF()","v":true},{"$f":"      IF(NAll>1.5)","v":true},{"$f":"RUN(SFQ_FigPeakHeightParameters,FALSE)","v":{"$error":"#N/A"}},null,null,null,{"$f":"  COPY(INDIRECT(\"'\"&S0fg2&\"'!\"&Arow&Irow1&Acol&ColFigDat+8&Asep&Arow&Irow1&Acol&ColFigDat+10,FALSE),INDIRECT(\"'\"&S0fg2&\"'!\"&Arow&2&Acol&ColFigDat+20,FALSE))","v":true},null,{"$f":"  COPY(INDIRECT(\"'\"&S0fg3&\"'!\"&Arow&Irow1&Acol&ColFigDat+8&Asep&Arow&Irow1&Acol&ColFigDat+10,FALSE),INDIRECT(\"'\"&S0fg3&\"'!\"&Arow&2&Acol&ColFigDat+20,FALSE))","v":true},null,null,{"$f":"DLD_ClearRange(RowFigLocA+1,ColFigPar+2,RowFigLocA+6,ColFigPar+2)","v":0},null,null,null,{"$f":"      END.IF()","v":true},null,null,null,null,null,null,null,null,null,null,null,null,null,{"$f":"  FORMULA(\"No ratios in 'Data' not in 'Data_Compare'\",INDIRECT(\"'\"&S0dif&\"'!\"&Arow&4&Acol&3,FALSE))","v":true},null,null,null,{"$f":"DLD_GoToCell(\"A1\",\"A1\")","v":0}]
[null,null,null,null,null,null,null,null,null,null,{"$f":"      FORMULA(Nrat,INDIRECT(\"'\"&S0con&\"'!\"&Arow&RowDir+Ishts&Acol&ColLast,FALSE))","v":true},null,null,null,null,null,null,null,{"$f":"        FORMULA(\"Mean:\",INDIRECT(\"'\"&S0rp2&\"'!\"&Arow&NRepRow+1&Acol&Icol+2,FALSE))","v":true},null,null,null,null,{"$f":"  CANCEL.COPY(FALSE)","v":true},null,{"$f":"  CANCEL.COPY(FALSE)","v":true},null,null,{"$f":"SET.NAME(\"Aloc\",DEREF(INDIRECT(\"'\"&S0fg4&\"'!\"&Arow&11&Acol&ColFigPar+2,FALSE)))","v":true},null,null,null,{"$f":"      FORMULA(Xmed,INDIRECT(\"'\"&S0fg5&\"'!\"&Arow&NAll+1&Acol&ColFigDat+3,FALSE))","v":true},null,null,null,null,null,null,null,null,null,null,null,null,null,{"$f":"  dld_selectrange(4,3,4,11)","v":false}]
[null,null,null,null,null,null,null,null,null,null,null,null,null,null,null,null,null,{"$f":"ECHO(TRUE)","v":true},{"$f":"        FORMULA(\"SD:\",INDIRECT(\"'\"&S0rp2&\"'!\"&Arow&NRepRow+2&Acol&Icol+2,FALSE))","v":true},"! Make line for X vs Y",null,null,null,{"$f":"END.IF()","v":true},null,{"$f":"END.IF()","v":true},null,null,{"$f":"IF(NOT(Aloc=\"None\"))","v":true},null,null,null,{"$f":"      FORMULA(Xmad,INDIRECT(\"'\"&S0fg5&\"'!\"&Arow&NAll+1&Acol&ColFigDat+4,FALSE))","v":true},null,null,null,null,null,null,null,null,null,null,null,null,null,{"$f":"  ALIGNMENT(7,FALSE,3,0)","v":true},null,null,null,"! Figure 5 Checkboxes"]
[null,null,null,null,null,null,null,null,null,null,"! Flag insufficient numbers",null,null,null,null,null,null,{"$f":"MESSAGE(FALSE)","v":true},{"$f":"        dld_selectrange(NRepRow+1,Icol+2,NRepRow+2,Icol+2)","v":0},{"$f":"SET.NAME(\"Ntmp\",COUNTA(INDIRECT(\"'\"&S0fg1&\"'!\"&Acol&ColFigDat+16,FALSE)))","v":true},null,null,null,null,null,null,null,null,{"$f":"  SET.NAME(\"Icol\",MATCH(Aloc,INDIRECT(\"'\"&S0dat&\"'!\"&Arow&1,FALSE),0))","v":true},null,null,null,{"$f":"    END.IF()","v":true},null,null,null,null,null,null,null,null,null,null,null,null,null,{"$f":"END.IF()","v":true},null,null,null,{"$f":"ACTIVATE(S0fg5)","v":true}]
[null,null,null,null,null,null,null,null,null,null,{"$f":"      IF(Nrat<0.5)","v":true},null,null,null,null,null,null,{"$f":"MESSAGE(TRUE,TEXT(NOW(),AlngDatTim)&Msub0&R$9&\" > Finshed!\")","v":true},{"$f":"        ALIGNMENT(4,FALSE,3,0)","v":true},{"$f":"SET.NAME(\"Kcover\",TINV(1-Pcover/100,Ntmp-1))","v":true},null,null,null,"! Format the axes",null,"! Format the axes",null,null,{"$f":"  SET.NAME(\"Nrow\",COUNTA(INDIRECT(\"'\"&S0dat&\"'!\"&Acol&Icol,FALSE),0))","v":true},null,null,null,{"$f":"    SET.NAME(\"Irow\",Jrow)","v":true},null,null,null,null,null,null,null,null,null,null,null,null,null,{"$f":"IF(Idif21<2.5)","v":true},null,null,null,{"$f":"FOR(\"Jtmp\",1,5,1)","v":true}]
[null,null,null,null,null,null,null,null,null,null,{"$f":"        FORMULA(\"No Data\",INDIRECT(\"'\"&S0con&\"'!\"&Arow&RowDir+Ishts&Acol&ColLoc+3,FALSE))","v":true},null,null,null,null,null,null,null,null,{"$f":"SET.NAME(\"Atmp\",LINEST(INDIRECT(\"'\"&S0fg1&\"'!\"&Arow&2&Acol&ColFigDat+15&Asep&Arow&Ntmp&Acol&ColFigDat+15,FALSE),INDIRECT(\"'\"&S0fg1&\"'!\"&Arow&2&Acol&ColFigDat+16&Asep&Arow&Ntmp&Acol&ColFigDat+16,FALSE),TRUE,TRUE))","v":true},null,null,null,{"$f":"ACTIVATE(S0fg2)","v":true},null,{"$f":"ACTIVATE(S0fg3)","v":true},null,null,{"$f":"  COPY(INDIRECT(\"'\"&S0dat&\"'!\"&Arow&3&Acol&Icol+7&Asep&Arow&Nrow&Acol&Icol+7,FALSE),INDIRECT(\"'\"&S0fg4&\"'!\"&Arow&1&Acol&ColIn,FALSE))","v":true},null,null,null,{"$f":"  END.IF()","v":true},null,null,null,null,null,null,null,null,null,null,null,null,null,{"$f":"  FORMULA(\"No ratios in 'Data_Compare' not in 'Data'\",INDIRECT(\"'\"&S0dif&\"'!\"&Arow&4&Acol&13,FALSE))","v":true},null,null,null,{"$f":"  SELECT(\"Check Box \"&Jtmp)","v":true}]
[null,null,null,null,null,null,null,null,null,null,{"$f":"      ELSE.IF(Nrat<UserMinNmbr)","v":true},null,null,null,null,null,null,{"$f":"RETURN()","v":true},{"$f":"        SET.NAME(\"Ncnt\",SUM(INDIRECT(\"'\"&S0rp2&\"'!\"&Arow&NRepBse+2&Acol&Icol+4&Asep&Arow&NRepRow&Acol&Icol+4,FALSE)))","v":true},{"$f":"SET.NAME(\"Atmp1\",INDEX(Atmp,1,1))","v":true},null,null,null,{"$f":"SFQ_UpdateFigAxisScale(\"Chart 1\",Xmin,Xmax,Ymin,Ymax)","v":0},null,{"$f":"SFQ_UpdateFigAxisScale(\"Chart 1\",Xmin,Xmax,Ymin,Ymax)","v":0},null,null,{"$f":"  CANCEL.COPY(FALSE)","v":true},null,null,null,{"$f":"NEXT()","v":true},null,null,null,null,null,null,null,null,null,null,null,null,null,{"$f":"  dld_selectrange(4,13,4,21)","v":false},null,null,null,{"$f":"  FORMAT.SIZE(20,14)","v":true}]
[null,null,null,null,null,null,null,null,null,null,{"$f":"        FORMULA(\"Insufficient Data\",INDIRECT(\"'\"&S0con&\"'!\"&Arow&RowDir+Ishts&Acol&ColLoc+3,FALSE))","v":true},null,null,null,null,null,null,null,{"$f":"        FORMULA(Ncnt,INDIRECT(\"'\"&S0rp2&\"'!\"&Arow&NRepRow+1&Acol&Icol+4,FALSE))","v":true},{"$f":"SET.NAME(\"Atmp2\",INDEX(Atmp,2,1))","v":true},null,null,null,null,null,null,null,null,{"$f":"  RUN(SFQ_FigDensityCalc,FALSE)","v":{"$error":"#N/A"}},null,null,null,null,null,null,null,null,null,null,null,null,null,null,null,null,null,{"$f":"  ALIGNMENT(7,FALSE,3,0)","v":true},null,null,null,{"$f":"  FORMAT.MOVE(2,0,INDIRECT(\"'\"&S0fg5&\"'!\"&Arow&RowFigLocA+Jtmp&Acol&ColFigPar+1,FALSE))","v":true}]
[null,null,null,null,null,null,null,null,null,null,{"$f":"      END.IF()","v":true},null,null,null,null,null,null,null,{"$f":"        SET.NAME(\"Xmed\",AVERAGE(INDIRECT(\"'\"&S0rp2&\"'!\"&Arow&NRepBse+2&Acol&Icol+5&Asep&Arow&NRepRow&Acol&Icol+5,FALSE)))","v":true},{"$f":"SET.NAME(\"Atmp3\",INDEX(Atmp,1,2))","v":true},null,null,null,"! Make sure the chart is properly sized",null,"! Make sure the chart is properly sized",null,null,{"$f":"END.IF()","v":true},null,null,null,"! Add the optionals",null,null,null,null,null,null,null,null,null,null,null,null,null,{"$f":"END.IF()","v":true},null,null,null,{"$f":"  CHECKBOX.PROPERTIES(TRUE,Arow&RowFigLocA+Jtmp&Acol&ColFigPar+1)","v":true}]
[null,null,null,null,null,null,null,null,null,null,{"$f":"    END.IF()","v":true},null,null,null,null,null,null,null,{"$f":"        FORMULA(Xmed,INDIRECT(\"'\"&S0rp2&\"'!\"&Arow&NRepRow+1&Acol&Icol+5,FALSE))","v":true},{"$f":"SET.NAME(\"Atmp4\",INDEX(Atmp,2,2))","v":true},null,null,null,{"$f":"SFQ_StandardizeChartSize(\"Chart 1\",\"D3:D28\",12.75,100)","v":0},null,{"$f":"SFQ_StandardizeChartSize(\"Chart 1\",\"D3:D28\",12.75,100)","v":0},null,null,null,null,null,null,{"$f":"RUN(SFQ_FigRobinOptionals,FALSE)","v":{"$error":"#N/A"}},null,null,null,null,null,null,null,null,null,null,null,null,null,{"$f":"IF(IdifDif<2.5)","v":true},null,null,null,{"$f":"  ASSIGN.TO.OBJECT(SFQ_FigRobinOptionals)","v":true}]
[null,null,null,null,null,null,null,null,null,null,{"$f":"  NEXT()","v":true},null,null,null,null,null,null,null,{"$f":"        SET.NAME(\"Atmp\",STDEV(INDIRECT(\"'\"&S0rp2&\"'!\"&Arow&NRepBse+2&Acol&Icol+5&Asep&Arow&NRepRow&Acol&Icol+5,FALSE)))","v":true},{"$f":"SET.NAME(\"Yoff\",Kcover*INDEX(Atmp,3,2))","v":true},null,null,null,null,null,null,null,null,"! Format the axes",null,null,null,null,null,null,null,null,null,null,null,null,null,null,null,null,null,{"$f":"  FORMULA(\"No differences in the Ratios in 'Data' and 'Data_Compare'\",INDIRECT(\"'\"&S0dif&\"'!\"&Arow&4&Acol&23,FALSE))","v":true},null,null,null,{"$f":"NEXT()","v":true}]
[null,null,null,null,null,null,null,null,null,null,null,null,null,null,null,null,null,null,{"$f":"        FORMULA(Atmp,INDIRECT(\"'\"&S0rp2&\"'!\"&Arow&NRepRow+2&Acol&Icol+5,FALSE))","v":true},{"$f":"SFQ_LineEndPoints(Xmin,Xmax,Ymin1,Ymax1,Atmp3,Atmp1,Yoff,2,ColFigDat)","v":0},null,null,null,"! Label everybody",null,"! Label everybody",null,null,{"$f":"ACTIVATE(S0fg4)","v":true},null,null,null,"! Format the axes",null,null,null,null,null,null,null,null,null,null,null,null,null,{"$f":"  dld_selectrange(4,23,4,31)","v":false},null,null,null,{"$f":"DLD_GoToCell(\"A1\",\"A1\")","v":0}]
[null,null,null,null,null,null,null,null,null,null,"! Close the input workbook",null,null,null,null,null,null,null,{"$f":"        SET.NAME(\"Atmp\",COUNT(INDIRECT(\"'\"&S0rp2&\"'!\"&Arow&NRepBse+2&Acol&Icol+6&Asep&Arow&NRepRow&Acol&Icol+6,FALSE)))","v":true},{"$f":"FORMULA(\"Y = {\"&TEXT(Atmp3,\"0.0\")&\" ±\"&TEXT(Atmp4,\"0.0\")&\"} + {\"&TEXT(Atmp1,\"0.0E+00\")&\" ±\"&TEXT(Atmp2,\"0.0E+00\")&\"}X\",INDIRECT(\"'\"&S0fg1&\"'!\"&Arow&2&Acol&ColFigDat+2,FALSE))","v":true},null,null,null,{"$f":"SFQ_LabelSeries(\"Chart 1\",ColFigDat+8)","v":0},null,{"$f":"SFQ_LabelSeries(\"Chart 1\",ColFigDat+8)","v":0},null,null,{"$f":"SFQ_UpdateFigAxisScale(\"Chart 1\",Xmin,Xmax,0,1.01)","v":0},null,null,null,{"$f":"SFQ_UpdateFigAxisScale(\"Chart 1\",Xmin,Xmax,Ymin,Ymax)","v":0},null,null,null,null,null,null,null,null,null,null,null,null,null,{"$f":"  ALIGNMENT(7,FALSE,3,0)","v":true}]
[null,null,null,null,null,null,null,null,null,null,{"$f":"  WORKBOOK.ACTIVATE(WrkBk1)","v":true},null,null,null,null,null,null,null,{"$f":"        IF(Atmp>0.5)","v":true},null,null,null,null,null,null,null,null,null,null,null,null,null,null,null,null,null,null,null,null,null,null,null,null,null,null,null,{"$f":"END.IF()","v":true},null,null,null,"! Reset the User info"]
[null,null,null,null,null,null,null,null,null,null,{"$f":"  CLOSE(FALSE)","v":true},null,null,null,null,null,null,null,{"$f":"          SET.NAME(\"Xmad\",SQRT(SUMSQ(INDIRECT(\"'\"&S0rp2&\"'!\"&Arow&NRepBse+2&Acol&Icol+6&Asep&Arow&NRepRow&Acol&Icol+6,FALSE))/Atmp))","v":true},"! Make line for Y/X vs Y",null,null,null,"! Finish this report",null,"! Finish this report",null,null,"! Make sure the chart is properly sized",null,null,null,"! Make sure the chart is properly sized",null,null,null,null,null,null,null,null,null,null,null,null,null,null,null,null,null,{"$f":"ACTIVATE(S0mac)","v":true}]
[null,null,null,null,null,null,null,null,null,null,null,null,null,null,null,null,null,null,{"$f":"          FORMULA(Xmad,INDIRECT(\"'\"&S0rp2&\"'!\"&Arow&NRepRow+1&Acol&Icol+6,FALSE))","v":true},{"$f":"SET.NAME(\"Atmp\",LINEST(INDIRECT(\"'\"&S0fg1&\"'!\"&Arow&2&Acol&ColFigDat+17&Asep&Arow&Ntmp&Acol&ColFigDat+17,FALSE),INDIRECT(\"'\"&S0fg1&\"'!\"&Arow&2&Acol&ColFigDat+16&Asep&Arow&Ntmp&Acol&ColFigDat+16,FALSE),TRUE,TRUE))","v":true},null,null,null,{"$f":"CALCULATE.DOCUMENT()","v":true},null,{"$f":"CALCULATE.DOCUMENT()","v":true},null,null,{"$f":"SFQ_StandardizeChartSize(\"Chart 1\",\"D3:D28\",12.75,80)","v":0},null,null,null,{"$f":"SFQ_StandardizeChartSize(\"Chart 1\",\"D3:D28\",12.75,63)","v":0},null,null,null,null,null,null,null,null,null,null,null,null,null,"! Format",null,null,null,{"$f":"ERROR(FALSE)","v":true}]
[null,null,null,null,null,null,null,null,null,null,"! Clear the worksheet",null,null,null,null,null,null,null,{"$f":"        END.IF()","v":true},{"$f":"SET.NAME(\"Atmp1\",INDEX(Atmp,1,1))","v":true},null,null,null,{"$f":"DLD_SetColWidth(ColOutFst+1,0,TRUE)","v":0},null,{"$f":"DLD_SetColWidth(ColOutFst+1,0,TRUE)","v":0},null,null,null,null,null,null,null,null,null,null,null,null,null,null,null,null,null,null,null,null,{"$f":"DLD_ClearCols(41,-1)","v":0},null,null,null,{"$f":"  WORKBOOK.UNHIDE(MID(S0mac,FIND(\"]\",S0mac)+1,100))","v":{"$error":"#VALUE!"}}]
[null,null,null,null,null,null,null,null,null,null,{"$f":"  ACTIVATE(S0wrk)","v":true},null,null,null,null,null,null,null,{"$f":"        SET.NAME(\"NAll\",NAll+2)","v":true},{"$f":"SET.NAME(\"Atmp2\",INDEX(Atmp,2,1))","v":true},null,null,null,null,null,null,null,null,"! Finish this report",null,null,null,"! Finish this report",null,null,null,null,null,null,null,null,null,null,null,null,null,{"$f":"DLD_SetColWidth(1,0,TRUE)","v":0},null,null,null,{"$f":"ERROR(TRUE)","v":true}]
[null,null,null,null,null,null,null,null,null,null,{"$f":"  DLD_ClearCols(1,-1,TRUE)","v":0},null,null,null,null,null,null,null,{"$f":"      END.IF()","v":true},{"$f":"SET.NAME(\"Atmp3\",INDEX(Atmp,1,2))","v":true},null,null,null,"! Confirm this report",null,"! Confirm this report",null,null,{"$f":"CALCULATE.DOCUMENT()","v":true},null,null,null,{"$f":"CALCULATE.DOCUMENT()","v":true},null,null,null,null,null,null,null,null,null,null,null,null,null,null,null,null,null,{"$f":"FORMULA(\"NewUser\",INDIRECT(\"'\"&S0mac&\"'!\"&Arow&6&Acol&3,FALSE))","v":true}]
[null,null,null,null,null,null,null,null,null,null,null,null,null,null,null,null,null,null,null,{"$f":"SET.NAME(\"Atmp4\",INDEX(Atmp,2,2))","v":true},null,null,null,{"$f":"FORMULA(\"Finished\",INDIRECT(\"'\"&S0con&\"'!\"&Arow&RowFig+1&Acol&ColPar+1,FALSE))","v":true},null,{"$f":"FORMULA(\"Finished\",INDIRECT(\"'\"&S0con&\"'!\"&Arow&RowFig+2&Acol&ColPar+1,FALSE))","v":true},null,null,{"$f":"ACTIVATE(S0fg4)","v":true},null,null,null,{"$f":"DLD_SetColWidth(ColFigPar,0,TRUE)","v":0},null,null,null,null,null,null,null,null,null,null,null,null,null,{"$f":"RETURN()","v":true},null,null,null,{"$f":"FORMULA(0,INDIRECT(\"'\"&S0mac&\"'!\"&Arow&\"7C3\",FALSE))","v":true}]
[null,null,null,null,null,null,null,null,null,null,"! Format Data",null,null,null,null,null,null,null,"! Capture the bottom of this segment",{"$f":"SET.NAME(\"Yoff\",Kcover*INDEX(Atmp,3,2))","v":true},null,null,null,null,null,null,null,null,{"$f":"DLD_SetColWidth(ColOutFst+1,0,TRUE)","v":0},null,null,null,null,null,null,null,null,null,null,null,null,null,null,null,null,null,null,null,null,null,{"$f":"FORMULA.GOTO(Utility_AlignControls,TRUE)","v":true}]
[null,null,null,null,null,null,null,null,null,null,{"$f":"  ACTIVATE(S0dat)","v":true},null,null,null,null,null,null,null,{"$f":"      SET.NAME(\"NAllMax\",MAX(NAllMax,NAll))","v":true},{"$f":"SFQ_LineEndPoints(Xmin,Xmax,Ymin2,Ymax2,Atmp3,Atmp1,Yoff,11,ColFigDat)","v":0},null,null,null,"! Flip back to ControlPanel unless this was called from the Fig sheet",null,"! Flip back to ControlPanel unless this was called from the Fig sheet",null,null,null,null,null,null,"! Confirm this report"]
[null,null,null,null,null,null,null,null,null,null,{"$f":"  DLD_SetColWidth(1,0,TRUE)","v":0},null,null,null,null,null,null,null,{"$f":"    END.IF()","v":true},{"$f":"FORMULA(\"Y = {\"&TEXT(Atmp3,\"0.0\")&\" ±\"&TEXT(Atmp4,\"0.0\")&\"} + {\"&TEXT(Atmp1,\"0.0E+00\")&\" ±\"&TEXT(Atmp2,\"0.0E+00\")&\"}X\",INDIRECT(\"'\"&S0fg1&\"'!\"&Arow&3&Acol&ColFigDat+2,FALSE))","v":true},null,null,null,{"$f":"IF(NOT(S0from=S0fg2),SFQ_ConRestore(A0con,ColPar,\"B27\"))","v":false},null,{"$f":"IF(NOT(S0from=S0fg3),SFQ_ConRestore(A0con,ColPar,\"B30\"))","v":false},null,null,"! Confirm this report",null,null,null,{"$f":"FORMULA(\"Finished\",INDIRECT(\"'\"&S0con&\"'!\"&Arow&RowFig+4&Acol&ColPar+1,FALSE))","v":true},null,null,null,null,null,null,null,null,null,null,null,null,null,null,null,null,null,"! Hide some sheets"]
[null,null,null,null,null,null,null,null,null,null,null,null,null,null,null,null,null,null,{"$f":"  NEXT()","v":true},null,null,null,null,null,null,null,null,null,{"$f":"FORMULA(\"Finished\",INDIRECT(\"'\"&S0con&\"'!\"&Arow&RowFig+3&Acol&ColPar+1,FALSE))","v":true},null,null,null,null,null,null,null,null,null,null,null,null,null,null,null,null,null,null,null,null,null,"!=WORKBOOK.HIDE(MID(S0lcm,FIND(\"]\",S0lcm)+1,100))"]
[null,null,null,null,null,null,null,null,null,null,"! Store any excludes",null,null,null,null,null,null,null,null,"! AllLoci Legend",null,null,null,{"$f":"ECHO(TRUE)","v":true},null,{"$f":"ECHO(TRUE)","v":true},null,null,null,null,null,null,"! Flip back to ControlPanel unless this was called from the Fig sheet",null,null,null,null,null,null,null,null,null,null,null,null,null,null,null,null,null,"!=WORKBOOK.HIDE(MID(S0dti,FIND(\"]\",S0dti)+1,100))"]
[null,null,null,null,null,null,null,null,null,null,{"$f":"  FOR(\"Itmp\",1,5,1)","v":true},null,null,null,null,null,null,null,"! Move below last row",{"$f":"FORMULA(Xmin+0.04*(Xmax-Xmin),INDIRECT(\"'\"&S0fg1&\"'!\"&Arow&20&Acol&ColFigDat,FALSE))","v":true},null,null,null,{"$f":"MESSAGE(FALSE)","v":true},null,{"$f":"MESSAGE(FALSE)","v":true},null,null,"! Flip back to ControlPanel unless this was called from the Fig sheet",null,null,null,{"$f":"IF(NOT(S0from=S0fg5),SFQ_ConRestore(A0con,ColPar,\"B36\"))","v":0},null,null,null,null,null,null,null,null,null,null,null,null,null,null,null,null,null,"!=WORKBOOK.HIDE(MID(S0mac,FIND(\"]\",S0mac)+1,100))"]
[null,null,null,null,null,null,null,null,null,null,{"$f":"    SET.NAME(\"Atmp\",EVALUATE(\"Nxcld\"&Itmp))","v":true},null,null,null,null,null,null,null,{"$f":"  SET.NAME(\"NRepBse\",NRepBse+NAllMax)","v":true},{"$f":"FORMULA(Ymax1-0.01*(Ymax1-Ymin1),INDIRECT(\"'\"&S0fg1&\"'!\"&Arow&20&Acol&ColFigDat+1,FALSE))","v":true},null,null,null,{"$f":"MESSAGE(TRUE,TEXT(NOW(),AlngDatTim)&Msub0&X$9&\" > Finshed!\")","v":true},null,{"$f":"MESSAGE(TRUE,TEXT(NOW(),AlngDatTim)&Msub0&Z$9&\" > Finshed!\")","v":true},null,null,{"$f":"IF(NOT(S0from=S0fg4),SFQ_ConRestore(A0con,ColPar,\"B33\"))","v":false},null,null,null,null,null,null,null,null,null,null,null,null,null,null,null,null,null,null,null,null,null,"!=WORKBOOK.HIDE(MID(S0wrk,FIND(\"]\",S0wrk)+1,100))"]
[null,null,null,null,null,null,null,null,null,null,{"$f":"    FORMULA(Atmp,INDIRECT(\"'\"&S0con&\"'!\"&Arow&RowExc+Itmp-1&Acol&ColPar+2,FALSE))","v":true},null,null,null,null,null,null,null,{"$f":"NEXT()","v":true},{"$f":"FORMULA(Xmin+0.04*(Xmax-Xmin),INDIRECT(\"'\"&S0fg1&\"'!\"&Arow&22&Acol&ColFigDat,FALSE))","v":true},null,null,null,null,null,null,null,null,null,null,null,null,{"$f":"DLD_MsgBar(TEXT(NOW(),AlngDatTim)&Msub0&AG$9&\" > Finished!\")","v":0}]
[null,null,null,null,null,null,null,null,null,null,{"$f":"  NEXT()","v":true},null,null,null,null,null,null,null,null,{"$f":"FORMULA(Ymax2-0.01*(Ymax2-Ymin2),INDIRECT(\"'\"&S0fg1&\"'!\"&Arow&22&Acol&ColFigDat+1,FALSE))","v":true},null,null,null,{"$f":"RETURN()","v":true},null,{"$f":"RETURN()","v":true},null,null,{"$f":"DLD_MsgBar(TEXT(NOW(),AlngDatTim)&Msub0&AC$9&\" > Finished!\")","v":0},null,null,null,{"$f":"RETURN()","v":true},null,null,null,null,null,null,null,null,null,null,null,null,null,null,null,null,null,"! Return to the Control"]
[null,null,null,null,null,null,null,null,null,null,{"$f":"  FORMULA(Nuse,INDIRECT(\"'\"&S0con&\"'!\"&Arow&RowTyp+UserFetchType&Acol&ColPar+2,FALSE))","v":true},null,null,null,null,null,null,null,"! Finish this report",null,null,null,null,null,null,null,null,null,{"$f":"RETURN()","v":true},null,null,null,null,null,null,null,null,null,null,null,null,null,null,null,null,null,null,null,null,null,{"$f":"SFQ_ConRestore(A0con,ColPar,\"A1\")","v":0}]
[null,null,null,null,null,null,null,null,null,null,null,null,null,null,null,null,null,null,{"$f":"ACTIVATE(S0rp2)","v":true},"! If requested, copy the data for the specified locus"]
[null,null,null,null,null,null,null,null,null,null,"! Is there data?",null,null,null,null,null,null,null,{"$f":"DLD_ClearCols(240,-1)","v":0},{"$f":"DLD_ClearRange(2,ColFigDat+4,0,ColFigDat+6)","v":0},null,null,null,null,null,null,null,null,null,null,null,null,null,null,null,null,null,null,null,null,null,null,null,null,null,null,null,null,null,null,{"$f":"DLD_MsgBar(TEXT(NOW(),AlngDatTim)&\" \"&AY$1&\" > Finished!\")","v":0}]
[null,null,null,null,null,null,null,null,null,null,{"$f":"  SET.NAME(\"Nok\",0)","v":true},null,null,null,null,null,null,null,{"$f":"DLD_SetColWidth(ColOutFst,0,TRUE)","v":0},{"$f":"DLD_ClearRange(2,ColFigDat+19,0,0)","v":0},null,null,null,null,null,null,null,null,null,null,null,null,null,null,null,null,null,null,null,null,null,null,null,null,null,null,null,null,null,null,{"$f":"HALT()","v":true}]
[null,null,null,null,null,null,null,null,null,null,{"$f":"  SET.NAME(\"Ntmp\",0)","v":true}]
[null,null,null,null,null,null,null,null,null,null,{"$f":"  FOR(\"Ishts\",1,Nshts,1)","v":true},null,null,null,null,null,null,null,"! Confirm this report",{"$f":"IF(NOT(Aloc=\"None\"))","v":true}]
[null,null,null,null,null,null,null,null,null,null,{"$f":"    SET.NAME(\"Atmp\",DEREF(INDIRECT(\"'\"&S0con&\"'!\"&Arow&RowDir+Ishts&Acol&ColLoc+3,FALSE)))","v":true},null,null,null,null,null,null,null,{"$f":"FORMULA(\"Finished\",INDIRECT(\"'\"&S0con&\"'!\"&Arow&RowRep+1&Acol&ColPar+1,FALSE))","v":true},{"$f":"  SET.NAME(\"Irow1\",MATCH(Aloc,INDIRECT(\"'\"&S0fg1&\"'!\"&Acol&ColFigDat+9,FALSE),0))","v":true}]
[null,null,null,null,null,null,null,null,null,null,{"$f":"    IF(OR(Atmp=\"Ok\",Atmp=\"Not STR\"),SET.NAME(\"Nok\",Nok+1))","v":true},null,null,null,null,null,null,null,null,{"$f":"  SET.NAME(\"Irow2\",MATCH(Aloc,INDIRECT(\"'\"&S0fg1&\"'!\"&Acol&ColFigDat+9,FALSE),1))","v":true}]
[null,null,null,null,null,null,null,null,null,null,{"$f":"    IF(RIGHT(Atmp,4)=\"Data\",SET.NAME(\"Ntmp\",Ntmp+1))","v":false},null,null,null,null,null,null,null,"! Flip back to ControlPanel unless this was called from the Fig sheet",{"$f":"  COPY(INDIRECT(\"'\"&S0fg1&\"'!\"&Arow&Irow1&Acol&ColFigDat+9&Asep&Arow&Irow2&Acol&ColFigDat+17,FALSE),INDIRECT(\"'\"&S0fg1&\"'!\"&Arow&2&Acol&ColFigDat+19,FALSE))","v":true}]
[null,null,null,null,null,null,null,null,null,null,{"$f":"  NEXT()","v":true},null,null,null,null,null,null,null,{"$f":"IF(NOT(S0tmp=S0rp2),SFQ_ConRestore(A0con,ColPar,\"B21\"))","v":false},{"$f":"  CANCEL.COPY(FALSE)","v":true}]
[]
[null,null,null,null,null,null,null,null,null,null,"! No… indicate why not.",null,null,null,null,null,null,null,{"$f":"ECHO(TRUE)","v":true},{"$f":"  SET.NAME(\"Ntmp\",COUNTA(INDIRECT(\"'\"&S0fg1&\"'!\"&Acol&ColFigDat+25,FALSE)))","v":true}]
[null,null,null,null,null,null,null,null,null,null,{"$f":"  IF(Nok<0.5)","v":true},null,null,null,null,null,null,null,{"$f":"MESSAGE(FALSE)","v":true},{"$f":"  SET.NAME(\"Kcover\",TINV(1-Pcover/100,Ntmp-1))","v":true}]
[null,null,null,null,null,null,null,null,null,null,{"$f":"    FORMULA(\"Insufficient data!\",INDIRECT(\"'\"&S0con&\"'!\"&Arow&RowDst&Acol&ColPar+1,FALSE))","v":true},null,null,null,null,null,null,null,{"$f":"MESSAGE(TRUE,TEXT(NOW(),AlngDatTim)&Msub0&S$9&\" > Finshed!\")","v":true}]
[null,null,null,null,null,null,null,null,null,null,{"$f":"    SFQ_ConRestore(A0con,ColPar,\"B5\")","v":0},null,null,null,null,null,null,null,null,{"$f":"  SET.NAME(\"Atmp\",LINEST(INDIRECT(\"'\"&S0fg1&\"'!\"&Arow&2&Acol&ColFigDat+25&Asep&Arow&Ntmp&Acol&ColFigDat+25,FALSE),INDIRECT(\"'\"&S0fg1&\"'!\"&Arow&2&Acol&ColFigDat+26&Asep&Arow&Ntmp&Acol&ColFigDat+26,FALSE),TRUE,TRUE))","v":true}]
[null,null,null,null,null,null,null,null,null,null,null,null,null,null,null,null,null,null,{"$f":"RETURN()","v":true},{"$f":"  SET.NAME(\"Atmp1\",INDEX(Atmp,1,1))","v":true}]
[null,null,null,null,null,null,null,null,null,null,{"$f":"    SET.NAME(\"Atmp1\",COUNTA(INDIRECT(\"'\"&S0con&\"'!\"&Acol&ColLoc+2,FALSE))-1)","v":true},null,null,null,null,null,null,null,null,{"$f":"  SET.NAME(\"Atmp2\",INDEX(Atmp,2,1))","v":true}]
[null,null,null,null,null,null,null,null,null,null,{"$f":"    SET.NAME(\"Atmp2\",COUNT(INDIRECT(\"'\"&S0con&\"'!\"&Acol&ColLoc+2,FALSE)))","v":true},null,null,null,null,null,null,null,null,{"$f":"  SET.NAME(\"Atmp3\",INDEX(Atmp,1,2))","v":true}]
[null,null,null,null,null,null,null,null,null,null,{"$f":"    IF(Atmp1=Atmp2)","v":true},null,null,null,null,null,null,null,null,{"$f":"  SET.NAME(\"Atmp4\",INDEX(Atmp,2,2))","v":true}]
[null,null,null,null,null,null,null,null,null,null,{"$f":"      ALERT(\"Error: Workbook \"&WrkBk1&\" specifies too few stutter peak-height ratios for meaningful analysis.\"&Acar&Acar&\"Please specify more copious data and try again.\",2)","v":true},null,null,null,null,null,null,null,null,{"$f":"  SET.NAME(\"Yoff\",Kcover*INDEX(Atmp,3,2))","v":true}]
[null,null,null,null,null,null,null,null,null,null,{"$f":"    ELSE()","v":true},null,null,null,null,null,null,null,null,{"$f":"  SFQ_LineEndPoints(Xmin,Xmax,Ymin1,Ymax1,Atmp3,Atmp1,Yoff,2,ColFigDat+4)","v":0}]
[null,null,null,null,null,null,null,null,null,null,{"$f":"      SET.NAME(\"Atmp\",MID(S0lcm,FIND(\"]\",S0lcm)+1,100))","v":false},null,null,null,null,null,null,null,null,{"$f":"  FORMULA(\"Y = {\"&TEXT(Atmp3,\"0.0\")&\" ±\"&TEXT(Atmp4,\"0.0\")&\"} + {\"&TEXT(Atmp1,\"0.0E+00\")&\" ±\"&TEXT(Atmp2,\"0.0E+00\")&\"}X\",INDIRECT(\"'\"&S0fg1&\"'!\"&Arow&2&Acol&ColFigDat+6,FALSE))","v":true}]
[null,null,null,null,null,null,null,null,null,null,{"$f":"      ALERT(\"Error: None of the (\"&Atmp1&\") loci in workbook (\"&WrkBk1&\") are defined in worksheet: \"&Atmp&\".\"&Acar&Acar&\"Update the MasterList and try again.\",2)","v":false}]
[null,null,null,null,null,null,null,null,null,null,{"$f":"    END.IF()","v":false},null,null,null,null,null,null,null,null,{"$f":"  SET.NAME(\"Atmp\",LINEST(INDIRECT(\"'\"&S0fg1&\"'!\"&Arow&2&Acol&ColFigDat+27&Asep&Arow&Ntmp&Acol&ColFigDat+27,FALSE),INDIRECT(\"'\"&S0fg1&\"'!\"&Arow&2&Acol&ColFigDat+26&Asep&Arow&Ntmp&Acol&ColFigDat+26,FALSE),TRUE,TRUE))","v":true}]
[null,null,null,null,null,null,null,null,null,null,{"$f":"    HALT()","v":true},null,null,null,null,null,null,null,null,{"$f":"  SET.NAME(\"Atmp1\",INDEX(Atmp,1,1))","v":true}]
[null,null,null,null,null,null,null,null,null,null,{"$f":"  END.IF()","v":false},null,null,null,null,null,null,null,null,{"$f":"  SET.NAME(\"Atmp2\",INDEX(Atmp,2,1))","v":true}]
[null,null,null,null,null,null,null,null,null,null,null,null,null,null,null,null,null,null,null,{"$f":"  SET.NAME(\"Atmp3\",INDEX(Atmp,1,2))","v":true}]
[null,null,null,null,null,null,null,null,null,null,"! There is at least some data",null,null,null,null,null,null,null,null,{"$f":"  SET.NAME(\"Atmp4\",INDEX(Atmp,2,2))","v":true}]
[null,null,null,null,null,null,null,null,null,null,{"$f":"  FORMULA(\"Fetched\",INDIRECT(\"'\"&S0con&\"'!\"&Arow&RowDst&Acol&ColPar+1,FALSE))","v":true},null,null,null,null,null,null,null,null,{"$f":"  SET.NAME(\"Yoff\",Kcover*INDEX(Atmp,3,2))","v":true}]
[null,null,null,null,null,null,null,null,null,null,null,null,null,null,null,null,null,null,null,{"$f":"  SFQ_LineEndPoints(Xmin,Xmax,Ymin2,Ymax2,Atmp3,Atmp1,Yoff,11,ColFigDat+4)","v":0}]
[null,null,null,null,null,null,null,null,null,null,{"$f":"  SFQ_ConRestore(A0con,ColPar,\"B15\")","v":0},null,null,null,null,null,null,null,null,{"$f":"  FORMULA(\"Y = {\"&TEXT(Atmp3,\"0.0\")&\" ±\"&TEXT(Atmp4,\"0.0\")&\"} + {\"&TEXT(Atmp1,\"0.0E+00\")&\" ±\"&TEXT(Atmp2,\"0.0E+00\")&\"}X\",INDIRECT(\"'\"&S0fg1&\"'!\"&Arow&3&Acol&ColFigDat+6,FALSE))","v":true}]
[]
[null,null,null,null,null,null,null,null,null,null,"! Warn about active loci with too few data",null,null,null,null,null,null,null,null,{"$f":"  FORMULA(Xmin+0.04*(Xmax-Xmin),INDIRECT(\"'\"&S0fg1&\"'!\"&Arow&20&Acol&ColFigDat+4,FALSE))","v":true}]
[null,null,null,null,null,null,null,null,null,null,{"$f":"  IF(AND(Ntmp > 0,Msub0=\" \"),ALERT(\"Warning. There \"&IF(Ntmp<1.5,\"is one locus that has\",\"are \"&Ntmp&\" loci that have\")&\" no or insufficient data for meaningful analysis.\"&Acar&Acar&\"You may get prettier tables if you deactivate these loci in col \"&ColLoc&\" and 'FETCH' again.\",2))","v":false},null,null,null,null,null,null,null,null,{"$f":"  FORMULA(Ymax1-0.05*(Ymax1-Ymin1),INDIRECT(\"'\"&S0fg1&\"'!\"&Arow&20&Acol&ColFigDat+5,FALSE))","v":true}]
[null,null,null,null,null,null,null,null,null,null,{"$f":"END.IF()","v":true},null,null,null,null,null,null,null,null,{"$f":"  FORMULA(Xmin+0.04*(Xmax-Xmin),INDIRECT(\"'\"&S0fg1&\"'!\"&Arow&22&Acol&ColFigDat+4,FALSE))","v":true}]
[null,null,null,null,null,null,null,null,null,null,null,null,null,null,null,null,null,null,null,{"$f":"  FORMULA(Ymax2-0.05*(Ymax2-Ymin2),INDIRECT(\"'\"&S0fg1&\"'!\"&Arow&22&Acol&ColFigDat+5,FALSE))","v":true}]
[null,null,null,null,null,null,null,null,null,null,{"$f":"ECHO(TRUE)","v":true},null,null,null,null,null,null,null,null,{"$f":"END.IF()","v":true}]
[null,null,null,null,null,null,null,null,null,null,{"$f":"MESSAGE(FALSE)","v":true}]
[null,null,null,null,null,null,null,null,null,null,{"$f":"MESSAGE(TRUE,TEXT(NOW(),AlngDatTim)&Msub0&K$10&\" > Finshed!\")","v":true},null,null,null,null,null,null,null,null,"! Optionals"]
[null,null,null,null,null,null,null,null,null,null,null,null,null,null,null,null,null,null,null,{"$f":"RUN(SFQ_FigPeakHeightOptionals,FALSE)","v":{"$error":"#N/A"}}]
[null,null,null,null,null,null,null,null,null,null,{"$f":"RETURN()","v":true}]
[null,null,null,null,null,null,null,null,null,null,null,null,null,null,null,null,null,null,null,"! Update the axes"]
[null,null,null,null,null,null,null,null,null,null,null,null,null,null,null,null,null,null,null,{"$f":"SFQ_UpdateFigAxisScale(\"Chart 1\",Xmin,Xmax,Ymin1,Ymax1)","v":0}]
[null,null,null,null,null,null,null,null,null,null,null,null,null,null,null,null,null,null,null,{"$f":"SFQ_UpdateFigAxisScale(\"Chart 2\",Xmin,Xmax,Ymin2,Ymax2)","v":0}]
[]
[null,null,null,null,null,null,null,null,null,null,null,null,null,null,null,null,null,null,null,"! Make sure the charts are properly sized"]
[null,null,null,null,null,null,null,null,null,null,null,null,null,null,null,null,null,null,null,{"$f":"SFQ_StandardizeChartSize(\"Chart 1\",\"D3:D28\",12.75,61)","v":0}]
[null,null,null,null,null,null,null,null,null,null,null,null,null,null,null,null,null,null,null,{"$f":"SFQ_StandardizeChartSize(\"Chart 2\",\"E3:E28\",12.75,61)","v":0}]
[]
[null,null,null,null,null,null,null,null,null,null,null,null,null,null,null,null,null,null,null,"! Finish this report"]
[null,null,null,null,null,null,null,null,null,null,null,null,null,null,null,null,null,null,null,{"$f":"CALCULATE.DOCUMENT()","v":true}]
[null,null,null,null,null,null,null,null,null,null,null,null,null,null,null,null,null,null,null,{"$f":"DLD_SetColWidth(ColOutFst+2,0,TRUE)","v":0}]
[]
[null,null,null,null,null,null,null,null,null,null,null,null,null,null,null,null,null,null,null,"! Confirm this report"]
[null,null,null,null,null,null,null,null,null,null,null,null,null,null,null,null,null,null,null,{"$f":"FORMULA(\"Finished\",INDIRECT(\"'\"&S0con&\"'!\"&Arow&RowFig&Acol&ColPar+1,FALSE))","v":true}]
[]
[null,null,null,null,null,null,null,null,null,null,null,null,null,null,null,null,null,null,null,"! Flip back to ControlPanel unless this was called from the Fig sheet"]
[null,null,null,null,null,null,null,null,null,null,null,null,null,null,null,null,null,null,null,{"$f":"IF(NOT(S0from=S0fg1),SFQ_ConRestore(A0con,ColPar,\"B24\"))","v":0}]
[]
[null,null,null,null,null,null,null,null,null,null,null,null,null,null,null,null,null,null,null,{"$f":"ECHO(TRUE)","v":true}]
[null,null,null,null,null,null,null,null,null,null,null,null,null,null,null,null,null,null,null,{"$f":"MESSAGE(FALSE)","v":true}]
[null,null,null,null,null,null,null,null,null,null,null,null,null,null,null,null,null,null,null,{"$f":"MESSAGE(TRUE,TEXT(NOW(),AlngDatTim)&Msub0&T$9&\" > Finshed!\")","v":true}]
[]
[null,null,null,null,null,null,null,null,null,null,null,null,null,null,null,null,null,null,null,{"$f":"RETURN()","v":true}]

{"sheet":"Rep_LocusStats","index":2,"n_rows":19,"n_cols":2,"rows_kept":19,"cut":false,"hidden":false,"merged":[[0,0,1,0]]}
[]
[]
["****************"]
["Created on:","2020-08-27T11:44:33.400"]
["From Version:","2019-02-07"]
[]
["Total #Loci:",20]
["Total #Ratios:",12467]
[]
["Filter","Setting"]
["Fetch","Stored profiles:"]
["Min PkHt",200]
["Max PkHt",20000]
["Allow Stutter^2","No"]
["Allow Forward","No"]
["Max %Stutter",30]
[]
["Min #Ratio",7]
["BpWin",0.5]

{"sheet":"Rep_AlleleStats","index":3,"n_rows":19,"n_cols":2,"rows_kept":19,"cut":false,"hidden":false,"merged":[[0,0,1,0]]}
[]
[]
["****************"]
["Created on:","2020-08-27T11:44:37.160"]
["From Version:","2019-02-07"]
[]
["Total #Loci:",20]
["Total #Ratios:",12467]
[]
["Filter","Setting"]
["Fetch","Stored profiles:"]
["Min PkHt",200]
["Max PkHt",20000]
["Allow Stutter^2","No"]
["Allow Forward","No"]
["Max %Stutter",30]
[]
["Min #Ratio",7]
["BpWin",0.5]

{"sheet":"Fig_PeakHeight","index":4,"n_rows":22,"n_cols":12,"rows_kept":22,"cut":false,"hidden":false,"merged":[[0,0,1,0],[3,0,4,0],[18,6,18,11],[11,8,12,8]]}
[null,null,null,"Data from: PP21_pop samples_stutter_new kit.xls",null,null,"Parameter","Default","Use"]
[null,null,null,"Stutter Direction: Reverse,  #Δbp Repeats: 1",null,null,"X min",199,"UseDefault"]
["****************",null,null,null,null,null,"X max",7583.99,"UseDefault"]
[null,null,null,null,null,null,"Ht min",9,"UseDefault"]
[null,null,null,null,null,null,"Ht max",596,"UseDefault"]
[null,null,null,null,null,null,"%S min",0.47058823529411764,"UseDefault"]
["Created on:","2020-08-27T11:35:16.310",null,null,null,null,"%S max",25.889328063241106,"UseDefault"]
["From Version:","2019-02-07",null,null,null,null,"%Coverage",68,"Use default"]
[]
["Total #Loci:",20,null,null,null,null,"Locus","None","None"]
["Total #Ratios:",12467]
[null,null,null,null,null,null,"Specks",true]
["Filter","Setting",null,null,null,null,"Lines",true]
["Fetch","Stored profiles:",null,null,null,null,"Equations",true]
["Min PkHt",200,null,null,null,null,"Legend",true]
["Max PkHt",20000]
["Allow Stutter^2","No"]
["Allow Forward","No"]
["Max %Stutter",30,null,null,null,null,"Usable loci"]
[null,null,null,null,null,null,"Loci","#Data","MinSz","MaxSz","Min%S","Max%S"]
["Min #Ratio",7]
["BpWin",0.5]

{"sheet":"Fig_BP","index":5,"n_rows":22,"n_cols":12,"rows_kept":22,"cut":false,"hidden":false,"merged":[[0,0,1,0],[3,0,4,0],[18,6,18,11],[11,8,12,8]]}
[null,null,null,"Data from: PP21_pop samples_stutter_new kit.xls",null,null,"Parameter","Default","Use"]
[null,null,null,"Stutter Direction: Reverse,  #Δbp Repeats: 1",null,null,"X min",77.001000000000005,"UseDefault"]
[null,null,null,null,null,null,"X max",462.99900000000002,"UseDefault"]
[null,null,null,null,null,null,"Y min",0,"UseDefault"]
[null,null,null,null,null,null,"Y max",25.998999999999999,"UseDefault"]
[]
["Created on:","2020-08-27T11:46:16.630"]
["From Version:","27-Auf-2020",null,null,null,null,"%Coverage",95,"Use default"]
[]
["Total #Loci:",20,null,null,null,null,"HiLite Locus","None","None"]
["Total #Ratios:",12467]
[]
["Filter","Setting"]
["Fetch","Stored profiles:"]
["Min PkHt",200]
["Max PkHt",20000,null,null,null,null,{"$f":"\"Labels \"&IF(H16,\"On\",\"Off\")","v":"Labels On"},true]
["Allow Stutter^2","No"]
["Allow Forward","No"]
["Max %Stutter",30,null,null,null,null,"Usable loci"]
[null,null,null,null,null,null,"Loci","#Alleles","MinSz","MaxSz","Min%S","Max%S"]
["Min #Ratio",7]
["BpWin",0.5]

{"sheet":"Fig_Allele","index":6,"n_rows":22,"n_cols":12,"rows_kept":22,"cut":false,"hidden":false,"merged":[[0,0,1,0],[3,0,4,0],[18,6,18,11],[11,8,12,8]]}
[null,null,null,"Data from: PP21_pop samples_stutter_new kit.xls",null,null,"Parameter","Default","Use"]
[null,null,null,"Stutter Direction: Reverse,  #Δbp Repeats: 1",null,null,"X min",1.0009999999999999,"UseDefault"]
[null,null,null,null,null,null,"X max",39.999000000000002,"UseDefault"]
[null,null,null,null,null,null,"Y min",0,"UseDefault"]
[null,null,null,null,null,null,"Y max",25.998999999999999,"UseDefault"]
[]
["Created on:","2020-08-27T11:46:32.110"]
["From Version:","27-Auf-2020",null,null,null,null,"%Coverage",95,"Use default"]
[]
["Total #Loci:",20,null,null,null,null,"HiLite Locus","None","None"]
["Total #Ratios:",12467]
[]
["Filter","Setting"]
["Fetch","Stored profiles:"]
["Min PkHt",200]
["Max PkHt",20000,null,null,null,null,{"$f":"\"Labels \"&IF(H16,\"On\",\"Off\")","v":"Labels On"},true]
["Allow Stutter^2","No"]
["Allow Forward","No"]
["Max %Stutter",30,null,null,null,null,"Usable loci"]
[null,null,null,null,null,null,"Loci","#Alleles","MinSz","MaxSz","Min%S","Max%S"]
["Min #Ratio",7]
["BpWin",0.5]

{"sheet":"Fig_Density","index":7,"n_rows":22,"n_cols":11,"rows_kept":22,"cut":false,"hidden":false,"merged":[[0,0,1,0],[3,0,4,0],[18,6,18,8],[8,8,9,8]]}
[null,null,null,"Data from: PP21_pop samples_stutter_new kit.xls",null,null,"Parameter","Default","Use"]
[null,null,null,"Stutter Direction: Reverse,  #Δbp Repeats: 1",null,null,"X min",0,"Use default"]
["****************",null,null,null,null,null,"X max",28,"Use default"]
[null,null,null,null,null,null,"Bin width",1,"Use default"]
[]
[null,null,null,null,null,null,"%Threshold",95,"Use default"]
["Created on:","2020-08-27T11:46:40.470"]
["From Version:","27-Auf-2020",null,null,null,null,"Locus","None","Penta_E"]
[]
["Total #Loci:",20]
["Total #Ratios:",12467,null,null,null,null,"Parameter","All Loci"]
[null,null,null,null,null,null,"#Ratio"]
["Filter","Setting",null,null,null,null,"Mean"]
["Fetch","Stored profiles:",null,null,null,null,"SD"]
["Min PkHt",200,null,null,null,null,"95%(emprical)"]
["Max PkHt",20000,null,null,null,null,"95%(Gaussian)"]
["Allow Stutter^2","No",null,null,null,null,"%<3SD",99.639047084302561,98.675496688741717]
["Allow Forward","No"]
["Max %Stutter",30,null,null,null,null,"Available Loci"]
[null,null,null,null,null,null,"Loci","#Ratio","Mean","SD","%<3SD"]
["Min #Ratio",7]
["BpWin",0.5]

{"sheet":"Fig_Robin","index":8,"n_rows":22,"n_cols":12,"rows_kept":22,"cut":false,"hidden":false,"merged":[[0,0,1,0],[3,0,4,0],[18,6,18,11],[11,8,12,8]]}
[null,null,null,"Data from: PP21_pop samples_stutter_new kit.xls",null,null,"Parameter","Default","Use"]
[null,null,null,"Stutter Direction: Reverse,  #Δbp Repeats: 1     Locus: D5S818",null,null,"X min",325,"UseDefault"]
["****************",null,null,null,null,null,"X max",360,"UseDefault"]
[null,null,null,null,null,null,"Y min",1.7505470459518599,"UseDefault"]
[null,null,null,null,null,null,"Y max",12.043795620437956,"UseDefault"]
[]
["Created on:","2020-08-27T11:35:21.760",null,null,null,null,"Min #Ratios",5,"Use default"]
["From Version:","2019-02-07",null,null,null,null,"%Coverage",95,"Use default"]
[]
["Total #Loci:",20,null,null,null,null,"Locus","D5S818","D5S818"]
["Total #Ratios:",12467]
[null,null,null,null,null,null,"Specks",true]
["Filter","Setting",null,null,null,null,"Mean Dots",true]
["Fetch","Stored profiles:",null,null,null,null,"Mean Line",true]
["Min PkHt",200,null,null,null,null,"Bars",true]
["Max PkHt",20000,null,null,null,null,"Bar Lines",true]
["Allow Stutter^2","No"]
["Allow Forward","No"]
["Max %Stutter",30,null,null,null,null,"Usable loci"]
[null,null,null,null,null,null,"Loci","#Ratios","MinBP","MaxBP","Min%S","Max%S"]
["Min #Ratio",7]
["BpWin",0.5]

{"sheet":"Data","index":9,"n_rows":0,"n_cols":0,"rows_kept":0,"cut":false,"hidden":false,"merged":[]}

{"sheet":"Data_Compare","index":10,"n_rows":209,"n_cols":218,"rows_kept":209,"cut":false,"hidden":false,"merged":[]}
["DYS576",null,null,null,null,null,null,null,null,null,"DYS389I",null,null,null,null,null,null,null,null,null,"DYS448",null,null,null,null,null,null,null,null,null,"DYS389II",null,null,null,null,null,null,null,null,null,"DYS19",null,null,null,null,null,null,null,null,null,"DYS391",null,null,null,null,null,null,null,null,null,"DYS481",null,null,null,null,null,null,null,null,null,"DYS549",null,null,null,null,null,null,null,null,null,"DYS533",null,null,null,null,null,null,null,null,null,"DYS438",null,null,null,null,null,null,null,null,null,"DYS437",null,null,null,null,null,null,null,null,null,"DYS570",null,null,null,null,null,null,null,null,null,"DYS635",null,null,null,null,null,null,null,null,null,"DYS390",null,null,null,null,null,null,null,null,null,"DYS439",null,null,null,null,null,null,null,null,null,"DYS392",null,null,null,null,null,null,null,null,null,"DYS643",null,null,null,null,null,null,null,null,null,"DYS393",null,null,null,null,null,null,null,null,null,"DYS458",null,null,null,null,null,null,null,null,null,"DYS385a_b",null,null,null,null,null,null,null,null,null,"DYS456",null,null,null,null,null,null,null,null,null,"Y-GATA-H4"]
["Sample","All S","All P","Sze S","Sze P","Hgt S","Hgt P","PHR",null,null,"Sample","All S","All P","Sze S","Sze P","Hgt S","Hgt P","PHR",null,null,"Sample","All S","All P","Sze S","Sze P","Hgt S","Hgt P","PHR",null,null,"Sample","All S","All P","Sze S","Sze P","Hgt S","Hgt P","PHR",null,null,"Sample","All S","All P","Sze S","Sze P","Hgt S","Hgt P","PHR",null,null,"Sample","All S","All P","Sze S","Sze P","Hgt S","Hgt P","PHR",null,null,"Sample","All S","All P","Sze S","Sze P","Hgt S","Hgt P","PHR",null,null,"Sample","All S","All P","Sze S","Sze P","Hgt S","Hgt P","PHR",null,null,"Sample","All S","All P","Sze S","Sze P","Hgt S","Hgt P","PHR",null,null,"Sample","All S","All P","Sze S","Sze P","Hgt S","Hgt P","PHR",null,null,"Sample","All S","All P","Sze S","Sze P","Hgt S","Hgt P","PHR",null,null,"Sample","All S","All P","Sze S","Sze P","Hgt S","Hgt P","PHR",null,null,"Sample","All S","All P","Sze S","Sze P","Hgt S","Hgt P","PHR",null,null,"Sample","All S","All P","Sze S","Sze P","Hgt S","Hgt P","PHR",null,null,"Sample","All S","All P","Sze S","Sze P","Hgt S","Hgt P","PHR",null,null,"Sample","All S","All P","Sze S","Sze P","Hgt S","Hgt P","PHR",null,null,"Sample","All S","All P","Sze S","Sze P","Hgt S","Hgt P","PHR",null,null,"Sample","All S","All P","Sze S","Sze P","Hgt S","Hgt P","PHR",null,null,"Sample","All S","All P","Sze S","Sze P","Hgt S","Hgt P","PHR",null,null,"Sample","All S","All P","Sze S","Sze P","Hgt S","Hgt P","PHR",null,null,"Sample","All S","All P","Sze S","Sze P","Hgt S","Hgt P","PHR",null,null,"Sample","All S","All P","Sze S","Sze P","Hgt S","Hgt P","PHR"]
["(+1)_03-17-14_AG",17,18,111.84,115.93,526,5825,9.0300429184549351,null,null,"A13035670","OL","OL",145.16,149.46,18,60,30,null,null,"(+1)_03-17-14_AG",17.2,18.2,210.64,216.26,11,217,5.0691244239631335,null,null,"A13028756",27,28,269.76,273.89,21,70,30,null,null,"(+1)_03-17-14_AG",13,14,324.38,328.43,220,3821,5.7576550641193407,null,null,"A14001591","OL","OL",112.04,116.2,31,105,29.523809523809526,null,null,"(+1)_03-17-14_AG",21,22,144.25,147.19,1307,8778,14.889496468443836,null,null,"A13035222",7,8,192.91,196.62,16,55,29.09090909090909,null,null,"(+1)_03-17-14_AG",11,12,257.01,261.05,516,8640,5.9722222222222223,null,null,"(+1)_03-17-14_AG","OL","OL",338.03,342.97,14,56,25,null,null,"(+1)_03-17-14_AG",13,14,358.25,362.31,197,6493,3.0340366548590789,null,null,"A14000819","OL","OL",107.87,111.52,29,98,29.591836734693878,null,null,"(+1)_03-17-14_AG",17,18,160.47999999999999,164.44,32,171,18.71345029239766,null,null,"A14000455","OL","OL",212.59,216.62,90,300,30,null,null,"(+1)_03-17-14_AG",11,12,284.06,288.2,304,5435,5.5933762649494021,null,null,"C14000115",19,20,359.26,362.46,13,65,20,null,null,"(+1)_03-17-14_AG",9,10,387.22,392.48,88,4359,2.0188116540490939,null,null,"C13019581","OL","OL",97.76,101.93,45,158,28.481012658227847,null,null,"(+1)_03-17-14_AG","OL",14.2,172.79,176.72,13,59,22.033898305084747,null,null,"A13026867",11.3,12.3,248.08,252.25,18,62,29.032258064516128,null,null,"(+1)_03-17-14_AG",16,17,338.89,342.95,460,4490,10.244988864142538,null,null,"A14000255",12,13,393.23,397.36,707,8025,8.8099688473520246]
["(+1)_03-17-14_AG",17,18,111.68,115.85,497,5813,8.5498021675554785,null,null,"C14000276","OL","OL",147.47999999999999,151.61000000000001,19,66,28.787878787878789,null,null,"(+1)_03-17-14_AG",18,19,214.39,220.32,101,5809,1.7386813565157515,null,null,"A13028756","OL","OL",258.63,262.61,85,296,28.716216216216218,null,null,"(+1)_03-17-14_AG",13,14,324.20999999999998,328.33,215,3606,5.9622850804215197,null,null,"A13036158","OL","OL",94.79,98.96,41,139,29.496402877697843,null,null,"(+1)_03-17-14_AG","OL",28,162.38,164.91,18,124,14.516129032258064,null,null,"A14000455","OL","OL",231.74,235.75,58,204,28.431372549019606,null,null,"(+1)_03-17-14_AG","OL","OL",282.68,286.67,20,97,20.618556701030929,null,null,"(+1)_03-17-14_AG","OL","OL",337.79,343.11,17,73,23.287671232876711,null,null,"(+1)_03-17-14_AG",13,14,358.25,362.23,193,6363,3.033160458903033,null,null,"A14000756","OL","OL",89.48,93.17,40,140,28.571428571428573,null,null,"(+1)_03-17-14_AG",20,21,172.64,176.56,391,6603,5.921550810237771,null,null,"C13019586","OL","OL",253.22,257.39999999999998,24,86,27.906976744186046,null,null,"(+1)_03-17-14_AG",16,17,304.77,308.77,14,202,6.9306930693069306,null,null,"A13035731","OL","OL",325.32,328.21,15,79,18.9873417721519,null,null,"(+1)_03-17-14_AG",9,10,387.31,392.51,97,4339,2.2355381424291312,null,null,"A14000455","OL","OL",102.28,106.12,141,501,28.143712574850298,null,null,"(+1)_03-17-14_AG",16,17,182.21,185.99,719,8363,8.5973932799234731,null,null,"A14001297",13.1,"OL",254.34,258.35000000000002,23,81,28.395061728395063,null,null,"(+1)_03-17-14_AG",16,17,338.82,342.81,453,4407,10.279101429543907,null,null,"A14002449",12,13,393.28,397.37,472,5739,8.2244293430911313]
["(+2)_03-17-14_AG",17,18,111.83,115.75,695,7613,9.1291212399842383,null,null,"A14000208","OL","OL",169.39,173.81,10,36,27.777777777777779,null,null,"(+1)_03-17-14_AG",18,19,214.17,220.06,91,5372,1.6939687267311989,null,null,"A13028756","OL","OL",260.54000000000002,264.52,96,339,28.318584070796462,null,null,"(+2)_03-17-14_AG",13,14,324.38,328.45,358,5892,6.0760353021045486,null,null,"A14000203","OL","OL",108.1,112.14,32,109,29.357798165137616,null,null,"(+1)_03-17-14_AG",31,32,173.42,176.4,14,155,9.0322580645161299,null,null,"A13023482","OL","OL",231.65,235.77,73,267,27.340823970037452,null,null,"(+1)_03-17-14_AG","OL","OL",283.89999999999998,288.05,23,164,14.024390243902438,null,null,"A13035189","OL","OL",326.12,330.75,10,53,18.867924528301888,null,null,"(+2)_03-17-14_AG",13,14,358.31,362.23,279,9010,3.0965593784683683,null,null,"C14000343","OL","OL",119.31,122.86,41,146,28.082191780821919,null,null,"(+1)_03-17-14_AG",20,21,172.62,176.64,404,6504,6.211562115621156,null,null,"A14002203","OL","OL",252.9,257.08,45,165,27.272727272727273,null,null,"(+1)_03-17-14_AG",11,12,284.19,288.23,297,5354,5.5472543892416883,null,null,"A13035480","OL","OL",330.02,333.1,15,82,18.292682926829269,null,null,"(+2)_03-17-14_AG",9,10,387.3,392.43,135,5958,2.2658610271903323,null,null,"A13035877","OL","OL",144.82,148.97,83,295,28.135593220338983,null,null,"(+1)_03-17-14_AG",16,17,182.23,185.89,695,8242,8.4324193157000735,null,null,"A13026686",11.3,12.3,248.24,252.4,21,74,28.378378378378379,null,null,"(+2)_03-17-14_AG",16,17,338.97,342.91,687,6696,10.259856630824373,null,null,"A13035513",11,12,389.21,393.35,50,624,8.0128205128205128]
["(+2)_03-17-14_AG",17,18,111.73,115.79,606,6811,8.8973718983996477,null,null,"A14000336","OL","OL",143.36000000000001,147.04,38,146,26.027397260273972,null,null,"(+2)_03-17-14_AG",18,19,214.15,220.13,127,7885,1.6106531388712746,null,null,"A13026686","OL","OL",266.75,270.72000000000003,91,327,27.828746177370032,null,null,"(+2)_03-17-14_AG",13,14,324.22000000000003,328.42,295,4857,6.073708050236772,null,null,"A13035280","OL","OL",84.15,88.46,72,246,29.26829268292683,null,null,"(+1)_03-17-14_AG",21,22,144.29,147.25,1260,8604,14.644351464435147,null,null,"A13023482","OL","OL",214.14,217.76,17,64,26.5625,null,null,"(+1)_03-17-14_AG",11,12,257.04000000000002,261.02999999999997,471,8395,5.6104824300178677,null,null,"(+1)_03-17-14_AG",14.1,"OL",335.8,340.74,12,65,18.46153846153846,null,null,"(+2)_03-17-14_AG",13,14,358.14,362.22,239,7610,3.1406044678055189,null,null,"C14000343","OL","OL",143.5,147.65,13,47,27.659574468085108,null,null,"(+2)_03-17-14_AG",17,18,160.80000000000001,164.47,21,179,11.731843575418994,null,null,"A14000756","OL","OL",244.36,248.39,20,74,27.027027027027028,null,null,"(+1)_03-17-14_AG",16,17,304.82,308.70999999999998,12,236,5.0847457627118642,null,null,"A14001392","OL","OL",325.32,328.03,14,78,17.948717948717949,null,null,"(+2)_03-17-14_AG",9,10,387.31,392.44,117,5156,2.269200930954228,null,null,"C14000276","OL","OL",97.78,101.75,88,318,27.672955974842768,null,null,"(+2)_03-17-14_AG",16,17,182.05,185.84,913,11185,8.1627179257934728,null,null,"A13026686","OL","OL",279.57,283.67,16,57,28.07017543859649,null,null,"(+2)_03-17-14_AG",16,17,338.88,342.79,605,5891,10.269903242233916,null,null,"A13034770",12,13,393.19,397.34,927,11693,7.9278200632857265]
["A13001215",17,18,111.79,115.82,760,7791,9.7548453343601587,null,null,"A13035480","OL","OL",143.19,147.04,34,131,25.954198473282442,null,null,"(+2)_03-17-14_AG",17.2,18.2,210.06,216.19,10,176,5.6818181818181817,null,null,"A14001275","OL","OL",264.32,268.52999999999997,14,51,27.450980392156861,null,null,"A13001215",14,15,328.37,332.39,208,2717,7.6555023923444976,null,null,"C13014559",7,8,89.41,93.68,50,174,28.735632183908045,null,null,"(+1)_03-17-14_AG",31,32,173.58,176.48,18,90,20,null,null,"A13023482","OL","OL",199.06,202.98,24,91,26.373626373626372,null,null,"(+1)_03-17-14_AG","OL","OL",282.63,286.68,21,121,17.355371900826448,null,null,"A14001297","OL","OL",336.42,340.94,11,62,17.741935483870968,null,null,"A13001215",13,14,358.31,362.15,119,3292,3.6148238153098422,null,null,"A13023291","OL",13.2,95.86,99.83,53,192,27.604166666666668,null,null,"(+2)_03-17-14_AG",20,21,172.58,176.53,540,8299,6.50680804916255,null,null,"C13013508","OL","OL",253.22,257.08,26,97,26.804123711340207,null,null,"(+2)_03-17-14_AG",10.199999999999999,"OL",282.22000000000003,286.22000000000003,15,242,6.1983471074380168,null,null,"A13035877",19,20,358.67,361.73,11,66,16.666666666666668,null,null,"A13001215",11,12,397.68,402.94,71,2995,2.370617696160267,null,null,"A13035037",8,9,107.86,111.86,56,209,26.794258373205743,null,null,"(+2)_03-17-14_AG","OL",14.2,172.74,176.85,11,48,22.916666666666668,null,null,"A13035222",14.3,15.3,260.77,264.93,107,387,27.648578811369511,null,null,"A13001215",17,18,342.88,346.92,500,3997,12.509382036527395,null,null,"A14001591",11,12,389.18,393.27,330,4275,7.7192982456140351]
["A13004823",14,15,99.65,103.68,1600,15771,10.145203221102022,null,null,"A13035222","OL","OL",143.19,147.54,14,54,25.925925925925927,null,null,"(+2)_03-17-14_AG",18,19,214.15,220.13,99,6340,1.5615141955835963,null,null,"A13034231","OL","OL",267.44,271.45999999999998,16,59,27.118644067796609,null,null,"A13004823",13.2,14.2,326.27999999999997,330.46,22,322,6.8322981366459627,null,null,"A13034231","OL","OL",84.21,88.41,84,293,28.668941979522184,null,null,"(+2)_03-17-14_AG",21,22,144.25,147.19,1872,12538,14.930610942734088,null,null,"A14002449","OL","OL",223.73,227.73,25,96,26.041666666666668,null,null,"(+1)_03-17-14_AG","OL","OL",283.88,288.07,19,120,15.833333333333334,null,null,"A13035280","OL","OL",325.64,330.62,23,137,16.788321167883211,null,null,"A13004823",13,14,358.25,362.14,260,7362,3.5316490084216245,null,null,"A14001047",25,"OL",144.82,148.46,27,98,27.551020408163264,null,null,"(+2)_03-17-14_AG","OL",23.1,181.74,185.36,16,116,13.793103448275861,null,null,"A13019771","OL","OL",227.25,231.42,13,49,26.530612244897959,null,null,"(+2)_03-17-14_AG",11,12,284.22000000000003,288.20999999999998,421,7687,5.4767789774944715,null,null,"A14001297",17,18,353.05,356.1,22,134,16.417910447761194,null,null,"A13004823",12,13,402.93,407.99,171,6022,2.8395881766854867,null,null,"A14000336","OL","OL",121.53,125.76,40,157,25.477707006369428,null,null,"(+2)_03-17-14_AG",16,17,182.19,185.95,824,9930,8.2980866062437055,null,null,"A13033185",20.2,"OL",284.69,288.22000000000003,40,151,26.490066225165563,null,null,"A13004823",14,15,330.62,334.64,1040,11319,9.1880908207438825,null,null,"A13028756",11,12,389.18,393.27,646,8403,7.6877305724146137]
["A13005329",14,15,99.48,103.53,875,8627,10.142575634635447,null,null,"A13035063",9,10,144.03,148.04,31,158,19.620253164556964,null,null,"A13001215",19,20,220.2,226.12,126,5466,2.3051591657519208,null,null,"A13035280","OL","OL",258.74,262.77,65,244,26.639344262295083,null,null,"A13004823",14,15,328.37,332.39,349,4645,7.5134553283100107,null,null,"A13034231","OL","OL",81.75,85.78,20,70,28.571428571428573,null,null,"(+2)_03-17-14_AG",27,28,162.24,164.95,19,151,12.582781456953642,null,null,"A14000901","OL","OL",227.73,231.74,77,297,25.925925925925927,null,null,"(+2)_03-17-14_AG",11,12,256.95,261.04000000000002,744,12466,5.9682335953794317,null,null,"A13032309",14,"OL",334.22,338.83,50,326,15.337423312883436,null,null,"A13005329",14,15,362.23,366.26,181,3920,4.6173469387755102,null,null,"A14000455","OL","OL",143.16,147.47999999999999,70,255,27.450980392156861,null,null,"(+2)_03-17-14_AG",17,18,160.32,164.48,19,132,14.393939393939394,null,null,"A14000208",28,"OL",255.05,259.12,18,69,26.086956521739129,null,null,"(+2)_03-17-14_AG",10.199999999999999,"OL",282.07,286.22000000000003,11,157,7.0063694267515926,null,null,"A13028756",8,"OL",325.8,328.35,20,125,16,null,null,"A13005329",11,12,397.7,402.77,107,3665,2.9195088676671213,null,null,"A13035280","OL",7,99.31,103.52,42,167,25.149700598802394,null,null,"A13001215",14.2,15.2,176.76,180.65,18,140,12.857142857142858,null,null,"A14000336",17.100000000000001,18,270.69,274.36,16,61,26.229508196721312,null,null,"A13005329",14,15,330.75,334.75,590,6331,9.3192228715842678,null,null,"A14001297",12,13,393.19,397.34,573,7515,7.6247504990019959]
["A13012447",15,16,103.68,107.69,1068,12519,8.5310328300982512,null,null,"C14000343","OL","OL",145.49,149.97,31,189,16.402116402116402,null,null,"A13004823",19,20,220.16,226.13,235,10209,2.3018904887844061,null,null,"A14002449","OL","OL",258.58,262.7,66,251,26.294820717131476,null,null,"A13005329",13,14,324.36,328.51,118,1837,6.4235166031573216,null,null,"A13026831","OL","OL",94.65,98.96,19,67,28.35820895522388,null,null,"(+2)_03-17-14_AG",31,32,173.53,176.37,13,124,10.483870967741936,null,null,"A14001047","OL","OL",231.58,235.75,53,208,25.48076923076923,null,null,"(+2)_03-17-14_AG","OL","OL",284.37,288.06,32,139,23.021582733812949,null,null,"A14000593","OL","OL",325.48,330.79,14,94,14.893617021276595,null,null,"A13012447",15,16,366.09,370.14,240,4454,5.3884149079479116,null,null,"A13023291",13,14,97.93,102.26,1719,6312,27.233840304182511,null,null,"(+2)_03-17-14_AG",20,21,172.74,176.69,462,7573,6.1006206259078306,null,null,"(+1)_03-17-14_AG","OL","OL",248.75,252.96,15,58,25.862068965517242,null,null,"(+2)_03-17-14_AG",11,12,284.07,288.20999999999998,356,6705,5.3094705443698729,null,null,"A14000455",19,20,358.84,361.9,11,74,14.864864864864865,null,null,"A13012447",10,11,392.41,397.69,126,4551,2.7686222808174028,null,null,"A14002449","OL","OL",97.77,101.74,78,317,24.605678233438486,null,null,"A13001215",17,18,185.82,189.69,1242,12487,9.9463441979658853,null,null,"A13001215",15,16,261.73,265.73,1449,6379,22.715159115848881,null,null,"A13012447",14,15,330.58,334.74,567,6012,9.4311377245508989,null,null,"A13034610",11,12,389.13,393.13,458,6084,7.5279421433267588]
["A13019120","OL","OL",77.95,81.89,31,199,15.577889447236181,null,null,"C14000276","OL","OL",145.32,149.63,13,84,15.476190476190476,null,null,"A13004823",19.2,20.2,221.94,227.91,19,66,28.787878787878789,null,null,"A14000455","OL","OL",258.67,262.68,73,280,26.071428571428573,null,null,"A13012447",13.2,14.2,326.27,330.42,16,230,6.9565217391304346,null,null,"A13001215","OL","OL",83.62,88.1,13,46,28.260869565217391,null,null,"(+2)_03-17-14_AG",21,22,144.25,147.19,1567,10685,14.665418811417876,null,null,"A14001297","OL","OL",223.87,227.73,50,221,22.624434389140273,null,null,"(+2)_03-17-14_AG",11,12,256.89999999999998,260.97000000000003,625,10520,5.9410646387832697,null,null,"C14000343",14.1,"OL",335.55,340.84,11,79,13.924050632911392,null,null,"A13019120",13,14,358.31,362.31,216,6456,3.3457249070631971,null,null,"A14000208",14,15,101.78,106.04,92,343,26.822157434402332,null,null,"A13001215",16,17,156.38,160.49,16,114,14.035087719298245,null,null,"A14000547","OL","OL",212.49,216.5,114,443,25.733634311512414,null,null,"A13001215","OL","OL",274.2,278.47000000000003,25,90,27.777777777777779,null,null,"A13035877","OL","OL",324.68,328.03,24,171,14.035087719298245,null,null,"A13019120",10,11,392.4,397.68,101,3570,2.8291316526610646,null,null,"A14000308","OL","OL",145.36000000000001,149.19999999999999,12,49,24.489795918367346,null,null,"A13004823",16,17,182.1,185.81,3279,29926,10.957027334090757,null,null,"A14000243","OL","OL",234.53,238.4,16,75,21.333333333333332,null,null,"A13019120",14,15,330.63,334.66,470,5105,9.2066601371204708,null,null,"A14000029",11,12,389.11,393.23,564,7508,7.5119872136387853]
["A13019120",13,14,95.51,99.48,26,438,5.9360730593607309,null,null,"A14000308","OL","OL",143.18,147.19999999999999,35,250,14,null,null,"A13005329",18,19,214.27,220.2,132,5182,2.5472790428406022,null,null,"A13035222","OL","OL",260.61,264.61,113,439,25.740318906605921,null,null,"A13012447",14,15,328.35,332.5,256,3251,7.8745001537988308,null,null,"(+1)_03-17-14_AG","OL","OL",112.19,116.27,43,160,26.875,null,null,"(+2)_03-17-14_AG","OL",28,162.4,164.96,11,138,7.9710144927536231,null,null,"A13034770","OL","OL",227.76,231.66,15,68,22.058823529411764,null,null,"(+2)_03-17-14_AG","OL","OL",282.69,286.68,31,126,24.603174603174605,null,null,"(+2)_03-17-14_AG","OL","OL",337.63,342.95,13,100,13,null,null,"A13019771",13,14,358.19,362.22,183,5089,3.5959913539005699,null,null,"A13019771",13,14,97.93,101.93,102,383,26.631853785900784,null,null,"A13001215","OL","OL",174.33,178.54,26,98,26.530612244897959,null,null,"A14000308","OL","OL",216.6,220.64,46,179,25.69832402234637,null,null,"A13001215",10,11,280.20999999999998,284.14999999999998,295,5425,5.4377880184331797,null,null,"A14001591","OL","OL",325.48,328.35,12,87,13.793103448275861,null,null,"A13019771","OL","OL",386.48,391.75,10,43,23.255813953488371,null,null,"A13035480","OL","OL",97.74,101.78,113,465,24.301075268817204,null,null,"A13004823",23,24,208.23,212.42,29,250,11.6,null,null,"A13026867",13,"OL",253.38,256.91000000000003,35,165,21.212121212121211,null,null,"A13019771",15,16,334.75,338.75,842,8231,10.229619730287936,null,null,"A13019771",11,12,389.28,393.4,536,7207,7.4372138198973223]
["A13019120","OL","OL",101.59,105.64,151,576,26.215277777777779,null,null,"A13026867","OL","OL",149.63,153.75,27,206,13.106796116504855,null,null,"A13012447",20,21,226.12,232.22,186,7485,2.4849699398797593,null,null,"A13035063","OL","OL",283.89,288,10,39,25.641025641025642,null,null,"A13019120",14.2,15.2,330.47,334.5,15,264,5.6818181818181817,null,null,"C14000115","OL","OL",121.7,125.78,17,64,26.5625,null,null,"A13001215",23,24,150.11000000000001,152.91999999999999,1448,7721,18.754047403186117,null,null,"A13034231","OL","OL",223.7,227.75,55,257,21.40077821011673,null,null,"(+2)_03-17-14_AG","OL","OL",283.61,287.89999999999998,22,118,18.64406779661017,null,null,"(+2)_03-17-14_AG","OL","OL",337.87,343.07,12,102,11.764705882352942,null,null,"A13022253",14,15,362.14,366.15,188,4019,4.6777805424234886,null,null,"A14000547","OL","OL",122.86,126.89,138,523,26.38623326959847,null,null,"A13001215",21,22,176.6,180.65,619,7432,8.3288482238966637,null,null,"C13014559","OL","OL",253.02,257.14999999999998,41,160,25.625,null,null,"A13004823",5,6,259.64,263.49,16,93,17.204301075268816,null,null,"C14000011","OL","OL",315.43,318.88,29,214,13.551401869158878,null,null,"A13019771",11,12,397.69,402.93,142,5478,2.5921869295363273,null,null,"(+1)_03-17-14_AG","OL","OL",97.8,101.73,20,88,22.727272727272727,null,null,"A13005329","OL",14.2,172.94,176.64,23,255,9.0196078431372548,null,null,"A13035222","OL",20,278.49,282.45,26,130,20,null,null,"A13022253",14,15,330.76,334.76,540,5506,9.8074827460951681,null,null,"A13012447",11,12,389.28,393.4,424,5710,7.4255691768826617]
["A13019120",17,18,111.78,115.81,878,9071,9.6791974423988538,null,null,"A13026686","OL","OL",145.5,149.80000000000001,27,244,11.065573770491802,null,null,"A13019120",19,20,220.35,226.29,199,9074,2.1930791271765484,null,null,"A14000336","OL","OL",267.49,271.64999999999998,11,43,25.581395348837209,null,null,"A13019120",15,16,332.56,336.59,330,3880,8.5051546391752577,null,null,"A14000214","OL","OL",84.11,88.38,60,227,26.431718061674008,null,null,"A13001215","OL","OL",158.03,160.82,13,51,25.490196078431371,null,null,"A14000255",7,8,192.92,196.62,10,48,20.833333333333332,null,null,"A13001215",8,9,245.19,249.36,15,103,14.563106796116505,null,null,"A13034610",13,"OL",329.4,334.78,16,165,9.6969696969696972,null,null,"A13023291",13,14,358.14,362.14,147,3713,3.959062752491247,null,null,"A13035222","OL",17.2,111.97,115.82,108,414,26.086956521739129,null,null,"A13004823",16,17,156.36000000000001,160.49,40,187,21.390374331550802,null,null,"A13035877",27,28,250.48,254.32,148,591,25.042301184433164,null,null,"A13004823","OL","OL",260.77,264.77,11,97,11.340206185567011,null,null,"A13023482","OL","OL",325.31,328.28,30,231,12.987012987012987,null,null,"A13022253",11,12,397.68,402.93,109,3966,2.7483610690872418,null,null,"A13028756","OL","OL",106.41,110.38,125,550,22.727272727272727,null,null,"A13005329",18,19,189.68,193.39,2203,19892,11.074803941282928,null,null,"A13035222",20.2,"OL",283.72000000000003,288.14999999999998,45,254,17.716535433070867,null,null,"A13023291",14,15,330.71,334.69,688,7002,9.8257640674093114,null,null,"A14000583",11,12,389.28,393.4,228,3075,7.4146341463414638]
["A13019771",17,18,111.69,115.68,1403,13686,10.251351746310098,null,null,"C14000343",14,15,164.67,168.68,477,6627,7.1978270710728838,null,null,"A13019771","OL",17.399999999999999,205.61,212.02,17,123,13.821138211382113,null,null,"C13006949","OL","OL",256.83,260.8,14,57,24.561403508771932,null,null,"A13019771",14,15,328.35,332.51,277,3443,8.0453093232645951,null,null,"A13035222","OL","OL",94.78,98.96,44,168,26.19047619047619,null,null,"A13004823",23,24,150.04,153.04,3034,16738,18.126418926992471,null,null,"A14000901","OL","OL",195.05,199.04,65,323,20.123839009287927,null,null,"A13001215",11,12,256.91000000000003,261.08999999999997,461,6580,7.0060790273556233,null,null,"A13033185",13,14,329.39,334.72,25,286,8.7412587412587417,null,null,"A13023482",14,15,362.15,366.11,341,7808,4.3673155737704921,null,null,"A13012447",14.2,"OL",103.85,107.69,49,188,26.063829787234042,null,null,"A13004823",20,21,172.56,176.61,1426,19616,7.2695758564437192,null,null,"C14000011",27,28,250.96,255.09,10,40,25,null,null,"A13004823","OL","OL",262.52999999999997,266.69,93,707,13.154172560113155,null,null,"A13035670",13,14,341,343.89,1109,8805,12.595116411130039,null,null,"A13023291",11,12,397.87,402.92,115,3861,2.9785029785029784,null,null,"(+2)_03-17-14_AG","OL","OL",143.44,147.19,11,50,22,null,null,"A13005329",24,"OL",212.51,216.52,12,141,8.5106382978723403,null,null,"A13035037",13,"OL",253.24,256.95999999999998,41,253,16.205533596837945,null,null,"A13023482",14,15,330.63,334.71,1476,15698,9.402471652439802,null,null,"C13013508",11,12,389.19,393.28,172,2324,7.4010327022375213]
["A13022253",15,16,103.68,107.69,1212,13382,9.0569421611119409,null,null,"A13035063",12,13,156.52000000000001,160.49,576,9117,6.31786771964462,null,null,"A13019771",19,20,220.03,226.12,206,8848,2.3282097649186255,null,null,"A14000336","OL","OL",258.68,262.69,66,279,23.655913978494624,null,null,"A13022253",15,16,332.52,336.52,265,3007,8.8127702028599941,null,null,"A14001297","OL","OL",84.15,88.29,70,272,25.735294117647058,null,null,"A13004823",31,32,173.21,176.45,22,218,10.091743119266056,null,null,"A13035480","OL","OL",227.76,231.66,20,102,19.607843137254903,null,null,"A13004823",9,10,248.87,252.9,793,17396,4.5585191998160495,null,null,"C14000174","OL","OL",323.44,328.46,10,118,8.4745762711864412,null,null,"A13026686",13,14,358.2,362.23,372,10966,3.3923034834944374,null,null,"A13019771",12,"OL",94.49,98.97,19,73,26.027397260273972,null,null,"A13005329",15,16,152.37,156.36000000000001,27,172,15.697674418604651,null,null,"C13017415","OL","OL",252.7,256.99,41,165,24.848484848484848,null,null,"A13004823",11,12,284.04000000000002,288.14999999999998,732,12260,5.9706362153344212,null,null,"A14000901",13,14,341.01,343.9,954,7709,12.375145933324685,null,null,"A13023482","OL","OL",381.23,385.87,13,59,22.033898305084747,null,null,"A13019771","OL","OL",113.43,117.76,63,290,21.724137931034484,null,null,"A13012447",17,18,185.81,189.68,2014,19170,10.505998956703182,null,null,"A13035670","OL",20,278.63,282.41000000000003,10,62,16.129032258064516,null,null,"A13026686",13,14,326.58999999999997,330.58,1405,17226,8.1562753976547082,null,null,"A13035222",11,12,389.11,393.23,796,10759,7.3984571056789665]
["A13023291",16,17,107.8,111.76,1494,14712,10.154975530179446,null,null,"A13035222",13,14,160.66,164.75,762,12115,6.2897234832851838,null,null,"A13022253",21,22,232.06,237.99,208,6644,3.1306441902468394,null,null,"C13014559","OL","OL",268.7,272.64,41,181,22.651933701657459,null,null,"A13023291",14.2,15.2,330.39,334.53,18,238,7.5630252100840334,null,null,"A14001297","OL","OL",81.73,85.7,20,78,25.641025641025642,null,null,"A13005329",25,26,156.03,159.01,1951,8557,22.800046745354681,null,null,"A14000203","OL","OL",226.61,230.16,57,301,18.93687707641196,null,null,"A13004823","OL","OL",278.33,282.45,19,158,12.025316455696203,null,null,"A13012447",13,14,329.62,334.74,12,156,7.6923076923076925,null,null,"A13026831",14,15,362.22,366.09,263,5286,4.9754067347710933,null,null,"A14000203",12,"OL",94.48,98.79,20,80,25,null,null,"A13005329","OL","OL",170.69,174.71,10,141,7.0921985815602833,null,null,"A14000547","OL","OL",232.33,236.32,24,97,24.742268041237114,null,null,"A13005329","OL","OL",270.20999999999998,274.52,28,121,23.140495867768596,null,null,"C13013508","OL",20,359.59,362.31,10,82,12.195121951219512,null,null,"A13023482",9,10,387.31,392.44,216,7661,2.8194752643258059,null,null,"A13026686","OL","OL",113.42,117.75,79,379,20.844327176781004,null,null,"A13012447",23,24,208.5,212.51,12,74,16.216216216216218,null,null,"A14000336",20.2,"OL",283.72000000000003,288.14999999999998,18,114,15.789473684210526,null,null,"A13026831",16,17,338.75,342.76,811,6988,11.605609616485404,null,null,"C13019581",11,12,389.19,393.28,478,6488,7.3674475955610355]
["A13023482","OL","OL",77.819999999999993,81.52,30,195,15.384615384615385,null,null,"A14000901",12,13,156.38999999999999,160.49,1215,19855,6.1193653991437928,null,null,"A13023291",19,20,220.06,225.96,262,8767,2.9884795254933274,null,null,"A13035222","OL","OL",258.68,262.69,101,452,22.345132743362832,null,null,"A13023291",15,16,332.46,336.59,351,3551,9.8845395663193472,null,null,"A13028756","OL","OL",77.81,81.900000000000006,11,43,25.581395348837209,null,null,"A13005329",31,32,173.75,176.48,16,164,9.7560975609756095,null,null,"A14002203","OL",6,184.35,188.23,14,75,18.666666666666668,null,null,"A13004823","OL","OL",283.72000000000003,288.14999999999998,21,201,10.447761194029852,null,null,"A14001297",11.2,"OL",321.35000000000002,326.61,11,148,7.4324324324324325,null,null,"A13026867",13,14,358.14,362.14,214,6665,3.2108027006751687,null,null,"A14000593",14.2,"OL",103.67,107.51,52,209,24.880382775119617,null,null,"A13005329",20,21,172.62,176.64,931,12389,7.5147308095891514,null,null,"A13026831","OL","OL",252.57,256.91000000000003,12,51,23.529411764705884,null,null,"A13005329",10,11,280.2,284.14,380,7708,4.9299429164504414,null,null,"A13019120","OL","OL",359.59,362.63,10,84,11.904761904761905,null,null,"A13026686",12,13,402.91,407.94,253,9034,2.8005313261013947,null,null,"A14000308","OL","OL",97.74,101.77,109,524,20.801526717557252,null,null,"A13019120",14,15,174.83,178.55,1721,21180,8.1255901794145426,null,null,"A14001047",18,19,274.06,278.13,1545,10488,14.731121281464532,null,null,"A13026867",14,15,330.59,334.75,999,11382,8.7770163415919882,null,null,"A14001268",11,12,389.12,393.23,600,8155,7.3574494175352543]
["A13023482",18,19,115.75,119.66,1248,11477,10.873921756556591,null,null,"A14000756",13,14,160.5,164.62,502,8266,6.073070408903944,null,null,"A13023482",18,19,214.14,219.96,271,10667,2.5405456079497517,null,null,"A14000203","OL","OL",264.77,268.61,90,403,22.332506203473944,null,null,"A13023482","OL",13.2,322.37,326.25,48,439,10.933940774487471,null,null,"C13006949","OL","OL",113.83,117.78,22,86,25.581395348837209,null,null,"A13012447",21,22,144.16,147.13999999999999,1486,10481,14.178036446903921,null,null,"A14000583","OL","OL",185.97,189.68,15,81,18.518518518518519,null,null,"A13005329",10,11,252.9,256.91000000000003,500,9041,5.5303616856542419,null,null,"A14000214","OL","OL",327.39,332.5,13,249,5.2208835341365463,null,null,"A13028756",14,15,362.31,366.16,253,5667,4.4644432680430564,null,null,"A13032903","OL","OL",83.42,87.18,17,71,23.943661971830984,null,null,"A13012447",19,20,168.58,172.61,732,12333,5.9352955485283383,null,null,"A14001392","OL","OL",212.66,216.66,29,125,23.2,null,null,"A13012447","OL","OL",274.52,278.31,13,91,14.285714285714286,null,null,"C13013508","OL","OL",316.32,319,12,103,11.650485436893204,null,null,"A13026831",9,10,387.13,392.4,132,5388,2.4498886414253898,null,null,"A13035280","OL","OL",97.94,101.76,57,302,18.874172185430464,null,null,"A13019771","OL","OL",156.71,160.66,14,94,14.893617021276595,null,null,"C13019586",13,"OL",253.38,256.91000000000003,16,111,14.414414414414415,null,null,"A13028756",15,16,334.75,338.75,1076,10155,10.595765632693254,null,null,"C14000011",11,12,389.08,393.15,317,4313,7.3498724785532108]
["A13026686",16,17,107.68,111.68,1559,16394,9.5095766743930703,null,null,"A14000455",12,13,156.38999999999999,160.49,795,13307,5.9742992410009768,null,null,"A13023482",20.399999999999999,"OL",230.07,236.24,13,68,19.117647058823529,null,null,"A13035222",27,28,269.89,273.88,25,112,22.321428571428573,null,null,"A13023482",13,14,324.38,328.28,259,6244,4.1479820627802688,null,null,"A13035877","OL","OL",84.13,88.27,87,341,25.513196480938415,null,null,"A13019120",22,23,147.37,150.21,2366,13856,17.075635103926096,null,null,"A14001268","OL","OL",227.74,231.61,42,236,17.796610169491526,null,null,"A13005329","OL","OL",270.37,274.52,27,426,6.3380281690140849,null,null,"A13004823",13,14,329.49,334.64,14,301,4.6511627906976747,null,null,"A13032303",14,15,362.22,366.25,258,5440,4.742647058823529,null,null,"A13034384",13,14,97.76,101.76,30,131,22.900763358778626,null,null,"A13012447","OL","OL",182.91,187.1,24,110,21.818181818181817,null,null,"A14000593","OL","OL",252.75,256.95999999999998,50,216,23.148148148148149,null,null,"A13012447",11,12,284.14,288.23,481,8386,5.7357500596231814,null,null,"(+2)_03-17-14_AG","OL","OL",324.83999999999997,328.11,19,164,11.585365853658537,null,null,"A13026867",11,12,397.69,402.91,148,5902,2.507624534056252,null,null,"A13034770","OL","OL",106.52,110.38,130,707,18.387553041018389,null,null,"A13019771","OL","OL",157.86000000000001,161.63999999999999,18,195,9.2307692307692299,null,null,"A13035480",12.2,13.2,251.3,255.34,26,187,13.903743315508022,null,null,"A13032303",15,16,334.84,338.82,770,8055,9.5592799503414021,null,null,"A14000356",11,12,389.03,393.18,718,9846,7.292301442210035]
["A13026831",18,19,115.81,119.83,1271,11221,11.326976205329293,null,null,"A14001268",12,13,156.53,160.49,695,11734,5.922958922788478,null,null,"A13026686",16,17,201.93,208.02,15,111,13.513513513513514,null,null,"A14001591","OL","OL",264.58999999999997,268.69,14,64,21.875,null,null,"A13026686",14.2,15.2,330.26,334.42,33,481,6.8607068607068609,null,null,"A13035877","OL","OL",81.72,85.69,23,91,25.274725274725274,null,null,"A13019771",26,27,158.69,161.63999999999999,2589,12218,21.190047470944506,null,null,"A14001047","OL",6,183.98,188.43,39,222,17.567567567567568,null,null,"A13012447",8,9,244.88,249.04,330,8694,3.795721187025535,null,null,"A14000583",11,12,318.83999999999997,323.89,107,2693,3.973264017823988,null,null,"A13032309",14,15,362.14,366.15,331,8019,4.1276967202893129,null,null,"A13022253","OL","OL",142.99,147.30000000000001,21,93,22.580645161290324,null,null,"A13019120","OL","OL",174.34,178.06,47,200,23.5,null,null,"C14000174","OL","OL",249.84,253.97,39,171,22.807017543859651,null,null,"A13019120",9,10,276.10000000000002,280.04000000000002,339,7878,4.3031226199543031,null,null,"A13035222",13,14,340.93,343.84,1034,9006,11.481234732400623,null,null,"A13028756",9,10,387.38,392.45,142,7032,2.0193401592718998,null,null,"A13035361","OL","OL",106.23,109.95,24,134,17.910447761194028,null,null,"A13019771",12.2,"OL",168.66,172.72,16,275,5.8181818181818183,null,null,"A13035480","OL","OL",234.1,238.32,12,87,13.793103448275861,null,null,"A13032309",15,16,334.85,338.83,1184,12380,9.563812600969305,null,null,"A13019120",11,12,389.11,393.22,326,4474,7.2865444792132319]
["A13026867",15,16,103.67,107.68,1205,14145,8.5189112760692822,null,null,"A13026686",13,14,160.65,164.54,651,11075,5.8781038374717829,null,null,"A13026686",20.399999999999999,"OL",230.13,236.39,26,335,7.7611940298507465,null,null,"C14000276","OL","OL",262.77999999999997,266.75,53,248,21.370967741935484,null,null,"A13026686",15,16,332.34,336.5,613,7049,8.6962689743225994,null,null,"A13035670","OL","OL",94.66,98.97,53,213,24.88262910798122,null,null,"A13022253",21,22,144.15,147.13999999999999,1763,10752,16.396949404761905,null,null,"A14000547","OL","OL",231.7,235.84,32,188,17.021276595744681,null,null,"A13012447","OL","OL",284.3,288.23,11,112,9.8214285714285712,null,null,"A14000455",11,12,318.97000000000003,324.05,380,9909,3.8348975678675949,null,null,"A13032903",13,14,358.25,362.23,259,7345,3.5262083049693671,null,null,"(+1)_03-17-14_AG","OL","OL",143.63,147.58000000000001,23,102,22.549019607843139,null,null,"A13019120",22,23,180.65,184.69,555,11261,4.9285143415327237,null,null,"A14002449","OL","OL",252.86,256.99,51,225,22.666666666666668,null,null,"A13019771",10,11,280.04000000000002,284.13,657,12734,5.1594157373959479,null,null,"A13026831",12,13,337.95,341,765,6705,11.409395973154362,null,null,"A13032303",9,10,387.4,392.63,152,7039,2.1593976417104703,null,null,"A13026867","OL","OL",109.42,113.77,102,575,17.739130434782609,null,null,"A13019771",14,15,174.67,178.39,2763,29549,9.3505702392635968,null,null,"A13035731",18,19,273.88,278,1408,10646,13.225624647755025,null,null,"A13032903",14,15,330.71,334.69,919,10018,9.1734877221002193,null,null,"A14000336",11,12,389.21,393.35,596,8188,7.2789447972642893]
["A13026867","OL","OL",126.78,130.82,18,86,20.930232558139537,null,null,"A14001275",13,14,160.66,164.62,378,6432,5.8768656716417906,null,null,"A13026686",21,22,232.22,238.15,413,12551,3.2905744562186281,null,null,"A13035670","OL","OL",262.69,266.69,76,368,20.652173913043477,null,null,"A13026831",13,14,324.37,328.35,257,3748,6.8569903948772675,null,null,"A14000243","OL","OL",108.11,112.15,48,203,23.645320197044335,null,null,"A13023291",27,28,161.77000000000001,164.67,2465,10677,23.087009459586024,null,null,"A13035877","OL","OL",223.72,227.75,57,357,15.966386554621849,null,null,"A13019120",11,12,257.08,261.10000000000002,934,14352,6.5078037904124857,null,null,"A13023482",11,12,318.81,323.91000000000003,480,12678,3.7860861334595364,null,null,"A13033185",15,16,366.17,370.26,340,5928,5.7354925775978405,null,null,"A13034231",18.2,"OL",119.65,123.73,65,296,21.95945945945946,null,null,"A13019771","OL","OL",154.72999999999999,158.69,14,85,16.470588235294116,null,null,"A13035731",28,29,254.35,258.20999999999998,11,49,22.448979591836736,null,null,"A13022253",10,11,280.04000000000002,284.13,442,8496,5.2024482109227872,null,null,"A14001392",13,14,340.99,343.88,603,5287,11.405333837715151,null,null,"A13032309",9,10,387.21,392.45,212,8486,2.4982323827480557,null,null,"A14000901",13,14,128.22999999999999,132.22999999999999,5274,30710,17.173559101269944,null,null,"A13019771",23,24,208.33,212.34,26,167,15.568862275449101,null,null,"A13035037",18,19,273.88,278.02,1317,10005,13.163418290854572,null,null,"A13033185",14,15,330.64,334.72,951,10318,9.2169025004845899,null,null,"A13035670",11,12,389.28,393.23,756,10460,7.227533460803059]
["A13026867",23,24,135.66999999999999,139.83000000000001,10,85,11.764705882352942,null,null,"A14000583",12,13,156.52000000000001,160.65,244,4199,5.8109073588949753,null,null,"A13026831",18,19,214.36,220.17,154,7675,2.006514657980456,null,null,"A13034770","OL","OL",262.77,266.8,73,354,20.621468926553671,null,null,"A13026867",16,17,336.51,340.68,273,2734,9.9853694220921732,null,null,"A14000336","OL","OL",121.7,125.59,26,110,23.636363636363637,null,null,"A13023482",21,22,144.09,147.03,3513,21157,16.604433520820532,null,null,"A14000308","OL","OL",227.6,231.66,23,153,15.032679738562091,null,null,"A13019120","OL","OL",276.10000000000002,280.04000000000002,13,222,5.8558558558558556,null,null,"A14000901",11,12,318.8,324.04000000000002,518,13786,3.7574350790657189,null,null,"A13034231",15,16,366.21,370.27,407,8265,4.9243799153055052,null,null,"A13028756","OL","OL",140.16999999999999,144.46,31,145,21.379310344827587,null,null,"A13019771",16,17,156.38,160.49,49,217,22.580645161290324,null,null,"A14001268",25,26,242.58,246.13,92,416,22.115384615384617,null,null,"A13022253",16,17,304.26,308.68,10,206,4.8543689320388346,null,null,"A13035513",12,13,338.03,340.94,96,846,11.347517730496454,null,null,"A13032903","OL","OL",381.47,386.01,12,45,26.666666666666668,null,null,"A14000255","OL","OL",102.1,106.12,77,460,16.739130434782609,null,null,"A13022253",14,15,174.67,178.55,1577,22330,7.0622480967308556,null,null,"A13026831",20.2,"OL",284.2,288.14999999999998,13,99,13.131313131313131,null,null,"A13034231",13,14,326.62,330.66,1309,16027,8.1674673987645843,null,null,"A14000901",11,12,389.11,393.22,736,10216,7.2043852779953017]
["A13028756",17,18,111.75,115.71,1521,14828,10.25762071756137,null,null,"C13019581",13,14,160.49,164.54,361,6229,5.7954727885695938,null,null,"A13026867",20,21,226.12,232.05,51,7438,0.68566819037375637,null,null,"A14001392","OL","OL",256.70999999999998,260.7,32,159,20.125786163522012,null,null,"A13028756","OL",13.2,322.31,326.27999999999997,25,311,8.0385852090032159,null,null,"A13033185","OL","OL",84.24,88.47,45,193,23.316062176165804,null,null,"A13023482","OL","OL",175.43,178.11,11,146,7.5342465753424657,null,null,"A13028756",7,8,192.81,196.48,10,69,14.492753623188406,null,null,"A13019120","OL","OL",278.63,282.56,20,155,12.903225806451612,null,null,"A13026831",12,13,324.05,329.15,255,6917,3.6865693219603877,null,null,"A13034384",13,14,358.21,362.24,134,3595,3.7273991655076495,null,null,"A13036158",19,20,122.38,126.1,117,549,21.311475409836067,null,null,"A13019771","OL","OL",157.53,161.80000000000001,17,275,6.1818181818181817,null,null,"A13035189",27,28,250.8,255.11,35,159,22.012578616352201,null,null,"A13023291","OL","OL",261.12,264.91000000000003,11,104,10.576923076923077,null,null,"(+1)_03-17-14_AG","OL","OL",324.83999999999997,328.01,12,107,11.214953271028037,null,null,"A13032903",12,13,402.89,407.89,177,6599,2.6822245794817396,null,null,"A14000203","OL","OL",97.76,101.76,80,494,16.194331983805668,null,null,"A13022253",19.2,20.2,195.69,199.36,10,87,11.494252873563218,null,null,"A13035877",17.100000000000001,18,270.56,274.20999999999998,14,109,12.844036697247706,null,null,"A13034384",14,15,330.66,334.71,399,4368,9.134615384615385,null,null,"A14000308",11,12,389.03,393.18,925,12853,7.1967634015404967]
["A13032303","OL","OL",105.76,110.12,27,160,16.875,null,null,"A13023291",12,13,156.56,160.65,463,8022,5.7716280229369232,null,null,"A13028756",18,19,214.27,220.2,231,10491,2.2018873319988561,null,null,"A14001047","OL","OL",260.64,264.75,83,424,19.575471698113208,null,null,"A13028756",13,14,324.37,328.35,154,4477,3.4398034398034398,null,null,"A14000243","OL","OL",84,88.34,17,73,23.287671232876711,null,null,"A13023482",33,"OL",179.21,182.05,12,1533,0.78277886497064575,null,null,"C14000115","OL","OL",222.12,225.97,12,84,14.285714285714286,null,null,"A13019771",12,13,261.02,265,909,11750,7.7361702127659573,null,null,"A14000547",11,12,319,324.05,452,12374,3.6528204299337319,null,null,"A13034610",13,14,358.25,362.31,171,4404,3.8828337874659402,null,null,"A14000583",18.3,"OL",121.18,125.22,12,57,21.05263157894737,null,null,"A13019771",19,20,168.66,172.56,1291,20907,6.1749653226192187,null,null,"A13032903","OL","OL",252.56,257.02999999999997,18,82,21.951219512195124,null,null,"A13023291","OL",10.199999999999999,278.60000000000002,282.35000000000002,21,124,16.93548387096774,null,null,"A14001392","OL","OL",321.05,324.05,19,170,11.176470588235293,null,null,"A13033185","OL","OL",364.91,370.26,27,536,5.0373134328358207,null,null,"C14000011","OL","OL",97.78,101.73,22,137,16.058394160583941,null,null,"A13022253",24,"OL",212.34,216.34,11,37,29.72972972972973,null,null,"A13035361",18,19,273.88,277.87,1041,8143,12.783986245855337,null,null,"A13034610",14,15,330.7,334.78,556,6191,8.9807785495073489,null,null,"A13032303",11,12,389.36,393.28,603,8473,7.1167237106101737]
["A13032303",16,17,107.68,111.68,904,9378,9.6395820004265307,null,null,"A14001297",13,14,160.33000000000001,164.45,811,14087,5.757080996663591,null,null,"A13032303",18,19,214.17,220.06,141,7699,1.8314066761917132,null,null,"A14000029","OL","OL",260.61,264.61,73,389,18.766066838046271,null,null,"A13032303",13,14,324.52,328.49,122,3744,3.2585470085470085,null,null,"A14002203",6,"OL",84.65,88.44,10,43,23.255813953488371,null,null,"A13026686",22,23,147.32,150.13,3775,21192,17.813325783314458,null,null,"A13034610","OL","OL",222.06,226.14,24,176,13.636363636363637,null,null,"A13019771","OL","OL",279.88,283.97000000000003,15,157,9.5541401273885356,null,null,"A13028756",11,12,318.83999999999997,323.89,308,8619,3.5735004060795914,null,null,"A13034770",14,15,362.31,366.37,407,9185,4.431137724550898,null,null,"A13004823","OL","OL",126.6,130.63999999999999,56,271,20.664206642066421,null,null,"A13022253","OL",17,156.05000000000001,160.49,22,171,12.865497076023392,null,null,"A14000583",17,18,209.95,213.95,17,82,20.73170731707317,null,null,"A13023291",11,12,284.07,288.13,577,8672,6.6535977859778601,null,null,"A13028756",12,13,337.95,341,923,8270,11.160822249093108,null,null,"A13033185",11,12,397.75,402.86,157,5705,2.751971954425942,null,null,"A13035877",12,13,124.25,128.31,4919,31072,15.830973223480948,null,null,"A13023291","OL",14.2,172.52,176.5,13,233,5.5793991416309012,null,null,"A13034384",17,18,269.7,273.88,1533,12244,12.520418163998693,null,null,"A13034770","OL","OL",319.88,323.72000000000003,11,44,25,null,null,"A14000756",11,12,389.21,393.19,569,7996,7.116058029014507]
["A13032309",17,18,111.69,115.85,1651,16605,9.9427883167720559,null,null,"C14000011",13,14,160.63999999999999,164.5,246,4322,5.6918093475242939,null,null,"A13032309",17.2,18.2,209.78,216.19,20,111,18.018018018018019,null,null,"C13019581","OL","OL",258.63,262.61,31,171,18.128654970760234,null,null,"A13032309",13.2,14.2,326.43,330.56,32,372,8.6021505376344081,null,null,"A14000336","OL","OL",94.61,98.96,31,140,22.142857142857142,null,null,"A13026686",27,28,161.46,164.7,12,360,3.3333333333333335,null,null,"A14000356","OL","OL",221.77,226.13,36,275,13.090909090909092,null,null,"A13022253",8,9,245.2,249.36,16,185,8.6486486486486491,null,null,"A13035063",10,11,313.73,318.8,255,7141,3.5709284413947628,null,null,"A13035037",13,14,358.2,362.23,225,6184,3.6384217335058215,null,null,"A13035729","OL","OL",107.92,111.96,57,276,20.652173913043477,null,null,"A13022253","OL","OL",182.57,186.58,21,108,19.444444444444443,null,null,"A14000243","OL","OL",253.06,257.08,24,116,20.689655172413794,null,null,"A13023482","OL","OL",260.98,265.04000000000002,155,1461,10.609171800136892,null,null,"A14002203","OL","OL",320.70999999999998,324.04000000000002,11,99,11.111111111111111,null,null,"A13034231",11,12,397.67,402.95,166,6957,2.3860859565904846,null,null,"A13035731","OL","OL",97.77,101.75,46,298,15.436241610738255,null,null,"A13023291",14,15,174.59,178.25,2141,24841,8.6188156676462295,null,null,"C14000276",18,19,273.89,277.95999999999998,955,7632,12.513102725366876,null,null,"A13034770",14,15,330.66,334.71,1242,13423,9.2527750875363175,null,null,"A14000455",11,12,389.11,393.23,789,11158,7.0711597060405094]
["A13032903",15,16,103.64,107.79,1030,11758,8.7599931961217887,null,null,"A13036158",12,13,156.49,160.66,555,9754,5.6899733442690179,null,null,"A13032309",18,19,214.27,220.2,279,12619,2.2109517394405263,null,null,"A13019120","OL","OL",266.86,270.86,38,212,17.924528301886792,null,null,"A13032309",14,15,328.49,332.47,402,5250,7.6571428571428575,null,null,"A14000593",6,"OL",84.7,88.35,21,95,22.105263157894736,null,null,"A13026831",21,22,144.33000000000001,147.31,1888,11586,16.295529086828932,null,null,"A13026867","OL",17,227.56,232.05,175,1346,13.00148588410104,null,null,"A13022253",11,12,256.87,261.02,616,9096,6.772207563764292,null,null,"C14000343",11,12,318.88,323.89999999999998,300,8598,3.4891835310537336,null,null,"A13035063",13,14,358.36,362.39,191,4986,3.8307260328920978,null,null,"A14000583","OL","OL",123.2,127.39,10,52,19.23076923076923,null,null,"A13022253",23,24,184.65,188.66,1240,11855,10.459721636440321,null,null,"A14002449","OL","OL",212.58,216.56,47,253,18.57707509881423,null,null,"A13023482","OL","OL",274.52999999999997,278.39999999999998,47,251,18.725099601593627,null,null,"A14000756",12,13,337.96,340.88,785,7212,10.884636716583472,null,null,"A13034384",12,13,402.79,407.89,94,3089,3.04305600517967,null,null,"A13022253","OL","OL",143.32,147.13999999999999,10,66,15.151515151515152,null,null,"A13023291","OL",24,207.8,212.26,18,112,16.071428571428573,null,null,"C14000011",17,18,269.8,273.89999999999998,644,5295,12.162417374881963,null,null,"A13034770","OL","OL",361.98,366.04,11,40,27.5,null,null,"A13035731",11,12,389.11,393.23,593,8401,7.0586834900607069]
["A13033185",17,18,111.83,115.75,1201,10670,11.255857544517339,null,null,"A14000547",12,13,156.55000000000001,160.65,765,13645,5.6064492488090876,null,null,"A13032309",20.399999999999999,"OL",230.1,236.31,25,323,7.7399380804953557,null,null,"A13033185","OL","OL",262.76,266.69,41,230,17.826086956521738,null,null,"A13032903",16,17,336.59,340.58,437,4176,10.46455938697318,null,null,"A13023291","OL","OL",120.67,124.2,12,55,21.818181818181817,null,null,"A13026867",24,25,153.1,155.88999999999999,3693,18727,19.720190099855824,null,null,"A13036158","OL","OL",227.76,231.66,10,77,12.987012987012987,null,null,"A13022253","OL","OL",280.04000000000002,283.97000000000003,12,151,7.9470198675496686,null,null,"A14002449",11,12,318.97000000000003,324.05,316,9143,3.4561959969375478,null,null,"A13035189",15,16,366.25,370.3,110,1798,6.1179087875417126,null,null,"C14000011","OL","OL",95.57,99.49,34,189,17.989417989417991,null,null,"A13023291","OL","OL",157.87,161.77000000000001,19,134,14.17910447761194,null,null,"A14001268","OL","OL",215.87,220.03,30,166,18.072289156626507,null,null,"A13023482",11,12,284.12,288.14,847,13044,6.493406930389451,null,null,"A14001591",12,13,337.95,341,493,4558,10.816147433084685,null,null,"A13034610",13,14,407.94,413.1,138,4082,3.3806957373836353,null,null,"A13035729","OL","OL",97.94,101.76,32,214,14.953271028037383,null,null,"A13023482",15,16,178.27,181.89,4583,30994,14.786732916048267,null,null,"A14000756",14.3,15.3,260.67,264.87,15,124,12.096774193548388,null,null,"A13035037",15,16,334.71,338.77,898,8203,10.947214433743753,null,null,"C14000276",11,12,389.19,393.28,461,6977,6.6074243944388709]
["A13033185",21,"OL",127.28,131.06,21,70,30,null,null,"A14000255",12,13,156.52000000000001,160.49,551,9869,5.5831391225048135,null,null,"A13032903",20,21,226.11,232.12,207,8463,2.4459411556185748,null,null,"A13022253","OL","OL",256.55,260.7,14,79,17.721518987341771,null,null,"A13033185",13.2,14.2,326.41000000000003,330.48,19,284,6.6901408450704229,null,null,"A13035063","OL","OL",114.07,117.91,43,198,21.717171717171716,null,null,"A13028756",21,22,144.46,147.26,2338,15162,15.420129270544782,null,null,"A13001215","OL","OL",185.82,189.69,24,187,12.834224598930481,null,null,"A13023291",10,11,253.02,256.99,865,14598,5.9254692423619675,null,null,"A14000308",11,12,318.76,323.88,460,13419,3.4279752589611743,null,null,"A13035222",14,15,362.14,366.21,370,8639,4.2829031137863183,null,null,"C13019581",21,"OL",130.06,134.22,37,215,17.209302325581394,null,null,"A13023291",20,21,172.52,176.5,1030,13849,7.4373600982020358,null,null,"A14000901",28,29,254.64,258.79000000000002,66,366,18.032786885245901,null,null,"A13026686",5,6,260.22000000000003,264.04000000000002,23,646,3.5603715170278636,null,null,"A14000255",12,13,338.03,340.94,826,7730,10.685640362225097,null,null,"A13034770",9,10,387.22,392.36,171,8633,1.9807714583574656,null,null,"A14000356","OL","OL",102.12,106,104,697,14.921090387374463,null,null,"A13023482","OL",20.2,194.97,199.21,18,118,15.254237288135593,null,null,"C13019586",16,17,265.73,269.89,802,6652,12.056524353577871,null,null,"A13035037","OL","OL",358.04,362.07,10,41,24.390243902439025,null,null,"A13026831",10,11,384.99,389.1,514,7918,6.4915382672392017]
["A13034231","OL","OL",109.88,114.08,161,896,17.96875,null,null,"A13035037",12,13,156.38999999999999,160.49,368,6651,5.5330025560066156,null,null,"A13033185",21,22,232.03,237.97,264,7626,3.4618410700236035,null,null,"A13019120","OL","OL",256.76,260.77999999999997,48,281,17.081850533807827,null,null,"A13033185",14,15,328.45,332.52,331,4067,8.1386771576100312,null,null,"A14001275","OL","OL",82.99,87.38,11,52,21.153846153846153,null,null,"A13028756","OL","OL",157.4,160.81,14,187,7.4866310160427805,null,null,"A14001047","OL","OL",198.89,203.02,16,128,12.5,null,null,"A13023291","OL","OL",278.60000000000002,282.51,11,123,8.9430894308943092,null,null,"A13034231","OL","OL",325.32,330.66,11,323,3.4055727554179565,null,null,"A13035280",15,16,366.37,370.27,339,6343,5.3444742235535232,null,null,"A14000901",19.3,20.3,124.88,129.06,74,434,17.05069124423963,null,null,"A13023482",22,23,180.63,184.58,1698,25164,6.7477348593228426,null,null,"A13036158","OL","OL",216.62,220.32,60,346,17.341040462427745,null,null,"A13026686","OL","OL",260.86,264.83999999999997,22,640,3.4375,null,null,"A13036158",12,13,338.04,340.95,810,7587,10.676156583629894,null,null,"A13035037",12,13,402.79,407.89,157,5069,3.0972578417833891,null,null,"A13032303","OL","OL",106.29,110.12,51,349,14.613180515759312,null,null,"A13026686","OL",14.2,172.77,176.63,17,369,4.6070460704607044,null,null,"A13022253",16,17,265.79000000000002,269.76,1020,8617,11.837066264361146,null,null,"A13035063",14,15,330.66,334.71,879,9079,9.6816830047362039,null,null,"A13035037",10,11,385.06,389.2,502,7750,6.4774193548387098]
["A13034231",17,18,111.81,115.82,1276,13061,9.7695429140188352,null,null,"C13013508",12,13,156.56,160.65,200,3639,5.4960153888430892,null,null,"A13034231",19,20,220.3,226.13,298,11578,2.5738469511141822,null,null,"C14000343","OL","OL",258.63,262.61,42,252,16.666666666666668,null,null,"A13034231","OL",13.2,322.27999999999997,326.29000000000002,32,445,7.191011235955056,null,null,"A13023482","OL","OL",94.74,98.98,47,226,20.79646017699115,null,null,"A13032303",21,22,144.33000000000001,147.13999999999999,1612,9874,16.325703868746203,null,null,"A14001151","OL","OL",186.09,189.78,17,138,12.318840579710145,null,null,"A13023291","OL","OL",283.92,287.98,12,118,10.169491525423728,null,null,"A13035513",11,12,319.08999999999997,324.04000000000002,30,889,3.3745781777277841,null,null,"A13035361",14,15,362.31,366.37,202,4704,4.2942176870748296,null,null,"A13023482","OL","OL",122.82,126.94,113,665,16.992481203007518,null,null,"A13026686",20,21,172.61,176.47,1687,24094,7.0017431725740851,null,null,"A14001275","OL","OL",252.93,257,31,179,17.318435754189945,null,null,"A13026686",11,12,284.14,288.07,1006,16153,6.227945273323841,null,null,"A14000547",12,13,338.03,340.9,1043,9796,10.6472029399755,null,null,"A13035063",9,10,387.21,392.52,128,5258,2.4343856979840242,null,null,"A13034610","OL","OL",97.74,101.78,40,279,14.336917562724015,null,null,"A13026686",16,17,182.1,185.81,4439,30862,14.383384096947703,null,null,"A13035222","OL","OL",238.4,242.43,37,317,11.67192429022082,null,null,"A13035189",13,14,326.60000000000002,330.59,207,2590,7.9922779922779918,null,null,"A13035189",11,12,389.11,393.23,151,2339,6.4557503206498508]
["A13034384",15,16,103.7,107.74,810,9562,8.4710311650282364,null,null,"(+2)_03-17-14_AG",13,14,160.63999999999999,164.64,237,4354,5.4432705558107486,null,null,"A13034231","OL","OL",240.65,246.62,14,117,11.965811965811966,null,null,"A14000756","OL","OL",260.67,264.70999999999998,70,433,16.166281755196305,null,null,"A13034231",13,14,324.36,328.4,444,6683,6.6437228789465808,null,null,"A13019771","OL","OL",84.14,88.45,32,155,20.64516129032258,null,null,"A13032303","OL","OL",158.19999999999999,160.81,13,89,14.606741573033707,null,null,"A13035280","OL","OL",223.71,227.74,19,162,11.728395061728396,null,null,"A13023482",7,8,241.15,245.26,18,296,6.0810810810810807,null,null,"A13035670",11,12,318.97000000000003,324.05,381,11425,3.334792122538293,null,null,"A13035480",14,15,362.3,366.2,382,9055,4.2186637217007181,null,null,"A13032903",14.2,"OL",103.81,107.62,62,366,16.939890710382514,null,null,"A13026686",28,29,204.33,208.5,64,937,6.8303094983991466,null,null,"A13019120",28,29,254.67,258.52999999999997,23,133,17.293233082706767,null,null,"A13026831","OL","OL",274.04000000000002,278.17,24,96,25,null,null,"A14000583",12,13,338.04,340.94,352,3342,10.532615200478755,null,null,"A13035189","OL","OL",365.28,370.3,11,75,14.666666666666666,null,null,"A13019771","OL","OL",97.76,101.93,63,450,14,null,null,"A13026686","OL",23,204.17,208.5,11,253,4.3478260869565215,null,null,"A14000029",20.2,"OL",284.66000000000003,288.3,12,104,11.538461538461538,null,null,"A13035222",15,16,334.64,338.67,1343,12934,10.383485387351168,null,null,"A14000214",10,11,385.1,389.19,770,11954,6.4413585410741172]
["A13034610",14,15,99.65,103.74,1200,12028,9.9767209843698037,null,null,"A13004823",12,13,156.52000000000001,160.49,520,9581,5.4274084124830395,null,null,"A13034384",20,21,226.13,232.1,124,6592,1.8810679611650485,null,null,"A14000356","OL","OL",262.77,266.8,51,332,15.361445783132529,null,null,"A13034384",14,15,328.4,332.44,235,3091,7.6027175671303784,null,null,"(+2)_03-17-14_AG","OL","OL",112.18,116.09,49,242,20.24793388429752,null,null,"A13032309",21,22,144.33000000000001,147.31,3525,21437,16.443532210663804,null,null,"A14001268","OL","OL",225.81,230,36,307,11.726384364820847,null,null,"A13023482",12,13,260.98,265.04000000000002,1819,22996,7.9100713167507388,null,null,"A14000336",11,12,318.97000000000003,324.05,261,7991,3.2661744462520335,null,null,"A13035513",14,15,362.3,366.36,29,608,4.7697368421052628,null,null,"A13001215","OL",17.2,111.79,115.82,27,163,16.564417177914109,null,null,"A13026831",16,17,156.55000000000001,160.49,26,127,20.472440944881889,null,null,"(+2)_03-17-14_AG","OL","OL",212.42,216.51,29,169,17.159763313609467,null,null,"A13026831",11,12,284.04000000000002,288.14999999999998,518,9253,5.5981843726359015,null,null,"C13019581",12,13,337.94,340.83,580,5514,10.518679724338048,null,null,"A13035189",11,12,397.69,402.93,51,2044,2.4951076320939336,null,null,"A13023482",12,13,124.14,128.09,4120,30013,13.727384799920035,null,null,"A13026831",15,16,178.38,182.1,2110,22906,9.2115602898803814,null,null,"A13026867",16,17,265.73,269.89,1782,15573,11.442881910999807,null,null,"A13035222","OL","OL",362.14,366.04,16,110,14.545454545454545,null,null,"A14000243",10,11,384.99,389.1,730,11341,6.4368221497222464]
["A13034770","OL","OL",77.92,81.569999999999993,32,229,13.973799126637555,null,null,"A14000308",12,13,156.35,160.5,557,10266,5.4256769920124688,null,null,"A13034610",20,21,226.3,232.31,123,7503,1.639344262295082,null,null,"A14000203","OL","OL",262.69,266.69,52,344,15.116279069767442,null,null,"A13034610",13.2,14.2,326.47000000000003,330.54,13,236,5.5084745762711869,null,null,"A14001591","OL","OL",82.9,87.17,11,56,19.642857142857142,null,null,"A13032903",24,25,153.16,155.93,2477,12674,19.543948240492348,null,null,"A14001268",13,14,216.83,220.51,31,271,11.439114391143912,null,null,"A13023482","OL","OL",274.52999999999997,278.39999999999998,58,500,11.6,null,null,"A14000756",11,12,318.76,323.88,352,10875,3.2367816091954023,null,null,"A13035670",14,15,362.22,366.25,348,8270,4.2079806529625152,null,null,"A14000255","OL","OL",143.52000000000001,147.71,20,123,16.260162601626018,null,null,"A13026831","OL","OL",174.98,178.87,26,122,21.311475409836067,null,null,"A14002203","OL",28,250,254.18,15,88,17.045454545454547,null,null,"A13026867",11,12,284.14999999999998,288.24,697,11704,5.9552289815447708,null,null,"A13023482",12,13,337.85,340.84,922,8900,10.359550561797754,null,null,"A13035222",9,10,387.3,392.41,156,7684,2.0301926080166579,null,null,"A14000901","OL","OL",142.83000000000001,147.13999999999999,59,432,13.657407407407407,null,null,"A13026831",23,24,208.4,212.43,13,100,13,null,null,"A14000463",16,17,265.61,269.82,173,1521,11.374095989480605,null,null,"A13035280",13,14,326.60000000000002,330.62,945,11076,8.5319609967497296,null,null,"C13017415",10,11,385.1,389.19,244,3800,6.4210526315789478]
["A13034770",17,18,111.79,115.81,1363,14468,9.4207907105335913,null,null,"A13022253",12,13,156.55000000000001,160.49,342,6311,5.419109491364285,null,null,"A13034770","OL",17.399999999999999,205.81,212.1,12,128,9.375,null,null,"A13035037","OL","OL",272.75,276.75,21,141,14.893617021276595,null,null,"A13034610",14,15,328.42,332.5,251,3400,7.382352941176471,null,null,"A14000208","OL","OL",84,88.35,31,160,19.375,null,null,"A13032903",31,32,173.31,176.5,33,121,27.272727272727273,null,null,"A13005329","OL","OL",189.68,193.39,40,366,10.928961748633879,null,null,"A13023482","OL","OL",283.81,288.14,29,178,16.292134831460675,null,null,"A13035222",11,12,318.81,323.89,409,12694,3.2219946431384905,null,null,"A13035729",12,13,354.18,358.2,178,6704,2.6551312649164678,null,null,"A14000547","OL","OL",140.16999999999999,144.49,16,99,16.161616161616163,null,null,"A13026831",22,23,180.65,184.68,676,11699,5.7782716471493289,null,null,"A13035063","OL","OL",252.75,256.8,47,288,16.319444444444443,null,null,"A13028756","OL","OL",261.02,265,49,665,7.3684210526315788,null,null,"C14000343",12,13,337.95,341,637,6179,10.309111506716297,null,null,"A13035280",12,13,402.77,407.83,152,5234,2.9040886511272448,null,null,"A13022253","OL","OL",97.76,101.75,21,157,13.375796178343949,null,null,"A13026867","OL",14.2,173.05,176.61,30,566,5.3003533568904597,null,null,"A13034770","OL","OL",233.93,238.15,18,160,11.25,null,null,"A13035361",14,15,330.66,334.71,566,5975,9.472803347280335,null,null,"A13035063",10,11,385.06,389.2,535,8337,6.417176442365359]
["A13034770","OL","OL",118.78,122.4,40,151,26.490066225165563,null,null,"C13006949",12,13,156.41999999999999,160.49,137,2537,5.4000788332676386,null,null,"A13034770",18,19,214.36,220.16,272,13696,1.985981308411215,null,null,"A14000029","OL","OL",258.68,262.69,47,320,14.6875,null,null,"A13034770",13.2,14.2,326.45,330.5,30,434,6.9124423963133639,null,null,"A13035280","OL","OL",119.83,124.11,12,62,19.35483870967742,null,null,"A13033185",21,22,144.22,147.13,2467,15864,15.550932929904185,null,null,"A14000243","OL","OL",222.58,226.45,11,102,10.784313725490197,null,null,"A13026686","OL","OL",242.96,246.8,30,113,26.548672566371682,null,null,"A13036158",11,12,318.89,324.02999999999997,387,12270,3.1540342298288508,null,null,"A13035731",13,14,358.36,362.23,252,7307,3.4487477761051046,null,null,"A13001215",14,15,101.77,106,47,297,15.824915824915825,null,null,"A13026867",20,21,172.56,176.61,1945,25741,7.5560390039237015,null,null,"A13035037","OL","OL",253.89,257.61,22,135,16.296296296296298,null,null,"A13028756","OL",10.199999999999999,278.60000000000002,282.36,27,107,25.233644859813083,null,null,"A14000308",12,13,337.97,341.05,967,9411,10.275209860801191,null,null,"A13035361",9,10,387.22,392.52,120,4764,2.5188916876574305,null,null,"A13026867",13,14,128.13,132.16,4020,30143,13.336429685167369,null,null,"A13026867",16,17,182.09,185.94,4610,31136,14.80601233299075,null,null,"A13023291",15,16,261.75,265.86,2098,18766,11.179793243099223,null,null,"A13035480",14,15,330.83,334.72,1266,14047,9.0126005552787074,null,null,"A14000208",10,11,385.14,389.14,722,11310,6.3837312113174178]
["A13035037",16,17,107.86,111.86,1157,12349,9.369179690663211,null,null,"A13026831",12,13,156.55000000000001,160.49,316,5907,5.3495852378533941,null,null,"A13034770",21.2,"OL",234.58,240.26,10,319,3.134796238244514,null,null,"A14000583","OL","OL",256.75,260.77,18,129,13.953488372093023,null,null,"A13034770",14,15,328.4,332.6,463,6108,7.5802226588081201,null,null,"C14000343","OL","OL",77.78,82.06,12,62,19.35483870967742,null,null,"A13033185","OL","OL",175.1,178.11,14,71,19.718309859154928,null,null,"A13032303","OL","OL",230.29,234.29,16,153,10.457516339869281,null,null,"A13026686",10,11,252.88,257.02999999999997,1332,23480,5.6729131175468481,null,null,"A13034770",11,12,318.93,324.04000000000002,384,12380,3.1017770597738288,null,null,"A13035877",15,16,366.25,370.3,395,7260,5.440771349862259,null,null,"A14000255",18,19,117.93,121.87,2619,16967,15.435846054105028,null,null,"A13028756",16,17,156.26,160.49,62,303,20.462046204620464,null,null,"C13017415",27,28,250.16,254.29,23,148,15.54054054054054,null,null,"A13028756",11,12,284.08,288.14,803,13449,5.970704141571864,null,null,"A14000455",12,13,338.03,340.94,844,8239,10.243961645830804,null,null,"A13035480","OL","OL",379.15,384.3,13,44,29.545454545454547,null,null,"A13034610","OL",7,99.3,103.74,16,120,13.333333333333334,null,null,"A13026867",23,24,208.33,212.34,31,190,16.315789473684209,null,null,"C13013508",15,16,261.57,265.73,447,4152,10.765895953757225,null,null,"A13035513",16,17,338.84,342.88,84,670,12.537313432835822,null,null,"A13022253",10,11,384.99,389.11,364,5733,6.3492063492063489]
["A13035063","OL","OL",109.87,114.07,167,565,29.557522123893804,null,null,"A13019120",12,13,156.52000000000001,160.49,468,8757,5.3442959917780062,null,null,"A13035037",20,21,226.13,232.09,115,8628,1.3328697264719518,null,null,"A14000214","OL","OL",262.77,266.75,53,385,13.766233766233766,null,null,"A13035037",16,17,336.66,340.72,342,3532,9.6828992072480187,null,null,"A14000455","OL","OL",94.79,98.96,30,156,19.23076923076923,null,null,"A13034231",22,23,147.26,150.13,3765,21484,17.524669521504375,null,null,"A13026686","OL","OL",223.88,227.73,10,96,10.416666666666666,null,null,"A13026686","OL","OL",282.56,286.5,26,217,11.981566820276498,null,null,"A14001591",11,12,318.88,323.89999999999998,175,5684,3.0788177339901477,null,null,"A13036158",14,15,362.3,366.2,387,9279,4.1707080504364695,null,null,"A13026831",14,15,101.76,106.17,76,494,15.384615384615385,null,null,"A13028756",22,23,180.64,184.65,1054,18131,5.8132480282389274,null,null,"C13006949","OL","OL",247.14,251.59,15,101,14.851485148514852,null,null,"A13032303","OL","OL",274.37,278.44,15,138,10.869565217391305,null,null,"(+2)_03-17-14_AG",12,13,338.03,341.02,651,6375,10.211764705882352,null,null,"A13035480",8,9,382.14,387.3,158,10560,1.4962121212121211,null,null,"A14001392","OL","OL",97.76,101.75,22,172,12.790697674418604,null,null,"A13028756","OL","OL",156.75,160.65,12,63,19.047619047619047,null,null,"A14000214",15,16,261.64999999999998,265.79000000000002,1526,14251,10.70802048979019,null,null,"A13035670","OL","OL",319.76,323.89,17,82,20.73170731707317,null,null,"A14001275",10,11,385.15,389.31,326,5164,6.3129357087529048]
["A13035063",17,18,111.8,115.82,1042,9785,10.648952478283086,null,null,"A14000243",12,13,156.52000000000001,160.66,407,7692,5.2912116484659384,null,null,"A13035063",18,19,214.19,220.16,249,9168,2.7159685863874348,null,null,"A14000819",32,33,290.43,294.51,427,3156,13.5297845373891,null,null,"A13035063",14.2,15.2,330.34,334.55,19,152,12.5,null,null,"(+1)_03-17-14_AG","OL","OL",112.03,116.19,32,169,18.934911242603551,null,null,"A13034384",22,23,147.38,150.38999999999999,1308,7236,18.076285240464344,null,null,"A13012447","OL","OL",226.44,230.3,17,167,10.179640718562874,null,null,"A13026686","OL","OL",284.14,288.07,19,265,7.1698113207547172,null,null,"A14000356",10,11,313.82,318.93,258,8422,3.063405366896224,null,null,"A14000029",14,15,362.31,366.21,298,6916,4.3088490456911508,null,null,"A14001297","OL","OL",98.62,102.82,80,530,15.09433962264151,null,null,"A13032303",22,23,180.8,184.65,615,12579,4.8891008824230857,null,null,"C13019581","OL","OL",253.84,258.14999999999998,15,101,14.851485148514852,null,null,"A13032303",11,12,284.07,288.13,679,11517,5.8956325431970127,null,null,"A14000336",12,13,337.86,340.93,687,6738,10.195903829029385,null,null,"A13035670",9,10,387.31,392.41,167,8129,2.0543732316398082,null,null,"A14001047",12,13,124.17,128.16,3842,30404,12.636495198000263,null,null,"A13028756",15,16,178.4,182.08,3004,30137,9.9678136509937953,null,null,"A13035513",13,14,253.38,257.39999999999998,131,1224,10.702614379084967,null,null,"A13035670","OL","OL",328.83,332.51,12,42,28.571428571428573,null,null,"A14000593",10,11,385.09,389.18,480,7614,6.3041765169424746]
["A13035189",16,17,107.76,111.79,446,4933,9.0411514291506183,null,null,"(+2)_03-17-14_AG",13,14,160.63999999999999,164.63,277,5239,5.2872685627028062,null,null,"A13035189",19,20,220.36,226.28,82,4097,2.0014644862094215,null,null,"C14000011","OL","OL",256.52,260.8,19,141,13.475177304964539,null,null,"A13035063",15,16,332.44,336.66,281,3069,9.1560768980123814,null,null,"A13028756","OL","OL",94.83,99.14,35,186,18.817204301075268,null,null,"A13034610","OL","OL",146.25,148.78,10,38,26.315789473684209,null,null,"A14001275","OL","OL",222.24,226.3,26,257,10.116731517509727,null,null,"A13026831",7,8,240.87,245.04,15,178,8.4269662921348321,null,null,"A14000029",11,12,318.93,324.04000000000002,299,9800,3.0510204081632653,null,null,"A14000203",15,16,366.27,370.31,327,6088,5.3712220762155063,null,null,"A13034231",19,20,121.87,125.76,2275,15476,14.700180925303696,null,null,"A13032309",22,23,180.8,184.65,1346,25756,5.2259667650256247,null,null,"A14001392","OL","OL",243.6,247.6,40,271,14.760147601476016,null,null,"A13032309","OL","OL",274.52,278.45,39,171,22.807017543859651,null,null,"C13013508",10,11,332.03,334.91,265,2605,10.17274472168906,null,null,"A13035729",12,13,402.93,407.99,181,5585,3.2408236347358996,null,null,"(+1)_03-17-14_AG","OL","OL",97.77,101.75,12,95,12.631578947368421,null,null,"A13032303",16,17,182.09,185.93,2158,21954,9.8296438006741376,null,null,"C13014559",15,16,261.58999999999997,265.7,850,7955,10.685103708359522,null,null,"A13035670",16,17,338.75,342.76,1274,11203,11.371953940908686,null,null,"A14001047",10,11,385.1,389.19,704,11182,6.2958325880879986]
["A13035222",13,14,95.65,99.3,24,804,2.9850746268656718,null,null,"A13034384",12,13,156.53,160.66,241,4563,5.2816129739206659,null,null,"A13035222",17,18,208.23,214.19,281,15829,1.7752226925263757,null,null,"A13019771",30,31,282.39999999999998,286.33,536,4098,13.079551000488044,null,null,"A13035189",14,15,328.35,332.51,128,1941,6.5945388974755277,null,null,"A14000547","OL","OL",94.71,98.98,42,229,18.34061135371179,null,null,"A13034610",27,28,161.82,164.78,1842,8490,21.696113074204948,null,null,"C14000276","OL","OL",221.98,226.11,24,244,9.8360655737704921,null,null,"A13026831",11,12,256.91000000000003,260.92,690,10523,6.5570654756248219,null,null,"A13032309",11,12,318.97000000000003,324.05,361,11868,3.0417930569598921,null,null,"A14000208",14,15,362.22,366.31,343,8004,4.2853573213393306,null,null,"A13012447","OL","OL",143.49,147.13999999999999,32,220,14.545454545454545,null,null,"A13032903",20,21,172.51,176.5,1040,14263,7.2915936338778655,null,null,"A13035361","OL","OL",248.54,252.75,17,117,14.52991452991453,null,null,"A13032309",11,12,284.08,288.14999999999998,893,15249,5.8561217128992062,null,null,"A13032303",12,13,337.87,340.9,795,7935,10.01890359168242,null,null,"A13035731",11,12,397.69,402.77,135,5257,2.5680045653414494,null,null,"A13032903","OL","OL",117.6,121.85,22,175,12.571428571428571,null,null,"A13032303",24,"OL",212.42,216.4,13,119,10.92436974789916,null,null,"A14000243",14,15,257.39999999999998,261.41000000000003,1296,12232,10.595160235448006,null,null,"A13035729","OL","OL",328.53,332.72,10,37,27.027027027027028,null,null,"A14002203",10,11,385.17,389.28,139,2216,6.2725631768953072]
["A13035222",17,18,111.8,115.82,1987,19842,10.01411148069751,null,null,"A14000336",12,13,156.52000000000001,160.49,384,7296,5.2631578947368425,null,null,"A13035280",19,20,220.33,226.29,297,11726,2.5328330206378986,null,null,"A13035729","OL","OL",264.61,268.61,16,125,12.8,null,null,"A13035222","OL",13.2,322.3,326.27999999999997,35,484,7.2314049586776861,null,null,"(+2)_03-17-14_AG","OL","OL",112.07,116.13,41,229,17.903930131004365,null,null,"A13034770",21,22,144.36000000000001,147.37,2723,17627,15.447892437737561,null,null,"A13035361","OL","OL",225.98,230.04,15,165,9.0909090909090917,null,null,"A13026831","OL","OL",274.36,278.33,24,182,13.186813186813186,null,null,"C13019581",11,12,318.85000000000002,323.89,259,8612,3.0074314909428703,null,null,"A14000214",13,14,358.31,362.31,331,9423,3.5126817361774383,null,null,"A14002203","OL","OL",103.36,107.41,40,277,14.440433212996389,null,null,"A13032903",28,29,204.47,208.46,61,868,7.0276497695852536,null,null,"A13034610","OL","OL",228.25,232.15,12,83,14.457831325301205,null,null,"A13032903","OL","OL",268.64999999999998,272.62,64,552,11.594202898550725,null,null,"(+2)_03-17-14_AG",12,13,337.94,340.91,569,5684,10.010555946516538,null,null,"A13035877","OL","OL",364.96,370.46,17,173,9.8265895953757223,null,null,"A14000819",8,9,107.87,111.87,12,97,12.371134020618557,null,null,"A13032309",17,18,185.93,189.61,4903,31205,15.712225604871014,null,null,"C14000115",15,16,261.58,265.58,548,5179,10.581193280556091,null,null,"A13035729",14,15,330.62,334.81,819,9039,9.0607368071689347,null,null,"A13033185",10,11,385.07,389.23,572,9162,6.2431783453394454]
["A13035280",15,16,103.7,107.74,1564,18045,8.667220836796897,null,null,"A13032309",12,13,156.55000000000001,160.65,649,12367,5.2478369855259963,null,null,"A13035280","OL","OL",240.65,246.61,12,140,8.5714285714285712,null,null,"A14000756","OL","OL",258.58,262.61,41,321,12.772585669781931,null,null,"A13035222",13,14,324.36,328.37,279,6874,4.0587721850450977,null,null,"A14002449","OL","OL",116.06,120,77,435,17.701149425287355,null,null,"A13034770","OL","OL",158.01,160.66,25,279,8.9605734767025087,null,null,"A13012447","OL","OL",185.81,189.68,23,261,8.8122605363984672,null,null,"A13026831","OL","OL",284.2,288.14999999999998,19,145,13.103448275862069,null,null,"A14001392",11,12,318.85000000000002,323.89,218,7289,2.9908080669501991,null,null,"A14000243",14,15,362.39,366.26,375,8523,4.3998592045054554,null,null,"C14000174",13,14,97.61,101.91,49,358,13.687150837988828,null,null,"A13033185",20.100000000000001,"OL",173.68,177.63,12,67,17.910447761194028,null,null,"C13017415","OL","OL",228.03,231.7,19,133,14.285714285714286,null,null,"A13032903",10.199999999999999,"OL",282.48,286.52,21,181,11.602209944751381,null,null,"A13032309",12,13,337.88,340.91,938,9373,10.007468259895445,null,null,"A13035877","OL","OL",380.74,385.83,12,43,27.906976744186046,null,null,"A13026686",14,15,132.16,136.34,3378,27323,12.363210482011493,null,null,"A13032309",24,"OL",212.35,216.51,25,126,19.841269841269842,null,null,"A13033185",14,15,257.57,261.66000000000003,1181,11313,10.439317599222134,null,null,"A13035731",15,16,334.65,338.84,926,9102,10.173588222368711,null,null,"A13034384",10,11,384.99,389.1,275,4406,6.2414888788016345]
["A13035280","OL","OL",133.11000000000001,137.15,10,35,28.571428571428573,null,null,"A13001215",12,13,156.38,160.49,222,4250,5.223529411764706,null,null,"A13035361",21,22,232.15,238.16,176,7102,2.478175161926218,null,null,"A14000356",30,31,282.45,286.41000000000003,654,5400,12.111111111111111,null,null,"A13035280",13,14,324.36,328.37,386,5863,6.583660242196828,null,null,"A13026686","OL","OL",77.78,81.900000000000006,18,104,17.307692307692307,null,null,"A13034770",33,"OL",179.51,182.12,15,85,17.647058823529413,null,null,"A14001591",13,14,216.4,220.38,668,7788,8.5772984078068824,null,null,"A13026867","OL","OL",242.79,246.63,23,107,21.495327102803738,null,null,"A14001047",10,11,313.64999999999998,318.85000000000002,387,12954,2.9874942102825384,null,null,"A14000255",14,15,362.39,366.42,264,6103,4.3257414386367357,null,null,"C14000011",13,14,97.61,102.08,27,199,13.5678391959799,null,null,"A13033185","OL","OL",174.79,178.58,30,132,22.727272727272727,null,null,"A14000356","OL","OL",252.92,257.12,51,370,13.783783783783784,null,null,"A13032903",11,12,284.19,288.23,683,11792,5.7920624151967433,null,null,"A14002449",12,13,338.04,341.06,493,4942,9.9757183326588432,null,null,"A13035877",11,12,397.69,402.77,167,6382,2.6167345659667816,null,null,"A13034231",12,13,124.24,128.12,3711,30055,12.347363167526202,null,null,"A13032903",16,17,182.08,185.76,2440,25066,9.734301444187345,null,null,"A13035037",15,16,261.48,265.67,1184,11347,10.434476072970829,null,null,"A13035877",13,14,326.60000000000002,330.75,1270,16023,7.9261062223054362,null,null,"A13035729",10,11,385.17,389.11,569,9137,6.2274269453868882]
["A13035361",16,17,107.83,111.9,965,10511,9.1808581486062213,null,null,"A14000356",12,13,156.35,160.5,593,11374,5.2136451556180763,null,null,"A13035480",18,19,214.29,220.29,257,12761,2.0139487500979545,null,null,"C14000011",31,32,286.36,290.39,366,3115,11.749598715890851,null,null,"A13035361",13,14,324.36,328.4,255,3964,6.4328960645812314,null,null,"A14001392","OL","OL",116.2,120.17,28,163,17.177914110429448,null,null,"A13035037",24,25,153.1,156.07,2311,11448,20.186932215234101,null,null,"A14002449","OL",6,184.49,188.5,17,199,8.5427135678391952,null,null,"A13026867",10,11,252.9,256.91000000000003,938,16953,5.5329440217070722,null,null,"A13034231","OL","OL",323.39999999999998,328.4,10,336,2.9761904761904763,null,null,"A14000308",14,15,362.39,366.26,452,10603,4.2629444496840518,null,null,"A14000463",13,14,97.91,101.78,10,75,13.333333333333334,null,null,"A13033185",21,22,176.53,180.63,1429,17239,8.2893439294622659,null,null,"A14000819","OL",29,254,258.31,18,133,13.533834586466165,null,null,"A13033185",11,12,284.23,288.22000000000003,752,11982,6.2760807878484393,null,null,"A14000029",12,13,338.03,340.94,695,7025,9.8932384341637007,null,null,"A13036158",10,11,392.35,397.5,153,6758,2.263983427049423,null,null,"(+2)_03-17-14_AG","OL","OL",97.8,101.89,10,81,12.345679012345679,null,null,"A13033185",14.2,15.2,176.37,180.63,21,278,7.5539568345323742,null,null,"A14000029","OL","OL",230.32,234.19,14,138,10.144927536231885,null,null,"A13036158",15,16,334.82,338.85,1061,10662,9.9512286625398616,null,null,"A13035877",10,11,385,389.11,792,12782,6.1962134251290877]
["A13035480",17,18,111.89,115.95,1392,14203,9.8007463211997461,null,null,"A14000203",12,13,156.52000000000001,160.66,544,10494,5.1839146178768818,null,null,"A13035480","OL","OL",240.59,246.6,51,214,23.831775700934578,null,null,"A14001275",31,32,286.33,290.45999999999998,387,3299,11.730827523491968,null,null,"A13035480","OL",13.2,322.42,326.45999999999998,43,460,9.3478260869565215,null,null,"A13035037",12,"OL",109.95,113.94,44,257,17.120622568093385,null,null,"A13035063",23,24,150.21,153.19999999999999,2720,14307,19.011672607814358,null,null,"A13035729","OL","OL",221.94,226.13,15,180,8.3333333333333339,null,null,"A13026867","OL","OL",282.57,286.51,76,673,11.292719167904904,null,null,"C13006949",10,11,313.81,318.85000000000002,55,1853,2.9681597409606044,null,null,"A14000336",14,15,362.3,366.2,265,6046,4.3830631822692689,null,null,"A14000203",10,11,86.2,89.99,20,152,13.157894736842104,null,null,"A13033185","OL",29,204.09,208.34,29,120,24.166666666666668,null,null,"A13005329","OL","OL",212.51,216.52,59,449,13.140311804008908,null,null,"A13034231",10,11,280.11,284.10000000000002,621,13236,4.6917497733454212,null,null,"A13034770",12,13,337.96,341.04,921,9442,9.7542893454776536,null,null,"A14000029",9,10,387.14,392.41,105,5453,1.9255455712451861,null,null,"A14000455",12,13,124.24,128.30000000000001,3552,29154,12.183576867668245,null,null,"A13033185",17,18,185.84,189.62,3302,28020,11.784439685938615,null,null,"A13023482",14,15,257.69,261.76,1260,12477,10.098581389757154,null,null,"A14000029",17,18,342.88,346.92,1033,8355,12.363853979652902,null,null,"A13023482",10,11,385.07,389.23,750,12109,6.193740193244694]
["A13035513",17,18,111.78,115.81,153,1620,9.4444444444444446,null,null,"A13035731",12,13,156.52000000000001,160.49,484,9374,5.1632174098570518,null,null,"A13035513",18,19,214.37,220.33,20,1122,1.7825311942959001,null,null,"A13028756",29,30,278.45,282.36,478,4096,11.669921875,null,null,"A13035480",13,14,324.52,328.56,252,6365,3.9591516103692066,null,null,"A14000356","OL","OL",120,124.24,13,76,17.105263157894736,null,null,"A13035063","OL","OL",157.35,160.66,40,417,9.5923261390887298,null,null,"A14000455","OL",6,184.36,188.56,22,265,8.3018867924528301,null,null,"A13028756",7,8,241.09,245.23,23,252,9.1269841269841265,null,null,"A13005329",10,11,313.74,318.97000000000003,179,6053,2.957211300181728,null,null,"A14000356",13,14,358.19,362.22,209,5574,3.7495514890563331,null,null,"A14001268",18,19,117.91,122.04,2073,16427,12.619467949108175,null,null,"A13034231",21,22,176.45,180.49,2245,24410,9.1970503891847599,null,null,"A14002203","OL","OL",251.29,255.79,12,92,13.043478260869565,null,null,"A13034384",10,11,280.08,284.20999999999998,276,5738,4.8100383408853258,null,null,"(+1)_03-17-14_AG",12,13,337.87,340.9,434,4578,9.4801223241590211,null,null,"A14000203","OL","OL",365.14,370.31,14,161,8.695652173913043,null,null,"A14000255","OL","OL",117.93,121.87,25,209,11.961722488038278,null,null,"A13033185",23,24,208.34,212.43,10,100,10,null,null,"A14000455",14,15,257.39,261.56,1224,12201,10.031964593066142,null,null,"A14000203",15,16,334.71,338.77,1029,9698,10.61043514126624,null,null,"C13019586",10,11,384.99,389.11,338,5460,6.1904761904761907]
["A13035670",18,19,115.85,119.83,1669,16066,10.388397858832317,null,null,"(+1)_03-17-14_AG",13,14,160.49,164.54,194,3768,5.1486199575371554,null,null,"A13035670",17,18,208.34,214.27,244,13702,1.7807619325645891,null,null,"A13026867",30,31,282.57,286.51,408,3536,11.538461538461538,null,null,"A13035513",13,14,324.36,328.37,12,392,3.0612244897959182,null,null,"C14000276","OL","OL",113.77,117.92,28,167,16.766467065868262,null,null,"A13035063","OL","OL",165.4,168.17,16,68,23.529411764705884,null,null,"A14000029","OL","OL",230,234.19,20,243,8.2304526748971192,null,null,"A13028756",12,13,261.02,265,1012,13239,7.644081879296019,null,null,"A13032303",11,12,318.97000000000003,324.05,203,6907,2.9390473432749387,null,null,"A14000455",14,15,362.39,366.26,302,7084,4.2631281761716542,null,null,"A14000203",18,19,117.91,121.87,2079,16824,12.357346647646219,null,null,"A13034384",20,21,172.56,176.61,478,7064,6.7667044167610415,null,null,"A13035670",17,18,209.79,214.27,27,211,12.796208530805687,null,null,"A13034610",6,7,263.99,268.37,54,367,14.713896457765667,null,null,"(+1)_03-17-14_AG",12,13,338.11,341.08,439,4647,9.4469550247471492,null,null,"A14000203",12,13,402.79,407.88,151,5207,2.8999423852506241,null,null,"C13019586","OL","OL",97.76,101.75,24,202,11.881188118811881,null,null,"A13034231",14,15,174.67,178.39,4100,30993,13.228793598554512,null,null,"A13035670",20.2,"OL",284.61,288.23,12,121,9.9173553719008272,null,null,"A14000208",16,17,338.86,342.95,1159,10497,11.041249880918357,null,null,"C13014559",10,11,385.1,389.19,360,5831,6.1738981306808434]
["A13035729",17,18,111.78,115.81,1582,15538,10.181490539322951,null,null,"A14002449",12,13,156.38999999999999,160.49,498,9675,5.1472868217054266,null,null,"A13035729",20,21,226.13,232.1,228,10499,2.171635393847033,null,null,"A13019120",29,30,278.31,282.25,498,4409,11.295078249036063,null,null,"A13035670","OL","OL",319.27999999999997,323.41000000000003,10,34,29.411764705882351,null,null,"A14000901","OL","OL",112.39,116.2,29,174,16.666666666666668,null,null,"A13035189",25,26,156.03,159.01,678,3663,18.509418509418509,null,null,"A14000308",13,14,216.44,220.48,1615,19941,8.0988917306052848,null,null,"A13028756","OL","OL",278.76,282.67,11,66,16.666666666666668,null,null,"A13035480",11,12,318.89,324.02999999999997,360,12328,2.9201817001946786,null,null,"A14000463",15,16,366.31,370.24,60,1179,5.0890585241730282,null,null,"A14000593",21,22,129.71,133.61000000000001,1223,9924,12.32365981459089,null,null,"A13034384",28,29,204.68,208.39,12,161,7.4534161490683228,null,null,"A13035280","OL","OL",212.43,216.63,42,329,12.76595744680851,null,null,"A13034610",10,11,280.11,284.10000000000002,365,7613,4.794430579272297,null,null,"A13035729","OL","OL",355.3,358.36,15,161,9.316770186335404,null,null,"A14000208",12,13,402.97,407.94,170,6314,2.6924295216978145,null,null,"A14000547",12,13,124.21,128.22999999999999,3591,30287,11.856572126655001,null,null,"A13034231","OL",23,204.07,208.13,11,70,15.714285714285714,null,null,"A13035280","OL","OL",223.71,227.58,17,174,9.7701149425287355,null,null,"A14000214",16,17,338.74,342.92,1437,12287,11.695287702449743,null,null,"A13032903",10,11,385.04,389.26,640,10375,6.168674698795181]
["A13035731",15,16,103.67,107.68,1439,16731,8.6008009084932162,null,null,"(+1)_03-17-14_AG",13,14,160.63,164.6,208,4054,5.130735076467686,null,null,"A13035731",19,20,220.19,226.13,247,11635,2.1229050279329611,null,null,"A14001151",29,30,278.45,282.36,413,3674,11.241154055525312,null,null,"A13035670",13.2,14.2,326.44,330.43,32,442,7.2398190045248869,null,null,"A13035877","OL","OL",119.83,124.25,17,103,16.50485436893204,null,null,"A13035222",24,25,153.04,156.03,3555,18359,19.36379977122937,null,null,"A13032309","OL","OL",230.41,234.24,30,372,8.064516129032258,null,null,"A13028756","OL","OL",283.92,288.14,16,148,10.810810810810811,null,null,"A14000255",10,11,313.73,318.8,282,10119,2.7868366439371481,null,null,"A14000547",14,15,362.14,366.15,345,7704,4.4781931464174454,null,null,"A13032903",13,14,97.78,101.91,116,950,12.210526315789474,null,null,"A13034610","OL","OL",157.83000000000001,161.82,18,70,25.714285714285715,null,null,"A13022253","OL","OL",212.5,216.5,25,203,12.315270935960591,null,null,"A13034770",11,12,284.10000000000002,288.24,895,14894,6.0091311937693028,null,null,"A13035480",12,13,338.13,341.05,1010,10886,9.2779717067793488,null,null,"A14000214",11,12,397.7,402.91,212,7704,2.7518172377985461,null,null,"A14001297",12,13,124.12,128.21,3526,30299,11.637347767253045,null,null,"A13034384",15,16,178.39,182.26,1176,13343,8.8136101326538263,null,null,"A13035731",14,15,257.39999999999998,261.58,1230,12797,9.6116277252481055,null,null,"A14000243",12,13,322.60000000000002,326.61,803,10667,7.5278897534452049,null,null,"A13035280",10,11,385.18,389.12,522,8483,6.1534834374631613]
["A13035877",16,17,107.75,111.78,2156,23374,9.2239240181398134,null,null,"A13019771",12,13,156.55000000000001,160.49,449,8766,5.1220625142596399,null,null,"A13035877","OL",17.399999999999999,206.41,212.18,89,350,25.428571428571427,null,null,"A14000214",29,30,278.45,282.52999999999997,883,7892,11.188545362392295,null,null,"A13035670",14,15,328.51,332.51,470,6352,7.3992443324937032,null,null,"A13035877","OL","OL",108.1,112.14,49,298,16.44295302013423,null,null,"A13035222",33,"OL",179.35,182.1,13,80,16.25,null,null,"A14000336","OL","OL",230.49,234.2,16,200,8,null,null,"A13032303",7,8,241.19,245.19,19,191,9.9476439790575917,null,null,"A13026867",10,11,313.81,318.85000000000002,280,10079,2.7780533783113404,null,null,"A14000583",14,15,362.31,366.32,95,1950,4.8717948717948714,null,null,"A13004823",18,19,117.76,121.7,2276,18817,12.095445607695169,null,null,"A13034610",21,22,176.58,180.49,784,10044,7.8056551174830746,null,null,"(+1)_03-17-14_AG","OL","OL",213.14,216.73,23,188,12.23404255319149,null,null,"A13035037",11,12,284.20999999999998,288.16000000000003,586,9476,6.1840439003799075,null,null,"A14000356","OL",20,359.64,362.22,18,197,9.1370558375634516,null,null,"A14000243",10,11,392.56,397.68,160,6615,2.4187452758881332,null,null,"A13032903",14,15,132.22999999999999,136.37,1929,16876,11.430433752073951,null,null,"A13034610",14.2,15.2,176.58,180.49,10,190,5.2631578947368425,null,null,"A13033185","OL","OL",226.72,230.31,19,199,9.5477386934673358,null,null,"A14000255",14,15,330.62,334.81,890,9391,9.4771589820040472,null,null,"A13004823",10,11,385.18,389.29,633,10318,6.1349098662531496]
["A13035877","OL","OL",109.68,114.06,294,1218,24.137931034482758,null,null,"A13028756",12,13,156.59,160.49,407,7953,5.1175656984785611,null,null,"A13035877",19,20,220.35,226.29,483,19305,2.5019425019425019,null,null,"A13035731",29,30,278.47000000000003,282.41000000000003,702,6308,11.1287254280279,null,null,"A13035729",14,15,328.37,332.56,387,4825,8.0207253886010363,null,null,"A13035189","OL","OL",83.1,87.58,10,64,15.625,null,null,"A13035280",23,24,150.38999999999999,153.21,2910,15920,18.278894472361809,null,null,"A13035513",12,13,212.43,216.46,95,1201,7.9100749375520403,null,null,"A13032303",11,12,257.04000000000002,261.02999999999997,630,9646,6.5312046444121918,null,null,"A13004823",10,11,313.74,318.81,293,10576,2.7704236006051439,null,null,"A14000593",15,16,366.27,370.31,331,6060,5.4620462046204619,null,null,"A14002449","OL","OL",143,147.47999999999999,29,240,12.083333333333334,null,null,"A13034610",27,28,200.49,204.41,31,285,10.87719298245614,null,null,"A14001591","OL","OL",216.56,220.38,19,158,12.025316455696203,null,null,"A13035063",9,10,276.11,280.08,454,9872,4.5988654781199347,null,null,"A13033185",10,11,331.9,334.88,708,7769,9.1131419745140949,null,null,"A14000255",9,10,387.31,392.41,117,5391,2.1702838063439067,null,null,"A13035222","OL","OL",102.12,106.18,139,1261,11.022997620935765,null,null,"A13034610",15,16,178.37,182.12,1722,20079,8.57612430897953,null,null,"A14001047",13,14,253.5,257.63,1342,14088,9.5258375922771155,null,null,"A14000308",14,15,330.67,334.72,1339,14591,9.1768898636145568,null,null,"C14000174",10,11,385.13,389.16,199,3256,6.1117936117936118]
["A13036158","OL","OL",77.92,81.739999999999995,26,238,10.92436974789916,null,null,"A13035361",12,13,156.49,160.5,253,4962,5.098750503829101,null,null,"A13035877",19.2,20.2,221.96,228.07,52,215,24.186046511627907,null,null,"C13019586","OL","OL",264.61,268.61,16,144,11.111111111111111,null,null,"A13035731","OL",13.2,322.29000000000002,326.27999999999997,25,386,6.4766839378238341,null,null,"A14000255","OL","OL",116.2,120.17,29,187,15.508021390374331,null,null,"A13035361",20,21,141.52000000000001,144.38999999999999,1309,9407,13.91516955458701,null,null,"A13036158",13,14,216.46,220.49,1431,18094,7.9086990162484803,null,null,"A13032303","OL","OL",274.37,278.76,16,59,27.118644067796609,null,null,"C13013508",10,11,313.64,318.83999999999997,110,3989,2.7575833542241162,null,null,"A14000756",14,15,362.31,366.21,344,7677,4.4809170248795098,null,null,"A14001047",19,20,121.84,125.67,1750,14708,11.898286646722871,null,null,"A13034770",23,24,184.73,188.64,1195,18290,6.533624931656643,null,null,"A13012447","OL","OL",244.88,249.04,29,246,11.788617886178862,null,null,"A13035189",9,10,275.94,280.04000000000002,121,3129,3.8670501757750082,null,null,"(+1)_03-17-14_AG",19,20,358.89,362.39,18,198,9.0909090909090917,null,null,"A14000308",9,10,387.21,392.35,179,8373,2.1378239579601099,null,null,"A13032309",12,13,124.21,128.22999999999999,3282,30204,10.866110448947159,null,null,"A13034610","OL",22,200.16,204.41,12,134,8.9552238805970141,null,null,"A13026831",14,15,257.39,261.56,1075,11365,9.4588649362076556,null,null,"A14000336",15,16,334.64,338.67,933,8969,10.402497491359126,null,null,"C14000343",10,11,385.09,389.18,469,7683,6.1043863074319926]
["A13036158",13,14,95.66,99.65,16,681,2.3494860499265786,null,null,"A14001047",11,12,152.43,156.55000000000001,879,17293,5.0829815532296303,null,null,"A13035877","OL","OL",240.65,246.62,13,149,8.724832214765101,null,null,"A13033185",28,29,274.52999999999997,278.54000000000002,548,4960,11.048387096774194,null,null,"A13035731",13,14,324.36,328.37,358,5526,6.4784654361201595,null,null,"C14000343","OL","OL",115.88,120,53,346,15.317919075144509,null,null,"A13035361","OL","OL",157.49,160.66,16,161,9.9378881987577632,null,null,"C13017415","OL","OL",226.44,230.1,11,143,7.6923076923076925,null,null,"A13032303","OL","OL",284.07,288.13,14,110,12.727272727272727,null,null,"A13023291",10,11,313.81,318.85000000000002,158,5743,2.751175343896918,null,null,"A14000819",13,14,358.31,362.31,146,4181,3.4919875627840229,null,null,"A14000208",19,20,121.89,125.65,1510,13041,11.578866651330419,null,null,"A13035037",20,21,172.54,176.43,885,12806,6.9108230516945186,null,null,"A14000356","OL","OL",212.42,216.61,42,371,11.320754716981131,null,null,"A13035222","OL","OL",261.08999999999997,264.93,61,686,8.8921282798833818,null,null,"C13014559","OL",20,359.74,362.3,12,134,8.9552238805970141,null,null,"A14000336",9,10,387.22,392.52,116,5510,2.1052631578947367,null,null,"A13035037",14,15,132.26,136.31,1948,18091,10.767785086507104,null,null,"A13034770","OL","OL",156.69,160.49,30,122,24.590163934426229,null,null,"C14000343",13,14,253.36,257.51,841,9035,9.3082457111234085,null,null,"A14000336","OL","OL",336.57,340.93,14,120,11.666666666666666,null,null,"A14000203",10,11,384.99,389.1,602,9892,6.085725839061868]
["A13036158",16,17,107.76,111.8,1366,14757,9.2566239750626824,null,null,"A14000029",12,13,156.52000000000001,160.66,442,8706,5.0769584194808175,null,null,"A13036158",18,19,214.36,220.32,261,12790,2.0406567630961687,null,null,"(+2)_03-17-14_AG",30,31,282.38,286.37,553,5024,11.007165605095542,null,null,"A13035877","OL",13.2,322.3,326.44,55,661,8.3207261724659602,null,null,"A13019771","OL","OL",112.04,116.03,24,157,15.286624203821656,null,null,"A13035361","OL","OL",171.85,174.96,11,249,4.4176706827309236,null,null,"A13028756",12,13,212.51,216.51,1080,14296,7.5545607162842749,null,null,"A13032309",7,8,241.08,245.22,32,342,9.3567251461988299,null,null,"A13026686",10,11,313.81,318.85000000000002,426,15524,2.744138108734862,null,null,"A14000901",14,15,362.14,366.15,384,9184,4.1811846689895473,null,null,"A13005329",14,15,101.77,106,82,716,11.452513966480447,null,null,"A13035063",22,23,180.65,184.52,884,15182,5.8226847582663677,null,null,"A13023482","OL","OL",236.4,240.36,14,124,11.290322580645162,null,null,"A13035222","OL",10.199999999999999,278.64999999999998,282.29000000000002,31,166,18.674698795180724,null,null,"A14000819",11,12,335.07,337.95,371,4147,8.9462261876054985,null,null,"A14000356",13,14,407.89,413.02,176,5066,3.4741413343861036,null,null,"A13033185","OL","OL",109.44,113.88,33,310,10.64516129032258,null,null,"A13034770",16,17,182.12,186.03,3625,30132,12.030399575202443,null,null,"A13035063",13,14,253.24,257.44,987,10689,9.2337917485265226,null,null,"A14000356",14,15,330.79,334.82,968,9984,9.6955128205128212,null,null,"C14000115",10,11,385,389.12,120,1995,6.0150375939849621]
["A14000029","OL","OL",77.95,81.55,34,244,13.934426229508198,null,null,"C13019586",12,13,156.53,160.65,314,6190,5.0726978998384489,null,null,"A13036158",20.399999999999999,"OL",229.87,236.2,10,248,4.032258064516129,null,null,"A13035731","OL","OL",275.79000000000002,279.73,10,91,10.989010989010989,null,null,"A13035877",13,14,324.37,328.51,668,9436,7.0792708774904618,null,null,"A13034770","OL","OL",94.79,98.96,37,243,15.22633744855967,null,null,"A13035480",21,22,144.53,147.37,2777,18174,15.280070430285022,null,null,"C14000343",12,13,212.43,216.41,1032,13813,7.4712227611670166,null,null,"A13032309",11,12,256.91000000000003,260.93,1270,19215,6.6094197241738222,null,null,"A13032903",10,11,313.70999999999998,318.88,270,9884,2.7316875758802106,null,null,"A14001047",13,14,358.14,362.14,273,8618,3.1677883499651891,null,null,"C13006949","OL",17.2,111.59,115.55,15,134,11.194029850746269,null,null,"A13035189",19,20,168.59,172.62,200,3730,5.3619302949061662,null,null,"C13006949","OL","OL",248.41,252.7,11,100,11,null,null,"A13035222",11,12,284.2,288.14999999999998,857,14411,5.9468461591839565,null,null,"C14000276",10,11,331.99,335.01,545,6093,8.9446906285901857,null,null,"A14000356","OL","OL",421.49,426.2,14,51,27.450980392156861,null,null,"A13035063",12,13,124.24,128.30000000000001,2970,28234,10.519232131472693,null,null,"A13034770",23,24,208.39,212.42,29,268,10.82089552238806,null,null,"A13032309",13,14,253.38,257.56,1477,16485,8.9596602972399157,null,null,"A14000455",15,16,334.81,338.84,1263,12331,10.242478306706674,null,null,"A13034231",10,11,385.07,389.21,648,10781,6.0105741582413508]
["A14000029",17,18,111.78,115.81,1437,14493,9.9151314427654729,null,null,"A13023482",11,12,152.4,156.44999999999999,651,12886,5.0519944125407417,null,null,"A13036158","OL","OL",240.58,246.59,25,124,20.161290322580644,null,null,"A13035670",29,30,278.31,282.41000000000003,784,7171,10.932924278343327,null,null,"A13036158","OL",13.2,322.42,326.45,39,455,8.5714285714285712,null,null,"A14002203","OL","OL",117.56,121.69,15,103,14.563106796116505,null,null,"A13035480","OL","OL",169.38,172.16,12,44,27.272727272727273,null,null,"A13022253",12,13,212.34,216.34,755,10106,7.4708094201464474,null,null,"A13032309","OL","OL",274.52,278.60000000000002,20,166,12.048192771084338,null,null,"A13019120",10,11,313.73,318.8,240,8807,2.7251050300897015,null,null,"A14001151",13,14,358.32,362.32,171,4800,3.5625,null,null,"(+1)_03-17-14_AG",13,14,97.8,102.07,17,152,11.184210526315789,null,null,"A13035222",17,18,160.16,164.58,43,285,15.087719298245615,null,null,"A14001047",25,26,242.48,246.48,1861,17081,10.895146654177156,null,null,"A13035280",10,11,280.08,284.20999999999998,601,11630,5.1676698194325024,null,null,"C13019586",10,11,332.04,335.08,466,5212,8.9409056024558708,null,null,"A14000455",9,10,387.31,392.41,159,6968,2.2818599311136625,null,null,"A13033185",13,14,128.27000000000001,132.36000000000001,2639,25407,10.386901247687645,null,null,"A13035037","OL",14.2,172.38,176.43,17,200,8.5,null,null,"A14001591",13,14,253.34,257.45999999999998,624,6970,8.9526542324246776,null,null,"A14000463",12,13,322.58999999999997,326.62,100,1411,7.0871722182849046,null,null,"A13026867",10,11,385,389.12,510,8509,5.9936537783523329]
["A14000203","OL","OL",77.95,81.55,30,251,11.952191235059761,null,null,"A13035877",11,12,152.44,156.38999999999999,1216,24239,5.0167086100911753,null,null,"A14000029",18,19,214.26,220.19,247,12225,2.0204498977505114,null,null,"(+1)_03-17-14_AG",30,31,282.22000000000003,286.20999999999998,364,3331,10.927649354548183,null,null,"A13036158",13,14,324.52,328.54,274,6185,4.430072756669361,null,null,"A14000756","OL","OL",113.9,117.91,33,228,14.473684210526315,null,null,"A13035513",21,22,144.36000000000001,147.19999999999999,226,1392,16.235632183908045,null,null,"A14000547",12,13,212.49,216.5,1531,20520,7.4610136452241713,null,null,"A13032309","OL","OL",284.08,288.14999999999998,23,226,10.176991150442477,null,null,"A14001151",10,11,313.8,318.83999999999997,172,6326,2.7189377173569396,null,null,"A14001268",14,15,362.31,366.32,307,7214,4.2556140837260878,null,null,"A13019771",17,18,113.77,117.76,2362,21290,11.094410521371536,null,null,"A13035222",22,23,180.81,184.68,1137,22819,4.9826898637100658,null,null,"(+1)_03-17-14_AG","OL","OL",212.41,216.56,15,138,10.869565217391305,null,null,"A13035361",9,10,276.12,280.11,366,7969,4.5927970887187852,null,null,"A13023482","OL","OL",349.37,352.21,11,125,8.8000000000000007,null,null,"A14000455","OL","OL",421.34,426.2,10,44,22.727272727272727,null,null,"C14000276",13,14,128.22999999999999,132.22999999999999,1809,17429,10.379252969189283,null,null,"A13035037",14,15,174.65,178.38,2108,27577,7.644051202088697,null,null,"C14000011",13,14,253.34,257.47000000000003,546,6121,8.9201110929586669,null,null,"A14000547",15,16,334.69,338.82,1515,14038,10.792135631856389,null,null,"A13036158",10,11,385.06,389.03,604,10130,5.9624876604146104]
["A14000203",16,17,107.75,111.78,1707,18194,9.3822139166758269,null,null,"C14000276",12,13,156.55000000000001,160.65,372,7430,5.0067294751009417,null,null,"A14000203","OL",17.399999999999999,205.77,212.18,12,200,6,null,null,"A13023482",28,29,274.38,278.39999999999998,730,6686,10.918336823212684,null,null,"A14000029","OL",13.2,322.27999999999997,326.45,21,381,5.5118110236220472,null,null,"A14000203","OL","OL",117.73,121.87,28,196,14.285714285714286,null,null,"A13035670",24,25,153.1,156.06,3036,15385,19.733506662333443,null,null,"A13005329",12,13,212.51,216.52,712,9559,7.4484778742546291,null,null,"A13032903",11,12,256.87,261.02,891,14038,6.3470579854680151,null,null,"C14000011",10,11,313.70999999999998,318.88,162,6024,2.689243027888446,null,null,"A14001275",13,14,358.3,362.21,166,4783,3.4706251306711269,null,null,"C13017415",19,20,122.01,125.84,1000,9060,11.037527593818984,null,null,"A13035222","OL",29,204.03,208.39,18,64,28.125,null,null,"A13004823","OL","OL",248.87,252.9,49,455,10.76923076923077,null,null,"A13035361","OL",17,305.08,308.73,20,280,7.1428571428571432,null,null,"A13035063","OL","OL",316.10000000000002,318.8,16,183,8.7431693989071047,null,null,"A14000463","OL","OL",365.66,370.41,14,65,21.53846153846154,null,null,"A14000243",13,14,128.30000000000001,132.33000000000001,1559,15235,10.233016081391533,null,null,"A13035037",23,24,208.35,212.35,24,265,9.0566037735849054,null,null,"A14000336",13,14,253.38,257.39999999999998,999,11256,8.8752665245202564,null,null,"A14000583",14,15,330.62,334.81,274,2742,9.9927060539752013,null,null,"A13035361",10,11,385.07,389.21,382,6444,5.9279950341402854]
["A14000208","OL","OL",77.92,81.739999999999995,18,250,7.2,null,null,"A14000214",12,13,156.41999999999999,160.49,471,9418,5.001061796559779,null,null,"A14000203",19,20,220.19,226.13,335,13483,2.4846102499443745,null,null,"A13032903",30,31,282.48,286.52,550,5056,10.878164556962025,null,null,"A14000029",13,14,324.36,328.37,212,5434,3.9013617960986382,null,null,"A14000756","OL","OL",112.15,116.17,38,268,14.17910447761194,null,null,"A13035670","OL","OL",165.39,168.16,13,46,28.260869565217391,null,null,"A14001392",12,13,212.5,216.5,741,10039,7.3812132682538101,null,null,"A13032903","OL","OL",282.63,286.68,31,267,11.610486891385769,null,null,"C13019586",10,11,313.89,318.97000000000003,209,7874,2.6543053086106174,null,null,"A14001297",14,15,362.22,366.25,319,7595,4.2001316655694536,null,null,"A14000819",19,20,121.85,125.72,919,8358,10.995453457765015,null,null,"A13035280",21,22,176.44,180.49,1648,18552,8.8831392841742129,null,null,"A13035480","OL","OL",212.5,216.56,81,764,10.602094240837696,null,null,"A13035480","OL","OL",274.52,278.02999999999997,21,101,20.792079207920793,null,null,"A13005329",10,11,332.03,335.07,422,4845,8.7100103199174406,null,null,"A14000463",8,9,382.09,387.22,30,1167,2.5706940874035991,null,null,"A13035189",14,15,132.22999999999999,136.21,607,5966,10.174321153201475,null,null,"A13035063","OL","OL",156.52000000000001,160.49,16,204,7.8431372549019605,null,null,"A13034231",13,14,253.23,257.44,2377,26856,8.8509085492999695,null,null,"A14000593",13,14,326.61,330.79,644,7642,8.4271133211201263,null,null,"A13005329",10,11,385.1,389.19,327,5517,5.9271343121261557]
["A14000208","OL","OL",101.42,105.87,115,397,28.967254408060452,null,null,"A14000208",12,13,156.49,160.66,390,7806,4.9961568024596463,null,null,"A14000203",23,24,244.68,250.64,10,57,17.543859649122808,null,null,"(+2)_03-17-14_AG",30,31,282.38,286.37,457,4202,10.875773441218467,null,null,"A14000203",13.2,14.2,326.29000000000002,330.5,29,416,6.9711538461538458,null,null,"A13034231","OL","OL",121.87,125.59,24,172,13.953488372093023,null,null,"A13035670",33,"OL",179.52,182.26,15,54,27.777777777777779,null,null,"A14002449",12,13,212.42,216.4,1182,16070,7.3553204729309272,null,null,"A13032903","OL","OL",284.02999999999997,288.23,14,174,8.0459770114942533,null,null,"A13034384",10,11,313.73,318.8,120,4600,2.6086956521739131,null,null,"A14001392",14,15,362.23,366.26,273,6017,4.5371447565231842,null,null,"C14000115",19,20,122.04,125.94,482,4390,10.979498861047835,null,null,"A13035280","OL","OL",189.6,193.99,15,58,25.862068965517242,null,null,"A13005329","OL","OL",252.74,256.91000000000003,45,428,10.514018691588785,null,null,"A13035480",11,12,284.08999999999997,288.07,1020,17241,5.9161301548634073,null,null,"A14000208",11,12,334.94,337.88,762,8799,8.6600750085236964,null,null,"A14000547",9,10,387.38,392.45,176,8045,2.1876942200124301,null,null,"C14000115",13,14,128.31,132.34,450,4465,10.078387458006718,null,null,"A13035063",14,15,174.67,178.39,3392,30461,11.135550375890483,null,null,"A13028756","OL","OL",234.56,238.39,10,113,8.8495575221238933,null,null,"A14000756",15,16,334.71,338.77,958,9475,10.110817941952506,null,null,"A14001151",10,11,385.03,389.25,314,5313,5.9100319969885184]
["A14000208",16,17,107.64,111.71,1340,14533,9.2203949631872284,null,null,"A14000819",12,13,156.38999999999999,160.49,234,4748,4.9283909014321816,null,null,"A14000208",19,20,220.13,226.14,248,12055,2.0572376607216922,null,null,"C13006949",30,31,282.31,286.35000000000002,108,997,10.832497492477433,null,null,"A14000203",14,15,328.4,332.44,494,6242,7.9141300865107338,null,null,"C13013508","OL","OL",117.75,121.7,13,94,13.829787234042554,null,null,"A13035729",24,25,153.1,155.88999999999999,2378,12652,18.795447360101171,null,null,"A13035480",12,13,212.5,216.4,1340,18282,7.3296138278087737,null,null,"A13033185",8,9,244.84,248.75,716,18263,3.9204949898702295,null,null,"C13014559",10,11,313.64999999999998,318.85000000000002,230,8838,2.6023987327449651,null,null,"A14001591",14,15,362.23,366.21,194,4218,4.5993361782835471,null,null,"A13001215",19,20,121.86,125.73,934,8516,10.967590418036638,null,null,"A13035361",22,23,180.65,184.53,797,9001,8.8545717142539715,null,null,"A14000356",23,24,234.35,238.06,15,145,10.344827586206897,null,null,"A13035513",10,11,280.07,284.02999999999997,40,917,4.3620501635768809,null,null,"A13034384",10,11,331.96,334.87,400,4642,8.6169754416199922,null,null,"A14000547","OL","OL",436.17,440.77,10,47,21.276595744680851,null,null,"A14001151",13,14,128.12,132.15,1026,10189,10.069682991461381,null,null,"A13035189",15,16,178.4,182.26,394,4907,8.0293458324842071,null,null,"A14002449",13,14,253.34,257.47000000000003,801,9086,8.8157605106757657,null,null,"A14000819",13,14,326.60000000000002,330.75,377,4276,8.81665107577175,null,null,"A13001215",10,11,385.16,389.27,270,4573,5.9042204242291714]
["A14000214",16,17,107.68,111.68,1397,14711,9.4962952892393453,null,null,"A13035670",12,13,156.38999999999999,160.49,524,10639,4.9252749318544975,null,null,"A14000214",19,20,220.23,226.11,279,12485,2.2346816179415296,null,null,"A13026686",30,31,282.41000000000003,286.5,860,8028,10.712506228201295,null,null,"A14000208",14.2,15.2,330.53,334.61,27,442,6.1085972850678729,null,null,"C14000174","OL","OL",117.6,121.84,17,123,13.821138211382113,null,null,"A13035729","OL",32,173.85,176.44,21,80,26.25,null,null,"A14000356",12,13,212.42,216.45,1261,17249,7.3105687286219494,null,null,"A13033185",11,"OL",257.41000000000003,261.66000000000003,15,209,7.1770334928229662,null,null,"A14001275",10,11,313.75,318.89,169,6509,2.5964049777231524,null,null,"A14002203",14,15,362.23,366.26,118,2995,3.9398998330550916,null,null,"C14000011",18,19,117.94,121.85,840,7681,10.936076031766698,null,null,"A13035361",28,29,204.54,208.43,33,278,11.870503597122303,null,null,"A13034231","OL","OL",252.75,256.79000000000002,45,438,10.273972602739725,null,null,"A13035670","OL","OL",261.25,265.08999999999997,34,541,6.284658040665434,null,null,"A13035063",10,11,331.96,335.04,460,5358,8.5852930197835011,null,null,"A14000583",9,10,387.31,392.57,36,1699,2.1188934667451442,null,null,"A14002449","OL","OL",143.33000000000001,147.13999999999999,16,159,10.062893081761006,null,null,"A13035222","OL","OL",160.97999999999999,164.75,23,196,11.73469387755102,null,null,"A13036158",13,14,253.41,257.45,1210,13781,8.7802046295624407,null,null,"A14000901",16,17,338.76,342.93,1581,14080,11.228693181818182,null,null,"A13026686",10,11,385.11,389.2,884,14993,5.8960848395918095]
["A14000214","OL","OL",113.94,118.44,24,116,20.689655172413794,null,null,"A13034610",12,13,156.49,160.5,291,5921,4.9147103529809151,null,null,"A14000243",19,20,220.32,226.29,254,11397,2.228656664034395,null,null,"(+1)_03-17-14_AG",30,31,282.32,286.36,337,3165,10.647709320695103,null,null,"A14000208",15,16,332.49,336.57,540,6271,8.611066815499921,null,null,"A14000243","OL","OL",113.72,117.91,25,184,13.586956521739131,null,null,"A13035729",33,"OL",179.52,182.1,10,324,3.0864197530864197,null,null,"A14000819",12,13,212.43,216.41,543,7441,7.2974062625991127,null,null,"A13033185","OL","OL",274.52999999999997,278.54000000000002,57,557,10.233393177737881,null,null,"A13034610",10,11,313.74,318.88,156,6051,2.5780862667327713,null,null,"A14002449",14,15,362.3,366.31,291,6594,4.4131028207461327,null,null,"A13035877",17,18,114.06,118.08,2283,20884,10.931813828768435,null,null,"A13035480",23,24,184.56,188.63,1433,23598,6.0725485210611065,null,null,"A13005329",24,25,238.3,242.31,978,9579,10.209834011901034,null,null,"A13035670",11,12,284.14,288.07,877,13696,6.4033294392523361,null,null,"A14000243",11,12,335.14,338.04,681,7976,8.538114343029088,null,null,"A14000593",11,12,397.53,402.79,121,4588,2.6373147340889278,null,null,"C13014559",13,14,128.22999999999999,132.22999999999999,1478,14790,9.9932386747802564,null,null,"A13035222",16,17,182.1,185.81,4285,30370,14.109318406322028,null,null,"A13028756",13,14,253.36,257.51,1291,14757,8.7483905942942339,null,null,"A14001047",14,15,330.71,334.69,1226,13700,8.9489051094890506,null,null,"A13032309",10,11,385.09,389.18,631,10752,5.8686755952380949]
["A14000243",16,17,107.94,111.97,1361,14735,9.2365117068204956,null,null,"A13034770",12,13,156.52000000000001,160.49,471,9588,4.9123904881101375,null,null,"A14000255",18,19,214.42,220.35,248,12383,2.0027456997496569,null,null,"C14000174",29,30,278.27,282.32,229,2155,10.626450116009281,null,null,"A14000214",13.2,14.2,326.27,330.42,39,497,7.8470824949698192,null,null,"C13006949","OL","OL",112.11,116.06,34,258,13.178294573643411,null,null,"A13035731",21,22,144.36000000000001,147.19999999999999,2455,14796,16.592322249256554,null,null,"A13033185","OL","OL",185.84,189.62,59,825,7.1515151515151514,null,null,"A13034231",10,11,252.91,256.95,1255,21870,5.7384545038866026,null,null,"A13035037",10,11,313.73,318.8,211,8335,2.5314937012597483,null,null,"C13006949",13,14,358.14,362.3,45,1300,3.4615384615384617,null,null,"C14000115","OL","OL",99.31,103.35,13,119,10.92436974789916,null,null,"A13035480","OL","OL",197.89,201.95,18,65,27.692307692307693,null,null,"A14001297","OL","OL",253.05,256.91000000000003,38,373,10.187667560321715,null,null,"A13035729","OL","OL",267.17,271.01,77,457,16.849015317286653,null,null,"A14000356",10,11,332.08,335.14,692,8117,8.5253172354318103,null,null,"A14000756",9,10,387.22,392.36,121,5952,2.0329301075268815,null,null,"A14000819",13,14,128.22999999999999,132.22999999999999,860,8653,9.938749566624292,null,null,"A13035222",23,24,208.39,212.42,50,466,10.729613733905579,null,null,"C13019581",13,14,253.36,257.51,783,8988,8.711615487316422,null,null,"A14001151",16,17,338.91,342.92,523,4790,10.918580375782881,null,null,"A14001392",10,11,385.1,389.19,398,6808,5.8460634547591068]
["A14000255",18,19,115.85,119.83,2067,18608,11.108125537403268,null,null,"A13026867",12,13,156.55000000000001,160.49,481,9982,4.8186736125025043,null,null,"A14000308",18,19,214.34,220.32,307,13610,2.2556943423952975,null,null,"A13022253",29,30,278.31,282.39999999999998,379,3571,10.61327359283114,null,null,"A14000214",14,15,328.35,332.5,558,6857,8.1376695347819741,null,null,"A13034610","OL","OL",117.71,121.89,16,122,13.114754098360656,null,null,"A13035731","OL","OL",157.35,160.82,12,129,9.3023255813953494,null,null,"A14000455",12,13,212.43,216.46,1390,19546,7.1114294484805072,null,null,"A13034231","OL","OL",270.33,274.36,34,459,7.4074074074074074,null,null,"C14000276",10,11,313.64,318.83999999999997,270,10697,2.5240721697672246,null,null,"C13013508",13,14,358.31,362.31,109,3004,3.6284953395472703,null,null,"A14001275",13,14,97.72,101.94,32,295,10.847457627118644,null,null,"A13035513",22,23,180.65,184.56,78,1667,4.6790641871625676,null,null,"A13023482",24,25,238.46,242.41,1997,20517,9.7333918214163866,null,null,"A13035729",12,13,288.14999999999998,292.26,709,9658,7.3410644025678193,null,null,"A13004823",10,11,331.9,334.96,677,7964,8.5007533902561523,null,null,"A14000819",11,12,397.7,402.77,85,2964,2.8677462887989202,null,null,"A14000208",13,14,128.19999999999999,132.27000000000001,1839,18690,9.8394863563402897,null,null,"A13035280",13,14,170.93,174.66,3028,30726,9.8548460587124911,null,null,"A13032303",13,14,253.52,257.52,987,11330,8.7113857016769636,null,null,"A14001268",13,14,326.61,330.63,874,10753,8.1279642890356172,null,null,"A13035480",10,11,385.14,389.14,806,13859,5.8157154195829426]
["A14000308",13,"OL",95.47,99.13,10,886,1.1286681715575622,null,null,"A13034231",11,12,152.47999999999999,156.49,724,15028,4.8176736758051639,null,null,"A14000336",18,19,214.35,220.32,206,10058,2.0481208987870354,null,null,"A13023291",29,30,278.44,282.51,365,3454,10.567458019687319,null,null,"A14000243",14,15,328.54,332.56,511,6639,7.6969423105889438,null,null,"A13026867","OL","OL",109.77,113.77,77,608,12.664473684210526,null,null,"A13035877",24,25,153.26,156.06,4702,23936,19.644050802139038,null,null,"A13032309",12,13,212.51,216.51,1438,20281,7.0903801587692916,null,null,"A13034231","OL","OL",279.79000000000002,284.10000000000002,14,254,5.5118110236220472,null,null,"A14000463",8,9,303.67,308.63,35,1403,2.4946543121881684,null,null,"C13014559",13,14,358.14,362.14,201,6141,3.2730825598436737,null,null,"A13032903",18,19,117.77,121.85,1594,14760,10.799457994579946,null,null,"A13035670",22,23,180.65,184.69,1017,19874,5.1172386032001613,null,null,"A13035280","OL","OL",252.75,256.95999999999998,41,423,9.6926713947990546,null,null,"A13035731",10,11,280.04000000000002,284.14,449,9726,4.6164918774419084,null,null,"A14001047","OL","OL",315.85000000000002,319,24,285,8.4210526315789469,null,null,"A14000901",9,10,387.13,392.4,160,7045,2.2711142654364798,null,null,"A14001268",12,13,124.08,128.13,2747,28056,9.7911320216709434,null,null,"A13035361",13,14,171.2,174.96,1041,18709,5.5641669784595651,null,null,"A14000901",13,14,253.36,257.52,1362,15676,8.6884409288083688,null,null,"A14001275",14,15,330.66,334.71,459,5102,8.9964719717757742,null,null,"C13006949",10,11,385.21,389.27,64,1148,5.5749128919860631]
["A14000308",15,16,103.71,107.76,1427,16472,8.6631860126274898,null,null,"A13035480",12,13,156.52000000000001,160.49,494,10254,4.8176321435537348,null,null,"A14000356",21,22,232.26,238.23,379,12147,3.1201119618012676,null,null,"A14000583",28,29,274.36,278.47000000000003,201,1903,10.562270099842355,null,null,"A14000255","OL",13.2,322.29000000000002,326.45,19,391,4.859335038363171,null,null,"A13035480","OL","OL",114.01,117.89,32,254,12.598425196850394,null,null,"A13035877","OL","OL",175.31,178.38,12,67,17.910447761194028,null,null,"A13036158","OL","OL",186.02,189.77,51,730,6.9863013698630141,null,null,"A13034384",10,11,252.92,256.95999999999998,369,6901,5.3470511520069559,null,null,"A14001268",9,10,308.66000000000003,313.72000000000003,284,11428,2.4851242562128109,null,null,"C13017415",15,16,366.21,370.2,183,3096,5.9108527131782944,null,null,"A13023482",19,20,121.82,126.12,94,872,10.779816513761467,null,null,"A13035729",20,21,172.55,176.44,1030,14169,7.2693909238478369,null,null,"A13005329","OL",29,255.15,258.68,45,466,9.6566523605150216,null,null,"A13035877",10,11,280.07,284.02999999999997,669,13463,4.9691747753101092,null,null,"A13001215",10,11,331.91,334.97,403,4786,8.4203928123694105,null,null,"A14001047",10,11,392.62,397.7,133,6654,1.9987977156597536,null,null,"A13004823",13,14,128.12,132.15,2381,24492,9.7215417279111538,null,null,"A13035480",17,18,186.03,189.77,4315,30539,14.129473787615835,null,null,"A13004823",12,"OL",249.19,252.9,24,279,8.6021505376344081,null,null,"A14001297",12,13,322.45999999999998,326.61,776,11171,6.946558052099185,null,null,"(+1)_03-17-14_AG",10,11,385.04,389.26,281,5048,5.5665610142630744]
["A14000308","OL","OL",120.85,124.92,10,90,11.111111111111111,null,null,"A14001591",12,13,156.55000000000001,160.65,218,4549,4.7922620356122225,null,null,"A14000356",21.2,"OL",234.19,240.32,21,161,13.043478260869565,null,null,"A14000901",28,29,274.37,278.44,973,9237,10.533723070260907,null,null,"A14000255",13,14,324.36,328.37,366,5549,6.5957830239682824,null,null,"A14000029","OL","OL",112.14,116.16,21,174,12.068965517241379,null,null,"A13036158",23,24,150.29,153.15,3176,17070,18.605741066198007,null,null,"A13032303",12,13,212.42,216.4,715,10251,6.9749292751926637,null,null,"A13034384","OL","OL",278.33999999999997,282.77999999999997,11,46,23.913043478260871,null,null,"A13035729",10,11,313.74,318.97000000000003,222,8955,2.4790619765494135,null,null,"C13019581",14,15,362.23,366.26,296,6377,4.6416810412419629,null,null,"A14001151",13,14,97.77,101.91,38,353,10.76487252124646,null,null,"A13035731",16,17,156.69,160.33000000000001,16,117,13.675213675213675,null,null,"A13036158",24,25,238.31,242.37,1465,15388,9.5204055107876275,null,null,"A13036158",12,13,288.14,292.10000000000002,821,11789,6.9641190940707443,null,null,"A14000593",10,11,332.08,334.98,512,6129,8.3537281775167234,null,null,"A14001151",12,13,402.77,408,106,3419,3.1003217315004385,null,null,"A13035222",12,13,124.24,128.30000000000001,2753,28390,9.6970764353645649,null,null,"A13035513",18,19,189.77,193.5,288,2601,11.072664359861591,null,null,"A14000463",12,13,249.19,253.26,138,1609,8.5767557489123671,null,null,"A14001392",14,15,330.58,334.74,596,6264,9.5146871008939975,null,null,"A14000463",10,11,385.07,389.21,71,1278,5.5555555555555554]
["A14000336","OL","OL",101.75,105.77,63,338,18.639053254437869,null,null,"A13035729",12,13,156.38999999999999,160.49,385,8128,4.7367125984251972,null,null,"A14000455",19,20,220.33,226.28,338,13513,2.50129504921187,null,null,"A13035063",28,29,274.36,278.33999999999997,379,3614,10.48699501936912,null,null,"A14000308","OL",13.2,322.27999999999997,326.29000000000002,56,568,9.8591549295774641,null,null,"A14000901","OL","OL",99.83,104.03,43,362,11.878453038674033,null,null,"A13036158","OL","OL",157.5,160.66,14,199,7.0351758793969852,null,null,"A13026867","OL","OL",221.79,226.12,31,445,6.9662921348314608,null,null,"A13034384","OL","OL",279.77,284.05,14,110,12.727272727272727,null,null,"A13035877",9,10,308.68,313.75,361,14714,2.4534456979747179,null,null,"C13019586",13,14,358.14,362.14,202,5738,3.520390379923318,null,null,"A13022253",18,19,117.76,121.85,1750,16288,10.744106090373281,null,null,"A13035731","OL","OL",182.91,186.47,24,115,20.869565217391305,null,null,"A14002203",21,22,226.12,230.3,496,5247,9.4530207737754903,null,null,"A14000029","OL","OL",261.08999999999997,265.08999999999997,32,240,13.333333333333334,null,null,"A13019771",11,12,334.91,337.95,647,7761,8.3365545677103459,null,null,"A14001268",11,12,397.69,402.75,136,5300,2.5660377358490565,null,null,"A13035280",12,13,124.11,128.19999999999999,2769,28908,9.5786633457866337,null,null,"A13035670",16,17,182.1,185.98,3562,30261,11.770926274743069,null,null,"A13035222",13,14,253.54,257.56,1536,18074,8.4983954852273982,null,null,"A14001591",16,17,338.75,342.92,440,3970,11.083123425692696,null,null,"(+1)_03-17-14_AG",10,11,385.15,389.13,278,5016,5.5422647527910689]
["A14000336",15,16,103.85,107.87,1082,13161,8.2212597826912841,null,null,"A13035280",11,12,152.55000000000001,156.53,621,13147,4.7235110671636118,null,null,"A14000455",20.399999999999999,"OL",229.97,236.23,14,439,3.1890660592255125,null,null,"A14001297",31,32,286.41000000000003,290.37,593,5671,10.456709575030859,null,null,"A14000308",13,14,324.36,328.4,378,7868,4.8042704626334523,null,null,"A14000255","OL","OL",117.76,121.87,28,238,11.764705882352942,null,null,"A14000029",22,23,147.37,150.21,2419,13668,17.698273339186422,null,null,"A13023291",11,12,208.44,212.42,996,14428,6.903243692819518,null,null,"A13034610",10,11,252.93,257,479,8943,5.3561444705356145,null,null,"A13034231",9,10,308.73,313.82,338,13850,2.4404332129963899,null,null,"C14000011",13,14,358.25,362.23,177,5015,3.5294117647058822,null,null,"A14000336",19,20,121.87,125.76,1454,13618,10.677045087384345,null,null,"A13035731",23,24,184.53,188.57,1254,11899,10.538700731153879,null,null,"A13019120",24,25,238.23,242.26,876,9354,9.3649775497113534,null,null,"A14000029",11,12,284.02999999999997,288.14,679,10888,6.2362233651726671,null,null,"C13017415",10,11,332.15,335.01,323,3885,8.3140283140283149,null,null,"A14001275",13,14,408.06,413.18,105,3138,3.3460803059273423,null,null,"A13019771",13,14,128.22999999999999,132.22999999999999,2233,23500,9.5021276595744677,null,null,"A13035670",23,24,208.34,212.51,39,281,13.87900355871886,null,null,"A14000308",13,14,253.38,257.41000000000003,1313,15534,8.4524269344663328,null,null,"A14002203",13,14,326.61,330.62,222,2636,8.4218512898330804,null,null,"(+2)_03-17-14_AG",10,11,385.07,389.23,384,6969,5.5101162290142058]
["A14000336","OL","OL",113.95,118.1,13,80,16.25,null,null,"C14000115",11,12,152.44,156.38999999999999,121,2575,4.6990291262135919,null,null,"A14000463",18,19,214.29,220.13,39,1856,2.1012931034482758,null,null,"C13019581",29,30,278.31,282.41000000000003,495,4734,10.456273764258555,null,null,"A14000336","OL",13.2,322.3,326.27999999999997,20,347,5.7636887608069163,null,null,"C13019581","OL","OL",112.04,116.03,36,308,11.688311688311689,null,null,"A14000029","OL","OL",157.35,160.82,23,122,18.852459016393443,null,null,"A14000463",11,12,208.44,212.34,122,1779,6.8577852726250699,null,null,"A13034610","OL","OL",274.52,278.67,14,77,18.181818181818183,null,null,"C14000115",10,11,313.89,318.97000000000003,87,3594,2.4207011686143574,null,null,"C14000115",13,14,358.3,362.3,106,2967,3.5726322885069095,null,null,"A14000308",17,18,114.07,117.91,1759,16480,10.673543689320388,null,null,"A13035877",15,16,152.44,156.38999999999999,153,726,21.074380165289256,null,null,"A13035222",24,25,238.4,242.43,1790,19299,9.2750919736773927,null,null,"A14000203",10,11,280.08,284.04000000000002,650,11769,5.5229841107995581,null,null,"A13035729",10,11,331.91,334.97,633,7625,8.3016393442622949,null,null,"A14001297","OL","OL",389.21,394.18,11,41,26.829268292682926,null,null,"A13035480",12,13,124.29,128.21,2657,28016,9.4838663620788122,null,null,"A13035729",15,16,178.22,182.1,2338,26517,8.8169853301655543,null,null,"A13019120",13,14,253.38,257.39999999999998,648,7696,8.4199584199584194,null,null,"A14002449",14,15,330.72,334.85,646,6833,9.4541197131567394,null,null,"(+2)_03-17-14_AG",10,11,385.06,389.22,432,7909,5.4621317486407888]
["A14000356",14,15,99.65,103.71,1773,19429,9.1255339955736279,null,null,"A13032903",12,13,156.59,160.63999999999999,310,6632,4.6743063932448736,null,null,"A14000547",17,18,208.33,214.26,305,14802,2.0605323604918255,null,null,"C14000343",30,31,282.37,286.44,451,4326,10.425335182616736,null,null,"A14000336",13,14,324.36,328.37,215,5011,4.2905607663141092,null,null,"A13032303","OL","OL",94.71,99.15,13,112,11.607142857142858,null,null,"A14000029","OL","OL",169.63,172.23,14,67,20.895522388059703,null,null,"A14000583",11,12,208.5,212.51,487,7189,6.7742384198080403,null,null,"A13034770",11,12,256.95999999999998,261,1309,19277,6.7904756964257924,null,null,"A13033185",9,10,308.61,313.7,239,9938,2.4049104447574963,null,null,"C14000174",15,16,366.21,370.36,186,3478,5.3479010925819432,null,null,"A13012447",13,14,97.93,101.93,29,272,10.661764705882353,null,null,"A13035877",21,22,176.6,180.49,2266,25763,8.7955595233474355,null,null,"A14000901",23,24,234.3,238.31,1925,21000,9.1666666666666661,null,null,"A14000203",15,"OL",300,303.62,18,237,7.5949367088607591,null,null,"A14001275",10,11,331.96,335.04,374,4524,8.267020335985853,null,null,"A14001297",11,12,398,402.77,44,5211,0.84436768374592208,null,null,"A14000356",12,13,124.24,128.13,2634,27806,9.4727756599295123,null,null,"A13035731",15,16,178.55,182.26,2207,24933,8.8517226166125216,null,null,"A14000029",13,14,253.38,257.39999999999998,1081,12909,8.3740026338213642,null,null,"C13006949",15,16,334.78,338.74,121,1158,10.449050086355786,null,null,"A14000819",9,10,381.02,385.09,236,4368,5.4029304029304033]
["A14000455","OL","OL",113.95,118.27,136,723,18.810511756569849,null,null,"A14000593",11,12,152.55000000000001,156.53,354,7715,4.5884640311082308,null,null,"A14000547",20.399999999999999,"OL",230.1,236.32,17,431,3.9443155452436196,null,null,"C13019586",29,30,278.47000000000003,282.56,415,3987,10.408828693253072,null,null,"A14000356",13.2,14.2,326.45,330.63,26,375,6.9333333333333336,null,null,"A14001268","OL","OL",117.73,121.87,22,190,11.578947368421053,null,null,"A14000029",33,"OL",179.52,182.26,11,581,1.8932874354561102,null,null,"A13035280",12,13,212.59,216.46,1080,15960,6.7669172932330826,null,null,"A13034770","OL","OL",274.36,278.51,22,215,10.232558139534884,null,null,"A13035189",9,10,308.68,313.74,70,2931,2.3882633913340157,null,null,"C14000276",13,14,358.24,362.22,288,8367,3.4420939404804591,null,null,"A14000583",15,16,106,110.04,822,7728,10.636645962732919,null,null,"A13036158",22,23,180.65,184.56,846,15978,5.2947803229440478,null,null,"C13006949",24,25,238.23,242.37,272,2994,9.0848363393453582,null,null,"A14000208",10,11,280.11,284.10000000000002,672,12122,5.5436396634218772,null,null,"A13012447",10,11,331.86,334.9,584,7096,8.2299887260428406,null,null,"A14001392",9,10,387.39,392.46,108,4749,2.2741629816803539,null,null,"A13019120",13,14,128.30000000000001,132.16,1215,12832,9.4685162094763093,null,null,"A13035877",15,16,178.54,182.26,4944,31034,15.930914480891925,null,null,"A13034770",13,14,253.4,257.44,1332,15913,8.3705146735373592,null,null,"C13013508",14,15,330.59,334.75,242,2522,9.5955590800951622,null,null,"A13023291",9,10,381.02,385.1,448,8658,5.174405174405174]
["A14000455",18,19,115.85,119.83,1557,14707,10.586795403549329,null,null,"A13032303",12,13,156.55000000000001,160.65,222,4857,4.5707226683137741,null,null,"A14000583",17,18,208.34,214.27,126,5634,2.2364217252396168,null,null,"A14000547",28,29,274.37,278.45,802,7778,10.311133967600925,null,null,"A14000356",14,15,328.54,332.56,428,5657,7.5658476224147071,null,null,"(+2)_03-17-14_AG","OL","OL",95.94,99.83,31,269,11.524163568773234,null,null,"A14000203",24,25,153.19999999999999,156.03,2802,14239,19.678348198609452,null,null,"C13006949",11,12,208.43,212.41,285,4222,6.7503552818569394,null,null,"A13035037",10,11,252.92,256.95999999999998,691,12017,5.7501872347507694,null,null,"A14000243",9,10,308.73,313.82,266,11364,2.3407250967969024,null,null,"C14000343",14,15,362.23,366.21,265,5966,4.4418370767683539,null,null,"A14002203",18,19,117.91,121.86,645,6101,10.5720373709228,null,null,"A14000029",22,23,180.65,184.69,803,14374,5.5864755809099762,null,null,"A13035670",24,25,238.3,242.31,1653,18196,9.0844141569575729,null,null,"A14000214",10,11,280.18,284.25,767,14059,5.4555800554804748,null,null,"A13032903",10,11,331.98,335,656,8004,8.1959020489755119,null,null,"A14001591",9,10,387.21,392.45,75,3213,2.3342670401493932,null,null,"A14001392",12,13,124.2,128.22,1072,11448,9.3640810621942698,null,null,"A13035877",23,24,208.33,212.5,82,1069,7.6707202993451826,null,null,"A13026867",20.2,"OL",284.62,288.24,12,144,8.3333333333333339,null,null,"C13014559",17,18,342.81,346.96,699,5613,12.453233564938536,null,null,"A14000547",9,10,381.02,385.09,701,13870,5.0540735400144197]
["A14000455","OL","OL",133.16999999999999,137.16999999999999,15,71,21.12676056338028,null,null,"A13033185",11,12,152.46,156.47999999999999,350,7747,4.5178778882147927,null,null,"A14000593",19,20,220.33,226.28,198,9178,2.1573327522336019,null,null,"A13035222",29,30,278.49,282.45,813,7895,10.297656744775175,null,null,"A14000455","OL",13.2,322.3,326.45,52,499,10.420841683366733,null,null,"C14000011","OL","OL",117.77,121.69,11,96,11.458333333333334,null,null,"A14000203","OL","OL",165.56,168.17,12,41,29.26829268292683,null,null,"(+2)_03-17-14_AG",12,13,212.42,216.51,669,10064,6.6474562798092212,null,null,"A13035037","OL","OL",273.88,278.02,31,189,16.402116402116402,null,null,"A13035280",9,10,308.68,313.74,242,10408,2.3251345119139124,null,null,null,null,null,null,null,null,null,null,null,null,"A14001275",18,19,117.91,121.9,1226,11649,10.524508541505709,null,null,"A14000203",20,21,172.56,176.61,1181,16352,7.222358121330724,null,null,"A13019120","OL",21,221.47,225.81,10,111,9.0090090090090094,null,null,"A14000243",10,11,280.07,284.02999999999997,564,10888,5.1800146950771495,null,null,"A13023291",10,11,331.98,334.84,526,6473,8.1260621041248253,null,null,"A14002203",12,13,402.93,408,55,1896,2.9008438818565403,null,null,"A13026831",12,13,124.25,128.31,1540,16640,9.2548076923076916,null,null,"A13036158",17,18,186.02,189.77,3269,29015,11.266586248492159,null,null,"A13026831","OL","OL",234.14,238.31,10,121,8.2644628099173545,null,null,"C13017415",13,14,326.75,330.72,338,3819,8.8504844200052375]
["A14000463",15,16,103.74,107.64,166,1923,8.6323452938117526,null,null,"A13035513",12,13,156.52000000000001,160.49,33,738,4.4715447154471546,null,null,"A14000756",18,19,214.28,220.29,233,12056,1.9326476443264764,null,null,"A14000756",29,30,278.33,282.3,625,6082,10.27622492601118,null,null,"A14000455",13,14,324.36,328.37,359,7204,4.9833425874514159,null,null,"A13005329","OL","OL",99.48,103.71,161,1406,11.450924608819346,null,null,"A14000203",31,32,173.53,176.45,23,192,11.979166666666666,null,null,"A13035877",11,12,208.49,212.5,1892,28535,6.6304538286315049,null,null,"A13035037","OL","OL",284.05,288.16000000000003,15,242,6.1983471074380168,null,null,"C13017415",9,10,308.62,313.81,117,5075,2.3054187192118225,null,null,null,null,null,null,null,null,null,null,null,null,"C13013508",18,19,117.92,121.87,733,6976,10.507454128440367,null,null,"A14000208",20,21,172.66,176.58,995,14165,7.0243558065654783,null,null,"A14000455",23,24,234.3,238.31,1644,18353,8.9576635972320595,null,null,"A14000255",11,12,284.14,288.23,614,9262,6.629237745627294,null,null,"A14002449","OL","OL",321.02999999999997,324.20999999999998,21,259,8.1081081081081088,null,null,"A14002449",9,10,387.39,392.46,84,4118,2.0398251578436133,null,null,"C13013508",12,13,124.07,128.13,693,7547,9.1824566052736181,null,null,"A14000029","OL","OL",156.52000000000001,160.66,15,115,13.043478260869565,null,null,"A13035361",12,13,249.19,253.24,772,9598,8.0433423629922896,null,null,"C13019581",15,16,334.74,338.74,643,6759,9.5132416037875434]
["A14000547",18,19,115.85,119.83,1976,17822,11.087420042643924,null,null,"C13014559",12,13,156.38999999999999,160.49,297,6811,4.3605931581265596,null,null,"A14000819",19,20,220.23,226.12,152,6309,2.4092566175305121,null,null,"A14000308",28,29,274.2,278.17,805,7837,10.271787673854792,null,null,"A14000463",14,15,328.39,332.6,68,974,6.9815195071868583,null,null,"A13034770","OL","OL",117.73,121.89,23,210,10.952380952380953,null,null,"A14000208",24,25,153.15,155.99,2699,13736,19.649097262667443,null,null,"(+1)_03-17-14_AG",12,13,212.51,216.57,582,8788,6.6226672735548471,null,null,"A13035063",7,8,240.97,245,17,247,6.8825910931174086,null,null,"A14001297",9,10,308.68,313.74,283,12278,2.3049356572731714,null,null,null,null,null,null,null,null,null,null,null,null,"A13035063",17,18,113.9,117.91,1419,13546,10.475417097298095,null,null,"A14000214",21,22,176.63,180.48,1442,17234,8.3671811535337124,null,null,"A14000547",23,24,234.24,238.39,1799,20108,8.9466878854187382,null,null,"A14000308",10,11,280.07,284.02999999999997,758,14855,5.1026590373611578,null,null,"A14001151",10,11,332.03,334.91,407,5049,8.0610021786492378,null,null,"C13006949",9,10,387.16,392.52,18,813,2.2140221402214024,null,null,"A13012447","OL","OL",97.76,101.93,21,230,9.1304347826086953,null,null,"A14000029",15,16,178.55,182.26,2586,28441,9.0925072958053512,null,null,"A13035280",12,13,249.19,253.24,1079,13622,7.9210101306709735,null,null,"C13019586",15,16,334.76,338.92,510,5344,9.543413173652695]
["A14000583","OL","OL",101.59,105.82,37,201,18.407960199004975,null,null,"C13017415",11,12,152.43,156.55000000000001,231,5313,4.3478260869565215,null,null,"A14000901",18,19,214.26,220.19,451,17329,2.6025737203531651,null,null,"C13013508",29,30,278.45,282.52999999999997,221,2154,10.259981429897865,null,null,"A14000547","OL",13.2,322.32,326.43,59,562,10.498220640569395,null,null,"A14001275","OL","OL",117.73,121.73,19,177,10.734463276836157,null,null,"A14000214",23,24,150.19999999999999,152.99,3071,16287,18.855528949468901,null,null,"C13019586",11,12,208.38,212.42,816,12392,6.5848934796642995,null,null,"A13035063","OL","OL",274.52,278.5,37,185,20,null,null,"A14000214",9,10,308.70999999999998,313.70999999999998,318,13864,2.2937103289094058,null,null,null,null,null,null,null,null,null,null,null,null,"A14000463",19,20,121.89,125.83,218,2104,10.361216730038024,null,null,"A14000243",18,19,164.58,168.5,662,12379,5.3477663785443088,null,null,"A13035063",22,23,230.16,234.19,1254,14043,8.9297158726767787,null,null,"A14000336",11,12,284.2,288.14999999999998,643,10347,6.2143616507200159,null,null,"A13022253",10,11,331.88,334.92,464,5777,8.0318504414055738,null,null,"C13013508",12,13,402.92,407.95,60,1851,3.2414910858995136,null,null,"A13004823","OL",7,99.48,103.68,20,220,9.0909090909090917,null,null,"A14000029",24,"OL",212.5,216.35,19,232,8.1896551724137936,null,null,"A13033185",11,12,245.16,249.22,1020,12950,7.8764478764478767,null,null,"C14000011",15,16,334.69,338.82,421,3977,10.58586874528539]
["A14000583",16,17,107.76,111.79,821,8371,9.8076693346075743,null,null,"A13005329",11,12,152.54,156.52000000000001,209,4887,4.2766523429506851,null,null,"A14000901",20.399999999999999,"OL",229.97,236.23,33,715,4.615384615384615,null,null,"A13004823",29,30,278.49,282.45,610,5998,10.170056685561853,null,null,"A14000547",13,14,324.37,328.49,333,7466,4.4602196624698633,null,null,"A14000255","OL","OL",99.65,104.03,43,403,10.669975186104219,null,null,"A14000214","OL","OL",165.51,168.26,14,55,25.454545454545453,null,null,"(+2)_03-17-14_AG",12,13,212.42,216.35,782,11980,6.5275459098497493,null,null,"A13035063","OL","OL",275.95,280.08,12,231,5.1948051948051948,null,null,"A13001215",9,10,308.61,313.8,99,4353,2.2742935906271535,null,null,null,null,null,null,null,null,null,null,null,null,"A13028756",16,17,110.03,113.82,2192,21197,10.341086002736237,null,null,"A14000243","OL","OL",195.65,199.68,10,34,29.411764705882351,null,null,"A14000203",28,29,254.5,258.68,36,406,8.8669950738916263,null,null,"A14000356","OL",6,260.67,264.22000000000003,17,75,22.666666666666668,null,null,"C14000115",10,11,332.04,335.08,211,2634,8.0106302201974184,null,null,"C13014559",13,14,407.95,413.17,129,3796,3.3983140147523709,null,null,"C13017415",12,13,124.17,128.16,926,10189,9.0882324074982819,null,null,"A14000203",14,15,174.67,178.55,2832,28129,10.067901454015429,null,null,"C14000276",12,13,249.2,253.36,759,9735,7.7966101694915251,null,null,"C14000115",14,15,330.76,334.76,185,2101,8.8053307948595911]
["A14000593",15,16,103.67,107.68,1076,12801,8.4055933130224201,null,null,"A14000463",11,12,152.37,156.36000000000001,37,876,4.2237442922374431,null,null,"A14001047",18,19,214.16,220.05,399,15221,2.6213783588463309,null,null,"C14000115",29,30,278.47000000000003,282.41000000000003,198,1947,10.169491525423728,null,null,"A14000583",14,15,328.37,332.39,179,2288,7.8234265734265733,null,null,"A13035063","OL","OL",111.8,115.99,47,443,10.609480812641083,null,null,"A14000243",23,24,150.37,153.19999999999999,2565,14418,17.790262172284645,null,null,"A14000255",11,12,208.49,212.5,1136,17450,6.5100286532951293,null,null,"A13035189",10,11,253.04,257.02999999999997,225,4030,5.583126550868486,null,null,"A13019771",9,10,308.68,313.74,177,7849,2.2550643394062937,null,null,null,null,null,null,null,null,null,null,null,null,"A13034770",18,19,117.91,121.89,1645,16032,10.260728542914171,null,null,"A14000243",28,29,204.35,208.55,25,186,13.440860215053764,null,null,"A13035731",23,24,234.19,238.23,1102,12621,8.7314792805641392,null,null,"A14000356","OL","OL",262.29000000000002,266.48,90,504,17.857142857142858,null,null,"A13035189",11,12,334.91,337.95,203,2538,7.9984239558707646,null,null,"C13017415","OL","OL",365.73,370.36,17,100,17,null,null,"A13023291",12,13,124.2,128.22,2027,22387,9.0543619064635728,null,null,"A14000203","OL","OL",196.14,199.68,14,71,19.718309859154928,null,null,"A13035189",12,13,249.2,253.36,292,3779,7.7269118814501194,null,null,"C14000174",13,14,326.57,330.67,285,3569,7.9854300924628747]
["A14000756",13,14,95.62,99.65,18,599,3.005008347245409,null,null,"A13012447",11,12,152.44,156.55000000000001,274,6492,4.2205791743684538,null,null,"A14001151",19,20,220.22,226.12,174,6810,2.5550660792951541,null,null,"A13035037",29,30,278.5,282.45999999999998,376,3707,10.142972754248719,null,null,"A14000593",13.2,14.2,326.45,330.47,21,340,6.1764705882352944,null,null,"A14000208","OL","OL",99.65,103.91,26,251,10.358565737051793,null,null,"A14000243",33,"OL",179.35,182.26,16,335,4.7761194029850742,null,null,"C13013508",11,12,208.5,212.51,430,6607,6.5082488270016645,null,null,"A13035222",7,8,241.14,245.17,23,291,7.9037800687285227,null,null,"A13012447",9,10,308.62,313.81,135,6016,2.2440159574468086,null,null,null,null,null,null,null,null,null,null,null,null,"A13019771",10,11,86.21,90.01,14,137,10.218978102189782,null,null,"A14000255",16,17,156.36000000000001,160.82,19,142,13.380281690140846,null,null,"A13022253",23,24,234.3,238.31,931,10817,8.6068225940648979,null,null,"A14000356",11,12,284.2,288.14999999999998,681,11440,5.9527972027972025,null,null,"A14002203",10,11,331.91,334.97,239,3023,7.9060535891498516,null,null,"C13017415",11,12,397.7,402.9,69,2496,2.7644230769230771,null,null,"A13032903","OL","OL",97.95,101.91,21,235,8.9361702127659566,null,null,"A14000203",23,24,208.17,212.34,18,165,10.909090909090908,null,null,"A13035670","OL",10.1,238.14,242.31,18,234,7.6923076923076925,null,null,"C14000276",14,15,330.72,334.69,687,7536,9.1162420382165603]
["A14000756","OL","OL",101.59,105.82,130,452,28.761061946902654,null,null,"C14000174",11,12,152.33000000000001,156.41999999999999,156,3739,4.1722385664616208,null,null,"A14001268",15.2,16.2,198.55,204.17,17,212,8.0188679245283012,null,null,"A13012447",28,29,274.37,278.47000000000003,423,4176,10.129310344827585,null,null,"A14000593",14,15,328.38,332.56,359,4685,7.6627534685165424,null,null,"A13035877",9,10,97.41,101.76,3206,31108,10.306030603060305,null,null,"A14000255",21,22,144.36000000000001,147.37,2744,17408,15.762867647058824,null,null,"A14000203",11,12,208.49,212.5,1153,17795,6.4793481314976118,null,null,"A13035222",12,13,261.08999999999997,265.08999999999997,1320,17469,7.5562424866907092,null,null,"A14000819",9,10,308.77999999999997,313.81,126,5628,2.2388059701492535,null,null,null,null,null,null,null,null,null,null,null,null,"A13035280",17,18,113.88,117.9,1841,18059,10.194362921534969,null,null,"A14000255","OL","OL",178.71,182.75,22,146,15.068493150684931,null,null,"A14000255",23,24,234.19,238.23,1167,13594,8.5846697072237745,null,null,"A14000455","OL","OL",260.92,265.08,60,366,16.393442622950818,null,null,"A13034610",10,11,332.01,334.95,427,5401,7.9059433438252178,null,null,"C13019581",8,9,382.16,387.22,73,4690,1.556503198294243,null,null,"A13012447",12,13,124.21,128.22999999999999,1383,15485,8.9312237649338062,null,null,"A14000208",14,15,174.62,178.37,2284,27124,8.4205869340805197,null,null,"A14000255",11,12,245,249.19,1127,15061,7.4829028616957709,null,null,"C14000343",17,18,342.92,346.94,834,6473,12.884288583346207]
["A14000756",17,18,111.8,115.82,1437,14594,9.8465122653145123,null,null,"A14001151",11,12,152.44999999999999,156.56,214,5241,4.0831902308719714,null,null,"A14001268",18,19,214.42,220.35,275,12679,2.1689407681993846,null,null,"A14000243",28,29,274.2,278.33,771,7709,10.001297185108315,null,null,"A14000756","OL",13.2,322.27999999999997,326.29000000000002,16,388,4.1237113402061851,null,null,"A14000819","OL","OL",121.52,125.72,14,136,10.294117647058824,null,null,"A14000308",21,22,144.35,147.36000000000001,3221,19270,16.715101193565125,null,null,"A13035063",11,12,208.39,212.42,1041,16089,6.4702591832929333,null,null,"A13035222","OL","OL",278.49,282.61,12,78,15.384615384615385,null,null,"A14000593",9,10,308.56,313.64999999999998,190,8528,2.227954971857411,null,null,null,null,null,null,null,null,null,null,null,null,"A13034610",18,19,117.89,121.89,1184,11672,10.143934201507882,null,null,"A14000255",22,23,180.65,184.69,702,13813,5.0821689712589588,null,null,"A13023291",21,22,226.12,230.3,1101,12827,8.5834567708739371,null,null,"A14000455",12,13,288.14999999999998,292.11,953,11247,8.473370676624878,null,null,"A13035280",10,11,331.9,334.96,624,7944,7.8549848942598191,null,null,"C13019586",11,12,397.68,402.77,97,3711,2.6138507140932363,null,null,"A14000308",12,13,124.08,128.13,2484,27826,8.9269028965715513,null,null,"A14000214","OL","OL",156.74,160.65,19,65,29.23076923076923,null,null,"(+1)_03-17-14_AG",12,13,249.22,253.27,499,6672,7.4790167865707433]
["A14000819",16,17,107.69,111.87,863,9194,9.3865564498586043,null,null,"A14001392",11,12,152.37,156.52000000000001,215,5299,4.0573693149650873,null,null,"A14001275",19,20,220.29,226.3,163,7246,2.249516974882694,null,null,"A14000208",28,29,274.35000000000002,278.35000000000002,742,7433,9.982510426476523,null,null,"A14000756",13,14,324.36,328.4,227,5577,4.0702886856733009,null,null,"A14000214","OL","OL",113.77,117.75,22,214,10.280373831775702,null,null,"A14000308","OL","OL",157.51,160.66,21,240,8.75,null,null,"A14000214",11,12,208.45,212.43,1245,19243,6.4698851530426644,null,null,"A13035222","OL","OL",284.2,288.14999999999998,18,140,12.857142857142858,null,null,"A13035731",9,10,308.67,313.73,230,10381,2.2155861670359309,null,null,null,null,null,null,null,null,null,null,null,null,"C14000174",18,19,118.12,122.01,808,7999,10.10126265783223,null,null,"A14000255","OL","OL",202.72,206.73,21,115,18.260869565217391,null,null,"A13028756",23,24,234.24,238.39,1440,16850,8.5459940652818993,null,null,"A14000463",11,12,284.10000000000002,288.24,110,1645,6.6869300911854106,null,null,"C13006949",10,11,332.1,335.1,121,1543,7.8418664938431624,null,null,"C14000011",9,10,387.46,392.17,11,37,29.72972972972973,null,null,"A14000583",12,13,124.21,128.22999999999999,759,8507,8.9220641824379925,null,null,"A14000214",17,18,185.93,189.62,3563,28364,12.561697926949655,null,null,"(+2)_03-17-14_AG",12,13,249.22,253.29,579,7791,7.4316519060454374]
["A14000901",13,14,95.52,99.66,31,1097,2.8258887876025525,null,null,"A14002203",11,12,152.37,156.52000000000001,143,3655,3.9124487004103967,null,null,"A14001297",20,21,226.28,232.22,336,12690,2.6477541371158391,null,null,"A13035729",29,30,278.49,282.45,588,5924,9.9257258609047945,null,null,"A14000819",14,15,328.35,332.51,217,3045,7.1264367816091951,null,null,"A14001047","OL","OL",120,124.17,12,120,10,null,null,"A14000336",21,22,144.36000000000001,147.37,2088,12475,16.737474949899799,null,null,"A13035037",11,12,208.51,212.52,873,13516,6.4590115418762943,null,null,"A13035280",10,11,252.92,256.95999999999998,965,16959,5.6901939972875759,null,null,"A14002203",9,10,308.51,313.73,90,4324,2.0814061054579094,null,null,null,null,null,null,null,null,null,null,null,null,"A14000356",17,18,114.07,117.91,2026,20156,10.051597539194285,null,null,"A14000255",28,"OL",204.49,208.17,17,134,12.686567164179104,null,null,"A13035480",23,24,234.26,238.32,1943,22755,8.5387826851241488,null,null,"A14000547","OL","OL",261.02,265.16000000000003,54,411,13.138686131386862,null,null,"A14000203",11,12,335.04,337.96,668,8528,7.8330206378986871,null,null,"C14000011",13,14,407.95,413.01,95,2987,3.1804486106461334,null,null,"A14000214",12,13,124.22,128.24,2195,24661,8.9006934025384208,null,null,"A14000214",23,24,208.29,212.43,24,128,18.75,null,null,"A14000547",11,12,245.23,249.21,1329,18268,7.2750164221589664]
["A14000901",17,18,111.87,115.85,1738,18899,9.1962537700407427,null,null,"A13035189",11,12,152.54,156.52000000000001,85,2491,3.4122842232035326,null,null,"A14001392",18,19,214.26,220.19,169,8448,2.0004734848484849,null,null,"A13035189",28,29,274.20999999999998,278.31,211,2129,9.9107562235791455,null,null,"A14000901","OL",13.2,322.29000000000002,326.27999999999997,33,550,6,null,null,"A14000901",10,11,101.75,106.12,3051,30534,9.9921399096089605,null,null,"A14000356",27,28,161.97999999999999,164.78,2689,12059,22.298698067833154,null,null,"A13019771",11,12,208.33,212.34,866,13493,6.4181427406803531,null,null,"A13035280","OL","OL",270.66000000000003,274.52,26,154,16.883116883116884,null,null,"C14000174",9,10,308.67,313.79000000000002,96,5082,1.8890200708382527,null,null,null,null,null,null,null,null,null,null,null,null,"A14000214",17,18,113.94,117.92,1591,15874,10.022678593927177,null,null,"A14000308",23,24,184.69,188.57,1224,18753,6.5269556870900658,null,null,"A14001297",23,24,234.3,238.31,1417,16611,8.5304918427548007,null,null,"A14000547",11,12,284.24,288.14,807,13144,6.1396835057821058,null,null,"A13019120",10,11,332.08,334.98,333,4301,7.7423854917461057,null,null,"C14000115",12,13,402.75,407.95,46,1710,2.6900584795321638,null,null,"C14000174",12,13,124.17,128.33000000000001,760,8544,8.8951310861423227,null,null,"A14000243","OL",12.2,164.75,168.66,14,187,7.4866310160427805,null,null,"A14000583",11,12,245.03,249.2,358,4954,7.2264836495761005]
["A14001047",14,15,99.49,103.68,2102,19222,10.935386536260534,null,null,null,null,null,null,null,null,null,null,null,null,"A14001591",18,19,214.17,220.22,130,7109,1.8286678857785905,null,null,"A13034384",29,30,278.5,282.45999999999998,327,3314,9.8672299336149667,null,null,"A14000901",13,14,324.36,328.36,424,8406,5.0440161789198195,null,null,"A13023482","OL","OL",115.75,119.66,80,814,9.8280098280098276,null,null,"A14000455",21,22,144.33000000000001,147.31,2937,19088,15.386630343671417,null,null,"C13017415",11,12,208.45,212.43,589,9189,6.4098378496027859,null,null,"A13035280","OL","OL",280.08,284.05,19,212,8.9622641509433958,null,null,"A13022253",8,9,303.47000000000003,308.68,111,6146,1.8060527172144485,null,null,null,null,null,null,null,null,null,null,null,null,"A13035480",17,18,114.01,118.06,2017,20137,10.016387743953915,null,null,"A14000336",22,23,180.65,184.68,736,14287,5.1515363617274446,null,null,"A14000308",23,24,234.26,238.32,1592,18671,8.5265920411333092,null,null,"A14000583",11,12,284.14999999999998,288.24,250,3846,6.5002600104004165,null,null,"C14000174",10,11,331.93,334.93,258,3347,7.708395578129668,null,null,"C14000174",11,12,397.57,402.74,71,2442,2.9074529074529076,null,null,"C14000343",12,13,124.2,128.22,1390,15733,8.8349329434945663,null,null,"A14000243",15,16,178.39,182.26,2094,24709,8.4746448662430698,null,null,"A13001215",11,12,245.19,249.36,570,7989,7.1348103642508445]
["A14001047","OL","OL",109.78,114.12,149,981,15.188583078491336,null,null,null,null,null,null,null,null,null,null,null,null,"A14002203",19,20,220.17,226.28,103,4791,2.1498643289501147,null,null,"A13034231",27,28,270.17,274.2,832,8438,9.8601564351742113,null,null,"A14001047",13,14,324.20999999999998,328.33,506,7651,6.6135145732583975,null,null,"A14000547",10,11,101.75,106.11,2727,28190,9.6736431358637809,null,null,"A14000455","OL","OL",157.37,160.82,32,118,27.118644067796609,null,null,"A13026831",11,12,208.4,212.43,728,11404,6.3837250087688533,null,null,"A13035361",9,10,249.03,252.92,408,8506,4.7966141547143195,null,null,"(+1)_03-17-14_AG",8,9,303.54000000000002,308.62,130,7405,1.7555705604321405,null,null,null,null,null,null,null,null,null,null,null,null,"A13033185",16,17,109.96,113.88,1819,18357,9.9090265293893331,null,null,"A14000356","OL","OL",157.85,161.97999999999999,12,84,14.285714285714286,null,null,"C14000343",23,24,234.24,238.22,923,10891,8.4748875218069966,null,null,"A14000593",10,11,280.04000000000002,284.14,402,8489,4.7355401107315354,null,null,"A14000214",10,11,331.86,334.9,814,10563,7.7061440878538292,null,null,"C14000276",11,12,397.7,402.9,115,5001,2.2995400919816036,null,null,"C13019581",12,13,124.21,128.22999999999999,1131,12848,8.8029265255292657,null,null,"A14000255","OL","OL",156.69,160.66,11,108,10.185185185185185,null,null,"(+2)_03-17-14_AG",12,13,249.21,253.48,659,9326,7.0662663521338196]
["A14001047","OL","OL",133.28,137.06,22,96,22.916666666666668,null,null,null,null,null,null,null,null,null,null,null,null,"A14002449",18,19,214.33,220.22,226,10771,2.0982267198960169,null,null,"A13036158",28,29,274.36,278.33,699,7124,9.8119034250421109,null,null,"A14001151",14,15,328.35,332.51,252,3353,7.515657620041754,null,null,"A13026686","OL","OL",113.94,117.75,19,197,9.6446700507614214,null,null,"A14000463",22,23,147.37,150.21,334,2028,16.469428007889547,null,null,"A13035729",11,12,208.39,212.42,859,13571,6.3296735686390093,null,null,"A13035361","OL","OL",273.88,278.35000000000002,14,111,12.612612612612613,null,null,"A13035361",8,9,303.64999999999998,308.73,103,6285,1.6388225934765315,null,null,null,null,null,null,null,null,null,null,null,null,"A13005329",17,18,113.89,117.91,1409,14235,9.898138391289077,null,null,"A14000356",20,21,172.5,176.58,1231,17571,7.0058619315918271,null,null,"A14000583",23,24,234.29,238.3,454,5363,8.4654111504754805,null,null,"A14000756","OL","OL",261.16000000000003,265.19,30,241,12.448132780082988,null,null,"A13034231",10,11,331.96,335.04,656,8553,7.6698234537589149,null,null,"C14000343",9,10,387.21,392.45,121,5265,2.2981956315289649,null,null,"A13026831","OL","OL",102.12,105.99,22,250,8.8000000000000007,null,null,"A14000255",22,23,205.13,208.98,2854,26498,10.770624198052683,null,null,"(+1)_03-17-14_AG",12,13,249.2,253.36,468,6643,7.0450097847358117]
["A14001151",15,16,103.81,107.79,888,10572,8.3995459704880826,null,null,null,null,null,null,null,null,null,null,null,null,"C13006949",19,20,220.22,226.28,65,2771,2.3457235654998194,null,null,"A14001392",28,29,274.20999999999998,278.31,445,4559,9.7609124808071943,null,null,"A14001268",15.2,16.2,334.5,338.69,33,321,10.280373831775702,null,null,"A13023482",10,11,101.89,106.19,2561,27442,9.3324101741855543,null,null,"A14000547",21,22,144.33000000000001,147.31,3588,21924,16.365626710454297,null,null,"C14000174",11,12,208.39,212.51,505,7988,6.3219829744616929,null,null,"A13035480",7,8,241.08,245.14,24,294,8.1632653061224492,null,null,"(+2)_03-17-14_AG",8,9,303.54000000000002,308.62,146,9122,1.6005262003946503,null,null,null,null,null,null,null,null,null,null,null,null,"C13006949",13,14,97.59,101.91,26,264,9.8484848484848477,null,null,"A14000455",16,17,156.22,160.65,133,484,27.479338842975206,null,null,"A14001591",23,24,234.24,238.23,609,7202,8.4559844487642319,null,null,"A14000756",11,12,284.04000000000002,288.14999999999998,659,10934,6.0270715200292662,null,null,"A13026867",10,11,331.87,334.91,564,7366,7.6568015204995925,null,null,null,null,null,null,null,null,null,null,null,null,"C14000011",12,13,124.21,128.22999999999999,779,8867,8.7853840081199959,null,null,"A14000308","OL","OL",156.52000000000001,160.5,11,55,20,null,null,"A13026831",10,11,241.03,245.04,858,12219,7.0218512153204022]
["A14001268",17,18,111.78,115.81,1553,15387,10.092935594982778,null,null,null,null,null,null,null,null,null,null,null,null,"C13013508",20,21,226.27,232.17,125,4975,2.512562814070352,null,null,"A14000029",28,29,274.2,278.33,567,5816,9.7489683631361768,null,null,"A14001268",16,17,336.59,340.79,464,4568,10.157618213660244,null,null,"A13026867","OL","OL",103.67,107.68,245,2639,9.2838196286472154,null,null,"A14000547","OL","OL",157.37,160.65,21,776,2.7061855670103094,null,null,"C13019581",11,12,208.33,212.34,829,13133,6.3123429528668238,null,null,"A13035480",11,12,256.95999999999998,261,1206,19029,6.3376950969572761,null,null,"(+2)_03-17-14_AG",8,9,303.55,308.66000000000003,170,10689,1.590420058003555,null,null,null,null,null,null,null,null,null,null,null,null,"A13035222",17,18,113.9,117.91,2121,21569,9.8335574203718306,null,null,"A14000455",19,20,169.14,172.71,25,105,23.80952380952381,null,null,"A13026831",23,24,234.3,238.31,1023,12145,8.4232194318649647,null,null,"A14000819",10,11,280.04000000000002,284.14,281,5340,5.262172284644195,null,null,"A13035361",10,11,332.12,335.04,511,6676,7.6542840023966443,null,null,null,null,null,null,null,null,null,null,null,null,"C13019586",12,13,124.07,128.12,1161,13245,8.7655719139297847,null,null,"A14000308",15,16,178.54,182.27,3853,30481,12.640661395623503,null,null,"A13022253",11,12,245.2,249.36,787,11217,7.0161362218061871]
["A14001268","OL","OL",132.83000000000001,137.16999999999999,14,58,24.137931034482758,null,null,null,null,null,null,null,null,null,null,null,null,"C13014559",20,21,226.12,232.22,159,8369,1.8998685625522762,null,null,"A14000455",28,29,274.2,278.33,693,7130,9.7194950911640952,null,null,"A14001275",13.2,14.2,326.29000000000002,330.5,12,221,5.4298642533936654,null,null,"A13035877",13,"OL",114.24,117.91,30,325,9.2307692307692299,null,null,"A14000583",22,23,147.19999999999999,150.21,1269,7020,18.076923076923077,null,null,"A13033185",11,12,208.5,212.43,1096,17368,6.3104560110548134,null,null,"A13035480","OL","OL",274.36,278.35000000000002,45,302,14.900662251655628,null,null,"A14000208",9,10,308.62,313.74,177,11416,1.5504555010511563,null,null,null,null,null,null,null,null,null,null,null,null,"A13019120",17,18,113.89,117.91,1054,10724,9.8284222305110038,null,null,"A14000455",23,24,184.52,188.56,1372,20747,6.6130042897768355,null,null,"A14000756",23,24,234.2,238.24,1186,14115,8.4024087849805174,null,null,"A14000901","OL","OL",274.20999999999998,278.29000000000002,24,192,12.5,null,null,"C14000011",10,11,331.98,335,303,3992,7.5901803607214431,null,null,null,null,null,null,null,null,null,null,null,null,"A14001275",12,13,124.14,128.09,1205,13815,8.7224031849439019,null,null,"A14000336","OL","OL",156.69,160.66,12,80,15,null,null,"A14000756",11,12,245.01,249.19,1873,26877,6.9687837184209549]
["A14001275",15,16,103.7,107.75,1094,12929,8.4615979580787375,null,null,null,null,null,null,null,null,null,null,null,null,"C13017415",20,21,226.28,232.17,185,6657,2.7790295929097191,null,null,"A14000203",28,29,274.2,278.33,598,6166,9.6983457671099575,null,null,"A14001275",14,15,328.39,332.44,243,3144,7.729007633587786,null,null,"(+2)_03-17-14_AG","OL","OL",95.94,99.83,18,198,9.0909090909090917,null,null,"A14000593",23,24,150.38999999999999,153.21,2138,11901,17.964876901100748,null,null,"A13004823",11,12,208.39,212.42,1087,17228,6.3094961690271649,null,null,"A13035480","OL","OL",284.08999999999997,288.07,23,336,6.8452380952380949,null,null,"(+1)_03-17-14_AG",8,9,303.57,308.56,107,7136,1.4994394618834082,null,null,null,null,null,null,null,null,null,null,null,null,"A13035731",18,19,118.1,122.04,1413,14399,9.813181470935481,null,null,"A14000463",21,22,176.57,180.49,147,1467,10.020449897750511,null,null,"A13035513",23,24,234.36,238.4,124,1490,8.3221476510067109,null,null,"A14000901",13,14,292.2,296.10000000000002,930,12025,7.7338877338877339,null,null,"A13035731",10,11,331.91,334.97,554,7367,7.5200217184742773,null,null,null,null,null,null,null,null,null,null,null,null,"A14000029",12,13,124.24,128.30000000000001,1744,19997,8.721308196229435,null,null,"A14000336",16,17,182.26,185.98,2911,27839,10.456553755522828,null,null,"A14000214",11,12,245.22,249.2,1170,16838,6.9485687136239456]
["A14001297",16,17,107.74,111.77,1488,17522,8.4921812578472782,null,null,null,null,null,null,null,null,null,null,null,null,"C13019581",17,18,208.17,214.26,184,9574,1.9218717359515354,null,null,"A13001215",28,29,274.36,278.47000000000003,324,3365,9.6285289747399698,null,null,"A14001297",15.2,16.2,334.49,338.52,29,329,8.8145896656534948,null,null,"A14001047","OL","OL",122.01,125.67,18,200,9,null,null,"A14000593",31,32,173.37,176.45,16,135,11.851851851851851,null,null,"A14000593",11,12,208.56,212.43,792,12584,6.2937062937062933,null,null,"A13035513",11,12,257.08,261.08999999999997,99,1111,8.9108910891089117,null,null,"A14000203",7,8,298.42,303.45999999999998,90,10737,0.83822296730930423,null,null,null,null,null,null,null,null,null,null,null,null,"C13019581","OL","OL",132.06,136.04,10,102,9.8039215686274517,null,null,"A14000547",22,23,180.8,184.77,1233,22503,5.4792694307425673,null,null,"A14000243",23,24,234.2,238.24,1066,12906,8.2597241593057493,null,null,"A14001047","OL","OL",260.95999999999998,265.23,61,241,25.311203319502074,null,null,"A14001047",10,11,331.82,334.84,568,7562,7.5112404125892622,null,null,null,null,null,null,null,null,null,null,null,null,"A13035670",12,13,124.07,128.13,2321,26707,8.6906054592428958,null,null,"A14000336",23,24,208.39,212.42,34,172,19.767441860465116,null,null,"A13019120",10,11,240.97,245,597,8767,6.8096270103798338]
["A14001392",18,19,115.85,119.83,1148,10187,11.269264749190144,null,null,null,null,null,null,null,null,null,null,null,null,"C13019581",20,21,225.8,232.06,20,68,29.411764705882351,null,null,"C14000276",29,30,278.43,282.47000000000003,452,4700,9.6170212765957448,null,null,"A14001297",16,17,336.58,340.62,479,5006,9.5685177786656013,null,null,"A13022253","OL","OL",120.17,124.21,43,478,8.99581589958159,null,null,"A14000756",21,22,144.36000000000001,147.37,2526,15540,16.254826254826256,null,null,"A13001215",11,12,208.5,212.51,439,7005,6.2669521770164165,null,null,"A13035670",12,13,260.93,265.08999999999997,1243,15630,7.9526551503518874,null,null,null,null,null,null,null,null,null,null,null,null,null,null,null,null,null,null,null,null,null,null,"C14000276",17,18,113.94,117.92,1308,13424,9.7437425506555417,null,null,"A14000547","OL","OL",197.94,201.92,23,83,27.710843373493976,null,null,"A14001392",23,24,234.3,238.31,760,9214,8.2483177772954193,null,null,"A14001047",9,10,276.10000000000002,280.01,575,13045,4.4078190877730927,null,null,"A13026686",10,11,331.86,334.9,881,11768,7.4864038069340584,null,null,null,null,null,null,null,null,null,null,null,null,"A13005329",12,13,124.21,128.22999999999999,1497,17229,8.6888385861048238,null,null,"A14000356","OL",14.2,172.99,176.58,13,127,10.236220472440944,null,null,"A14000029",10,11,240.97,245,931,13884,6.7055603572457505]
["A14001591","OL","OL",101.58,105.77,40,136,29.411764705882351,null,null,null,null,null,null,null,null,null,null,null,null,"C13019586",20,21,226.12,232.06,180,7573,2.3768651789251289,null,null,"A14002449",28,29,274.20999999999998,278.27999999999997,517,5411,9.5546109776381449,null,null,"A14001392","OL",13.2,322.32,326.27,12,307,3.9087947882736156,null,null,"A13035670","OL","OL",116.02,120,35,393,8.9058524173027998,null,null,"A14000756",33,"OL",179.19,182.26,10,37,27.027027027027028,null,null,"(+1)_03-17-14_AG",12,13,212.41,216.4,549,8771,6.2592634819290849,null,null,"A13035670","OL","OL",278.63,282.56,23,188,12.23404255319149,null,null,null,null,null,null,null,null,null,null,null,null,null,null,null,null,null,null,null,null,null,null,"A13026686",17,18,113.94,117.75,1969,20328,9.6861471861471866,null,null,"A14000547","OL","OL",199.84,203.84,25,99,25.252525252525253,null,null,"C13019581",23,24,234.3,238.31,860,10501,8.1896962194076757,null,null,"A14001151",5,6,259.58999999999997,264.05,26,138,18.840579710144926,null,null,"A14000463",10,11,331.96,335.04,103,1419,7.2586328400281888,null,null,null,null,null,null,null,null,null,null,null,null,"A13001215",12,13,124.22,128.24,824,9516,8.6591004623791505,null,null,"A14000356",15,16,178.54,182.27,3200,29327,10.911446789647766,null,null,"C13019581",10,11,241.03,245.2,644,9776,6.5875613747954169]
["A14001591",17,18,111.87,115.85,985,9852,9.997969955339018,null,null,null,null,null,null,null,null,null,null,null,null,"C14000011",20,21,226.27,232.17,116,6466,1.7939993813795236,null,null,"A14000255",28,29,274.36,278.31,585,6153,9.5075572891272557,null,null,"A14001392",13,14,324.37,328.35,188,4236,4.4381491973559966,null,null,"(+1)_03-17-14_AG","OL","OL",109.79,113.89,14,159,8.8050314465408803,null,null,"A14000819",26,27,158.85,161.78,1543,7175,21.505226480836235,null,null,"A13019120",11,12,208.49,212.5,948,15177,6.2462937339395141,null,null,"A13035670","OL","OL",284.14,288.07,15,176,8.5227272727272734,null,null,null,null,null,null,null,null,null,null,null,null,null,null,null,null,null,null,null,null,null,null,"A14000547",16,17,109.94,113.94,2180,22597,9.6472983139354778,null,null,"A14000583",16,17,156.85,160.81,12,84,14.285714285714286,null,null,"A13034770",23,24,234.25,238.31,1643,20095,8.1761632246827567,null,null,"A14001151",9,10,276.10000000000002,280.17,274,6397,4.2832577770830076,null,null,"A13035037",10,11,331.96,334.87,550,7587,7.2492421246869645,null,null,null,null,null,null,null,null,null,null,null,null,"A14002449",12,13,124.03,128.22,1549,18091,8.5622685313139133,null,null,"A14000356",24,"OL",212.26,216.45,21,133,15.789473684210526,null,null,"A13036158",10,11,240.91,245.13,969,14728,6.5793047256925581]
["A14002203",15,16,103.53,107.76,712,7823,9.1013677617282376,null,null,null,null,null,null,null,null,null,null,null,null,"C14000115",20,21,226.29,232.26,80,4082,1.9598236158745712,null,null,"A13032309",28,29,274.36,278.45,635,6712,9.4606674612634087,null,null,"A14001591",13,14,324.37,328.35,154,3675,4.1904761904761907,null,null,"A13012447","OL","OL",113.95,117.76,10,119,8.4033613445378155,null,null,"A14000819",31,32,173.41,176.47,14,122,11.475409836065573,null,null,"A14000208",11,12,208.44,212.5,949,15198,6.2442426635083566,null,null,"A13035729","OL","OL",249.84,254.02,11,47,23.404255319148938,null,null,null,null,null,null,null,null,null,null,null,null,null,null,null,null,null,null,null,null,null,null,"(+2)_03-17-14_AG","OL","OL",143.44,147.52000000000001,13,135,9.6296296296296298,null,null,"A14000583",22,23,180.65,184.68,260,4683,5.5519965833867175,null,null,"A14001297","OL","OL",227.89,232.06,13,159,8.1761006289308185,null,null,"A14001268",13,14,292.05,296.10000000000002,768,9943,7.7240269536357236,null,null,"C13014559",10,11,331.98,335,433,6002,7.2142619126957683,null,null,null,null,null,null,null,null,null,null,null,null,"A13028756",12,13,124.24,128.30000000000001,2045,23934,8.5443302414974518,null,null,"A14000455",18,19,189.69,193.4,4629,29251,15.825099996581313,null,null,"A14000901",10,11,241.03,245.2,1227,18690,6.5650080256821832]
["A14002449",13,14,95.7,99.31,15,572,2.6223776223776225,null,null,null,null,null,null,null,null,null,null,null,null,"C14000174",19,20,220.26,226.27,106,4952,2.1405492730210014,null,null,"C13014559",29,30,278.29000000000002,282.35000000000002,371,3925,9.4522292993630579,null,null,"A14002203",12,13,320.07,324.2,114,2365,4.8202959830866812,null,null,"A13028756",11,12,106.06,110.38,1845,22268,8.285432010059278,null,null,"A14000901",21,22,144.33000000000001,147.31,4652,27418,16.966956014297178,null,null,"A14000756",11,12,208.44,212.5,994,15962,6.2272898133066032,null,null,"A13035729",10,11,252.9,256.91000000000003,761,13383,5.6863184637226336,null,null,null,null,null,null,null,null,null,null,null,null,null,null,null,null,null,null,null,null,null,null,"A14002449",16,17,110.04,114,1109,11522,9.6250650928658228,null,null,"A14000593",15,16,152.38,156.36000000000001,16,154,10.38961038961039,null,null,"A13026686","OL","OL",252.88,257.02999999999997,71,870,8.1609195402298855,null,null,"A14001275","OL","OL",263.02,266.58999999999997,26,250,10.4,null,null,"A14001297",10,11,331.91,334.97,536,7432,7.2120559741657697,null,null,null,null,null,null,null,null,null,null,null,null,"A14000203",12,13,124.24,128.13,2145,25125,8.5373134328358216,null,null,"A14000463",15,16,178.37,182.12,258,2929,8.8084670536019125,null,null,"A13032309",10,11,241.08,245.22,1253,19210,6.5226444560124932]
["A14002449",18,19,115.72,119.83,1328,13155,10.095020904599012,null,null,null,null,null,null,null,null,null,null,null,null,"C14000276",20,21,226.27,232.17,195,9604,2.0304039983340276,null,null,"C13017415",27,28,270.27,274.20999999999998,300,3174,9.4517958412098295,null,null,"A14002449","OL",13.2,322.45999999999998,326.43,15,336,4.4642857142857144,null,null,"A14001047",9,10,97.6,101.75,2415,29233,8.2612116443745087,null,null,"A14000901","OL","OL",157.37,160.81,36,195,18.46153846153846,null,null,"C13014559",11,12,208.44,212.42,869,14010,6.2027123483226267,null,null,"A13035731",11,12,257.08,261.10000000000002,1005,14624,6.8722647702407,null,null,null,null,null,null,null,null,null,null,null,null,null,null,null,null,null,null,null,null,null,null,"A13023482",16,17,109.78,113.71,1686,17541,9.6117667179750299,null,null,"A14000593",20,21,172.56,176.61,684,10305,6.6375545851528388,null,null,"A14002449",23,24,234.14,238.31,942,11572,8.1403387487037673,null,null,"A14001275",6,"OL",264.32,268.69,30,253,11.857707509881424,null,null,"A13035877",10,11,332.03,335.07,711,9864,7.2080291970802923,null,null,null,null,null,null,null,null,null,null,null,null,"A14000756",12,13,124.11,128.19999999999999,1601,18793,8.5191294630979613,null,null,"A14000547",16,17,182.23,185.88,4732,30727,15.400136687603736,null,null,"(+2)_03-17-14_AG",15,16,261.58999999999997,265.64999999999998,497,7665,6.4840182648401825]
["C13006949",17,18,111.76,115.89,546,5419,10.075659715814727,null,null,null,null,null,null,null,null,null,null,null,null,"C14000343",18,19,214.18,220.23,218,10018,2.1760830505090838,null,null,"A14001151","OL","OL",256.72000000000003,260.70999999999998,11,117,9.4017094017094021,null,null,"A14002449",13,14,324.36,328.49,184,4869,3.7790100636681045,null,null,"A13034770",11,12,105.99,110.38,1969,23984,8.2096397598398934,null,null,"A14000901","OL","OL",180.48,183.04,33,115,28.695652173913043,null,null,"A14000336",11,12,208.55,212.42,833,13432,6.2016081000595591,null,null,"A13035731","OL","OL",274.04000000000002,278,20,122,16.393442622950818,null,null,null,null,null,null,null,null,null,null,null,null,null,null,null,null,null,null,null,null,null,null,"C13014559",17,18,113.94,117.92,1176,12247,9.6023515963092994,null,null,"A14000756","OL",18,159.83000000000001,164.29,28,118,23.728813559322035,null,null,"A13032309",22,23,230.25,234.24,1792,23276,7.698917339749098,null,null,"A14001275",10,11,280.11,284.10000000000002,306,6685,4.5774121166791319,null,null,"A13035731","OL",20,359.65,362.39,14,196,7.1428571428571432,null,null,null,null,null,null,null,null,null,null,null,null,"A13004823","OL","OL",117.58,121.7,32,376,8.5106382978723403,null,null,"A14000547",19.2,20.2,195.09,199.37,17,92,18.478260869565219,null,null,"A14000308",10,11,240.92,245.14,1103,17125,6.4408759124087593]
["C13013508",13,14,95.69,99.66,610,8753,6.9690391865646069,null,null,null,null,null,null,null,null,null,null,null,null,null,null,null,null,null,null,null,null,null,null,"A13035280",27,28,270.18,274.36,672,7152,9.3959731543624159,null,null,"C13006949",16,17,336.52,340.64,83,921,9.0119435396308365,null,null,"A13022253","OL","OL",117.76,121.69,16,195,8.2051282051282044,null,null,"A14001047",24,25,153.09,156.05000000000001,4150,20231,20.513073995353665,null,null,"A14001047",11,12,208.27,212.25,1426,23011,6.1970362000782231,null,null,"A13035731","OL","OL",279.10000000000002,282.72000000000003,17,65,26.153846153846153,null,null,null,null,null,null,null,null,null,null,null,null,null,null,null,null,null,null,null,null,null,null,"A13026831",17,18,113.89,117.91,1395,14558,9.5823602143151536,null,null,"A14000756",22,23,180.65,184.69,709,14199,4.993309387985069,null,null,"A13026686",23,24,234.46,237.99,19,250,7.6,null,null,"A14001297",11,12,284.04000000000002,288.14999999999998,594,10148,5.8533701221915653,null,null,"A14001268",10,11,332.08,334.98,564,7905,7.1347248576850095,null,null,null,null,null,null,null,null,null,null,null,null,"A14001591",12,13,124.17,128.16,847,9969,8.4963386498144242,null,null,"A14000583",17,18,185.97,189.68,949,8996,10.549132947976879,null,null,"A14001392",10,11,241.03,245.04,600,9353,6.415053993371111]
["C13014559","OL","OL",77.95,81.709999999999994,19,206,9.2233009708737868,null,null,null,null,null,null,null,null,null,null,null,null,null,null,null,null,null,null,null,null,null,null,"A13035480",28,29,274.2,278.35000000000002,622,6658,9.342144788224692,null,null,"C13013508",14,15,328.35,332.51,146,1911,7.6399790685504971,null,null,"A14000356",10,11,101.77,106,2222,27136,8.1883844339622645,null,null,"A14001151",25,26,156.07,159.02000000000001,1717,8801,19.509146687876378,null,null,"A13012447",11,12,208.5,212.51,584,9466,6.1694485527149796,null,null,"A13035731","OL","OL",280.04000000000002,284.14,15,212,7.0754716981132075,null,null,null,null,null,null,null,null,null,null,null,null,null,null,null,null,null,null,null,null,null,null,"A14001151",17,18,113.99,117.94,975,10183,9.5747814985760584,null,null,"A14000819",20,21,172.45,176.47,498,7260,6.8595041322314048,null,null,"A14000756","OL","OL",215.75,220.13,12,159,7.5471698113207548,null,null,"A14001392","OL","OL",274.05,278,11,62,17.741935483870968,null,null,"A14001151","OL",20,359.76,362.32,15,211,7.109004739336493,null,null,null,null,null,null,null,null,null,null,null,null,"A14000593",12,13,124.1,128.19,1211,14271,8.485740312521898,null,null,"A14000593",14,15,174.83,178.55,1516,19387,7.8196729767369888,null,null,"A13035222",10,11,241.14,245.17,1277,20049,6.3693949822933815]
["C13014559",13,"OL",95.56,99.15,18,371,4.8517520215633425,null,null,null,null,null,null,null,null,null,null,null,null,null,null,null,null,null,null,null,null,null,null,"A13035361",28,29,274.36,278.35000000000002,372,4017,9.2606422703510081,null,null,"C13014559",14.2,15.2,330.39,334.53,22,258,8.5271317829457356,null,null,"A14000547","OL","OL",115.85,119.83,75,919,8.1610446137105548,null,null,"A14001268",20,21,141.51,144.54,3122,20711,15.074115204480711,null,null,"A13035670",11,12,208.5,212.51,1092,17712,6.1653116531165315,null,null,"A13035877",10,11,253.04,257.02999999999997,1911,30502,6.265162940135073,null,null,null,null,null,null,null,null,null,null,null,null,null,null,null,null,null,null,null,null,null,null,"C13019586",17,18,113.77,117.75,1024,10750,9.5255813953488371,null,null,"A14000901",22,23,180.64,184.65,1685,28023,6.0129179602469396,null,null,"A14000463",23,24,234.25,238.15,145,1925,7.5324675324675328,null,null,"A14001392",11,12,284.14,288.07,461,7390,6.2381596752368065,null,null,"C14000276",19,20,359.52,362.22,14,202,6.9306930693069306,null,null,null,null,null,null,null,null,null,null,null,null,"A13035729",12,13,124.25,128.31,1821,21497,8.4709494348048562,null,null,"A14000756",16,17,182.26,185.98,2702,27116,9.9645965481634455,null,null,"(+2)_03-17-14_AG",15,16,261.67,265.76,581,9141,6.3559785581446233]
["C13014559","OL","OL",101.57,105.76,66,398,16.582914572864322,null,null,null,null,null,null,null,null,null,null,null,null,null,null,null,null,null,null,null,null,null,null,"A13026831",28,29,274.36,278.33,381,4119,9.2498179169701391,null,null,"C13014559",15,16,332.46,336.59,326,3634,8.9708310401761153,null,null,"A14001268",10,11,101.59,105.99,2253,27639,8.1515250189948993,null,null,"A14001268","OL","OL",157.52000000000001,160.65,30,296,10.135135135135135,null,null,"A13034231",11,12,208.45,212.51,1275,20734,6.1493199575576352,null,null,"A13035877","OL","OL",279.91000000000003,284.02999999999997,13,305,4.2622950819672134,null,null,null,null,null,null,null,null,null,null,null,null,null,null,null,null,null,null,null,null,null,null,"C13006949",17,18,114,117.95,521,5502,9.4692838967648125,null,null,"A14001047",23,24,184.46,188.43,2127,17286,12.304755293300937,null,null,"(+2)_03-17-14_AG",23,24,234.28,238.36,702,9333,7.5216972034715521,null,null,"A14001591",12,13,288.14,292.2,418,5746,7.2746258266620254,null,null,"A14001275","OL","OL",316.16000000000003,319.05,13,204,6.3725490196078427,null,null,null,null,null,null,null,null,null,null,null,null,"A13036158",12,13,124.07,128.12,1796,21222,8.4629158420507018,null,null,"A14000756",23,24,208.28,212.34,23,104,22.115384615384617,null,null,"A14000455",10,11,241.03,245.04,1005,15823,6.3515136194147761]
["C13014559",15,16,103.67,107.68,1076,12865,8.3637776914108048,null,null,null,null,null,null,null,null,null,null,null,null,null,null,null,null,null,null,null,null,null,null,"A13035877",27,28,270.24,274.20999999999998,995,10759,9.2480713820987077,null,null,"C13017415",14,15,328.49,332.47,207,2627,7.8797106966121051,null,null,"A13032303",11,12,106.11,110.29,1080,13278,8.1337550835969274,null,null,"A14001268","OL","OL",169.4,172.3,16,68,23.529411764705884,null,null,"A13035222",11,12,208.39,212.42,1211,19879,6.0918557271492526,null,null,"A13036158",11,12,257.13,261.01,1263,18985,6.652620489860416,null,null,null,null,null,null,null,null,null,null,null,null,null,null,null,null,null,null,null,null,null,null,"C14000343",16,17,109.86,113.82,1132,11966,9.4601370549891364,null,null,"A14001151",22,23,180.64,184.65,735,7541,9.7467179419175167,null,null,"A14000214",22,23,230.25,234.24,1400,18719,7.4790319995726264,null,null,"A14002203","OL","OL",265.73,270.05,19,126,15.079365079365079,null,null,"A13023291",19,20,359.26,362.14,15,237,6.3291139240506329,null,null,null,null,null,null,null,null,null,null,null,null,"A14002203",12,13,124.21,128.22999999999999,541,6407,8.4438894958638997,null,null,"A14000819",12,13,167.29,171,758,14567,5.2035422530376882,null,null,"A14002449",10,11,241.03,245.2,613,9682,6.3313365007229914]
["C13017415",15,16,103.68,107.69,1047,10896,9.609030837004406,null,null,null,null,null,null,null,null,null,null,null,null,null,null,null,null,null,null,null,null,null,null,"A13034770",28,29,274.36,278.35000000000002,623,6750,9.2296296296296294,null,null,"C13019581","OL",13.2,322.32,326.27,14,299,4.6822742474916392,null,null,"A14001297",9,10,97.42,101.76,2326,28632,8.1237775915060073,null,null,"A14001275",25,26,156.16999999999999,159.16999999999999,1880,9026,20.828717039663196,null,null,"A14002203",11,12,208.4,212.43,409,6765,6.0458240946045825,null,null,"A13036158","OL","OL",274.52,278.49,17,141,12.056737588652481,null,null,null,null,null,null,null,null,null,null,null,null,null,null,null,null,null,null,null,null,null,null,"A14000243",17,18,114.07,118.08,1263,13387,9.434526032718308,null,null,"A14001151",28,29,204.46,208.44,15,291,5.1546391752577323,null,null,"A14000336",22,23,230.17,234.2,1042,13951,7.4689986380904596,null,null,"A14002203",11,12,284.14,288.23,207,3354,6.1717352415026836,null,null,"A13035729","OL","OL",315.79000000000002,318.97000000000003,16,255,6.2745098039215685,null,null,null,null,null,null,null,null,null,null,null,null,"A14000255",12,13,124.07,128.12,2007,24001,8.3621515770176238,null,null,"A14000901",16,17,182.08,185.93,5173,31320,16.516602809706256,null,null,"A14001297",10,11,240.87,245.04,1752,27798,6.3026116986833589]
["C13019581","OL","OL",77.95,81.73,24,199,12.060301507537689,null,null,null,null,null,null,null,null,null,null,null,null,null,null,null,null,null,null,null,null,null,null,"A13005329",27,28,270.37,274.52,231,2525,9.1485148514851478,null,null,"C13019581",13,14,324.37,328.35,185,4364,4.2392300641613199,null,null,"A13032309",10,11,101.93,106.12,2396,29538,8.1115850768501598,null,null,"A14001275","OL",32,173.97,176.58,14,133,10.526315789473685,null,null,"A13035731",11,12,208.49,212.5,938,15540,6.0360360360360357,null,null,"A14000029",7,8,240.97,245,13,141,9.2198581560283692,null,null,null,null,null,null,null,null,null,null,null,null,null,null,null,null,null,null,null,null,null,null,"A13012447",17,18,113.95,117.93,1494,15883,9.4062834477113899,null,null,"A14001268",20,21,172.46,176.48,1434,20242,7.0842802094654678,null,null,"A14000029","OL","OL",212.34,216.51,23,308,7.4675324675324672,null,null,"A14002449",5,6,260.16000000000003,264.44,16,58,27.586206896551722,null,null,"A13019771",19,20,359.48,362.22,16,257,6.2256809338521402,null,null,null,null,null,null,null,null,null,null,null,null,"A13032303",12,13,124.21,128.22999999999999,1189,14328,8.2984366275823565,null,null,"A14000901",19.2,20.2,195.05,199.52,31,215,14.418604651162791,null,null,"A13023482",10,11,241.15,245.26,978,15609,6.2656159907745534]
["C13019581",13,14,95.69,99.31,15,477,3.1446540880503147,null,null,null,null,null,null,null,null,null,null,null,null,null,null,null,null,null,null,null,null,null,null,"A13035513",29,30,278.33,282.29000000000002,39,428,9.1121495327102799,null,null,"C13019586",13.2,14.2,326.44,330.44,14,268,5.2238805970149258,null,null,"A13005329","OL","OL",113.55,117.91,14,173,8.0924855491329488,null,null,"A14001297",24,25,153.1,156.06,3660,18537,19.74429519339699,null,null,"A14000901",11,12,208.49,212.34,1571,26231,5.9890968701155121,null,null,"A14000029",12,13,260.93,264.93,1137,14355,7.920585161964472,null,null,null,null,null,null,null,null,null,null,null,null,null,null,null,null,null,null,null,null,null,null,"A13034384",17,18,113.88,117.9,881,9372,9.4003414425949643,null,null,"A14001275",20,21,172.66,176.58,680,9996,6.8027210884353737,null,null,"A14001047","OL","OL",216.39,219.89,16,215,7.441860465116279,null,null,"A14002449","OL","OL",274.20999999999998,278.13,19,141,13.475177304964539,null,null,"(+2)_03-17-14_AG",19,20,359.55,362.22,13,220,5.9090909090909092,null,null,null,null,null,null,null,null,null,null,null,null,"A13035513",12,13,124.24,128.13,188,2271,8.2782915015411707,null,null,"A14000901",23,24,208.17,212.34,71,253,28.063241106719367,null,null,"A14000336",10,11,240.98,245.17,812,13079,6.2084257206208422]
["C13019581",17,18,111.87,115.85,1150,11824,9.7259810554803785,null,null,null,null,null,null,null,null,null,null,null,null,null,null,null,null,null,null,null,null,null,null,"A14000593",27,28,270.18,274.36,516,5700,9.0526315789473681,null,null,"C13019586",14,15,328.52,332.52,278,3908,7.1136131013306043,null,null,"A14000455",10,11,101.93,106.12,2174,27081,8.0277685462132116,null,null,"A14001392",21,22,144.36000000000001,147.37,1696,10173,16.671581637668339,null,null,"A13026867",11,12,208.33,212.34,1166,19491,5.9822482171258526,null,null,"A14000029","OL","OL",274.36,278.64,20,79,25.316455696202532,null,null,null,null,null,null,null,null,null,null,null,null,null,null,null,null,null,null,null,null,null,null,"A13035037",16,17,109.95,113.94,1379,14735,9.3586698337292162,null,null,"A14001275",28,29,204.71,208.44,30,189,15.873015873015873,null,null,"A13034610","OL","OL",252.93,257,17,229,7.4235807860262009,null,null,"A14002449",10,11,280,284.06,433,8391,5.160290787748778,null,null,"A13023291","OL","OL",316.33,319,16,291,5.4982817869415808,null,null,null,null,null,null,null,null,null,null,null,null,"A14000336",12,13,124.07,128.12,1699,20821,8.1600307381970119,null,null,"A14001047",16,17,182.23,185.89,4149,31307,13.252627207972658,null,null,"(+1)_03-17-14_AG",15,16,261.52,265.70999999999998,377,6074,6.2067830095488965]
["C13019586",15,16,103.67,107.68,1005,11732,8.5663143539038522,null,null,null,null,null,null,null,null,null,null,null,null,null,null,null,null,null,null,null,null,null,null,"A14000463",27,28,270.31,274.35000000000002,92,1020,9.0196078431372548,null,null,"C14000011",16,17,336.59,340.58,264,2776,9.5100864553314128,null,null,"A13026867",9,10,97.59,101.75,2402,30394,7.9028755675462259,null,null,"A14001591",22,23,147.31,150.29,1515,8535,17.750439367311071,null,null,"A13035480","OL","OL",186.03,189.77,72,1217,5.9161873459326211,null,null,"A14000029","OL","OL",283.70999999999998,287.98,18,167,10.778443113772456,null,null,null,null,null,null,null,null,null,null,null,null,null,null,null,null,null,null,null,null,null,null,"A13035670",16,17,109.94,113.94,1865,19951,9.3479023607839213,null,null,"A14001297","OL","OL",154.58000000000001,158.52000000000001,18,189,9.5238095238095237,null,null,"A13032309","OL","OL",212.51,216.51,54,729,7.4074074074074074,null,null,"C13006949",10,11,280.13,284.17,87,1770,4.9152542372881358,null,null,"A14000336","OL","OL",321.35000000000002,324.05,17,311,5.4662379421221861,null,null,null,null,null,null,null,null,null,null,null,null,"A13034384",12,13,124.11,128.19999999999999,871,10695,8.1439925198690979,null,null,"A14001047",23,24,208.11,212.25,61,233,26.180257510729614,null,null,"A13035670",10,11,241.03,245.03,1097,17702,6.1970398824991531]
["C13019586","OL","OL",114.81,118.79,15,84,17.857142857142858,null,null,null,null,null,null,null,null,null,null,null,null,null,null,null,null,null,null,null,null,null,null,"A13032303",28,29,274.37,278.44,375,4172,8.9884947267497601,null,null,"C14000115",15,16,332.52,336.68,154,1852,8.315334773218142,null,null,"C13014559","OL","OL",113.77,117.75,14,179,7.8212290502793298,null,null,"A14002203",25,26,156.03,158.84,1256,6849,18.338443568404145,null,null,"A13019120","OL","OL",222.44,226.45,18,305,5.9016393442622954,null,null,"A14000203",13,14,264.93,268.93,1397,15739,8.8760404091746619,null,null,null,null,null,null,null,null,null,null,null,null,null,null,null,null,null,null,null,null,null,null,"A13036158",16,17,110.04,114.07,1320,14136,9.3378607809847196,null,null,"A14001297",16,17,156.38999999999999,160.49,1089,26325,4.1367521367521372,null,null,"(+1)_03-17-14_AG",23,24,234.23,238.29,518,7013,7.3862826179951515,null,null,"C13013508","OL",10.199999999999999,277.98,282.20999999999998,13,50,26,null,null,"A13034610",19,20,359.55,362.31,10,195,5.1282051282051286,null,null,null,null,null,null,null,null,null,null,null,null,"A13034770",12,13,124.11,128.19999999999999,2243,27580,8.1327048585931827,null,null,"A14001151",17,18,185.93,189.78,1559,14764,10.559468978596586,null,null,"A13034770",10,11,240.91,245.13,1043,16980,6.1425206124852769]
["C14000011",13,14,95.74,99.66,646,9363,6.8994980241375625,null,null,null,null,null,null,null,null,null,null,null,null,null,null,null,null,null,null,null,null,null,null,"A14001047",27,28,270.44,274.37,836,9372,8.92018779342723,null,null,"C14000174",13,14,324.22000000000003,328.3,118,1898,6.217070600632244,null,null,"A13035189","OL","OL",95,99.31,10,128,7.8125,null,null,"A14002449",21,22,144.33000000000001,147.31,2559,15558,16.448129579637484,null,null,"A13034770",11,12,208.55,212.42,1169,19980,5.8508508508508505,null,null,"A14000203","OL","OL",279.60000000000002,284.04000000000002,24,216,11.111111111111111,null,null,null,null,null,null,null,null,null,null,null,null,null,null,null,null,null,null,null,null,null,null,"A13032309",16,17,109.95,113.95,2308,24719,9.3369472875116308,null,null,"A14001392","OL",16,151.71,156.19,12,71,16.901408450704224,null,null,"A13019771",22,23,230.3,234.3,1326,17968,7.3797862867319681,null,null,"C13013508",12,13,288.14999999999998,292.20999999999998,274,3749,7.3086156308348897,null,null,"A14001151","OL","OL",316.16000000000003,318.83999999999997,13,282,4.6099290780141846,null,null,null,null,null,null,null,null,null,null,null,null,"C13006949",12,13,124.21,128.22999999999999,494,6078,8.1276735768344857,null,null,"A14001268","OL",14.2,172.94,176.8,19,70,27.142857142857142,null,null,"C14000343",10,11,240.92,245.06,599,9763,6.1354091979924208]
["C14000115",14,15,99.66,103.7,609,5761,10.571081409477522,null,null,null,null,null,null,null,null,null,null,null,null,null,null,null,null,null,null,null,null,null,null,"A14001591",28,29,274.20999999999998,278.29000000000002,328,3694,8.8792636708175419,null,null,"C14000276",13.2,14.2,326.43,330.4,21,307,6.8403908794788277,null,null,"A14000255",10,11,101.75,106.12,2051,26294,7.8002586141325017,null,null,"A14002449","OL","OL",157.54,160.81,25,292,8.5616438356164384,null,null,"A14000214","OL","OL",185.93,189.62,42,727,5.7771664374140306,null,null,"A14000208",11,"OL",257.49,261.56,14,156,8.9743589743589745,null,null,null,null,null,null,null,null,null,null,null,null,null,null,null,null,null,null,null,null,null,null,"A13026867",16,17,109.77,113.77,2255,24216,9.3120251073670293,null,null,"A14001392",22,23,180.64,184.65,437,8430,5.1838671411625148,null,null,"A14000593",21,22,226.12,230.13,795,10820,7.3475046210720887,null,null,"C13014559","OL",10.199999999999999,278.13,282.2,27,116,23.275862068965516,null,null,"A13034610","OL","OL",315.83,318.88,12,262,4.5801526717557248,null,null,null,null,null,null,null,null,null,null,null,null,"A13034610",12,13,124.11,128.19999999999999,1136,14078,8.0693280295496521,null,null,"A14001268",17,18,185.97,189.85,3864,29704,13.008349043899811,null,null,"(+1)_03-17-14_AG",15,16,261.66000000000003,265.8,362,5901,6.1345534655143199]
["C14000174",15,16,103.82,107.8,718,8030,8.9414694894146951,null,null,null,null,null,null,null,null,null,null,null,null,null,null,null,null,null,null,null,null,null,null,"A14000336",27,28,270.20999999999998,274.36,460,5241,8.7769509635565726,null,null,"C14000276",14,15,328.33,332.47,329,4501,7.3094867807153969,null,null,"A14000583",10,11,101.77,106,888,11430,7.7690288713910762,null,null,"C13006949",22,23,147.25,150.19999999999999,759,4521,16.788321167883211,null,null,"A13035063","OL","OL",229.84,234.19,17,299,5.6856187290969897,null,null,"A14000208",13,14,264.95999999999998,269.02,1197,14497,8.2568807339449535,null,null,null,null,null,null,null,null,null,null,null,null,null,null,null,null,null,null,null,null,null,null,"A14000901",16,17,109.95,113.95,1885,20265,9.3017517887984216,null,null,"A14001591",22,23,180.64,184.61,350,7138,4.9033342673017648,null,null,"A14000203",21,22,226.13,230.16,1208,16521,7.3119060589552687,null,null,"C13014559",10,11,280.01,284.07,459,8645,5.3094274146905729,null,null,"A13004823","OL","OL",315.79000000000002,318.81,16,358,4.4692737430167595,null,null,null,null,null,null,null,null,null,null,null,null,"A13004823","OL","OL",97.74,101.93,56,710,7.887323943661972,null,null,"A14001275",16,17,182.28,186.03,1665,16935,9.8317094774136411,null,null,"A13028756",10,11,241.09,245.23,984,16046,6.1323694378661351]
["C14000276","OL","OL",77.95,81.709999999999994,36,228,15.789473684210526,null,null,null,null,null,null,null,null,null,null,null,null,null,null,null,null,null,null,null,null,null,null,"A13034610",28,29,274.35000000000002,278.35000000000002,343,3926,8.7366276107997969,null,null,"C14000343","OL",13.2,322.33,326.27999999999997,15,345,4.3478260869565215,null,null,"A13035222",10,11,101.77,106.18,2137,27525,7.7638510445049951,null,null,"C13013508",27,28,161.94999999999999,164.71,1354,5996,22.581721147431622,null,null,"C13017415","OL",17,227.87,232.33,10,176,5.6818181818181817,null,null,"A14000208","OL","OL",274.52,278.51,12,100,12,null,null,null,null,null,null,null,null,null,null,null,null,null,null,null,null,null,null,null,null,null,null,"A14000756",17,18,113.9,117.91,1307,14097,9.2714762006100582,null,null,"A14002203","OL","OL",177.44,181.61,13,106,12.264150943396226,null,null,"A14000029",22,23,230.16,234.19,1103,15116,7.2969039428420217,null,null,"C13017415",10,11,280.01,284.07,283,5111,5.537076892975934,null,null,"A13032303","OL","OL",320.70999999999998,324.05,12,410,2.9268292682926829,null,null,null,null,null,null,null,null,null,null,null,null,"(+2)_03-17-14_AG",12,13,124.13,128.25,706,8984,7.858414959928762,null,null,"A14001297",16,17,182.27,185.98,3948,29503,13.38168999762736,null,null,"A13035480",10,11,241.08,245.14,1199,19871,6.0339187761058826]
["C14000276",13,14,95.73,99.66,1042,15463,6.7386664942119898,null,null,null,null,null,null,null,null,null,null,null,null,null,null,null,null,null,null,null,null,null,null,"A14001268",27,28,270.22000000000003,274.36,534,6270,8.5167464114832541,null,null,"C14000343",13,14,324.37,328.35,217,5058,4.2902332937920127,null,null,"A13026831","OL","OL",116.16,120,38,492,7.7235772357723578,null,null,"C13014559",24,25,153.09,156.06,2319,11871,19.535001263583524,null,null,"A13032309","OL","OL",185.93,189.61,99,1757,5.6346044393853161,null,null,"A14000208","OL","OL",279.95,284.10000000000002,15,242,6.1983471074380168,null,null,null,null,null,null,null,null,null,null,null,null,null,null,null,null,null,null,null,null,null,null,"A14000029",15,16,105.99,110.03,1387,15019,9.2349690392169919,null,null,"A14002203",23,24,184.52,188.55,454,4296,10.567970204841712,null,null,"(+2)_03-17-14_AG",23,24,234.23,238.29,580,8001,7.2490938632670918,null,null,"C13019581",12,13,288.23,292.16000000000003,556,8044,6.9119840875186478,null,null,"A13026867","OL","OL",316.01,318.85000000000002,19,691,2.7496382054992763,null,null,null,null,null,null,null,null,null,null,null,null,"A14000463",11,12,120.17,124.29,157,2003,7.8382426360459307,null,null,"A14001392",16,17,182.24,185.93,1619,17033,9.5050783772676564,null,null,"A13032303",10,11,241.03,245.19,734,12581,5.8341944201573801]
["C14000276","OL","OL",126.89,131.06,11,68,16.176470588235293,null,null,null,null,null,null,null,null,null,null,null,null,null,null,null,null,null,null,null,null,null,null,"A14002203",26,27,266.20999999999998,270.37,211,2566,8.2229150428682782,null,null,null,null,null,null,null,null,null,null,null,null,"A13034231",9,10,97.72,101.95,2146,27896,7.6928591912819044,null,null,"C13014559",31,32,173.26,176.48,15,157,9.5541401273885356,null,null,"A13035037","OL","OL",222.12,226.13,17,313,5.4313099041533546,null,null,"A14000214",11,12,257.02999999999997,261.02,1227,19268,6.3680714137429932,null,null,null,null,null,null,null,null,null,null,null,null,null,null,null,null,null,null,null,null,null,null,"A14001392",16,17,109.95,113.95,980,10726,9.1366772328920387,null,null,"A14002449","OL",17,156.06,160.33000000000001,51,282,18.085106382978722,null,null,"A14000819",22,23,230.13,234.29,506,7015,7.2131147540983607,null,null,"C13019586",12,13,288.23,292.16000000000003,490,6427,7.6240858876614279,null,null,"A13023482","OL","OL",320.82,323.91000000000003,12,962,1.2474012474012475,null,null,null,null,null,null,null,null,null,null,null,null,"(+1)_03-17-14_AG",12,13,124.22,128.24,620,7929,7.8193971497036197,null,null,"A14001591",16,17,182.22,185.88,1238,13228,9.3589355911702441,null,null,"A14001591",10,11,240.93,245.07,462,7922,5.8318606412522094]
["C14000276",23,24,135.71,139.84,12,44,27.272727272727273,null,null,null,null,null,null,null,null,null,null,null,null,null,null,null,null,null,null,null,null,null,null,null,null,null,null,null,null,null,null,null,null,null,null,null,null,null,null,null,null,null,null,"A13001215","OL","OL",111.79,115.99,10,130,7.6923076923076925,null,null,"C13017415",25,26,156.06,159.02000000000001,1567,7790,20.115532734274712,null,null,"A13034384",10,11,204.35,208.39,423,7821,5.4085155350978136,null,null,"A14000214","OL","OL",278.61,282.52999999999997,31,269,11.524163568773234,null,null,null,null,null,null,null,null,null,null,null,null,null,null,null,null,null,null,null,null,null,null,"A14000455",16,17,109.96,113.95,1663,18382,9.0468937003590462,null,null,"A14002449",23,24,184.65,188.66,729,11339,6.4291383719904758,null,null,"A13032303",22,23,230.13,234.29,1006,14118,7.1256551919535349,null,null,"C14000011",7,8,267.91000000000003,272.17,12,54,22.222222222222221,null,null,null,null,null,null,null,null,null,null,null,null,null,null,null,null,null,null,null,null,null,null,"(+1)_03-17-14_AG",12,13,124.27,128.19,599,7713,7.766109166342539,null,null,"A14002203",15,16,178.24,182.1,691,8441,8.1862338585475651,null,null,"A13035063",10,11,240.81,245,777,13987,5.5551583613355255]
["C14000343",18,19,115.71,119.83,1288,12003,10.730650670665668,null,null,null,null,null,null,null,null,null,null,null,null,null,null,null,null,null,null,null,null,null,null,null,null,null,null,null,null,null,null,null,null,null,null,null,null,null,null,null,null,null,null,"A13035513",10,11,101.76,105.99,201,2621,7.6688286913391837,null,null,"C13019581",21,22,144.33000000000001,147.13999999999999,2003,12181,16.4436417371316,null,null,"C14000115",10,11,204.49,208.49,278,5144,5.4043545878693626,null,null,"A14000214","OL","OL",280.02,284.08999999999997,12,285,4.2105263157894735,null,null,null,null,null,null,null,null,null,null,null,null,null,null,null,null,null,null,null,null,null,null,"C13019581",16,17,109.95,113.95,965,10803,8.9327038785522532,null,null,"C13006949",22,23,180.64,184.61,161,3299,4.8802667474992418,null,null,"A13026867","OL","OL",252.9,256.91000000000003,70,986,7.0993914807302234,null,null,"C14000011",11,12,284.18,288.06,330,5489,6.0120240480961922,null,null,null,null,null,null,null,null,null,null,null,null,null,null,null,null,null,null,null,null,null,null,"A13033185","OL","OL",97.97,101.89,54,696,7.7586206896551726,null,null,"A14002449",15,16,178.4,182.25,2107,23736,8.8768115942028984,null,null,"A13035513",10,11,241.14,245.17,67,1235,5.4251012145748989]
[null,null,null,null,null,null,null,null,null,null,null,null,null,null,null,null,null,null,null,null,null,null,null,null,null,null,null,null,null,null,null,null,null,null,null,null,null,null,null,null,null,null,null,null,null,null,null,null,null,null,"A14000214",10,11,101.75,106.11,1791,23760,7.5378787878787881,null,null,"C13019581","OL",28,162.27000000000001,164.87,11,153,7.1895424836601309,null,null,"C14000011",10,11,204.44,208.55,506,9409,5.3778297374853867,null,null,"A14000243",10,11,252.9,256.91000000000003,844,15004,5.6251666222340706,null,null,null,null,null,null,null,null,null,null,null,null,null,null,null,null,null,null,null,null,null,null,"A13035729",16,17,109.86,113.89,1564,17790,8.7914558740865658,null,null,"C13013508",16,17,156.22999999999999,160.33000000000001,21,79,26.582278481012658,null,null,"(+1)_03-17-14_AG",23,24,234.24,238.22,468,6604,7.0866141732283463,null,null,"C14000115",13,14,292.16000000000003,296.24,243,3049,7.969826172515579,null,null,null,null,null,null,null,null,null,null,null,null,null,null,null,null,null,null,null,null,null,null,"A13022253",11,12,120.17,124.21,1478,19256,7.6755297050270048,null,null,"A14002449",24,"OL",212.26,216.4,17,153,11.111111111111111]
[null,null,null,null,null,null,null,null,null,null,null,null,null,null,null,null,null,null,null,null,null,null,null,null,null,null,null,null,null,null,null,null,null,null,null,null,null,null,null,null,null,null,null,null,null,null,null,null,null,null,"A13001215",10,11,101.77,106,847,11267,7.5175290671873611,null,null,"C13019586",26,27,159.01,161.94999999999999,2251,10146,22.186083185491821,null,null,"A13026686",10,11,204.49,208.5,1223,22936,5.3322288106034179,null,null,"A14000243","OL","OL",274.52,278.49,23,98,23.469387755102041,null,null,null,null,null,null,null,null,null,null,null,null,null,null,null,null,null,null,null,null,null,null,"A14001297",15,16,105.98,109.85,1630,18842,8.6508863178006585,null,null,"C13013508",20,21,172.62,176.64,389,5425,7.1705069124423959,null,null,"C14000174",21,22,226.11,230.06,434,6152,7.0546163849154748,null,null,"C14000174",10,11,280.14,284.19,231,4692,4.9232736572890028,null,null,null,null,null,null,null,null,null,null,null,null,null,null,null,null,null,null,null,null,null,null,"(+2)_03-17-14_AG",12,13,124.14,128.26,728,9836,7.4013826758845056,null,null,"C13006949",16,17,182.23,186.05,631,6516,9.6838551258440759]
[null,null,null,null,null,null,null,null,null,null,null,null,null,null,null,null,null,null,null,null,null,null,null,null,null,null,null,null,null,null,null,null,null,null,null,null,null,null,null,null,null,null,null,null,null,null,null,null,null,null,"A13026831",10,11,101.76,105.99,1391,18620,7.4704618689581093,null,null,"C14000011",28,29,164.82,167.71,1910,7290,26.200274348422496,null,null,"C13014559","OL","OL",221.81,225.96,14,263,5.3231939163498101,null,null,"A14000243","OL","OL",279.75,284.02999999999997,16,222,7.2072072072072073,null,null,null,null,null,null,null,null,null,null,null,null,null,null,null,null,null,null,null,null,null,null,"A13035189",16,17,109.87,113.89,426,4978,8.5576536761751711,null,null,"C13014559",20,21,172.62,176.48,739,10822,6.8286823138052117,null,null,"A14000208",22,23,230.19,234.25,1063,15412,6.8972229431611733,null,null,"C14000276",11,12,284.18,288.22000000000003,599,9940,6.0261569416498997,null,null,null,null,null,null,null,null,null,null,null,null,null,null,null,null,null,null,null,null,null,null,"A13035361",11,12,120.17,124.25,952,12913,7.3724153953380318,null,null,"C13013508",16,17,182.24,185.93,975,10056,9.6957040572792366]
[null,null,null,null,null,null,null,null,null,null,null,null,null,null,null,null,null,null,null,null,null,null,null,null,null,null,null,null,null,null,null,null,null,null,null,null,null,null,null,null,null,null,null,null,null,null,null,null,null,null,"A14001297","OL","OL",108.27,111.95,32,434,7.3732718894009217,null,null,"C14000115",23,24,150.29,153.1,894,4911,18.204031765424556,null,null,"A13035189",10,11,204.49,208.5,209,3936,5.3099593495934956,null,null,"A14000255",11,12,257.08,261.10000000000002,1083,15414,7.0260801868431297,null,null,null,null,null,null,null,null,null,null,null,null,null,null,null,null,null,null,null,null,null,null,"A13035480","OL","OL",143.02000000000001,147.37,52,611,8.5106382978723403,null,null,"C13017415",15,16,152.43,156.22,22,75,29.333333333333332,null,null,"A13001215",22,23,230.29,234.29,527,7779,6.7746496979046151,null,null,"C14000343",11,12,284.25,288.14999999999998,555,9080,6.1123348017621142,null,null,null,null,null,null,null,null,null,null,null,null,null,null,null,null,null,null,null,null,null,null,"A13035731",11,12,120,124.07,1267,17440,7.2649082568807337,null,null,"C13014559",15,16,178.4,182.09,1927,20977,9.1862516089049908]
[null,null,null,null,null,null,null,null,null,null,null,null,null,null,null,null,null,null,null,null,null,null,null,null,null,null,null,null,null,null,null,null,null,null,null,null,null,null,null,null,null,null,null,null,null,null,null,null,null,null,"A13036158",10,11,101.77,106,1878,25483,7.3696189616607146,null,null,"C14000174",25,26,156.09,159.02000000000001,1455,7190,20.236439499304591,null,null,"A14001297",10,11,204.52,208.56,1214,22881,5.3057121629299422,null,null,"A14000255","OL","OL",284.14,288.07,19,184,10.326086956521738,null,null,null,null,null,null,null,null,null,null,null,null,null,null,null,null,null,null,null,null,null,null,"(+2)_03-17-14_AG",16,17,109.96,113.88,601,7334,8.1947095718571035,null,null,"C13017415",20,21,172.52,176.5,502,6833,7.3466998390165372,null,null,"A13035877",21,22,226.13,230.17,1583,23432,6.7557186753158076,null,null,null,null,null,null,null,null,null,null,null,null,null,null,null,null,null,null,null,null,null,null,null,null,null,null,null,null,null,null,null,null,"A13012447","OL","OL",113.95,117.93,10,144,6.9444444444444446,null,null,"C13017415",15,16,178.41,182.08,1186,12965,9.147705360586194]
[null,null,null,null,null,null,null,null,null,null,null,null,null,null,null,null,null,null,null,null,null,null,null,null,null,null,null,null,null,null,null,null,null,null,null,null,null,null,null,null,null,null,null,null,null,null,null,null,null,null,"A13033185","OL","OL",111.83,115.92,80,1095,7.3059360730593603,null,null,"C14000174",32,"OL",175.87,178.57,14,256,5.46875,null,null,"A14001275",10,11,204.55,208.44,567,10693,5.3025343682783133,null,null,"A14000308",7,8,240.92,245.14,20,224,8.9285714285714288,null,null,null,null,null,null,null,null,null,null,null,null,null,null,null,null,null,null,null,null,null,null,"A13032303",15,16,105.94,109.77,1169,14586,8.01453448512272,null,null,"C13019581",17,18,160.33000000000001,164.22,22,77,28.571428571428573,null,null,"A13033185",21,22,226.25,230.31,1162,17246,6.7377942711353356,null,null,null,null,null,null,null,null,null,null,null,null,null,null,null,null,null,null,null,null,null,null,null,null,null,null,null,null,null,null,null,null,"A13032309","OL","OL",102.28,106.12,145,2275,6.3736263736263732,null,null,"C13019581",15,16,178.4,182.08,1745,20056,8.7006382130035895]
[null,null,null,null,null,null,null,null,null,null,null,null,null,null,null,null,null,null,null,null,null,null,null,null,null,null,null,null,null,null,null,null,null,null,null,null,null,null,null,null,null,null,null,null,null,null,null,null,null,null,"A13035063",9,10,97.56,101.77,1830,25103,7.2899653427877142,null,null,"C14000276",27,28,161.94999999999999,164.87,2950,13088,22.539731051344742,null,null,"A13032903",10,11,204.47,208.46,804,15313,5.2504408019329984,null,null,"A14000308",11,12,257.08,261.10000000000002,1531,21437,7.1418575360358263,null,null,null,null,null,null,null,null,null,null,null,null,null,null,null,null,null,null,null,null,null,null,"A13035361",15,16,106.05,109.95,976,12387,7.8792282231371598,null,null,"C13019581","OL","OL",177.76,181.6,24,110,21.818181818181817,null,null,"A13034231",21,22,226.13,230.17,1491,22190,6.7192429022082019,null,null,null,null,null,null,null,null,null,null,null,null,null,null,null,null,null,null,null,null,null,null,null,null,null,null,null,null,null,null,null,null,"A14000547","OL","OL",102.1,106.11,110,1905,5.7742782152230969,null,null,"C13019586",16,17,182.08,185.92,1446,15968,9.0556112224448899]
[null,null,null,null,null,null,null,null,null,null,null,null,null,null,null,null,null,null,null,null,null,null,null,null,null,null,null,null,null,null,null,null,null,null,null,null,null,null,null,null,null,null,null,null,null,null,null,null,null,null,"A13005329",10,11,101.77,106,1289,17698,7.2833088484574526,null,null,"C14000276",31,32,173.42,176.48,12,141,8.5106382978723403,null,null,"A13023482",10,11,204.24,208.33,1249,23880,5.2303182579564487,null,null,"A14000308","OL","OL",274.52,278.33,18,202,8.9108910891089117,null,null,null,null,null,null,null,null,null,null,null,null,null,null,null,null,null,null,null,null,null,null,"(+1)_03-17-14_AG",16,17,109.94,113.94,499,6370,7.8335949764521189,null,null,"C13019581",24,25,188.65,192.65,706,9671,7.3001757832695686,null,null,"A13035189",22,23,230.3,234.3,271,4075,6.6503067484662575,null,null,null,null,null,null,null,null,null,null,null,null,null,null,null,null,null,null,null,null,null,null,null,null,null,null,null,null,null,null,null,null,"A13034610","OL","OL",117.71,121.89,10,177,5.6497175141242941,null,null,"C14000011",16,17,182.24,185.93,1115,11977,9.3095098939634298]
[null,null,null,null,null,null,null,null,null,null,null,null,null,null,null,null,null,null,null,null,null,null,null,null,null,null,null,null,null,null,null,null,null,null,null,null,null,null,null,null,null,null,null,null,null,null,null,null,null,null,"A13035670",10,11,101.75,106.11,1840,25401,7.2438092988465019,null,null,"C14000343",22,23,147.32,150.13,2089,11639,17.948277343414382,null,null,"A14001151",10,11,204.46,208.44,523,10036,5.2112395376644081,null,null,"A14000308","OL","OL",279.91000000000003,284.02999999999997,26,301,8.6378737541528245,null,null,null,null,null,null,null,null,null,null,null,null,null,null,null,null,null,null,null,null,null,null,"A14001591",15,16,105.95,109.95,780,10038,7.770472205618649,null,null,"C13019586",16,17,156.19999999999999,160.33000000000001,12,185,6.4864864864864868,null,null,"A14001268",21,22,225.97,230.16,1167,17593,6.6333200704825783,null,null,null,null,null,null,null,null,null,null,null,null,null,null,null,null,null,null,null,null,null,null,null,null,null,null,null,null,null,null,null,null,"A14000243","OL","OL",97.91,101.77,14,254,5.5118110236220472,null,null,"C14000115",15,16,178.54,182.26,510,6608,7.7179176755447942]
[null,null,null,null,null,null,null,null,null,null,null,null,null,null,null,null,null,null,null,null,null,null,null,null,null,null,null,null,null,null,null,null,null,null,null,null,null,null,null,null,null,null,null,null,null,null,null,null,null,null,"C13014559",10,11,101.75,105.94,1527,21122,7.2294290313417289,null,null,"C14000343","OL","OL",165.47,168.84,18,169,10.650887573964496,null,null,"A13035361",10,11,204.38,208.43,453,8774,5.1629815363574201,null,null,"A14000336",7,8,240.82,245.17,10,150,6.666666666666667,null,null,null,null,null,null,null,null,null,null,null,null,null,null,null,null,null,null,null,null,null,null,"(+1)_03-17-14_AG",16,17,109.97,114.06,467,6024,7.7523240371845947,null,null,"C13019586",21,22,176.64,180.48,709,8187,8.6600708440210088,null,null,"A13023291","OL","OL",252.86,256.99,43,654,6.574923547400612,null,null,null,null,null,null,null,null,null,null,null,null,null,null,null,null,null,null,null,null,null,null,null,null,null,null,null,null,null,null,null,null,"A14001297","OL","OL",97.59,101.59,170,3304,5.1452784503631959,null,null,"C14000174",14,15,174.75,178.57,936,12037,7.7760239262274657]
[null,null,null,null,null,null,null,null,null,null,null,null,null,null,null,null,null,null,null,null,null,null,null,null,null,null,null,null,null,null,null,null,null,null,null,null,null,null,null,null,null,null,null,null,null,null,null,null,null,null,"A13026686",9,10,97.59,101.75,2044,28322,7.2170044488383587,null,null,null,null,null,null,null,null,null,null,null,null,"A14000243",10,11,204.35,208.39,800,15587,5.1324821967023802,null,null,"A14000336",11,12,257.08,261.08999999999997,883,12918,6.8354234401610157,null,null,null,null,null,null,null,null,null,null,null,null,null,null,null,null,null,null,null,null,null,null,"A13035513",16,17,109.86,113.89,190,2452,7.7487765089722673,null,null,"C14000011",20,21,172.51,176.5,433,6528,6.6329656862745097,null,null,"A13035280",21,22,226.13,230.16,1188,18395,6.4582767056265293,null,null,null,null,null,null,null,null,null,null,null,null,null,null,null,null,null,null,null,null,null,null,null,null,null,null,null,null,null,null,null,null,"A13034231","OL","OL",97.72,101.95,67,1430,4.685314685314685,null,null,"C14000276",15,16,178.56,182.25,2129,24329,8.7508734432159159]
[null,null,null,null,null,null,null,null,null,null,null,null,null,null,null,null,null,null,null,null,null,null,null,null,null,null,null,null,null,null,null,null,null,null,null,null,null,null,null,null,null,null,null,null,null,null,null,null,null,null,"A14000208",10,11,101.78,106.04,1513,21019,7.1982492031019554,null,null,null,null,null,null,null,null,null,null,null,null,"C14000276",10,11,204.46,208.45,932,18175,5.1279229711141676,null,null,"A14000336","OL","OL",284.04000000000002,288.14999999999998,15,157,9.5541401273885356,null,null,null,null,null,null,null,null,null,null,null,null,null,null,null,null,null,null,null,null,null,null,"(+2)_03-17-14_AG",16,17,109.87,113.93,554,7172,7.7244841048522028,null,null,"C14000011",28,29,204.28,208.71,14,187,7.4866310160427805,null,null,"A13032903","OL","OL",228.32,232.12,16,249,6.4257028112449799,null,null,null,null,null,null,null,null,null,null,null,null,null,null,null,null,null,null,null,null,null,null,null,null,null,null,null,null,null,null,null,null,"A14000901","OL","OL",102.28,106.12,186,4223,4.4044518115084061,null,null,"C14000276",22,23,204.46,208.29,18,87,20.689655172413794]
[null,null,null,null,null,null,null,null,null,null,null,null,null,null,null,null,null,null,null,null,null,null,null,null,null,null,null,null,null,null,null,null,null,null,null,null,null,null,null,null,null,null,null,null,null,null,null,null,null,null,"A14000336",10,11,101.75,106.12,1366,19023,7.1807811596488458,null,null,null,null,null,null,null,null,null,null,null,null,"A13035480","OL",6,184.4,188.63,14,286,4.895104895104895,null,null,"A14000356",10,11,252.92,256.95999999999998,1063,18744,5.6711481007255653,null,null,null,null,null,null,null,null,null,null,null,null,null,null,null,null,null,null,null,null,null,null,"A13034610",13,14,97.74,101.78,14,225,6.2222222222222223,null,null,"C14000115","OL","OL",151.78,156.06,12,59,20.338983050847457,null,null,"C13017415",21,22,226.12,230.26,456,7125,6.4,null,null,null,null,null,null,null,null,null,null,null,null,null,null,null,null,null,null,null,null,null,null,null,null,null,null,null,null,null,null,null,null,"A14001047","OL","OL",97.6,101.75,112,2837,3.947832217130772,null,null,"C14000343",16,17,182.08,185.92,2086,21163,9.8568255918348058]
[null,null,null,null,null,null,null,null,null,null,null,null,null,null,null,null,null,null,null,null,null,null,null,null,null,null,null,null,null,null,null,null,null,null,null,null,null,null,null,null,null,null,null,null,null,null,null,null,null,null,"A14000029",10,11,101.76,105.99,1600,22346,7.1601181419493418,null,null,null,null,null,null,null,null,null,null,null,null,"A14000308","OL",6,184.37,188.57,13,289,4.4982698961937713,null,null,"A14000356","OL","OL",282.77,286.73,12,76,15.789473684210526,null,null,null,null,null,null,null,null,null,null,null,null,null,null,null,null,null,null,null,null,null,null,null,null,null,null,null,null,null,null,null,null,"C14000115",20,21,172.55,176.44,233,3448,6.7575406032482599,null,null,"A13012447",21,22,226.28,230.3,760,12554,6.0538473793213319,null,null,null,null,null,null,null,null,null,null,null,null,null,null,null,null,null,null,null,null,null,null,null,null,null,null,null,null,null,null,null,null,"A13026867","OL","OL",97.76,101.75,114,3309,3.445149592021759]
[null,null,null,null,null,null,null,null,null,null,null,null,null,null,null,null,null,null,null,null,null,null,null,null,null,null,null,null,null,null,null,null,null,null,null,null,null,null,null,null,null,null,null,null,null,null,null,null,null,null,"A13019120",10,11,101.76,105.99,1664,23268,7.1514526388172595,null,null,null,null,null,null,null,null,null,null,null,null,"A14001268",9,10,200.48,204.49,934,21603,4.3234735916307923,null,null,"A14000356","OL","OL",284.2,288.14999999999998,20,167,11.976047904191617,null,null,null,null,null,null,null,null,null,null,null,null,null,null,null,null,null,null,null,null,null,null,null,null,null,null,null,null,null,null,null,null,"C14000174","OL","OL",151.68,156.09,14,75,18.666666666666668,null,null,"A13004823",20,21,222.1,226.13,1051,17987,5.8431089119919939]
[null,null,null,null,null,null,null,null,null,null,null,null,null,null,null,null,null,null,null,null,null,null,null,null,null,null,null,null,null,null,null,null,null,null,null,null,null,null,null,null,null,null,null,null,null,null,null,null,null,null,"A14001591",10,11,101.75,105.95,942,13342,7.0604107330235344,null,null,null,null,null,null,null,null,null,null,null,null,"A13034610",9,10,200.33,204.41,442,10563,4.1844173056896716,null,null,"A14000455","OL","OL",249.84,254.34,11,55,20,null,null,null,null,null,null,null,null,null,null,null,null,null,null,null,null,null,null,null,null,null,null,null,null,null,null,null,null,null,null,null,null,"C14000174",20.100000000000001,"OL",173.64,177.62,13,81,16.049382716049383,null,null,"A13035361",21,22,226.14,230.2,628,10769,5.8315535332899993]
[null,null,null,null,null,null,null,null,null,null,null,null,null,null,null,null,null,null,null,null,null,null,null,null,null,null,null,null,null,null,null,null,null,null,null,null,null,null,null,null,null,null,null,null,null,null,null,null,null,null,"A13035731","OL","OL",117.92,121.87,14,199,7.0351758793969852,null,null,null,null,null,null,null,null,null,null,null,null,"A14000547","OL","OL",210.41,214.26,28,722,3.8781163434903045,null,null,"A14000455",12,13,260.92,264.92,1508,19593,7.696626346144031,null,null,null,null,null,null,null,null,null,null,null,null,null,null,null,null,null,null,null,null,null,null,null,null,null,null,null,null,null,null,null,null,"C14000174",22,23,180.48,184.45,507,5574,9.095801937567277,null,null,"A13026686",20,21,222.12,226.28,1409,24558,5.7374379021092921]
[null,null,null,null,null,null,null,null,null,null,null,null,null,null,null,null,null,null,null,null,null,null,null,null,null,null,null,null,null,null,null,null,null,null,null,null,null,null,null,null,null,null,null,null,null,null,null,null,null,null,"A14000756",10,11,101.77,106,1559,22225,7.0146231721034873,null,null,null,null,null,null,null,null,null,null,null,null,"A14000455","OL","OL",189.85,193.4,32,835,3.8323353293413174,null,null,"A14000463",11,12,257,261.07,117,1787,6.5472859541130388,null,null,null,null,null,null,null,null,null,null,null,null,null,null,null,null,null,null,null,null,null,null,null,null,null,null,null,null,null,null,null,null,"C14000276",20,21,172.62,176.64,793,11160,7.1057347670250897,null,null,"A13033185","OL","OL",244.69,248.75,82,1434,5.7182705718270572]
[null,null,null,null,null,null,null,null,null,null,null,null,null,null,null,null,null,null,null,null,null,null,null,null,null,null,null,null,null,null,null,null,null,null,null,null,null,null,null,null,null,null,null,null,null,null,null,null,null,null,"A13035280",9,10,97.59,101.76,1962,27988,7.0101472059454055,null,null,null,null,null,null,null,null,null,null,null,null,"A13026686","OL","OL",221.96,226.12,15,395,3.7974683544303796,null,null,"A14000547",8,9,245.23,249.21,21,177,11.864406779661017,null,null,null,null,null,null,null,null,null,null,null,null,null,null,null,null,null,null,null,null,null,null,null,null,null,null,null,null,null,null,null,null,"C14000276",28,29,204.78,208.61,19,147,12.92517006802721,null,null,"C13019586",20,21,222.1,226.12,494,8844,5.5857078245137943]
[null,null,null,null,null,null,null,null,null,null,null,null,null,null,null,null,null,null,null,null,null,null,null,null,null,null,null,null,null,null,null,null,null,null,null,null,null,null,null,null,null,null,null,null,null,null,null,null,null,null,"A13035731","OL","OL",120,124.07,25,361,6.9252077562326866,null,null,null,null,null,null,null,null,null,null,null,null,"A14000029",12,13,212.5,216.51,428,16474,2.5980332645380599,null,null,"A14000547",12,13,261.02,265,1732,21164,8.183708183708184,null,null,null,null,null,null,null,null,null,null,null,null,null,null,null,null,null,null,null,null,null,null,null,null,null,null,null,null,null,null,null,null,"C14000343",22,23,180.64,184.64,531,10146,5.233589591957422,null,null,"A14000356",20,21,222.1,226.13,954,17216,5.5413568773234196]
[null,null,null,null,null,null,null,null,null,null,null,null,null,null,null,null,null,null,null,null,null,null,null,null,null,null,null,null,null,null,null,null,null,null,null,null,null,null,null,null,null,null,null,null,null,null,null,null,null,null,"A13033185",9,10,97.63,101.89,1853,26998,6.8634713682494999,null,null,null,null,null,null,null,null,null,null,null,null,"A13004823","OL","OL",222.1,226.13,17,911,1.8660812294182216,null,null,"A14000547","OL","OL",274.52,278.45,32,465,6.881720430107527,null,null,null,null,null,null,null,null,null,null,null,null,null,null,null,null,null,null,null,null,null,null,null,null,null,null,null,null,null,null,null,null,null,null,null,null,null,null,null,null,null,null,"A13026867","OL","OL",228.53,232.05,12,217,5.5299539170506913]
[null,null,null,null,null,null,null,null,null,null,null,null,null,null,null,null,null,null,null,null,null,null,null,null,null,null,null,null,null,null,null,null,null,null,null,null,null,null,null,null,null,null,null,null,null,null,null,null,null,null,"A14000308",13,"OL",114.25,117.91,15,221,6.7873303167420813,null,null,null,null,null,null,null,null,null,null,null,null,null,null,null,null,null,null,null,null,null,null,"A14000547","OL","OL",284.08,288.14,17,247,6.8825910931174086,null,null,null,null,null,null,null,null,null,null,null,null,null,null,null,null,null,null,null,null,null,null,null,null,null,null,null,null,null,null,null,null,null,null,null,null,null,null,null,null,null,null,"A13026867",20,21,222.11,226.12,1216,22059,5.5124892334194664]
[null,null,null,null,null,null,null,null,null,null,null,null,null,null,null,null,null,null,null,null,null,null,null,null,null,null,null,null,null,null,null,null,null,null,null,null,null,null,null,null,null,null,null,null,null,null,null,null,null,null,"A14000308",9,10,97.56,101.77,1823,26877,6.7827510510845705,null,null,null,null,null,null,null,null,null,null,null,null,null,null,null,null,null,null,null,null,null,null,"A14000583",11,12,256.91000000000003,261.08999999999997,480,6758,7.102693104468778,null,null,null,null,null,null,null,null,null,null,null,null,null,null,null,null,null,null,null,null,null,null,null,null,null,null,null,null,null,null,null,null,null,null,null,null,null,null,null,null,null,null,"A14001275",20,21,222.08,226.14,512,9289,5.5118957907202066]
[null,null,null,null,null,null,null,null,null,null,null,null,null,null,null,null,null,null,null,null,null,null,null,null,null,null,null,null,null,null,null,null,null,null,null,null,null,null,null,null,null,null,null,null,null,null,null,null,null,null,"A14000208","OL","OL",121.89,125.65,12,177,6.7796610169491522,null,null,null,null,null,null,null,null,null,null,null,null,null,null,null,null,null,null,null,null,null,null,"A14000593",10,11,252.92,256.95999999999998,684,12937,5.2871608564582209,null,null,null,null,null,null,null,null,null,null,null,null,null,null,null,null,null,null,null,null,null,null,null,null,null,null,null,null,null,null,null,null,null,null,null,null,null,null,null,null,null,null,"C14000276",20,21,222.14,226.11,750,13692,5.4776511831726555]
[null,null,null,null,null,null,null,null,null,null,null,null,null,null,null,null,null,null,null,null,null,null,null,null,null,null,null,null,null,null,null,null,null,null,null,null,null,null,null,null,null,null,null,null,null,null,null,null,null,null,"A13035480",9,10,97.56,101.78,1796,26692,6.7286078225685602,null,null,null,null,null,null,null,null,null,null,null,null,null,null,null,null,null,null,null,null,null,null,"A14000593","OL","OL",270.33999999999997,274.68,10,102,9.8039215686274517,null,null,null,null,null,null,null,null,null,null,null,null,null,null,null,null,null,null,null,null,null,null,null,null,null,null,null,null,null,null,null,null,null,null,null,null,null,null,null,null,null,null,"A13035037",20,21,222.12,226.13,743,13603,5.462030434462986]
[null,null,null,null,null,null,null,null,null,null,null,null,null,null,null,null,null,null,null,null,null,null,null,null,null,null,null,null,null,null,null,null,null,null,null,null,null,null,null,null,null,null,null,null,null,null,null,null,null,null,"C13013508","OL","OL",96.04,99.83,22,327,6.7278287461773703,null,null,null,null,null,null,null,null,null,null,null,null,null,null,null,null,null,null,null,null,null,null,"A14000593","OL","OL",280.04000000000002,283.98,20,146,13.698630136986301,null,null,null,null,null,null,null,null,null,null,null,null,null,null,null,null,null,null,null,null,null,null,null,null,null,null,null,null,null,null,null,null,null,null,null,null,null,null,null,null,null,null,"C13014559",20,21,221.97,226.12,605,11275,5.3658536585365857]
[null,null,null,null,null,null,null,null,null,null,null,null,null,null,null,null,null,null,null,null,null,null,null,null,null,null,null,null,null,null,null,null,null,null,null,null,null,null,null,null,null,null,null,null,null,null,null,null,null,null,"A14001392",9,10,97.59,101.75,982,14875,6.6016806722689072,null,null,null,null,null,null,null,null,null,null,null,null,null,null,null,null,null,null,null,null,null,null,"A14000756",12,13,261,265.02999999999997,1247,16062,7.7636657950442034,null,null,null,null,null,null,null,null,null,null,null,null,null,null,null,null,null,null,null,null,null,null,null,null,null,null,null,null,null,null,null,null,null,null,null,null,null,null,null,null,null,null,"C14000115",20,21,221.96,226.13,201,3769,5.3329795701777662]
[null,null,null,null,null,null,null,null,null,null,null,null,null,null,null,null,null,null,null,null,null,null,null,null,null,null,null,null,null,null,null,null,null,null,null,null,null,null,null,null,null,null,null,null,null,null,null,null,null,null,"C14000343",9,10,97.61,101.91,1296,19660,6.5920651068158698,null,null,null,null,null,null,null,null,null,null,null,null,null,null,null,null,null,null,null,null,null,null,"A14000756","OL","OL",278.49,282.61,24,114,21.05263157894737,null,null,null,null,null,null,null,null,null,null,null,null,null,null,null,null,null,null,null,null,null,null,null,null,null,null,null,null,null,null,null,null,null,null,null,null,null,null,null,null,null,null,"A13035729",20,21,222.1,226.13,798,15165,5.2621167161226508]
[null,null,null,null,null,null,null,null,null,null,null,null,null,null,null,null,null,null,null,null,null,null,null,null,null,null,null,null,null,null,null,null,null,null,null,null,null,null,null,null,null,null,null,null,null,null,null,null,null,null,"A14000203",9,10,97.58,101.76,1741,26644,6.5343041585347548,null,null,null,null,null,null,null,null,null,null,null,null,null,null,null,null,null,null,null,null,null,null,"A14000756","OL","OL",284.04000000000002,287.99,21,238,8.8235294117647065,null,null,null,null,null,null,null,null,null,null,null,null,null,null,null,null,null,null,null,null,null,null,null,null,null,null,null,null,null,null,null,null,null,null,null,null,null,null,null,null,null,null,"C13013508",20,21,222.12,226.11,274,5221,5.2480367745642598]
[null,null,null,null,null,null,null,null,null,null,null,null,null,null,null,null,null,null,null,null,null,null,null,null,null,null,null,null,null,null,null,null,null,null,null,null,null,null,null,null,null,null,null,null,null,null,null,null,null,null,"A14000243",9,10,97.56,101.77,1340,20913,6.4074977286855068,null,null,null,null,null,null,null,null,null,null,null,null,null,null,null,null,null,null,null,null,null,null,"A14000819",10,11,253.04,257.02999999999997,453,7937,5.7074461383394226,null,null,null,null,null,null,null,null,null,null,null,null,null,null,null,null,null,null,null,null,null,null,null,null,null,null,null,null,null,null,null,null,null,null,null,null,null,null,null,null,null,null,"A14001151",20,21,221.97,226.12,466,8910,5.2300785634118965]
[null,null,null,null,null,null,null,null,null,null,null,null,null,null,null,null,null,null,null,null,null,null,null,null,null,null,null,null,null,null,null,null,null,null,null,null,null,null,null,null,null,null,null,null,null,null,null,null,null,null,"A13004823",9,10,97.74,101.93,1704,26780,6.3629574309185957,null,null,null,null,null,null,null,null,null,null,null,null,null,null,null,null,null,null,null,null,null,null,"A14000819","OL","OL",280.2,284.14,15,108,13.888888888888889,null,null,null,null,null,null,null,null,null,null,null,null,null,null,null,null,null,null,null,null,null,null,null,null,null,null,null,null,null,null,null,null,null,null,null,null,null,null,null,null,null,null,"C14000011",20,21,222,226.11,363,7092,5.1184433164128595]
[null,null,null,null,null,null,null,null,null,null,null,null,null,null,null,null,null,null,null,null,null,null,null,null,null,null,null,null,null,null,null,null,null,null,null,null,null,null,null,null,null,null,null,null,null,null,null,null,null,null,"C13019581",9,10,97.59,101.93,1176,18533,6.3454378675875462,null,null,null,null,null,null,null,null,null,null,null,null,null,null,null,null,null,null,null,null,null,null,"A14000901","OL",8,241.52,245.36,21,118,17.796610169491526,null,null,null,null,null,null,null,null,null,null,null,null,null,null,null,null,null,null,null,null,null,null,null,null,null,null,null,null,null,null,null,null,null,null,null,null,null,null,null,null,null,null,"A13034610",20,21,222.06,226.14,543,10742,5.0549245950474768]
[null,null,null,null,null,null,null,null,null,null,null,null,null,null,null,null,null,null,null,null,null,null,null,null,null,null,null,null,null,null,null,null,null,null,null,null,null,null,null,null,null,null,null,null,null,null,null,null,null,null,"A14000819",9,10,97.58,101.75,831,13101,6.3430272498282569,null,null,null,null,null,null,null,null,null,null,null,null,null,null,null,null,null,null,null,null,null,null,"A14000901",11,12,257.04000000000002,261.02999999999997,1851,27512,6.7279732480372205,null,null,null,null,null,null,null,null,null,null,null,null,null,null,null,null,null,null,null,null,null,null,null,null,null,null,null,null,null,null,null,null,null,null,null,null,null,null,null,null,null,null,"A13035222",17,18,209.84,214.19,17,337,5.0445103857566762]
[null,null,null,null,null,null,null,null,null,null,null,null,null,null,null,null,null,null,null,null,null,null,null,null,null,null,null,null,null,null,null,null,null,null,null,null,null,null,null,null,null,null,null,null,null,null,null,null,null,null,"A14000356","OL","OL",113.9,117.91,12,190,6.3157894736842106,null,null,null,null,null,null,null,null,null,null,null,null,null,null,null,null,null,null,null,null,null,null,"A14001047","OL","OL",242.32,246.48,42,380,11.052631578947368,null,null,null,null,null,null,null,null,null,null,null,null,null,null,null,null,null,null,null,null,null,null,null,null,null,null,null,null,null,null,null,null,null,null,null,null,null,null,null,null,null,null,"A13034384",20,21,222.1,226.13,391,8099,4.8277565131497715]
[null,null,null,null,null,null,null,null,null,null,null,null,null,null,null,null,null,null,null,null,null,null,null,null,null,null,null,null,null,null,null,null,null,null,null,null,null,null,null,null,null,null,null,null,null,null,null,null,null,null,"A14000593",9,10,97.57,101.75,1359,21588,6.2951639799888826,null,null,null,null,null,null,null,null,null,null,null,null,null,null,null,null,null,null,null,null,null,null,"A14001047","OL",11,253.5,257.47000000000003,37,232,15.948275862068966,null,null,null,null,null,null,null,null,null,null,null,null,null,null,null,null,null,null,null,null,null,null,null,null,null,null,null,null,null,null,null,null,null,null,null,null,null,null,null,null,null,null,"A13032903",19,20,218.17,222.14,755,16436,4.5935750790946699]
[null,null,null,null,null,null,null,null,null,null,null,null,null,null,null,null,null,null,null,null,null,null,null,null,null,null,null,null,null,null,null,null,null,null,null,null,null,null,null,null,null,null,null,null,null,null,null,null,null,null,"A14002449",9,10,97.59,101.91,1602,25467,6.2904935799269639,null,null,null,null,null,null,null,null,null,null,null,null,null,null,null,null,null,null,null,null,null,null,"A14001047",12,13,260.95999999999998,265.07,1684,22453,7.5001113436957203]
[null,null,null,null,null,null,null,null,null,null,null,null,null,null,null,null,null,null,null,null,null,null,null,null,null,null,null,null,null,null,null,null,null,null,null,null,null,null,null,null,null,null,null,null,null,null,null,null,null,null,"C14000174",9,10,97.61,101.91,834,13316,6.2631420847101236,null,null,null,null,null,null,null,null,null,null,null,null,null,null,null,null,null,null,null,null,null,null,"A14001047","OL","OL",270.75,274.69,21,100,21]
[null,null,null,null,null,null,null,null,null,null,null,null,null,null,null,null,null,null,null,null,null,null,null,null,null,null,null,null,null,null,null,null,null,null,null,null,null,null,null,null,null,null,null,null,null,null,null,null,null,null,"A13019771",9,10,97.59,101.93,1477,23585,6.2624549501801994,null,null,null,null,null,null,null,null,null,null,null,null,null,null,null,null,null,null,null,null,null,null,"A14001151",11,12,257.04000000000002,261.02999999999997,585,8997,6.5021673891297098]
[null,null,null,null,null,null,null,null,null,null,null,null,null,null,null,null,null,null,null,null,null,null,null,null,null,null,null,null,null,null,null,null,null,null,null,null,null,null,null,null,null,null,null,null,null,null,null,null,null,null,"A13035037",9,10,97.57,101.92,1283,20664,6.2088656600851726,null,null,null,null,null,null,null,null,null,null,null,null,null,null,null,null,null,null,null,null,null,null,"A14001151","OL","OL",278.60000000000002,282.67,18,103,17.475728155339805]
[null,null,null,null,null,null,null,null,null,null,null,null,null,null,null,null,null,null,null,null,null,null,null,null,null,null,null,null,null,null,null,null,null,null,null,null,null,null,null,null,null,null,null,null,null,null,null,null,null,null,"A13035729",9,10,97.59,101.76,1486,24099,6.1662309639404125,null,null,null,null,null,null,null,null,null,null,null,null,null,null,null,null,null,null,null,null,null,null,"A14001268",11,12,257.08999999999997,261.11,1243,18956,6.5572905676303019]
[null,null,null,null,null,null,null,null,null,null,null,null,null,null,null,null,null,null,null,null,null,null,null,null,null,null,null,null,null,null,null,null,null,null,null,null,null,null,null,null,null,null,null,null,null,null,null,null,null,null,"A13023291",9,10,97.76,101.91,1712,27791,6.1602677125688174,null,null,null,null,null,null,null,null,null,null,null,null,null,null,null,null,null,null,null,null,null,null,"A14001268","OL","OL",270.7,274.52,13,185,7.0270270270270272]
[null,null,null,null,null,null,null,null,null,null,null,null,null,null,null,null,null,null,null,null,null,null,null,null,null,null,null,null,null,null,null,null,null,null,null,null,null,null,null,null,null,null,null,null,null,null,null,null,null,null,"A13035280",13,"OL",114.23,117.9,15,245,6.1224489795918364,null,null,null,null,null,null,null,null,null,null,null,null,null,null,null,null,null,null,null,null,null,null,"A14001275",10,11,252.93,257,547,9444,5.7920372723422275]
[null,null,null,null,null,null,null,null,null,null,null,null,null,null,null,null,null,null,null,null,null,null,null,null,null,null,null,null,null,null,null,null,null,null,null,null,null,null,null,null,null,null,null,null,null,null,null,null,null,null,"C14000276","OL","OL",95.73,99.83,40,654,6.1162079510703364,null,null,null,null,null,null,null,null,null,null,null,null,null,null,null,null,null,null,null,null,null,null,"A14001275","OL","OL",280.11,284.10000000000002,17,134,12.686567164179104]
[null,null,null,null,null,null,null,null,null,null,null,null,null,null,null,null,null,null,null,null,null,null,null,null,null,null,null,null,null,null,null,null,null,null,null,null,null,null,null,null,null,null,null,null,null,null,null,null,null,null,"A13022253",9,10,97.59,101.93,1280,20964,6.1057050181263115,null,null,null,null,null,null,null,null,null,null,null,null,null,null,null,null,null,null,null,null,null,null,"A14001297",7,8,240.55,245.04,102,376,27.127659574468087]
[null,null,null,null,null,null,null,null,null,null,null,null,null,null,null,null,null,null,null,null,null,null,null,null,null,null,null,null,null,null,null,null,null,null,null,null,null,null,null,null,null,null,null,null,null,null,null,null,null,null,"C13017415",9,10,97.61,101.75,999,16371,6.1022539857064322,null,null,null,null,null,null,null,null,null,null,null,null,null,null,null,null,null,null,null,null,null,null,"A14001297","OL","OL",249.84,254.02,13,66,19.696969696969695]
[null,null,null,null,null,null,null,null,null,null,null,null,null,null,null,null,null,null,null,null,null,null,null,null,null,null,null,null,null,null,null,null,null,null,null,null,null,null,null,null,null,null,null,null,null,null,null,null,null,null,"A14001151",9,10,97.59,101.91,983,16149,6.0870642145024458,null,null,null,null,null,null,null,null,null,null,null,null,null,null,null,null,null,null,null,null,null,null,"A14001297",10,11,252.89,256.91000000000003,1178,21358,5.5154977057776948]
[null,null,null,null,null,null,null,null,null,null,null,null,null,null,null,null,null,null,null,null,null,null,null,null,null,null,null,null,null,null,null,null,null,null,null,null,null,null,null,null,null,null,null,null,null,null,null,null,null,null,"C14000011",9,10,97.61,101.91,819,13518,6.0585885486018638,null,null,null,null,null,null,null,null,null,null,null,null,null,null,null,null,null,null,null,null,null,null,"A14001297","OL","OL",283.88,287.99,31,208,14.903846153846153]
[null,null,null,null,null,null,null,null,null,null,null,null,null,null,null,null,null,null,null,null,null,null,null,null,null,null,null,null,null,null,null,null,null,null,null,null,null,null,null,null,null,null,null,null,null,null,null,null,null,null,"A13035731",9,10,97.6,101.75,1488,24564,6.057645334636053,null,null,null,null,null,null,null,null,null,null,null,null,null,null,null,null,null,null,null,null,null,null,"A14001392",11,12,257.02999999999997,261.02,661,9925,6.6599496221662466]
[null,null,null,null,null,null,null,null,null,null,null,null,null,null,null,null,null,null,null,null,null,null,null,null,null,null,null,null,null,null,null,null,null,null,null,null,null,null,null,null,null,null,null,null,null,null,null,null,null,null,"A13032903",9,10,97.61,101.91,1317,21814,6.0374071697075271,null,null,null,null,null,null,null,null,null,null,null,null,null,null,null,null,null,null,null,null,null,null,"A14001392","OL","OL",284.45,288.07,12,161,7.4534161490683228]
[null,null,null,null,null,null,null,null,null,null,null,null,null,null,null,null,null,null,null,null,null,null,null,null,null,null,null,null,null,null,null,null,null,null,null,null,null,null,null,null,null,null,null,null,null,null,null,null,null,null,"A14001275",9,10,97.55,101.76,1237,20633,5.9952503271458344,null,null,null,null,null,null,null,null,null,null,null,null,null,null,null,null,null,null,null,null,null,null,"A14001591",7,8,240.77,245.07,11,68,16.176470588235293]
[null,null,null,null,null,null,null,null,null,null,null,null,null,null,null,null,null,null,null,null,null,null,null,null,null,null,null,null,null,null,null,null,null,null,null,null,null,null,null,null,null,null,null,null,null,null,null,null,null,null,"C14000276",9,10,97.61,101.75,1537,26048,5.9006449631449636,null,null,null,null,null,null,null,null,null,null,null,null,null,null,null,null,null,null,null,null,null,null,"A14001591",13,14,265.06,269.01,659,7452,8.8432635534084802]
[null,null,null,null,null,null,null,null,null,null,null,null,null,null,null,null,null,null,null,null,null,null,null,null,null,null,null,null,null,null,null,null,null,null,null,null,null,null,null,null,null,null,null,null,null,null,null,null,null,null,"A13035480","OL","OL",111.89,115.95,38,645,5.8914728682170541,null,null,null,null,null,null,null,null,null,null,null,null,null,null,null,null,null,null,null,null,null,null,"A14001591","OL","OL",274.37,278.76,12,41,29.26829268292683]
[null,null,null,null,null,null,null,null,null,null,null,null,null,null,null,null,null,null,null,null,null,null,null,null,null,null,null,null,null,null,null,null,null,null,null,null,null,null,null,null,null,null,null,null,null,null,null,null,null,null,"A13034610",9,10,97.56,101.78,909,15495,5.8664085188770567,null,null,null,null,null,null,null,null,null,null,null,null,null,null,null,null,null,null,null,null,null,null,"A14002203",10,11,252.9,256.91000000000003,325,6287,5.169397168760935]
[null,null,null,null,null,null,null,null,null,null,null,null,null,null,null,null,null,null,null,null,null,null,null,null,null,null,null,null,null,null,null,null,null,null,null,null,null,null,null,null,null,null,null,null,null,null,null,null,null,null,"C13006949",9,10,97.59,101.74,629,10747,5.8527961291523214,null,null,null,null,null,null,null,null,null,null,null,null,null,null,null,null,null,null,null,null,null,null,"A14002449",10,11,253.02,256.99,941,17353,5.4226934823949753]
[null,null,null,null,null,null,null,null,null,null,null,null,null,null,null,null,null,null,null,null,null,null,null,null,null,null,null,null,null,null,null,null,null,null,null,null,null,null,null,null,null,null,null,null,null,null,null,null,null,null,"C14000343","OL","OL",109.51,113.82,11,188,5.8510638297872344,null,null,null,null,null,null,null,null,null,null,null,null,null,null,null,null,null,null,null,null,null,null,"A14002449","OL","OL",279.83999999999997,283.91000000000003,17,188,9.0425531914893611]
[null,null,null,null,null,null,null,null,null,null,null,null,null,null,null,null,null,null,null,null,null,null,null,null,null,null,null,null,null,null,null,null,null,null,null,null,null,null,null,null,null,null,null,null,null,null,null,null,null,null,"A13034384",9,10,97.59,101.76,711,12165,5.8446362515413073,null,null,null,null,null,null,null,null,null,null,null,null,null,null,null,null,null,null,null,null,null,null,"C13006949",11,12,256.99,261.11,242,3594,6.7334446299387869]
[null,null,null,null,null,null,null,null,null,null,null,null,null,null,null,null,null,null,null,null,null,null,null,null,null,null,null,null,null,null,null,null,null,null,null,null,null,null,null,null,null,null,null,null,null,null,null,null,null,null,"A13035731","OL","OL",104.02,108.03,14,240,5.833333333333333,null,null,null,null,null,null,null,null,null,null,null,null,null,null,null,null,null,null,null,null,null,null,"C13013508",10,11,252.9,256.91000000000003,440,7162,6.1435353253281209]
[null,null,null,null,null,null,null,null,null,null,null,null,null,null,null,null,null,null,null,null,null,null,null,null,null,null,null,null,null,null,null,null,null,null,null,null,null,null,null,null,null,null,null,null,null,null,null,null,null,null,"C13013508",9,10,97.42,101.75,743,12786,5.8110433286407011,null,null,null,null,null,null,null,null,null,null,null,null,null,null,null,null,null,null,null,null,null,null,"C13013508","OL","OL",278.61,282.83999999999997,13,47,27.659574468085108]
[null,null,null,null,null,null,null,null,null,null,null,null,null,null,null,null,null,null,null,null,null,null,null,null,null,null,null,null,null,null,null,null,null,null,null,null,null,null,null,null,null,null,null,null,null,null,null,null,null,null,"C13019586",9,10,97.59,101.75,1270,21885,5.803061457619374,null,null,null,null,null,null,null,null,null,null,null,null,null,null,null,null,null,null,null,null,null,null,"C13014559",10,11,253.02,256.99,755,13968,5.405211912943872]
[null,null,null,null,null,null,null,null,null,null,null,null,null,null,null,null,null,null,null,null,null,null,null,null,null,null,null,null,null,null,null,null,null,null,null,null,null,null,null,null,null,null,null,null,null,null,null,null,null,null,"A13035189",9,10,97.58,101.77,338,5833,5.7946168352477283,null,null,null,null,null,null,null,null,null,null,null,null,null,null,null,null,null,null,null,null,null,null,"C13014559","OL","OL",278.60000000000002,282.66000000000003,33,116,28.448275862068964]
[null,null,null,null,null,null,null,null,null,null,null,null,null,null,null,null,null,null,null,null,null,null,null,null,null,null,null,null,null,null,null,null,null,null,null,null,null,null,null,null,null,null,null,null,null,null,null,null,null,null,"A14000463",9,10,97.56,101.78,141,2447,5.7621577441765428,null,null,null,null,null,null,null,null,null,null,null,null,null,null,null,null,null,null,null,null,null,null,"C13014559","OL","OL",279.85000000000002,283.92,25,189,13.227513227513228]
[null,null,null,null,null,null,null,null,null,null,null,null,null,null,null,null,null,null,null,null,null,null,null,null,null,null,null,null,null,null,null,null,null,null,null,null,null,null,null,null,null,null,null,null,null,null,null,null,null,null,"A14002203",9,10,97.58,101.77,666,11658,5.7128152341739575,null,null,null,null,null,null,null,null,null,null,null,null,null,null,null,null,null,null,null,null,null,null,"C13017415",10,11,253.02,256.99,478,8575,5.574344023323615]
[null,null,null,null,null,null,null,null,null,null,null,null,null,null,null,null,null,null,null,null,null,null,null,null,null,null,null,null,null,null,null,null,null,null,null,null,null,null,null,null,null,null,null,null,null,null,null,null,null,null,"A13035361","OL","OL",120,124.25,15,263,5.7034220532319395,null,null,null,null,null,null,null,null,null,null,null,null,null,null,null,null,null,null,null,null,null,null,"C13017415","OL","OL",270.43,274.52999999999997,17,102,16.666666666666668]
[null,null,null,null,null,null,null,null,null,null,null,null,null,null,null,null,null,null,null,null,null,null,null,null,null,null,null,null,null,null,null,null,null,null,null,null,null,null,null,null,null,null,null,null,null,null,null,null,null,null,"C14000115",9,10,97.59,101.76,451,7942,5.6786703601108037,null,null,null,null,null,null,null,null,null,null,null,null,null,null,null,null,null,null,null,null,null,null,"C13017415","OL","OL",280.32,283.92,10,100,10]
[null,null,null,null,null,null,null,null,null,null,null,null,null,null,null,null,null,null,null,null,null,null,null,null,null,null,null,null,null,null,null,null,null,null,null,null,null,null,null,null,null,null,null,null,null,null,null,null,null,null,"A13012447",9,10,97.76,101.93,1022,18045,5.663618730950402,null,null,null,null,null,null,null,null,null,null,null,null,null,null,null,null,null,null,null,null,null,null,"C13019581",11,12,256.87,261.02,794,12495,6.3545418167266909]
[null,null,null,null,null,null,null,null,null,null,null,null,null,null,null,null,null,null,null,null,null,null,null,null,null,null,null,null,null,null,null,null,null,null,null,null,null,null,null,null,null,null,null,null,null,null,null,null,null,null,"A13035361","OL","OL",107.83,111.9,18,319,5.6426332288401255,null,null,null,null,null,null,null,null,null,null,null,null,null,null,null,null,null,null,null,null,null,null,"C13019581","OL","OL",278.63,282.56,27,119,22.689075630252102]
[null,null,null,null,null,null,null,null,null,null,null,null,null,null,null,null,null,null,null,null,null,null,null,null,null,null,null,null,null,null,null,null,null,null,null,null,null,null,null,null,null,null,null,null,null,null,null,null,null,null,"(+1)_03-17-14_AG",9,10,97.63,101.9,609,10891,5.5917730235974661,null,null,null,null,null,null,null,null,null,null,null,null,null,null,null,null,null,null,null,null,null,null,"C13019586",10,11,252.9,256.91000000000003,734,12613,5.8193926900816617]
[null,null,null,null,null,null,null,null,null,null,null,null,null,null,null,null,null,null,null,null,null,null,null,null,null,null,null,null,null,null,null,null,null,null,null,null,null,null,null,null,null,null,null,null,null,null,null,null,null,null,"A14000203","OL","OL",95.34,99.65,24,437,5.4919908466819223,null,null,null,null,null,null,null,null,null,null,null,null,null,null,null,null,null,null,null,null,null,null,"C14000011",11,12,256.99,260.95999999999998,581,8447,6.8781816029359533]
[null,null,null,null,null,null,null,null,null,null,null,null,null,null,null,null,null,null,null,null,null,null,null,null,null,null,null,null,null,null,null,null,null,null,null,null,null,null,null,null,null,null,null,null,null,null,null,null,null,null,"(+1)_03-17-14_AG",9,10,97.6,101.75,595,11346,5.2441389035783539,null,null,null,null,null,null,null,null,null,null,null,null,null,null,null,null,null,null,null,null,null,null,"C14000011","OL","OL",269.8,273.89999999999998,14,61,22.950819672131146]
[null,null,null,null,null,null,null,null,null,null,null,null,null,null,null,null,null,null,null,null,null,null,null,null,null,null,null,null,null,null,null,null,null,null,null,null,null,null,null,null,null,null,null,null,null,null,null,null,null,null,"(+2)_03-17-14_AG",9,10,97.63,101.89,716,13798,5.1891578489636183,null,null,null,null,null,null,null,null,null,null,null,null,null,null,null,null,null,null,null,null,null,null,"C14000011","OL","OL",283.70999999999998,288.06,11,105,10.476190476190476]
[null,null,null,null,null,null,null,null,null,null,null,null,null,null,null,null,null,null,null,null,null,null,null,null,null,null,null,null,null,null,null,null,null,null,null,null,null,null,null,null,null,null,null,null,null,null,null,null,null,null,"A13035480","OL","OL",95.65,99.65,24,464,5.1724137931034484,null,null,null,null,null,null,null,null,null,null,null,null,null,null,null,null,null,null,null,null,null,null,"C14000115","OL","OL",278.63,282.72000000000003,15,72,20.833333333333332]
[null,null,null,null,null,null,null,null,null,null,null,null,null,null,null,null,null,null,null,null,null,null,null,null,null,null,null,null,null,null,null,null,null,null,null,null,null,null,null,null,null,null,null,null,null,null,null,null,null,null,"A13026686","OL","OL",107.86,111.86,24,478,5.02092050209205,null,null,null,null,null,null,null,null,null,null,null,null,null,null,null,null,null,null,null,null,null,null,"C14000174",10,11,253.02,256.99,465,7601,6.1176161031443232]
[null,null,null,null,null,null,null,null,null,null,null,null,null,null,null,null,null,null,null,null,null,null,null,null,null,null,null,null,null,null,null,null,null,null,null,null,null,null,null,null,null,null,null,null,null,null,null,null,null,null,"(+2)_03-17-14_AG",9,10,97.63,101.88,599,12077,4.9598410201208907,null,null,null,null,null,null,null,null,null,null,null,null,null,null,null,null,null,null,null,null,null,null,"C14000174","OL","OL",278.58999999999997,282.48,19,142,13.380281690140846]
[null,null,null,null,null,null,null,null,null,null,null,null,null,null,null,null,null,null,null,null,null,null,null,null,null,null,null,null,null,null,null,null,null,null,null,null,null,null,null,null,null,null,null,null,null,null,null,null,null,null,"A13023291","OL","OL",107.8,111.76,24,504,4.7619047619047619,null,null,null,null,null,null,null,null,null,null,null,null,null,null,null,null,null,null,null,null,null,null,"C14000174","OL","OL",280.14,284.02999999999997,17,100,17]
[null,null,null,null,null,null,null,null,null,null,null,null,null,null,null,null,null,null,null,null,null,null,null,null,null,null,null,null,null,null,null,null,null,null,null,null,null,null,null,null,null,null,null,null,null,null,null,null,null,null,"A14001268","OL","OL",111.96,115.98,18,386,4.6632124352331603,null,null,null,null,null,null,null,null,null,null,null,null,null,null,null,null,null,null,null,null,null,null,"C14000276",10,11,253.04,257.04000000000002,1013,16916,5.9884133364861674]
[null,null,null,null,null,null,null,null,null,null,null,null,null,null,null,null,null,null,null,null,null,null,null,null,null,null,null,null,null,null,null,null,null,null,null,null,null,null,null,null,null,null,null,null,null,null,null,null,null,null,"A13035361",8,9,93.38,97.56,628,13528,4.6422235363690127,null,null,null,null,null,null,null,null,null,null,null,null,null,null,null,null,null,null,null,null,null,null,"C14000276","OL","OL",274.05,277.95999999999998,19,87,21.839080459770116]
[null,null,null,null,null,null,null,null,null,null,null,null,null,null,null,null,null,null,null,null,null,null,null,null,null,null,null,null,null,null,null,null,null,null,null,null,null,null,null,null,null,null,null,null,null,null,null,null,null,null,"A13035063","OL","OL",95.47,99.65,14,317,4.4164037854889591,null,null,null,null,null,null,null,null,null,null,null,null,null,null,null,null,null,null,null,null,null,null,"C14000276","OL","OL",284.18,288.06,25,192,13.020833333333334]
[null,null,null,null,null,null,null,null,null,null,null,null,null,null,null,null,null,null,null,null,null,null,null,null,null,null,null,null,null,null,null,null,null,null,null,null,null,null,null,null,null,null,null,null,null,null,null,null,null,null,"C14000011","OL","OL",95.91,100,21,477,4.4025157232704402,null,null,null,null,null,null,null,null,null,null,null,null,null,null,null,null,null,null,null,null,null,null,"C14000343",11,12,256.87,261.02,909,14416,6.3054938956714759]
[null,null,null,null,null,null,null,null,null,null,null,null,null,null,null,null,null,null,null,null,null,null,null,null,null,null,null,null,null,null,null,null,null,null,null,null,null,null,null,null,null,null,null,null,null,null,null,null,null,null,"A13019120","OL","OL",113.54,117.73,11,270,4.0740740740740744,null,null,null,null,null,null,null,null,null,null,null,null,null,null,null,null,null,null,null,null,null,null,"C14000343","OL","OL",282.68,286.58999999999997,23,127,18.110236220472441]
[null,null,null,null,null,null,null,null,null,null,null,null,null,null,null,null,null,null,null,null,null,null,null,null,null,null,null,null,null,null,null,null,null,null,null,null,null,null,null,null,null,null,null,null,null,null,null,null,null,null,"A14001151","OL","OL",95.36,99.83,11,286,3.8461538461538463,null,null,null,null,null,null,null,null,null,null,null,null,null,null,null,null,null,null,null,null,null,null,"C14000343","OL","OL",283.93,288.14999999999998,14,208,6.7307692307692308]
[null,null,null,null,null,null,null,null,null,null,null,null,null,null,null,null,null,null,null,null,null,null,null,null,null,null,null,null,null,null,null,null,null,null,null,null,null,null,null,null,null,null,null,null,null,null,null,null,null,null,"A14000308","OL","OL",95.47,99.65,18,497,3.6217303822937628]
[null,null,null,null,null,null,null,null,null,null,null,null,null,null,null,null,null,null,null,null,null,null,null,null,null,null,null,null,null,null,null,null,null,null,null,null,null,null,null,null,null,null,null,null,null,null,null,null,null,null,"A13033185","OL","OL",95.59,99.83,13,377,3.4482758620689653]
[null,null,null,null,null,null,null,null,null,null,null,null,null,null,null,null,null,null,null,null,null,null,null,null,null,null,null,null,null,null,null,null,null,null,null,null,null,null,null,null,null,null,null,null,null,null,null,null,null,null,"A13034231","OL","OL",111.98,116,19,599,3.1719532554257097]
[null,null,null,null,null,null,null,null,null,null,null,null,null,null,null,null,null,null,null,null,null,null,null,null,null,null,null,null,null,null,null,null,null,null,null,null,null,null,null,null,null,null,null,null,null,null,null,null,null,null,"A13035877","OL","OL",95.51,99.65,18,610,2.9508196721311477]
[null,null,null,null,null,null,null,null,null,null,null,null,null,null,null,null,null,null,null,null,null,null,null,null,null,null,null,null,null,null,null,null,null,null,null,null,null,null,null,null,null,null,null,null,null,null,null,null,null,null,"A13032309","OL","OL",111.69,116.03,11,413,2.6634382566585955]
[null,null,null,null,null,null,null,null,null,null,null,null,null,null,null,null,null,null,null,null,null,null,null,null,null,null,null,null,null,null,null,null,null,null,null,null,null,null,null,null,null,null,null,null,null,null,null,null,null,null,"A14000593","OL","OL",95.66,99.65,10,457,2.1881838074398248]

{"sheet":"Introduction","index":11,"n_rows":82,"n_cols":4,"rows_kept":82,"cut":false,"hidden":false,"merged":[[0,2,0,4],[1,0,33,0],[1,2,1,4],[3,2,3,4],[4,2,4,4],[6,2,6,4],[7,2,12,4],[13,2,13,4],[14,2,14,4],[15,2,15,4],[16,2,16,4],[17,2,17,4],[19,2,19,4],[20,2,20,4],[23,3,24,3],[26,3,28,3],[32,2,32,4],[33,3,33,4],[21,2,21,4],[22,2,22,4],[35,3,35,4],[37,3,39,4],[75,3,75,4],[41,3,41,4],[43,3,43,4],[45,3,45,4],[47,3,51,4],[53,3,56,4],[58,3,65,4],[72,3,73,4],[67,3,68,4],[70,3,70,4]]}
[null,null,"Welcome to STR_StutterFreq!"]
["STR_ConvertFormats was developed by David Duewer, Analytical Chemical Division, NIST,\nwith advice and support from the Applied Genetics group, Biochemical Science Division.",null,"Version <27-Aug-20>"]
[]
[null,null,"STR_StutteFreq is a specialty analysis tool for characterizing stutter frequency…"]
[null,null,"Development of STR_StutterFreq was funded in part by the National Institute of Justice."]
[]
[null,null,"Required input data format…"]
[null,null,"Words will go here some day..."]
[]
[]
[]
[]
[]
[]
[null,null,"Problems?"]
[null,null,"This is still a \"Draft\" release: there will be problems!"]
[null,null,"Please repeat whatever caused the blowup a couple of times and note down all symptoms and error messages."]
[null,null,"Email the description to david.duewer@nist.gov"]
[]
[]
[null,null,"Getting Started"]
[null,null," STR_StutterFreq is designed to be operated by \"pushing buttons.\"  All functions are available on the ControlPanel worksheet."]
[]
[]
[]
[]
[]
[]
[]
[]
[]
[]
[null,null,"History"]
[null,null,"2009-06-20","First pass, with structure heavily borrowed from STR_AlleleFreq"]
[]
[null,null,"2009-06-23","Alpha release.  Becky Hill promptly found the first bug..."]
[]
[null,null,"2009-07-25","Numerous changes and additions, the most significant of which is the ability to filter on 'Calls' stored in what's now called the 'MasterList'.  Also modified the \"get ALL the data\" so that it actually works as intended… (it had been calling some {Allele n,Allele n+1} pairs as stutter.)"]
[]
[]
[]
[null,null,"2009-08-14","Added to all figures the ability to highlight data from a specified locus.  Numerous minor housekeeping updates."]
[]
[null,null,"2009-09-08","Added selection on maximum peak height, \"Version\" display on ControlPanel, and several minor bug fixes."]
[]
[null,null,"2009-12-24","Added the peak height ratio density plot.  Updated the Report control structure."]
[]
[null,null,"2011-01-18","Rachel Ford (Hennepin County Sheriff's Office, Minneapolis, MN) uncovered two bugs.  One in AlleleStats when there is but one allele with stutter at a given locus and a whole series of poor codings in Density that prevented the system running if renamed to something containing a \"+\" or \"-\".  Erica Butts, more-or-less at the same time, found a bug in the handling of small data sets.  While updating things, I finally caught a bug in the sheet title formatting and added the capability to delete Located loci from being Fetched."]
[]
[]
[]
[]
[]
[null,null,"2011-01-25","Some minor modifcations to the default parameters and correction of bug (non-clearing of old results) introduced by the decoupling of the Locate and Fetch commands.  At Becky's request, I am working on facilitating the identication, documentation and exclusion of technically invalid \"looks like stutter but ain't really\" events."]
[]
[]
[]
[]
[null,null,"6-Dec-11 to 9-Dec-11","Added ability to filter out peaks that may be contaminated by secondary stutter, with \"#RepSets\" setting how many repeat-units upstream of the peak are to be considered: #RepSets must be between 1 and 7.  Added the ability to set the \"Max bp window\" to identify both stutter (down-stream) or contaminating-stutter (up-stream) peaks: this window must be between 0.1 and 0.8.  Note that 0.5 bp is for match within an allelic bin: the equivalent match between two peaks should be about 0.70 bp.  Modified the \"Fetch\" systems to handle \"fragmented\" peaks (two or more peaks within a stutter window or two-or-more peaks called as the same allele.  Added commands to store and compare Data worksheets defined using different filter settings.  Fixed a number of small bugs and modified the ControlPanel layout."]
[]
[]
[]
[]
[]
[]
[]
[]
[null,null,"2011-12-13","Reworked \"#RepSep\" logic to only switch between allowing/disallowing stutter to be estimated for the ith peak in a i-2, i-1, i trio."]
[]
[]
[null,null,"8-Feb-12 to 10-Feb-12","Reworked GUI for all Figures.  Added the \"Robin\" one-locus scattergram"]
[]
[null,null,"27-Feb-12 to 29-Feb-12","Reworked GUI for both text-based reports.  Added forward-stutter capability and simplified he stutter-peak identification logic."]
[]
[]
[null,null,"2012-03-08","Fixed bug in Masterlist handler.  Fixed an ambiguous error-message when loci aren't specified."]
[]
[null,null,"2014-09-02","Multiple loci on one sheet, updated to Office 2013"]
[]
[null,null,"26-Aug-2020 to 27-Aug-2020","Added SD and \"%<3SD\" information for all loci to Fig_Density worksheet."]
[null,null,null,"Shifted the locus-lists on all relevant sheets down one row to make room for \"%<3SD\"."]
[null,null,null,"Added locus-label toggle checkbox to Fig_BP and Fig_Allele worksheets"]

{"sheet":"ReadMe","index":12,"n_rows":98,"n_cols":3,"rows_kept":98,"cut":false,"hidden":false,"merged":[[0,0,1,0]]}
[null,null,"STR_StutterFreq"]
[null,null,"Version <27-Aug-20>"]
[]
[null,null,"The STR_StutterFreq system is intended to help you characterize the stutter characteristics of a given set"]
[null,null,"of data, where stutter is defined from the ratio of peakheights between a \"stutter peak\" and an \"allele peak\"."]
["**************"]
[null,null,"ControlPanel Commands"]
[null,null,"All of the (interesting) STR_StutterFreq commands are accessed from the ControlPanel worksheet."]
[]
[null,null,"Do It All: Sequentially invokes the Clear, Locate, Fetch, LocStats, AlleleStats, PeakHt, BP, Allele, and"]
[null,null,"               Density commands and ends by highlighting the Print button.  This is a convenient shortcut after you"]
[null,null,"               are familiar with what these commands actually do."]
[]
[null,null,"\"Get the data\" commands…"]
[null,null,"Clear: Clears all status reports, working data, and report worksheets."]
[null,null,"Locate: Allows you to locate and select a validly formatted (see below) stutter-data workbook."]
[null,null,"Fetch: Loads all of the valid stutter-data from the specified input workbook."]
[]
[null,null,"\"Make the reports and graphs\" commands..."]
[null,null,"LocStats: Reports percentile distribution of %stutter for the composite of all alleles at each locus"]
[null,null,"AlleleStats: Reports summary statistics for %stutter of each allele (with sufficient data) at each locus"]
[null,null,"PeakHt: Graphs the stutter peakheight and stutter/allele peakheight ratio as functions of allele peakheight"]
[null,null,"BP: Graph the %stutter for each allele of each locus as a function of allele size (bp)"]
[null,null,"Allele: Graphs the %stutter for each allele of each locus as a function of allele name (number of repeats)"]
[null,null,"Density: Graphs the empirical distribution of %stutter "]
[]
[null,null,"Utilities...."]
[null,null,"Print: Facilitates printing the various Reports and Figures."]
[null,null,"Zoom: Sets the \"zoom\" view for all worksheets."]
[null,null,"Intro: Activates the Introduction worksheet."]
[null,null,"ReadMe: Activates this ReadMe \"Instruction Manual\" worksheet."]
[null,null,"Store: Copies the current Data worksheet onto the Data_Compare worksheet."]
[null,null,"Compare: Compares the current Data worksheet with the Data_Compare worksheet."]
[null,null,"Exit: Gracefully exits the STR_StutterFreq system."]
[]
[null,null,"You only need this if you have created a database of samples with known profiles..."]
[null,null,"Load Calls: Loads a stored MasterList of profiles"]
[]
[null,null,"\"Engineering\" controls (mostly for my use)..."]
[null,null,"MacroGo: Unhides all worksheets and takes you to where the code lives"]
[null,null,"Clean: Cleans up any old definitions and left-over data"]
[null,null,"ReVersion: Updates the header block of the output worksheets"]
[null,null,"ReAlign: Repositions the location of all the control buttons"]
[]
[null,null,"Filters"]
[null,null,"There are seven user-settable parameters on the ControlPanel worksheet that help select the most useful data."]
[]
[null,null,"The first four are integer values in cells row 6 col 5 to row 9 col 5 (in red).  Just type in any new values."]
[null,null,"After Fetch-ing, the number of potential matches excluded by each of these filters is listed in col 6"]
[null,null,"Min PkHt: sets the minimum acceptable allele peakheight"]
[null,null,"Max PkHt: sets the maximum acceptable allele peakheight"]
[null,null,"Max %Stutter: sets the maximum acceptable 100*(stutter peakheight)/(allele peakheight)"]
[null,null,"#RepSep: sets the number of up-stream repeat units that are checked as possible contributors to stutter"]
[]
[null,null,"The next two are in cels row 11 col 5 to row 12 col 5 (in red).  Just type in any new values."]
[null,null,"Min #Ratio: sets the minimum number of data required to estimate the mean and standard deviation"]
[null,null,"Max bp window: the bp \"window\" on either side of a parent allele around a candidate stutter peak size."]
[null,null,"                           Note that while the usual window for comparing a peak size to a ladder bin is 0.5 bp, the 95%"]
[null,null,"                           confidence interval for comparing two experimental sizes should be about 0.7 bp."]
[]
[null,null,"The seventh filter is set by the radio buttons in rows 16 to 18 of col 5.  These control how parent alleles"]
[null,null,"are recognized.  Only one button can be active at a time. "]
[null,null,"The number of valid ratios for each Fetch is stored in col 6."]
[null,null,"Peaks: the  most inclusive setting, enabling stutter to be calculated for \"OL\" and miss-called alleles."]
[null,null,"            Allele peaks are defined as those with \"Goldilocks\" peakheights (neither too small nor too large)"]
[null,null,"            that are not themselves #RepSep repeat-units (in bp) smaller than another large peak and"]
[null,null,"            that are one repeat-unit (in bp) larger than a suitable stutter peak (one that yields %Stutter"]
[null,null,"            less than the maximum accepted.)  The difference in peak sizes must be within ±Max bp Window"]
[null,null,"            to be considered a match.  The peak heights of all peaks within that window are combined."]
[null,null,"            "]
[null,null,"Called Alleles: similar to the above, only defining parent alleles from the numeric allelic names."]
[null,null,"                        All non-numeric allelic names (\"X\", \"OL\", \"N\", etc.) are ignored."]
[]
[null,null,"Stored profiles: The most definitive method, as it ignores any peaks not associated with the true alleles as"]
[null,null,"                         defined in the LocalMaster worksheet.  But then the LocalMaster must contain the profiles..."]
[]
[null,null,"Reports"]
[null,null,"To be written"]
[]
[]
[]
[null,null,"Graphs"]
[null,null,"To be written"]
[]
[]
[]
[null,null,"Comparing Data Filterings"]
[null,null,"To be written"]
[]
[]
[]
[null,null,"Input Data Format"]
[null,null,"To be written"]
[]
[]
[]
[null,null,"LocalMaster Format"]
[null,null,"To be written"]

{"sheet":"Data_Differences","index":13,"n_rows":3,"n_cols":1,"rows_kept":3,"cut":false,"hidden":false,"merged":[[0,0,1,0]]}
[]
[]
["**************"]

{"sheet":"Stuff to do","index":14,"n_rows":9,"n_cols":4,"rows_kept":9,"cut":false,"hidden":false,"merged":[]}
["#","Type","Issue"]
[1,"Upgrade","Finish the Introduction and ReadMe writeups"]
[2,"Upgrade","Put the sheet-specific buttons in Col 1 on all the Reports","Done"]
[3,"Upgrade","List the filters in the first row of the Data worksheet"]
[4,"Bug","Finish Utility_AlignControls","Done"]
[5,"Bug","Finish Utility_ResetHeaders","Done"]
[6,"Bug","Make Print ask for each sheet","Done"]
[7,"Upgrade","Compare the filters in the Data_Compare worksheet"]
[8,"Bug","Hide Introduction and Readme when leaving the sheet"]

{"sheet":"LocalMaster","index":15,"n_rows":1408,"n_cols":256,"rows_kept":562,"cut":true,"hidden":false,"merged":[],"bounds":{"rows_first":250,"rows_last":62,"rows_between":250,"halvings":3}}
["LocusCode","Δbp","Motif","PopCode","Issues","Sample Info","AMEL","AMEL","CSF1PO","CSF1PO","D13S317","D13S317","D16S539","D16S539","D18S51","D18S51","D19S433","D19S433","D21S11","D21S11","D2S1338","D2S1338","D3S1358","D3S1358","D5S818","D5S818","D7S820","D7S820","D8S1179","D8S1179","FGA","FGA","TH01","TH01","TPOX","TPOX","vWA","vWA","D10S1248","D10S1248","D12S391","D12S391","D1S1656","D1S1656","D22S1045","D22S1045","D2S441","D2S441","SE33","SE33","Penta_D","Penta_D","Penta_E","Penta_E","D6S1043","D6S1043","D1GATA113","D1GATA113","D1S1627","D1S1627","D1S1677","D1S1677","D2S1776","D2S1776","D3S3053","D3S3053","D3S4529","D3S4529","D4S2364","D4S2364","D4S2408","D4S2408","D5S2500","D5S2500","D6S474","D6S474","D6S1017","D6S1017","D8S1115","D8S1115","D9S1122","D9S1122","D9S2157","D9S2157","D10S1435","D10S1435","D11S4463","D11S4463","D12ATA63","D12ATA63","D14S1434","D14S1434","D17S974","D17S974","D17S1301","D17S1301","D18S853","D18S853","D20S482","D20S482","D20S1082","D20S1082","DYS389I","DYS448","DYS389II","DYS19","DYS391","DYS438","DYS437","DYS635","DYS390","DYS439","DYS392","DYS393","DYS458","DYS456","Y-GATA-H4","DYS385a","DYS385a","DYS576","DYS570","DYS643","DYS533","DYS481","DYS549",null,null,null,null,null,null,null,null,null,null,null,null,null,null,null,null,null,null,null,null,null,null,null,null,null,null,null,null,null,null,null,null,null,null,null,null,null,null,null,null,null,null,null,null,null,null,null,null,null,null,null,null,null,null,null,null,null,null,null,null,null,null,null,null,null,null,null,null,null,null,null,null,null,null,null,null,null,null,null,null,null,null,null,null,null,null,null,null,null,null,null,null,null,null,null,null,null,null,null,null,null,null,null,null,null,null,null,null,null,null,null,null,null,null,null,null,null,null,null,null,null,null,null,null,null,null,null,null,"AMEL",7,8]
["AMEL",6,null,"AfAm",null,"BC11352","X","Y",11,13,13,13,8,12,13,15,13,13,28,30,17,20,14,17,10,11,10,12,13,14,24,24,6,9.3000000000000007,8,8,17,17,13,15,17,18,14,16.3,14,16,14,15,13,14,10,11,7,12,12,18,12,13,11,14,12,14,11,13,9,11,13,15,9,9,11,11,14,14,17,17,8,10,14,17,12,13,13,15,11,14,13,14,12,17,10,13,9,10,11,12,13,14,15,16,11,11,null,null,null,null,null,null,null,null,null,null,null,null,null,null,null,null,null,null,null,null,null,null,null,null,null,null,null,null,null,null,null,null,null,null,null,null,null,null,null,null,null,null,null,null,null,null,null,null,null,null,null,null,null,null,null,null,null,null,null,null,null,null,null,null,null,null,null,null,null,null,null,null,null,null,null,null,null,null,null,null,null,null,null,null,null,null,null,null,null,null,null,null,null,null,null,null,null,null,null,null,null,null,null,null,null,null,null,null,null,null,null,null,null,null,null,null,null,null,null,null,null,null,null,null,null,null,null,null,null,null,null,null,null,null,null,null,null,null,null,null,null,null,null,null,null,null,null,null,null,null,null,"CSF1PO",9,10]
["CSF1PO",4,"TAGA","Asian",null,"GA05070","X","Y",10,12,10,11,10,10,16,18,14.2,15,30,33.200000000000003,19,23,16,18,11,12,10,13,10,13,25,26,7,9,8,12,14,19,12,14,17.3,23,14,16,14,15,11,15,13,22,13,14,7,17,13,13,12,12,13,13,12,15,9,10,11,11,13,13,8,9,9,9,17,17,14,18,8,10,9,16,12,15,11,11,13,14,13,17,12,17,14,14,9,10,12,12,14,15,14,14,11,15,14,20,30,13,10,11,14,22,24,12,15,13,15,17,12,15,19,17,16,11,11,25,12,null,null,null,null,null,null,null,null,null,null,null,null,null,null,null,null,null,null,null,null,null,null,null,null,null,null,null,null,null,null,null,null,null,null,null,null,null,null,null,null,null,null,null,null,null,null,null,null,null,null,null,null,null,null,null,null,null,null,null,null,null,null,null,null,null,null,null,null,null,null,null,null,null,null,null,null,null,null,null,null,null,null,null,null,null,null,null,null,null,null,null,null,null,null,null,null,null,null,null,null,null,null,null,null,null,null,null,null,null,null,null,null,null,null,null,null,null,null,null,null,null,null,null,null,null,null,null,null,"D13S317",11,12]
["D10S1248",4,"GGAA","Cauc",null,"GA05071","X","Y",11,15,11,12,12,12,17,17,13,13,30.2,32.200000000000003,17,17,14,17,11,12,7,10,13,14,23,25,7,9.3000000000000007,8,11,16,17,14,16,19,20,16,16,15,16,10,10,18,26.2,10,11,11,12,11,13,7,11,13,13,14,15,11,12,12,12,13,14,8,10,9,11,17,17,17,17,8,10,9,18,12,14,9.1,11,11,12,13,14,15,17,10,14,9,9,12,12,11,14,14,15,11,14,13,19,30,14,10,12,15,23,24,13,13,13,16,15,12,12,14,18,18,10,12,22,13,null,null,null,null,null,null,null,null,null,null,null,null,null,null,null,null,null,null,null,null,null,null,null,null,null,null,null,null,null,null,null,null,null,null,null,null,null,null,null,null,null,null,null,null,null,null,null,null,null,null,null,null,null,null,null,null,null,null,null,null,null,null,null,null,null,null,null,null,null,null,null,null,null,null,null,null,null,null,null,null,null,null,null,null,null,null,null,null,null,null,null,null,null,null,null,null,null,null,null,null,null,null,null,null,null,null,null,null,null,null,null,null,null,null,null,null,null,null,null,null,null,null,null,null,null,null,null,null,"D16S539",13,14]
["D10S1435",4,"TATC","Hisp",null,"GC03394","X","Y",10,12,11,11,12,13,15,17,14,15,30,31,17,20,15,18,11,12,11,12,12,12,21,21,6,7,8,8,17,18,15,16,19,19,12,15,15,16,11,12,19,22.2,10,11,12,15,13,19,11,11,14,14,14,15,12,12,8,10,15,16,9,10,9,10,14,18,17,17,8,12,9,16,12,13,11,13,10,12,14,15,15,15,11,13,9,10,11,11,11,13,14,15,11,11,12,19,28,15,10,9,15,21,24,12,11,12,16,13,11,13,17,16,18,9,12,22,13,null,null,null,null,null,null,null,null,null,null,null,null,null,null,null,null,null,null,null,null,null,null,null,null,null,null,null,null,null,null,null,null,null,null,null,null,null,null,null,null,null,null,null,null,null,null,null,null,null,null,null,null,null,null,null,null,null,null,null,null,null,null,null,null,null,null,null,null,null,null,null,null,null,null,null,null,null,null,null,null,null,null,null,null,null,null,null,null,null,null,null,null,null,null,null,null,null,null,null,null,null,null,null,null,null,null,null,null,null,null,null,null,null,null,null,null,null,null,null,null,null,null,null,null,null,null,null,null,"D18S51",15,16]
["D11S4463",4,"TATC",null,null,"GT36864","X","Y",10,12,11,11,11,12,14,19,13,14,31.2,32.200000000000003,19,19,15,16,9,12,8,12,13,13,19,21,7,9.3000000000000007,9,11,16,18,15,17,17.3,20,16,17.3,11,16,10,14,22.2,28.2,9,11,7,12,11,19,7,12,11,11,11,15,11,12,8,11,15,15,9,9,9,11,17,18,14,14,8,10,16,17,11,12,11,17,12,12,14,14,13,13,10,13,10,11,11,12,11,11,12,13,11,14,12,20,28,14,10,10,16,21,23,11,11,13,15,14,11,13,16,16,20,12,11,24,13,null,null,null,null,null,null,null,null,null,null,null,null,null,null,null,null,null,null,null,null,null,null,null,null,null,null,null,null,null,null,null,null,null,null,null,null,null,null,null,null,null,null,null,null,null,null,null,null,null,null,null,null,null,null,null,null,null,null,null,null,null,null,null,null,null,null,null,null,null,null,null,null,null,null,null,null,null,null,null,null,null,null,null,null,null,null,null,null,null,null,null,null,null,null,null,null,null,null,null,null,null,null,null,null,null,null,null,null,null,null,null,null,null,null,null,null,null,null,null,null,null,null,null,null,null,null,null,null,"D19S433",17,18]
["D12ATA63",3,"[TAA][CAA]",null,null,"GT36866","X","Y",11,11,11,12,11,13,13,15,12,14,31.2,32.200000000000003,18,20,16,17,11,13,10,10,10,10,21,21,6,9.3000000000000007,8,8,16,17,13,16,18,20,11,14,16,17,11,14,25.2,30.2,9,12,12,12,10,18,11,12,13,14,13,14,12,13,9,11,13,14,10,10,8,9,17,23,15,17,10,10,16,16,12,12,7,11,12,15,11,12,17,18,10,14,9,10,12,12,13,13,12,14,11,12,13,21,29,14,10,9,15,23,23,11,11,12,14,15,11,13,18,17,16,11,12,23,13,null,null,null,null,null,null,null,null,null,null,null,null,null,null,null,null,null,null,null,null,null,null,null,null,null,null,null,null,null,null,null,null,null,null,null,null,null,null,null,null,null,null,null,null,null,null,null,null,null,null,null,null,null,null,null,null,null,null,null,null,null,null,null,null,null,null,null,null,null,null,null,null,null,null,null,null,null,null,null,null,null,null,null,null,null,null,null,null,null,null,null,null,null,null,null,null,null,null,null,null,null,null,null,null,null,null,null,null,null,null,null,null,null,null,null,null,null,null,null,null,null,null,null,null,null,null,null,null,"D21S11",19,20]
["D12S391",4,"[AGAT][AGAC]",null,null,"GT36875","X","Y",11,11,11,12,11,13,14,17,12,14,28,28,24,25,14,16,12,13,10,11,12,13,20,24,8,9.3000000000000007,8,8,16,19,13,14,18,19,11,18.3,15,16,11.3,14,14,16,9,15,7,19,11,12,7,11,10,14,13,13,12,12,10,11,13,13,8,10,8,8,17,20,15,17,8,10,9,16,12,12,13,13,13,14,13,14,13,13,10,14,9,11,12,13,11,11,14,15,11,15,13,19,29,14,10,12,15,23,23,11,13,13,17,16,12,11,13,20,17,10,12,22,12,null,null,null,null,null,null,null,null,null,null,null,null,null,null,null,null,null,null,null,null,null,null,null,null,null,null,null,null,null,null,null,null,null,null,null,null,null,null,null,null,null,null,null,null,null,null,null,null,null,null,null,null,null,null,null,null,null,null,null,null,null,null,null,null,null,null,null,null,null,null,null,null,null,null,null,null,null,null,null,null,null,null,null,null,null,null,null,null,null,null,null,null,null,null,null,null,null,null,null,null,null,null,null,null,null,null,null,null,null,null,null,null,null,null,null,null,null,null,null,null,null,null,null,null,null,null,null,null,"D2S1338",21,22]
["D13S317",4,"TATC",null,null,"GT36877","X","Y",11,11,11,11,9,11,16,18,13,16.2,28,30,18,22,15,18,11,13,9,9,12,15,20,26,6,8,8,11,15,17,14,15,17,20,12,15.3,11,16,11,12,15,19,12,13,7,7,12,14,7,12,13,13,13,14,11,12,10,12,13,16,9,9,8,8,14,14,14,15,8,13,16,16,12,13,12,14,12,14,13,13,12,15,12,14,9,10,11,12,11,14,14,15,14,16,12,22,30,15,10,10,16,21,21,12,11,14,16,17,11,13,15,15,17,13,10,22,12,null,null,null,null,null,null,null,null,null,null,null,null,null,null,null,null,null,null,null,null,null,null,null,null,null,null,null,null,null,null,null,null,null,null,null,null,null,null,null,null,null,null,null,null,null,null,null,null,null,null,null,null,null,null,null,null,null,null,null,null,null,null,null,null,null,null,null,null,null,null,null,null,null,null,null,null,null,null,null,null,null,null,null,null,null,null,null,null,null,null,null,null,null,null,null,null,null,null,null,null,null,null,null,null,null,null,null,null,null,null,null,null,null,null,null,null,null,null,null,null,null,null,null,null,null,null,null,null,"D3S1358",23,24]
["D14S1434",4,"[GATA][GACA]",null,null,"GT36878","X","Y",10,12,11,13,8,11,13,17,13,15,30,32.200000000000003,17,18,15,18,9,11,9,12,11,13,19,23,9.3000000000000007,9.3000000000000007,8,11,16,19,13,14,18,18,15,17.3,14,15,11,14,19,28.2,9,12,7,13,11,17,12,12,11,14,14,15,9,11,11,11,13,13,9,9,10,11,18,18,17,17,10,10,9,16,11,12,11,13,11,12,13,14,15,15,10,14,9,11,11,13,11,11,14,15,11,11,13,19,29,14,11,12,15,23,24,12,13,13,18,16,11,11,15,18,17,10,13,22,15,null,null,null,null,null,null,null,null,null,null,null,null,null,null,null,null,null,null,null,null,null,null,null,null,null,null,null,null,null,null,null,null,null,null,null,null,null,null,null,null,null,null,null,null,null,null,null,null,null,null,null,null,null,null,null,null,null,null,null,null,null,null,null,null,null,null,null,null,null,null,null,null,null,null,null,null,null,null,null,null,null,null,null,null,null,null,null,null,null,null,null,null,null,null,null,null,null,null,null,null,null,null,null,null,null,null,null,null,null,null,null,null,null,null,null,null,null,null,null,null,null,null,null,null,null,null,null,null,"D5S818",25,26]
["D16S539",4,"GATA",null,null,"GT36884","X","Y",10,11,11,11,8,12,14,15,12,15,28,30,17,24,14,16,11,12,8,10,11,11,23,24,7,9.3000000000000007,8,11,17,18,13,13,17,18,12,13,16,16,13,14,17,19,10,12,14,16,12,13,10,12,11,13,14,14,9,12,11,11,15,16,9,10,9,9,17,18,17,18,8,10,18,18,12,12,11,14,11,12,12,14,13,15,10,13,9,12,11,14,11,11,13,14,11,11,13,19,29,14,11,12,15,24,24,12,13,13,16,16,12,11,15,20,17,10,14,22,11,null,null,null,null,null,null,null,null,null,null,null,null,null,null,null,null,null,null,null,null,null,null,null,null,null,null,null,null,null,null,null,null,null,null,null,null,null,null,null,null,null,null,null,null,null,null,null,null,null,null,null,null,null,null,null,null,null,null,null,null,null,null,null,null,null,null,null,null,null,null,null,null,null,null,null,null,null,null,null,null,null,null,null,null,null,null,null,null,null,null,null,null,null,null,null,null,null,null,null,null,null,null,null,null,null,null,null,null,null,null,null,null,null,null,null,null,null,null,null,null,null,null,null,null,null,null,null,null,"D7S820",27,28]
["D17S1301",4,"AGAT",null,null,"GT36885","X","Y",10,11,11,12,11,13,14,17,13,13,28,29,23,23,18,18,11,12,8,9,11,13,19,21,6,7,8,11,18,19,16,17,18,20,14,15,15,16,10,11,16,29.2,12,13,7,12,11,11,11,12,14,14,14,16,10,11,9,11,14,14,10,10,8,11,17,18,16,18,10,10,15,17,12,13,11,14,12,13,13,14,13,13,13,14,9,10,12,13,11,11,13,14,12,15,13,19,30,14,11,12,15,23,24,12,13,13,18,16,12,11,14,17,17,10,12,22,12,null,null,null,null,null,null,null,null,null,null,null,null,null,null,null,null,null,null,null,null,null,null,null,null,null,null,null,null,null,null,null,null,null,null,null,null,null,null,null,null,null,null,null,null,null,null,null,null,null,null,null,null,null,null,null,null,null,null,null,null,null,null,null,null,null,null,null,null,null,null,null,null,null,null,null,null,null,null,null,null,null,null,null,null,null,null,null,null,null,null,null,null,null,null,null,null,null,null,null,null,null,null,null,null,null,null,null,null,null,null,null,null,null,null,null,null,null,null,null,null,null,null,null,null,null,null,null,null,"D8S1179",29,30]
["D17S974",4,"CTAT",null,null,"GT36886","X","Y",10,11,11,14,10,12,15,17,13,15,29,30,17,22,15,15,12,12,10,11,13,14,23,26,8,9.3000000000000007,8,10,15,19,14,14,16,17,13,14,16,16,10,11.3,16,25.2,10,12,13,14,11,19,12,12,11,14,13,13,10,11,9,11,13,16,9,10,9,9,17,18,14,14,10,13,16,16,11,13,11,14,13,14,14,15,12,15,10,12,7,10,10,12,11,15,15,16,11,15,13,20,30,16,10,11,14,23,25,11,11,13,16,16,12,10,13,18,18,10,12,25,13,null,null,null,null,null,null,null,null,null,null,null,null,null,null,null,null,null,null,null,null,null,null,null,null,null,null,null,null,null,null,null,null,null,null,null,null,null,null,null,null,null,null,null,null,null,null,null,null,null,null,null,null,null,null,null,null,null,null,null,null,null,null,null,null,null,null,null,null,null,null,null,null,null,null,null,null,null,null,null,null,null,null,null,null,null,null,null,null,null,null,null,null,null,null,null,null,null,null,null,null,null,null,null,null,null,null,null,null,null,null,null,null,null,null,null,null,null,null,null,null,null,null,null,null,null,null,null,null,"FGA",31,32]
["D18S51",4,"AGAA",null,null,"GT37019","X","Y",11,12,11,12,11,11,17,18,14,14,28,30,16,17,16,16,11,12,10,11,14,15,23,24,6,7,8,9,17,17,14,14,17,21,12,16.3,11,15,11,12,14,23.2,2.2000000000000002,11,5,13,11,17,11,12,12,14,13,15,9,11,12,12,15,15,9,9,8,10,14,18,14,15,7,14,9,18,11,13,7,9,12,13,13,14,12,17,10,10,9,10,11,12,13,13,14,14,12,15,13,21,31,17,10,11,14,21,21,12,11,16,18,16,11,16,19,17,16,13,11,25,12,null,null,null,null,null,null,null,null,null,null,null,null,null,null,null,null,null,null,null,null,null,null,null,null,null,null,null,null,null,null,null,null,null,null,null,null,null,null,null,null,null,null,null,null,null,null,null,null,null,null,null,null,null,null,null,null,null,null,null,null,null,null,null,null,null,null,null,null,null,null,null,null,null,null,null,null,null,null,null,null,null,null,null,null,null,null,null,null,null,null,null,null,null,null,null,null,null,null,null,null,null,null,null,null,null,null,null,null,null,null,null,null,null,null,null,null,null,null,null,null,null,null,null,null,null,null,null,null,"TH01",33,34]
["D18S853",3,"ATA",null,null,"GT37020","X","Y",9,11,11,13,11,12,16,16,11,15,28,28,19,26,15,15,12,12,9,11,12,14,21,22,7,9,8,8,16,16,12,13,16,16,14,16.3,11,15,11,14,14,20,8,8,5,8,12,20,7,12,11,13,10,12,10,12,11,11,15,16,9,9,8,11,14,17,14,17,7,8,9,9,11,14,9.1,11,11,13,14,14,12,14,10,14,8,8,11,12,11,14,14,14,13,15,13,21,30,16,10,11,13,21,21,12,11,15,16,16,11,16,19,16,16,14,11,25,12,null,null,null,null,null,null,null,null,null,null,null,null,null,null,null,null,null,null,null,null,null,null,null,null,null,null,null,null,null,null,null,null,null,null,null,null,null,null,null,null,null,null,null,null,null,null,null,null,null,null,null,null,null,null,null,null,null,null,null,null,null,null,null,null,null,null,null,null,null,null,null,null,null,null,null,null,null,null,null,null,null,null,null,null,null,null,null,null,null,null,null,null,null,null,null,null,null,null,null,null,null,null,null,null,null,null,null,null,null,null,null,null,null,null,null,null,null,null,null,null,null,null,null,null,null,null,null,null,"TPOX",35,36]
["D19S433",4,"AAGG",null,null,"GT37026","X","Y",10,12,12,12,11,12,12,17,13,13.2,28,28,17,21,16,17,12,12,9,10,15,15,22.3,25,7,9.3000000000000007,8,8,16,17,14,15,16,20,16,17.3,11,15,11.3,13,17,22.2,8,13,12,14,11,17,11,12,14,16,13,15,9,10,11,11,12,17,8,9,8,10,14,20,15,16,7,8,9,11,11,13,9,11,12,12,12,14,15,15,10,14,9,9,11,13,11,13,14,15,14,15,13,21,31,15,11,11,14,23,21,12,11,13,17,15,12,16,17,15,19,15,11,28,11,null,null,null,null,null,null,null,null,null,null,null,null,null,null,null,null,null,null,null,null,null,null,null,null,null,null,null,null,null,null,null,null,null,null,null,null,null,null,null,null,null,null,null,null,null,null,null,null,null,null,null,null,null,null,null,null,null,null,null,null,null,null,null,null,null,null,null,null,null,null,null,null,null,null,null,null,null,null,null,null,null,null,null,null,null,null,null,null,null,null,null,null,null,null,null,null,null,null,null,null,null,null,null,null,null,null,null,null,null,null,null,null,null,null,null,null,null,null,null,null,null,null,null,null,null,null,null,null,"vWA",37,38]
["D1GATA113",4,"GATA",null,null,"GT37027","X","Y",11,12,12,13,9,12,15,17,14,16.2,29,31,17,20,15,15,12,12,8,10,13,15,22,23,7,7,8,8,17,18,11,14,16,19,10,15,14,15,11,14,19,20,2.2000000000000002,9,14,16,11,11,7,11,10,14,13,15,11,12,11,12,15,16,9,9,10,11,20,23,14,15,12,12,9,16,13,14,12,16,12,12,11,14,12,12,10,14,11,11,11,13,15,15,13,15,11,14,13,19,29,14,12,12,14,23,23,12,13,13,15,17,11,11,15,18,17,10,12,22,13,null,null,null,null,null,null,null,null,null,null,null,null,null,null,null,null,null,null,null,null,null,null,null,null,null,null,null,null,null,null,null,null,null,null,null,null,null,null,null,null,null,null,null,null,null,null,null,null,null,null,null,null,null,null,null,null,null,null,null,null,null,null,null,null,null,null,null,null,null,null,null,null,null,null,null,null,null,null,null,null,null,null,null,null,null,null,null,null,null,null,null,null,null,null,null,null,null,null,null,null,null,null,null,null,null,null,null,null,null,null,null,null,null,null,null,null,null,null,null,null,null,null,null,null,null,null,null,null,"D10S1248",39,40]
["D1S1627",3,"ATT",null,null,"GT37032","X","Y",8,12,11,12,9,11,17,19,14,14.2,29,31,20,22,15,17,11,12,8,8,14,14,24,25,7,8,8,9,15,16,14,14,15,18,14,16.3,15,16,11,12,14,20,10,11,5,7,13,14,12,12,14,14,13,14,9,9,11,12,12,16,9,9,8,8,14,17,14,15,7,8,9,14,12,12,11,12,13,14,14,15,14,17,12,13,9,9,11,12,14,15,15,15,14,15,13,21,30,15,10,11,14,21,21,13,11,14,16,15,12,15,18,15,18,12,12,29,11,null,null,null,null,null,null,null,null,null,null,null,null,null,null,null,null,null,null,null,null,null,null,null,null,null,null,null,null,null,null,null,null,null,null,null,null,null,null,null,null,null,null,null,null,null,null,null,null,null,null,null,null,null,null,null,null,null,null,null,null,null,null,null,null,null,null,null,null,null,null,null,null,null,null,null,null,null,null,null,null,null,null,null,null,null,null,null,null,null,null,null,null,null,null,null,null,null,null,null,null,null,null,null,null,null,null,null,null,null,null,null,null,null,null,null,null,null,null,null,null,null,null,null,null,null,null,null,null,"D12S391",41,42]
["D1S1656",4,"GATA",null,null,"GT37047","X","Y",12,12,11,13,11,12,15,16,14,15,29,30,21,24,15,15,11,13,10,11,13,14,23,27,6,9,7,8,15,16,14,16,18,19,14,15,14,17,11,14,13,22,7,10,12,13,12,12,11,13,14,14,13,13,9,11,11,12,12,16,9,9,10,12,18,23,15,16,7,12,11,16,12,12,11,13,12,14,12,13,12,17,13,14,9,12,12,13,11,12,13,14,14,15,13,19,29,15,10,12,15,23,24,12,13,13,20,17,12,11,15,18,17,9,12,22,11,null,null,null,null,null,null,null,null,null,null,null,null,null,null,null,null,null,null,null,null,null,null,null,null,null,null,null,null,null,null,null,null,null,null,null,null,null,null,null,null,null,null,null,null,null,null,null,null,null,null,null,null,null,null,null,null,null,null,null,null,null,null,null,null,null,null,null,null,null,null,null,null,null,null,null,null,null,null,null,null,null,null,null,null,null,null,null,null,null,null,null,null,null,null,null,null,null,null,null,null,null,null,null,null,null,null,null,null,null,null,null,null,null,null,null,null,null,null,null,null,null,null,null,null,null,null,null,null,"D1S1656",43,44]
["D1S1677",4,"TTCC",null,null,"GT37166","X","Y",11,12,13,13,9,9,9,17,11,14,29,29,24,24,15,17,12,12,8,9,11,12,22,23,7,8,8,11,14,18,14,14,17,19,14,15,12,15,11,14,20,28.2,2.2000000000000002,9,8,13,11,19,7,7,11,12,15,15,9,10,9,11,14,16,9,9,11,11,20,20,14,14,8,9,11,17,13,13,7,11,12,13,11,13,14,15,13,14,10,11,12,12,12,13,14,14,11,13,13,21,30,15,10,11,14,20,21,12,11,14,17,16,11,18,19,16,18,13,12,26,11,null,null,null,null,null,null,null,null,null,null,null,null,null,null,null,null,null,null,null,null,null,null,null,null,null,null,null,null,null,null,null,null,null,null,null,null,null,null,null,null,null,null,null,null,null,null,null,null,null,null,null,null,null,null,null,null,null,null,null,null,null,null,null,null,null,null,null,null,null,null,null,null,null,null,null,null,null,null,null,null,null,null,null,null,null,null,null,null,null,null,null,null,null,null,null,null,null,null,null,null,null,null,null,null,null,null,null,null,null,null,null,null,null,null,null,null,null,null,null,null,null,null,null,null,null,null,null,null,"D22S1045",45,46]
["D20S1082",3,"ATA",null,null,"GT37168","X","Y",10,12,12,13,9,14,18,20,13,13.2,28,35,21,21,15,17,12,12,10,13,12,14,19,25,7,9,8,11,15,17,12,13,19,19,15,16,11,15,14,14,14.2,23.2,11,12,5,14,12,17,11,12,13,14,15,15,11,12,11,11,13,15,9,9,9,11,14,24,14,17,8,10,16,17,10,13,7,10,11,13,12,14,14,18,10,14,9,10,11,12,11,12,14,15,11,11,13,22,30,15,10,12,14,23,21,12,11,14,17,16,11,16,16,17,19,13,11,26,11,null,null,null,null,null,null,null,null,null,null,null,null,null,null,null,null,null,null,null,null,null,null,null,null,null,null,null,null,null,null,null,null,null,null,null,null,null,null,null,null,null,null,null,null,null,null,null,null,null,null,null,null,null,null,null,null,null,null,null,null,null,null,null,null,null,null,null,null,null,null,null,null,null,null,null,null,null,null,null,null,null,null,null,null,null,null,null,null,null,null,null,null,null,null,null,null,null,null,null,null,null,null,null,null,null,null,null,null,null,null,null,null,null,null,null,null,null,null,null,null,null,null,null,null,null,null,null,null,"D2S441",47,48]
["D20S482",4,"AGAT",null,null,"GT37169","X","Y",7,11,12,12,9,11,14,18,14.2,15,29,32.200000000000003,19,20,16,17,12,13,10,10,14,16,23,26,7,8,6,8,14,15,11,13,18,22,15,15,12,14,11.3,13,14,24.2,9,11,8,9,11,17,12,12,10,14,14,16,12,12,10,11,14,14,9,9,11,12,19,20,14,18,7,12,9,16,11,12,7,11,14,15,11,13,14,16,13,14,8,9,13,13,11,12,13,15,11,14,13,21,30,17,10,11,13,21,21,11,11,13,16,16,11,18,19,18,17,13,11,25,12,null,null,null,null,null,null,null,null,null,null,null,null,null,null,null,null,null,null,null,null,null,null,null,null,null,null,null,null,null,null,null,null,null,null,null,null,null,null,null,null,null,null,null,null,null,null,null,null,null,null,null,null,null,null,null,null,null,null,null,null,null,null,null,null,null,null,null,null,null,null,null,null,null,null,null,null,null,null,null,null,null,null,null,null,null,null,null,null,null,null,null,null,null,null,null,null,null,null,null,null,null,null,null,null,null,null,null,null,null,null,null,null,null,null,null,null,null,null,null,null,null,null,null,null,null,null,null,null,"SE33",49,50]
["D21S11",4,"[TCTA][TCTG]",null,null,"GT37170","X","Y",12,14,11,11,11,11,12,18,13,14,28,28,22,25,15,16,11,12,10,11,14,15,22,23,8,9.3000000000000007,6,6,15,19,11,17,17,24,15,16.3,15,16,12,14,14,20,7,9,7,8,12,18,10,11,14,14,14,15,11,13,11,11,15,16,9,9,8,9,17,17,14,19,7,10,16,18,14,15,10,11,11,13,14,14,12,15,11,13,9,11,12,13,12,16,15,16,11,15,13,20,29,14,11,10,16,23,22,11,11,13,15,14,11,12,14,17,19,12,11,25,12,null,null,null,null,null,null,null,null,null,null,null,null,null,null,null,null,null,null,null,null,null,null,null,null,null,null,null,null,null,null,null,null,null,null,null,null,null,null,null,null,null,null,null,null,null,null,null,null,null,null,null,null,null,null,null,null,null,null,null,null,null,null,null,null,null,null,null,null,null,null,null,null,null,null,null,null,null,null,null,null,null,null,null,null,null,null,null,null,null,null,null,null,null,null,null,null,null,null,null,null,null,null,null,null,null,null,null,null,null,null,null,null,null,null,null,null,null,null,null,null,null,null,null,null,null,null,null,null,"Penta_D",51,52]
["D22S1045",3,"ATT",null,null,"GT37171","X","Y",7,10,11,12,11,13,16,16,13,15,28,29,20,22,15,18,11,11,8,10,12,13,21,21,7,9,9,11,18,19,11,14,18,19,13,18.3,15,17,11,11,21,25.2,8,10,8,12,12,15,11,12,11,12,12,13,11,11,11,11,14,14,9,9,9,12,17,20,15,17,8,10,9,10,11,12,7,10,12,12,14,17,13,14,12,14,9,11,11,13,13,13,12,14,13,15,12,21,30,16,10,11,14,21,21,13,11,14,16,15,12,14,17,16,18,12,12,28,11,null,null,null,null,null,null,null,null,null,null,null,null,null,null,null,null,null,null,null,null,null,null,null,null,null,null,null,null,null,null,null,null,null,null,null,null,null,null,null,null,null,null,null,null,null,null,null,null,null,null,null,null,null,null,null,null,null,null,null,null,null,null,null,null,null,null,null,null,null,null,null,null,null,null,null,null,null,null,null,null,null,null,null,null,null,null,null,null,null,null,null,null,null,null,null,null,null,null,null,null,null,null,null,null,null,null,null,null,null,null,null,null,null,null,null,null,null,null,null,null,null,null,null,null,null,null,null,null,"Penta_E",53,54]
["D2S1338",4,"[TGCC][TTCC]",null,null,"GT37173","X","Y",10,12,11,12,11,11,10,21,13,14,28,29,20,24,15,16,10,12,10,11,10,14,20,26,6,6,8,10,15,16,15,15,17,18,12,14,16,16,11,11.3,14.2,19,8,9,11,15,15,19,11,13,12,14,14,15,9,10,10,11,14,14,9,9,10,10,14,14,15,17,8,8,9,16,11,12,11,13,11,12,13,16,13,15,10,12,9,9,11,13,11,11,15,16,11,14,14,21,31,15,10,11,14,21,21,12,11,13,16,15,12,14,18,15,21,13,11,28,11,null,null,null,null,null,null,null,null,null,null,null,null,null,null,null,null,null,null,null,null,null,null,null,null,null,null,null,null,null,null,null,null,null,null,null,null,null,null,null,null,null,null,null,null,null,null,null,null,null,null,null,null,null,null,null,null,null,null,null,null,null,null,null,null,null,null,null,null,null,null,null,null,null,null,null,null,null,null,null,null,null,null,null,null,null,null,null,null,null,null,null,null,null,null,null,null,null,null,null,null,null,null,null,null,null,null,null,null,null,null,null,null,null,null,null,null,null,null,null,null,null,null,null,null,null,null,null,null,"D6S1043",55,56]
["D2S1776",4,"AGAT",null,null,"GT37175","X","Y",8,12,12,13,11,12,18,18,14.2,15.2,28,31,21,25,15,16,10,12,8,8,15,15,24,26,8,8,8,11,15,16,14,15,18,18,13,16,14,16,10,14,17,20,12,14,9,10,12,14,8,12,10,14,14,15,12,12,9,10,14,16,9,10,8,10,20,20,14,17,7,13,9,9,9,13,7,9,11,12,14,17,12,15,13,14,7,9,12,13,14,14,15,15,11,15,12,19,28,15,10,11,14,21,25,11,11,13,16,15,11,14,20,16,19,10,11,24,12,null,null,null,null,null,null,null,null,null,null,null,null,null,null,null,null,null,null,null,null,null,null,null,null,null,null,null,null,null,null,null,null,null,null,null,null,null,null,null,null,null,null,null,null,null,null,null,null,null,null,null,null,null,null,null,null,null,null,null,null,null,null,null,null,null,null,null,null,null,null,null,null,null,null,null,null,null,null,null,null,null,null,null,null,null,null,null,null,null,null,null,null,null,null,null,null,null,null,null,null,null,null,null,null,null,null,null,null,null,null,null,null,null,null,null,null,null,null,null,null,null,null,null,null,null,null,null,null,"D1GATA113",57,58]
["D2S441",4,"TCTA",null,null,"GT37178","Y","Y",11,13,12,12,10,13,14,17,14.2,16.2,27,28,21,25,16,18,11,12,8,9,12,12,21,23,6,7,9,11,15,17,12,12,15,17,14,16.3,14,16,11,11,17,20,11,12,7,15,12,19,9,12,12,14,15,15,10,12,11,11,14,15,9,10,10,11,17,20,15,16,7,12,9,9,13,13,12,14,12,13,12,14,14,15,10,12,8,9,11,12,12,14,11,14,14,15,13,21,30,15,10,11,14,21,21,12,11,14,17,16,11,14,14,17,19,13,11,26,12,null,null,null,null,null,null,null,null,null,null,null,null,null,null,null,null,null,null,null,null,null,null,null,null,null,null,null,null,null,null,null,null,null,null,null,null,null,null,null,null,null,null,null,null,null,null,null,null,null,null,null,null,null,null,null,null,null,null,null,null,null,null,null,null,null,null,null,null,null,null,null,null,null,null,null,null,null,null,null,null,null,null,null,null,null,null,null,null,null,null,null,null,null,null,null,null,null,null,null,null,null,null,null,null,null,null,null,null,null,null,null,null,null,null,null,null,null,null,null,null,null,null,null,null,null,null,null,null,"D1S1627",59,60]
["D3S1358",4,"[TCTG][TCTA]",null,null,"GT37179","X","Y",10,12,12,12,12,12,19,19,13,13,27,29,17,21,17,17,12,12,7,10,10,14,21,22,7,9.3000000000000007,11,11,14,15,13,16,15,17,14,16,12,12,11,13,17,18,9,13,7,12,11,11,12,12,13,15,14,16,9,11,9,10,15,16,9,9,9,11,18,20,14,16,7,9,11,14,12,14,12,14,12,19,11,14,15,15,14,14,11,12,11,11,11,14,13,15,14,15,14,22,31,17,10,10,14,21,22,12,11,14,16,15,11,17,20,18,17,13,12,25,13,null,null,null,null,null,null,null,null,null,null,null,null,null,null,null,null,null,null,null,null,null,null,null,null,null,null,null,null,null,null,null,null,null,null,null,null,null,null,null,null,null,null,null,null,null,null,null,null,null,null,null,null,null,null,null,null,null,null,null,null,null,null,null,null,null,null,null,null,null,null,null,null,null,null,null,null,null,null,null,null,null,null,null,null,null,null,null,null,null,null,null,null,null,null,null,null,null,null,null,null,null,null,null,null,null,null,null,null,null,null,null,null,null,null,null,null,null,null,null,null,null,null,null,null,null,null,null,null,"D1S1677",61,62]
["D3S3053",4,"TATC",null,null,"GT37184","X","Y",9,11,12,14,9,10,19,22,13,15,27,29,21,22,16,17,11,11,11,12,12,15,21,26,7,8,9,11,17,19,14,14,20,22,15,16,15,17,11,11.3,16,19,5,7,5,9,13,19,9,12,10,10,13,14,11,11,11,12,15,16,9,9,10,12,14,18,15,17,8,12,9,18,12,13,11,16,12,13,14,14,14,16,10,14,7,10,12,13,11,15,13,14,15,16,13,19,29,14,11,12,15,23,25,12,13,13,17,15,12,11,14,18,17,10,14,24,13,null,null,null,null,null,null,null,null,null,null,null,null,null,null,null,null,null,null,null,null,null,null,null,null,null,null,null,null,null,null,null,null,null,null,null,null,null,null,null,null,null,null,null,null,null,null,null,null,null,null,null,null,null,null,null,null,null,null,null,null,null,null,null,null,null,null,null,null,null,null,null,null,null,null,null,null,null,null,null,null,null,null,null,null,null,null,null,null,null,null,null,null,null,null,null,null,null,null,null,null,null,null,null,null,null,null,null,null,null,null,null,null,null,null,null,null,null,null,null,null,null,null,null,null,null,null,null,null,"D2S1776",63,64]
["D3S4529",4,"ATCT",null,null,"GT37190","X","Y",10,12,11,13,9,9,18,18,12,13,29,29,18,25,14,15,11,12,10,10,12,14,18.2,21,8,9,8,8,15,17,12,14,19,20,14,16,11,15,11,14,13.2,19,11,11,8,9,16,20,7,11,10,14,12,13,12,13,11,11,13,15,8,9,8,12,18,18,14,16,7,10,11,11,11,13,11,14,12,13,12,13,15,17,13,14,7,10,10,11,14,15,13,16,14,15,13,22,30,16,10,11,13,21,21,11,11,13,16,17,11,17,19,19,18,13,11,25,12,null,null,null,null,null,null,null,null,null,null,null,null,null,null,null,null,null,null,null,null,null,null,null,null,null,null,null,null,null,null,null,null,null,null,null,null,null,null,null,null,null,null,null,null,null,null,null,null,null,null,null,null,null,null,null,null,null,null,null,null,null,null,null,null,null,null,null,null,null,null,null,null,null,null,null,null,null,null,null,null,null,null,null,null,null,null,null,null,null,null,null,null,null,null,null,null,null,null,null,null,null,null,null,null,null,null,null,null,null,null,null,null,null,null,null,null,null,null,null,null,null,null,null,null,null,null,null,null,"D3S3053",65,66]
["D4S2364",4,"ATTC",null,null,"GT37306","X","Y",11,12,9,12,11,11,14,16,13,15.2,31,31.2,17,17,15,16,9,13,10,11,13,14,21,23,7,9.3000000000000007,11,11,14,15,14,14,20,23,14,15,15,15,10,11,16,32.200000000000003,11,13,7,16,11,12,11,12,11,12,13,17,9,12,11,12,15,16,8,8,9,9,17,17,14,16,12,13,16,17,12,13,11,13,13,14,14,14,13,15,13,13,9,10,11,13,12,14,14,15,15,15,13,19,28,14,11,12,16,23,24,13,13,13,18,16,11,11,14,17,15,12,12,21,12,null,null,null,null,null,null,null,null,null,null,null,null,null,null,null,null,null,null,null,null,null,null,null,null,null,null,null,null,null,null,null,null,null,null,null,null,null,null,null,null,null,null,null,null,null,null,null,null,null,null,null,null,null,null,null,null,null,null,null,null,null,null,null,null,null,null,null,null,null,null,null,null,null,null,null,null,null,null,null,null,null,null,null,null,null,null,null,null,null,null,null,null,null,null,null,null,null,null,null,null,null,null,null,null,null,null,null,null,null,null,null,null,null,null,null,null,null,null,null,null,null,null,null,null,null,null,null,null,"D3S4529",67,68]
["D4S2408",4,"ATCT",null,null,"GT37312","X","Y",12,12,8,9,11,13,14,17,14,15,29,30,19,19,16,18,7,13,10,10,13,14,25,25,7,7,8,9,15,16,14,15,19,21,16,17.3,16,17,10,14,16,28.2,10,13,12,12,11,14,9,12,11,12,14,15,11,11,11,12,15,15,9,9,8,10,17,17,14,15,10,10,9,17,12,13,12,16,12,13,12,14,15,16,11,13,9,10,12,12,10,11,14,14,14,14,13,20,29,14,10,10,14,20,24,11,11,13,16,15,13,18,18,20,19,12,12,21,13,null,null,null,null,null,null,null,null,null,null,null,null,null,null,null,null,null,null,null,null,null,null,null,null,null,null,null,null,null,null,null,null,null,null,null,null,null,null,null,null,null,null,null,null,null,null,null,null,null,null,null,null,null,null,null,null,null,null,null,null,null,null,null,null,null,null,null,null,null,null,null,null,null,null,null,null,null,null,null,null,null,null,null,null,null,null,null,null,null,null,null,null,null,null,null,null,null,null,null,null,null,null,null,null,null,null,null,null,null,null,null,null,null,null,null,null,null,null,null,null,null,null,null,null,null,null,null,null,"D4S2364",69,70]
["D5S2500",4,"[GATA][GATT]",null,null,"GT37349","X","Y",11,12,10,11,10,12,12,17,14,14,30,31,19,20,15,17,12,13,10,12,13,14,24,25,6,7,11,12,16,18,13,16,20,20,15,18.3,11,16,11,14,24.2,28.2,10,15,5,13,11,12,12,12,13,14,14,15,11,12,12,12,13,15,8,8,9,9,17,17,14,15,8,8,17,18,12,12,13,13,12,14,13,13,16,17,10,13,9,11,13,13,14,14,14,14,11,12,14,20,31,13,10,11,14,22,24,11,15,13,14,15,12,15,17,21,16,9,11,22,12,null,null,null,null,null,null,null,null,null,null,null,null,null,null,null,null,null,null,null,null,null,null,null,null,null,null,null,null,null,null,null,null,null,null,null,null,null,null,null,null,null,null,null,null,null,null,null,null,null,null,null,null,null,null,null,null,null,null,null,null,null,null,null,null,null,null,null,null,null,null,null,null,null,null,null,null,null,null,null,null,null,null,null,null,null,null,null,null,null,null,null,null,null,null,null,null,null,null,null,null,null,null,null,null,null,null,null,null,null,null,null,null,null,null,null,null,null,null,null,null,null,null,null,null,null,null,null,null,"D4S2408",71,72]
["D5S2505",4,"[TCTA][ATCT]",null,null,"GT37351","X","Y",12,12,9,11,11,12,13,14,13.2,14,28,29,22,24,14,17,11,12,10,11,10,12,22,24,9,9.3000000000000007,8,9,16,18,15,16,16,18.3,13,15,15,15,14,15,18,26.2,12,13,7,10,14,19,10,13,14,14,13,14,9,12,9,9,12,14,8,9,8,9,17,24,16,18,10,12,16,17,11,11,13,17,11,13,13,14,12,14,10,14,10,11,11,11,13,14,13,14,11,11,13,20,31,15,10,10,14,20,23,13,12,15,16,14,10,15,17,17,19,12,11,27,12,null,null,null,null,null,null,null,null,null,null,null,null,null,null,null,null,null,null,null,null,null,null,null,null,null,null,null,null,null,null,null,null,null,null,null,null,null,null,null,null,null,null,null,null,null,null,null,null,null,null,null,null,null,null,null,null,null,null,null,null,null,null,null,null,null,null,null,null,null,null,null,null,null,null,null,null,null,null,null,null,null,null,null,null,null,null,null,null,null,null,null,null,null,null,null,null,null,null,null,null,null,null,null,null,null,null,null,null,null,null,null,null,null,null,null,null,null,null,null,null,null,null,null,null,null,null,null,null,"D5S2500",73,74]
["D5S818",4,"AGAT",null,null,"GT37402","X","Y",12,12,9,12,10,11,16,17,13.2,14,30,32.200000000000003,23,24,14,15,11,11,11,12,11,13,21,27,7,9.3000000000000007,7,12,16,16,14,15,18,20,11,15,15,16,10,10,15,20,9,13,10,17,11,19,7,11,14,14,14,15,12,13,11,11,12,13,9,10,9,9,17,20,14,15,8,8,14,17,13,13,13,16,12,14,13,14,12,17,13,14,9,9,12,12,14,14,14,14,11,12,null,null,null,null,null,null,null,null,null,null,null,null,null,null,null,null,null,null,null,null,null,null,null,null,null,null,null,null,null,null,null,null,null,null,null,null,null,null,null,null,null,null,null,null,null,null,null,null,null,null,null,null,null,null,null,null,null,null,null,null,null,null,null,null,null,null,null,null,null,null,null,null,null,null,null,null,null,null,null,null,null,null,null,null,null,null,null,null,null,null,null,null,null,null,null,null,null,null,null,null,null,null,null,null,null,null,null,null,null,null,null,null,null,null,null,null,null,null,null,null,null,null,null,null,null,null,null,null,null,null,null,null,null,null,null,null,null,null,null,null,null,null,null,null,null,null,null,null,null,null,null,"D6S474",75,76]
["D6S1017",4,"ATCC",null,null,"GT37420","X","Y",11,13,8,11,10,12,15,19,14,14,29,30,18,25,15,17,9,12,10,11,11,13,21,22,9,9.3000000000000007,8,11,17,20,14,15,19,20,17,17.3,16,16,10,11,23.2,31.2,9,11,12,13,12,13,11,12,11,13,15,15,11,12,9,12,13,15,8,9,8,11,17,18,14,15,10,13,9,9,12,12,11,11,12,14,13,14,13,17,13,13,9,12,12,13,11,13,14,15,11,14,14,19,29,14,10,11,14,27,23,11,10,14,16,15,11,13,20,17,19,10,12,25.1,11,null,null,null,null,null,null,null,null,null,null,null,null,null,null,null,null,null,null,null,null,null,null,null,null,null,null,null,null,null,null,null,null,null,null,null,null,null,null,null,null,null,null,null,null,null,null,null,null,null,null,null,null,null,null,null,null,null,null,null,null,null,null,null,null,null,null,null,null,null,null,null,null,null,null,null,null,null,null,null,null,null,null,null,null,null,null,null,null,null,null,null,null,null,null,null,null,null,null,null,null,null,null,null,null,null,null,null,null,null,null,null,null,null,null,null,null,null,null,null,null,null,null,null,null,null,null,null,null,"D6S1017",77,78]
["D6S474",4,"[AGAT][GATA] [GGTA][GACA]",null,null,"GT37463","X","Y",10,11,11,11,10,11,15,20,13,15,28,29,17,19,15,17,9,13,11,12,15,15,24,27,6,9.3000000000000007,8,11,16,17,13,14,15,18,12,16,16,17,10,10,27.2,28.2,12,14,7,16,11,14,7,13,13,14,12,14,12,13,9,12,14,15,8,8,9,11,17,17,14,17,9,10,16,18,10,13,11,11,11,14,14,14,12,17,12,13,8,10,12,13,13,14,13,13,14,15,13,21,30,13,10,11,14,22,24,12,14,13,16,16,11,14,17,17,20,10,11,24,13,null,null,null,null,null,null,null,null,null,null,null,null,null,null,null,null,null,null,null,null,null,null,null,null,null,null,null,null,null,null,null,null,null,null,null,null,null,null,null,null,null,null,null,null,null,null,null,null,null,null,null,null,null,null,null,null,null,null,null,null,null,null,null,null,null,null,null,null,null,null,null,null,null,null,null,null,null,null,null,null,null,null,null,null,null,null,null,null,null,null,null,null,null,null,null,null,null,null,null,null,null,null,null,null,null,null,null,null,null,null,null,null,null,null,null,null,null,null,null,null,null,null,null,null,null,null,null,null,"D8S1115",79,80]
["D7S820",4,"GATA",null,null,"GT37483","X","Y",10,11,13,14,11,12,13,13,13,14.2,27,31,20,24,15,18,12,12,10,11,10,14,18,22,6,9,8,8,14,16,15,15,19,19,13,14,15,16,11,11.3,17,19,9,13,16,20,12,13,7,12,12,14,13,15,11,12,9,10,14,16,8,10,11,12,17,18,15,17,10,10,14,16,13,13,13,13,12,12,13,15,12,12,13,14,10,11,11,12,11,13,12,13,11,15,13,20,31,13,10,10,14,21,24,12,11,13,15,17,12,15,15,17,22,11,12,23,13,null,null,null,null,null,null,null,null,null,null,null,null,null,null,null,null,null,null,null,null,null,null,null,null,null,null,null,null,null,null,null,null,null,null,null,null,null,null,null,null,null,null,null,null,null,null,null,null,null,null,null,null,null,null,null,null,null,null,null,null,null,null,null,null,null,null,null,null,null,null,null,null,null,null,null,null,null,null,null,null,null,null,null,null,null,null,null,null,null,null,null,null,null,null,null,null,null,null,null,null,null,null,null,null,null,null,null,null,null,null,null,null,null,null,null,null,null,null,null,null,null,null,null,null,null,null,null,null,"D9S1122",81,82]
["D8S1115",3,"ATT",null,null,"GT37542","X","Y",10,10,8,10,11,12,14,16,13,14,29,30,19,23,16,17,9,12,10,12,9,14,22,25,6,7,8,8,16,18,14,15,20,23,13,14,15,15,10,11,25.2,28.2,9,13,15,17,12,18.100000000000001,12,12,14,14,13,14,12,12,12,12,13,15,8,10,9,10,17,18,15,16,10,10,16,18,12,13,11,15,12,12,13,17,12,13,13,14,8,10,11,12,11,14,14,15,11,12,13,19,30,15,11,11,15,23,26,13,13,12,19,16,12,12,14,18,17,10,11,22,12,null,null,null,null,null,null,null,null,null,null,null,null,null,null,null,null,null,null,null,null,null,null,null,null,null,null,null,null,null,null,null,null,null,null,null,null,null,null,null,null,null,null,null,null,null,null,null,null,null,null,null,null,null,null,null,null,null,null,null,null,null,null,null,null,null,null,null,null,null,null,null,null,null,null,null,null,null,null,null,null,null,null,null,null,null,null,null,null,null,null,null,null,null,null,null,null,null,null,null,null,null,null,null,null,null,null,null,null,null,null,null,null,null,null,null,null,null,null,null,null,null,null,null,null,null,null,null,null,"D9S2157",83,84]
["D8S1179",4,"[TCTA][TCTG]",null,null,"GT37590","X","Y",12,12,10,13,10,12,13,14,14,15.2,27,30,19,19,16,16,7,12,9,12,14,15,22,25,6,8,8,11,16,16,14,15,17,20,12,16,16,17,10,10,23.2,28.2,10,13,12,16,17,21.3,10,12,13,13,14,16,13,13,12,12,14,15,8,10,8,12,17,23,14,16,8,12,9,9,12,13,11,16,12,13,13,14,12,16,10,13,9,10,13,13,13,14,12,14,12,15,13,20,30,13,10,10,14,22,23,11,11,13,16,14,13,17,18,17,20,11,11,22,12,null,null,null,null,null,null,null,null,null,null,null,null,null,null,null,null,null,null,null,null,null,null,null,null,null,null,null,null,null,null,null,null,null,null,null,null,null,null,null,null,null,null,null,null,null,null,null,null,null,null,null,null,null,null,null,null,null,null,null,null,null,null,null,null,null,null,null,null,null,null,null,null,null,null,null,null,null,null,null,null,null,null,null,null,null,null,null,null,null,null,null,null,null,null,null,null,null,null,null,null,null,null,null,null,null,null,null,null,null,null,null,null,null,null,null,null,null,null,null,null,null,null,null,null,null,null,null,null,"D10S1435",85,86]
["D9S1122",4,"TAGA",null,null,"GT37607","X","Y",11,13,9,10,9,10,15,20,13,14,29,31,19,20,15,15,11,13,11,13,12,12,20,22,7,9.3000000000000007,8,12,17,17,14,15,22,26,14,17.3,15,16,14,15,19,25.2,9,15,5,7,11,13,12,13,12,14,12,13,12,13,9,12,13,13,8,9,9,11,17,18,15,17,10,11,16,18,11,13,9,13,14,14,14,15,12,17,13,14,8,9,13,13,13,14,14,14,14,15,13,19,29,14,10,11,15,23,25,11,13,14,18,16,13,11,15,17,17,10,12,22,13,null,null,null,null,null,null,null,null,null,null,null,null,null,null,null,null,null,null,null,null,null,null,null,null,null,null,null,null,null,null,null,null,null,null,null,null,null,null,null,null,null,null,null,null,null,null,null,null,null,null,null,null,null,null,null,null,null,null,null,null,null,null,null,null,null,null,null,null,null,null,null,null,null,null,null,null,null,null,null,null,null,null,null,null,null,null,null,null,null,null,null,null,null,null,null,null,null,null,null,null,null,null,null,null,null,null,null,null,null,null,null,null,null,null,null,null,null,null,null,null,null,null,null,null,null,null,null,null,"D11S4463",87,88]
["D9S2157",3,"ATA",null,null,"GT37692","X","Y",10,11,9,12,13,13,12,16,13,14,29,31,17,20,15,17,9,11,8,10,13,14,21,24,7,7,9,11,16,17,15,15,20.3,23,13,16,15,16,10,11,16,19,9,12,12,13,11,14,7,12,13,14,12,15,12,12,11,12,13,15,9,9,9,9,14,17,15,17,9,12,14,16,12,13,13,13,13,13,15,15,15,17,13,14,8,10,12,13,11,14,9,15,15,15,13,19,29,14,11,12,15,23,24,12,13,13,16,16,13,11,14,18,16,10,11,22,13,null,null,null,null,null,null,null,null,null,null,null,null,null,null,null,null,null,null,null,null,null,null,null,null,null,null,null,null,null,null,null,null,null,null,null,null,null,null,null,null,null,null,null,null,null,null,null,null,null,null,null,null,null,null,null,null,null,null,null,null,null,null,null,null,null,null,null,null,null,null,null,null,null,null,null,null,null,null,null,null,null,null,null,null,null,null,null,null,null,null,null,null,null,null,null,null,null,null,null,null,null,null,null,null,null,null,null,null,null,null,null,null,null,null,null,null,null,null,null,null,null,null,null,null,null,null,null,null,"D12ATA63",89,90]
["FGA",4,"CTTT",null,null,"GT37700","X","Y",9,12,9,13,12,12,15,16,13,15,29,32.200000000000003,19,24,15,15,11,12,9,11,14,14,20,24,6,6,8,11,16,17,13,15,18,19.100000000000001,13,17,15,15,10,11,19,27.2,9,11,14,16,18,19,7,12,11,14,12,14,9,13,11,11,14,15,8,10,9,9,18,20,14,19,10,10,16,16,13,14,12,15,13,13,13,14,16,17,13,14,10,10,11,14,13,14,14,14,11,11,12,19,28,14,11,12,16,23,24,13,13,13,17,17,12,11,15,19,16,10,11,22,12,null,null,null,null,null,null,null,null,null,null,null,null,null,null,null,null,null,null,null,null,null,null,null,null,null,null,null,null,null,null,null,null,null,null,null,null,null,null,null,null,null,null,null,null,null,null,null,null,null,null,null,null,null,null,null,null,null,null,null,null,null,null,null,null,null,null,null,null,null,null,null,null,null,null,null,null,null,null,null,null,null,null,null,null,null,null,null,null,null,null,null,null,null,null,null,null,null,null,null,null,null,null,null,null,null,null,null,null,null,null,null,null,null,null,null,null,null,null,null,null,null,null,null,null,null,null,null,null,"D14S1434",91,92]
["Penta_D",5,"AAAGA",null,null,"GT37713","X","Y",11,11,10,10,11,12,15,15,12.2,16.2,29,32.200000000000003,17,19,15,16,9,12,9,10,8,13,22,25,9,9,8,8,17,17,13,13,19,23,15,16,12,15,10,11,19,19,10,12,7,12,12,19,7,11,13,14,14,14,11,12,10,11,15,15,9,9,8,8,14,17,16,18,8,8,16,16,12,13,11,13,12,13,13,13,17,17,10,14,7,10,12,12,11,14,14,14,11,15,13,19,28,15,11,12,15,23,24,14,13,13,18,15,12,11,12,18,16,10,12,22,13,null,null,null,null,null,null,null,null,null,null,null,null,null,null,null,null,null,null,null,null,null,null,null,null,null,null,null,null,null,null,null,null,null,null,null,null,null,null,null,null,null,null,null,null,null,null,null,null,null,null,null,null,null,null,null,null,null,null,null,null,null,null,null,null,null,null,null,null,null,null,null,null,null,null,null,null,null,null,null,null,null,null,null,null,null,null,null,null,null,null,null,null,null,null,null,null,null,null,null,null,null,null,null,null,null,null,null,null,null,null,null,null,null,null,null,null,null,null,null,null,null,null,null,null,null,null,null,null,"D17S974",93,94]
["Penta_E",5,"AAAGA",null,null,"GT37732","X","Y",11,11,11,12,10,12,14,16,13.2,15,31,31.2,17,20,15,17,10,13,11,12,12,15,20,21,6,6,8,8,16,17,13,15,15,17,16,18.3,11,16,10,11.3,17,18,12,14,9,13,11,17,11,12,14,15,13,14,9,11,9,11,15,16,9,10,10,12,17,17,13,14,8,10,16,17,11,13,9,11,12,13,12,13,12,15,13,13,9,11,11,11,11,14,13,14,11,15,12,20,28,14,10,10,16,23,22,11,11,13,17,15,11,13,14,16,18,12,11,24,14,null,null,null,null,null,null,null,null,null,null,null,null,null,null,null,null,null,null,null,null,null,null,null,null,null,null,null,null,null,null,null,null,null,null,null,null,null,null,null,null,null,null,null,null,null,null,null,null,null,null,null,null,null,null,null,null,null,null,null,null,null,null,null,null,null,null,null,null,null,null,null,null,null,null,null,null,null,null,null,null,null,null,null,null,null,null,null,null,null,null,null,null,null,null,null,null,null,null,null,null,null,null,null,null,null,null,null,null,null,null,null,null,null,null,null,null,null,null,null,null,null,null,null,null,null,null,null,null,"D17S1301",95,96]
["SE33",4,"[AAAG]",null,null,"GT37765","X","Y",11,12,10,11,10,12,13,19,13.2,15.2,31.2,32.200000000000003,19,22,15,16,11,12,8,12,13,14,25,26,6,7,8,8,16,16,13,14,19,19,12,15,12,15,11,11,6.3,30,8,12,12,13,11,13,11,12,10,14,14,16,9,12,9,9,14,15,9,10,9,9,14,23,16,18,9,12,9,16,13,13,11,17,14,14,14,16,17,17,14,14,10,11,12,12,11,11,15,15,15,15,13,20,30,13,10,11,14,22,24,11,16,13,15,15,12,14,17,19,18,12,9,25,11,null,null,null,null,null,null,null,null,null,null,null,null,null,null,null,null,null,null,null,null,null,null,null,null,null,null,null,null,null,null,null,null,null,null,null,null,null,null,null,null,null,null,null,null,null,null,null,null,null,null,null,null,null,null,null,null,null,null,null,null,null,null,null,null,null,null,null,null,null,null,null,null,null,null,null,null,null,null,null,null,null,null,null,null,null,null,null,null,null,null,null,null,null,null,null,null,null,null,null,null,null,null,null,null,null,null,null,null,null,null,null,null,null,null,null,null,null,null,null,null,null,null,null,null,null,null,null,null,"D18S853",97,98]
["TH01",4,"TCAT",null,null,"GT37767","X","Y",11,12,12,13,11,12,13,16,13,13,28,30,20,23,15,15,11,12,10,11,13,14,20,25,6,7,8,11,17,17,14,14,18,24,15,17.3,16,17,10,14,17.3,26.2,3.2,9,11,16,14,18,7,12,13,14,12,13,11,12,12,12,15,16,8,9,8,9,17,17,15,17,8,10,9,9,13,13,7,15,14,14,12,15,12,17,13,14,9,10,12,12,11,14,14,14,11,15,14,21,30,15,11,10,15,21,25,11,11,13,17,17,10,13,16,16,19,11,9,21,11,null,null,null,null,null,null,null,null,null,null,null,null,null,null,null,null,null,null,null,null,null,null,null,null,null,null,null,null,null,null,null,null,null,null,null,null,null,null,null,null,null,null,null,null,null,null,null,null,null,null,null,null,null,null,null,null,null,null,null,null,null,null,null,null,null,null,null,null,null,null,null,null,null,null,null,null,null,null,null,null,null,null,null,null,null,null,null,null,null,null,null,null,null,null,null,null,null,null,null,null,null,null,null,null,null,null,null,null,null,null,null,null,null,null,null,null,null,null,null,null,null,null,null,null,null,null,null,null,"D20S482",99,100]
["TPOX",4,"GAAT",null,null,"GT37778","X","Y",10,12,9,13,10,12,14,20,14,14,28,30,23,23,17,18,11,11,9,12,14,14,23,24,7,7,9,11,15,17,13,14,18,20,13,14,11,13,10,11,14,28.2,10,12,13,14,12,12,12,12,10,11,14,15,12,12,10,12,13,14,8,9,9,11,17,20,14,16,10,13,9,9,12,13,9,10,12,12,12,15,15,17,13,14,9,11,12,14,14,14,14,14,13,15,13,21,30,16,10,11,14,21,21,12,11,13,16,17,11,16,17,17,17,13,11,24,11,null,null,null,null,null,null,null,null,null,null,null,null,null,null,null,null,null,null,null,null,null,null,null,null,null,null,null,null,null,null,null,null,null,null,null,null,null,null,null,null,null,null,null,null,null,null,null,null,null,null,null,null,null,null,null,null,null,null,null,null,null,null,null,null,null,null,null,null,null,null,null,null,null,null,null,null,null,null,null,null,null,null,null,null,null,null,null,null,null,null,null,null,null,null,null,null,null,null,null,null,null,null,null,null,null,null,null,null,null,null,null,null,null,null,null,null,null,null,null,null,null,null,null,null,null,null,null,null,"D20S1082",101,102]
["vWA",4,"[TCTG][TCTA]",null,null,"GT37812","X","Y",12,13,12,13,11,13,15,15,13,13,29,32.200000000000003,16,17,14,15,14,14,8,12,13,13,22,22,6,9.3000000000000007,11,11,15,16,15,15,18.3,21,12,17.3,15,16,10,10,18,18,8,13,5,5,12,15,12,12,11,14,13,15,12,12,9,11,14,17,9,9,10,10,18,18,14,14,9,10,9,16,11,14,13,14,12,12,13,15,15,16,12,14,10,10,11,11,11,11,11,13,11,11,14,19,30,15,11,12,15,23,23,11,14,13,18,17,12,11,14,18,17,10,14,25,13,null,null,null,null,null,null,null,null,null,null,null,null,null,null,null,null,null,null,null,null,null,null,null,null,null,null,null,null,null,null,null,null,null,null,null,null,null,null,null,null,null,null,null,null,null,null,null,null,null,null,null,null,null,null,null,null,null,null,null,null,null,null,null,null,null,null,null,null,null,null,null,null,null,null,null,null,null,null,null,null,null,null,null,null,null,null,null,null,null,null,null,null,null,null,null,null,null,null,null,null,null,null,null,null,null,null,null,null,null,null,null,null,null,null,null,null,null,null,null,null,null,null,null,null,null,null,null,null,"DYS389I",103,103]
["D6S1043",4,null,null,null,"GT37828","X","Y",10,10,9,14,9,11,14,17,12,13,31.2,31.2,18,25,15,16,11,12,11,12,10,15,22,23,7,7,8,8,16,18,13,15,18,23,16,18,11,15,10,11,18,28.2,10,13,7,11,11,12,12,12,10,11,13,14,12,12,9,10,14,15,8,10,8,8,14,18,14,17,8,8,16,18,11,12,11,11,11,14,15,16,13,13,14,15,9,10,11,12,11,11,13,14,15,15,13,19,30,15,11,9,13,20,23,11,13,13,16,14,11,15,16,14,16,10,12,23,12,null,null,null,null,null,null,null,null,null,null,null,null,null,null,null,null,null,null,null,null,null,null,null,null,null,null,null,null,null,null,null,null,null,null,null,null,null,null,null,null,null,null,null,null,null,null,null,null,null,null,null,null,null,null,null,null,null,null,null,null,null,null,null,null,null,null,null,null,null,null,null,null,null,null,null,null,null,null,null,null,null,null,null,null,null,null,null,null,null,null,null,null,null,null,null,null,null,null,null,null,null,null,null,null,null,null,null,null,null,null,null,null,null,null,null,null,null,null,null,null,null,null,null,null,null,null,null,null,"DYS448",104,104]
["DYS389I",4,null,null,null,"GT37853","X","Y",10,12,8,13,11,11,12,14,13,14,24.2,28,19,20,14,17,11,12,8,11,10,12,18,20,6,9.3000000000000007,8,8,14,19,13,14,20,21,13,14,14,15,10,10,17,26.2,10,11,15,15,14,18,11,12,10,13,15,16,12,12,11,12,13,15,9,9,9,9,14,17,15,16,8,12,9,16,11,12,11,17,11,13,11,14,12,16,13,13,8,9,11,11,11,11,13,13,14,14,12,21,29,15,10,10,16,21,22,11,11,14,16,17,12,13,15,17,21,11,9,23,13,null,null,null,null,null,null,null,null,null,null,null,null,null,null,null,null,null,null,null,null,null,null,null,null,null,null,null,null,null,null,null,null,null,null,null,null,null,null,null,null,null,null,null,null,null,null,null,null,null,null,null,null,null,null,null,null,null,null,null,null,null,null,null,null,null,null,null,null,null,null,null,null,null,null,null,null,null,null,null,null,null,null,null,null,null,null,null,null,null,null,null,null,null,null,null,null,null,null,null,null,null,null,null,null,null,null,null,null,null,null,null,null,null,null,null,null,null,null,null,null,null,null,null,null,null,null,null,null,"DYS389II",105,105]
["DYS389II",4,null,null,null,"GT37862","X","Y",10,11,8,12,10,11,11,15,14,16,29,29,19,19,16,17,9,11,9,11,15,16,19,22,6,7,8,12,15,17,13,16,20,24,14,17,15,15,10,14,14,28.2,9,9,12,20,14,21.3,12,13,14,14,13,14,9,13,11,12,13,16,10,10,9,9,17,19,15,18,9,12,9,17,13,13,13,16,12,12,13,14,12,17,13,13,9,11,11,12,10,14,14,14,11,15,13,20,30,13,10,11,14,22,25,11,16,13,17,16,12,14,18,19,20,12,11,27,14,null,null,null,null,null,null,null,null,null,null,null,null,null,null,null,null,null,null,null,null,null,null,null,null,null,null,null,null,null,null,null,null,null,null,null,null,null,null,null,null,null,null,null,null,null,null,null,null,null,null,null,null,null,null,null,null,null,null,null,null,null,null,null,null,null,null,null,null,null,null,null,null,null,null,null,null,null,null,null,null,null,null,null,null,null,null,null,null,null,null,null,null,null,null,null,null,null,null,null,null,null,null,null,null,null,null,null,null,null,null,null,null,null,null,null,null,null,null,null,null,null,null,null,null,null,null,null,null,"DYS19",106,106]
["DYS448",6,null,null,null,"GT37864","X","Y",12,12,9,11,10,12,13,15,14,15.2,29,29,19,20,15,16,11,12,9,12,12,13,19,19,7,7,8,8,16,16,15,15,18,19,16,16.3,15,16,10,11,16,17,9,10,8,15,14,14,7,12,13,14,13,13,12,13,11,12,13,16,9,10,9,10,17,18,14,16,8,10,17,18,11,13,7,14,11,13,13,15,13,16,12,14,10,10,11,12,11,13,14,14,11,11,13,19,29,14,11,12,15,23,24,13,13,13,17,16,12,12,16,19,20,10,12,22,13,null,null,null,null,null,null,null,null,null,null,null,null,null,null,null,null,null,null,null,null,null,null,null,null,null,null,null,null,null,null,null,null,null,null,null,null,null,null,null,null,null,null,null,null,null,null,null,null,null,null,null,null,null,null,null,null,null,null,null,null,null,null,null,null,null,null,null,null,null,null,null,null,null,null,null,null,null,null,null,null,null,null,null,null,null,null,null,null,null,null,null,null,null,null,null,null,null,null,null,null,null,null,null,null,null,null,null,null,null,null,null,null,null,null,null,null,null,null,null,null,null,null,null,null,null,null,null,null,"DYS391",107,107]
["DYS576",4,null,null,null,"GT37869","X","Y",10,11,11,12,9,12,15,16,14.2,15.2,30,31.2,17,18,16,17,7,12,10,11,13,13,24,25,6,7,8,11,15,15,13,14,18,18,16,16.3,15,16,11,14,15,25.2,9,9,10,10,11,14,11,12,11,11,13,14,12,13,10,13,15,16,9,10,8,10,17,22,17,18,10,10,9,16,12,13,7,11,12,13,11,13,13,14,11,13,9,10,10,12,11,14,13,15,11,15,13,19,29,14,11,10,15,23,24,13,14,13,16,15,11,11,15,18,18,10,12,22,12,null,null,null,null,null,null,null,null,null,null,null,null,null,null,null,null,null,null,null,null,null,null,null,null,null,null,null,null,null,null,null,null,null,null,null,null,null,null,null,null,null,null,null,null,null,null,null,null,null,null,null,null,null,null,null,null,null,null,null,null,null,null,null,null,null,null,null,null,null,null,null,null,null,null,null,null,null,null,null,null,null,null,null,null,null,null,null,null,null,null,null,null,null,null,null,null,null,null,null,null,null,null,null,null,null,null,null,null,null,null,null,null,null,null,null,null,null,null,null,null,null,null,null,null,null,null,null,null,"DYS438",108,108]
["DYS19",4,null,null,null,"GT37888","X","Y",10,12,11,12,9,13,17,19,14,14,30,30.2,19,22,13,15,12,12,10,11,14,15,23,25,7,9,8,8,15,17,14,15,22,23,12,15.3,15,15,11,14,28.2,28.2,11,13,12,19,15,18,11,12,13,13,12,12,8,11,11,12,15,15,9,10,10,11,17,18,13,16,10,10,9,16,12,13,9,14,11,12,12,16,15,17,12,14,9,10,11,14,11,14,13,15,11,15,14,20,30,13,9,10,14,21,24,10,11,13,18,16,11,13,14,19,21,12,11,26,11,null,null,null,null,null,null,null,null,null,null,null,null,null,null,null,null,null,null,null,null,null,null,null,null,null,null,null,null,null,null,null,null,null,null,null,null,null,null,null,null,null,null,null,null,null,null,null,null,null,null,null,null,null,null,null,null,null,null,null,null,null,null,null,null,null,null,null,null,null,null,null,null,null,null,null,null,null,null,null,null,null,null,null,null,null,null,null,null,null,null,null,null,null,null,null,null,null,null,null,null,null,null,null,null,null,null,null,null,null,null,null,null,null,null,null,null,null,null,null,null,null,null,null,null,null,null,null,null,"DYS437",109,109]
["DYS391",4,null,null,null,"GT37900","X","Y",11,12,11,12,10,12,12,13,13,14,29,31.2,19,24,14,17,11,11,9,11,13,14,23,26,6,7,11,11,17,19,14,15,16,18,15,16,15,15,10,11,27.2,28.2,11,12,11,13,11,14,12,12,14,14,14,14,12,12,9,12,14,17,8,10,9,9,17,17,14,17,10,11,16,16,12,12,13,15,11,12,13,15,17,17,13,14,8,12,11,13,11,11,13,14,15,16,13,21,29,16,9,9,14,21,23,13,11,12,14,15,12,13,16,16,17,10,11,22,13,null,null,null,null,null,null,null,null,null,null,null,null,null,null,null,null,null,null,null,null,null,null,null,null,null,null,null,null,null,null,null,null,null,null,null,null,null,null,null,null,null,null,null,null,null,null,null,null,null,null,null,null,null,null,null,null,null,null,null,null,null,null,null,null,null,null,null,null,null,null,null,null,null,null,null,null,null,null,null,null,null,null,null,null,null,null,null,null,null,null,null,null,null,null,null,null,null,null,null,null,null,null,null,null,null,null,null,null,null,null,null,null,null,null,null,null,null,null,null,null,null,null,null,null,null,null,null,null,"DYS635",110,110]
["DYS481",3,null,null,null,"GT37913","X","Y",11,12,11,11,11,11,13,15,14,16.2,29,31,24,25,16,17,7,11,10,13,12,13,19,22,6,9.3000000000000007,8,11,16,17,14,15,19,20,15,15.3,11,16,10,14,18,31.2,12,14,15,18,11,14,7,12,10,12,15,15,11,12,9,12,14,16,9,10,9,11,17,18,14,16,8,9,16,16,13,13,13,14,12,13,13,16,15,17,10,13,8,10,12,13,14,15,13,14,11,15,12,19,28,15,10,9,14,21,24,13,11,12,20,14,9,16,18,17,19,9,11,23,12,null,null,null,null,null,null,null,null,null,null,null,null,null,null,null,null,null,null,null,null,null,null,null,null,null,null,null,null,null,null,null,null,null,null,null,null,null,null,null,null,null,null,null,null,null,null,null,null,null,null,null,null,null,null,null,null,null,null,null,null,null,null,null,null,null,null,null,null,null,null,null,null,null,null,null,null,null,null,null,null,null,null,null,null,null,null,null,null,null,null,null,null,null,null,null,null,null,null,null,null,null,null,null,null,null,null,null,null,null,null,null,null,null,null,null,null,null,null,null,null,null,null,null,null,null,null,null,null,"DYS390",111,111]
["DYS549",4,null,null,null,"GT38065","X","Y",10,12,11,14,11,14,15,16,14,14,29,31.2,19,25,14,16,11,13,12,12,13,13,22,23,7,9.3000000000000007,8,8,14,17,13,15,19,20,11,13,11,12,11,11,17,28.2,12,12,11,15,12,13,12,12,10,14,14,16,11,11,9,11,13,17,9,10,8,9,14,18,14,15,10,10,16,17,12,13,11,13,11,13,13,14,12,13,13,14,9,9,11,11,11,11,14,14,11,11,13,19,30,16,11,10,14,23,24,11,11,13,15,14,10,14,16,18,17,13,10,23,12,null,null,null,null,null,null,null,null,null,null,null,null,null,null,null,null,null,null,null,null,null,null,null,null,null,null,null,null,null,null,null,null,null,null,null,null,null,null,null,null,null,null,null,null,null,null,null,null,null,null,null,null,null,null,null,null,null,null,null,null,null,null,null,null,null,null,null,null,null,null,null,null,null,null,null,null,null,null,null,null,null,null,null,null,null,null,null,null,null,null,null,null,null,null,null,null,null,null,null,null,null,null,null,null,null,null,null,null,null,null,null,null,null,null,null,null,null,null,null,null,null,null,null,null,null,null,null,null,"DYS439",112,112]
["DYS533",4,null,null,null,"GT38066","X","Y",12,13,8,8,10,11,13,15,12,14,30,30,16,25,16,18,9,12,10,12,13,13,21,24,9,9,8,9,17,17,13,14,16,24,16,18.3,15,17,14,15,14.2,31.2,12,12,14,16,11,20,12,13,13,13,14,15,11,11,11,11,12,13,8,9,8,11,14,18,15,16,10,10,15,16,13,14,11,14,12,13,13,13,17,17,10,13,9,10,12,14,12,14,14,15,11,15,13,19,29,14,11,12,15,23,24,12,13,12,16,16,12,11,13,16,17,9,12,22,13,null,null,null,null,null,null,null,null,null,null,null,null,null,null,null,null,null,null,null,null,null,null,null,null,null,null,null,null,null,null,null,null,null,null,null,null,null,null,null,null,null,null,null,null,null,null,null,null,null,null,null,null,null,null,null,null,null,null,null,null,null,null,null,null,null,null,null,null,null,null,null,null,null,null,null,null,null,null,null,null,null,null,null,null,null,null,null,null,null,null,null,null,null,null,null,null,null,null,null,null,null,null,null,null,null,null,null,null,null,null,null,null,null,null,null,null,null,null,null,null,null,null,null,null,null,null,null,null,"DYS392",113,113]
["DYS438",5,null,null,null,"GT38067","X","Y",12,13,11,12,8,14,18,18,13,14,29,30,23,26,16,18,11,12,9,10,11,11,22,24,7,9.3000000000000007,8,8,15,16,14,16,17,23,12,16,15,15,10,15,18,28.2,9,11,10,11,11,11,11,12,11,14,13,14,11,11,9,11,13,17,9,9,9,10,18,18,14,17,8,11,16,17,12,13,14,14,12,14,15,15,12,13,13,14,8,10,12,12,11,11,14,15,15,16,13,20,29,16,11,11,14,25,25,10,11,13,15,15,13,11,14,18,20,10,12,23,12,null,null,null,null,null,null,null,null,null,null,null,null,null,null,null,null,null,null,null,null,null,null,null,null,null,null,null,null,null,null,null,null,null,null,null,null,null,null,null,null,null,null,null,null,null,null,null,null,null,null,null,null,null,null,null,null,null,null,null,null,null,null,null,null,null,null,null,null,null,null,null,null,null,null,null,null,null,null,null,null,null,null,null,null,null,null,null,null,null,null,null,null,null,null,null,null,null,null,null,null,null,null,null,null,null,null,null,null,null,null,null,null,null,null,null,null,null,null,null,null,null,null,null,null,null,null,null,null,"DYS393",114,114]
["DYS437",4,null,null,null,"GT38069","X","Y",12,12,8,13,13,13,12,15,14,15,28,30,19,21,15,19,11,12,8,9,13,15,20,22,9.3000000000000007,9.3000000000000007,8,11,17,17,14,16,20,22,12,19.3,15,16,10,11,22.2,23.2,11,13,5,13,11,11,11,11,13,14,13,15,8,12,9,11,13,13,10,10,8,10,17,23,14,15,10,11,9,15,12,13,7,11,11,12,13,15,12,16,13,13,9,11,12,12,11,11,14,16,11,11,13,20,29,14,10,10,16,21,22,11,11,13,15,14,12,14,14,16,17,13,12,26,12,null,null,null,null,null,null,null,null,null,null,null,null,null,null,null,null,null,null,null,null,null,null,null,null,null,null,null,null,null,null,null,null,null,null,null,null,null,null,null,null,null,null,null,null,null,null,null,null,null,null,null,null,null,null,null,null,null,null,null,null,null,null,null,null,null,null,null,null,null,null,null,null,null,null,null,null,null,null,null,null,null,null,null,null,null,null,null,null,null,null,null,null,null,null,null,null,null,null,null,null,null,null,null,null,null,null,null,null,null,null,null,null,null,null,null,null,null,null,null,null,null,null,null,null,null,null,null,null,"DYS458",115,115]
["DYS570",4,null,null,null,"GT38070","X","Y",12,13,13,14,12,13,13,15,12,13,30,31.2,18,20,16,18,11,13,10,13,12,14,20,21,9.3000000000000007,9.3000000000000007,8,8,17,18,13,16,22,22,11,15,15,17,11,11,18,30.2,9,11,7,14,11,12,7,12,10,14,15,15,10,10,11,11,14,15,9,10,8,11,14,17,14,16,8,10,16,16,11,12,7,9,12,12,13,14,17,17,13,14,9,11,11,12,11,13,13,14,11,11,13,14,30,14,10,12,15,24,24,12,13,13,17,15,14,11,14,18,17,10,13,22,12,null,null,null,null,null,null,null,null,null,null,null,null,null,null,null,null,null,null,null,null,null,null,null,null,null,null,null,null,null,null,null,null,null,null,null,null,null,null,null,null,null,null,null,null,null,null,null,null,null,null,null,null,null,null,null,null,null,null,null,null,null,null,null,null,null,null,null,null,null,null,null,null,null,null,null,null,null,null,null,null,null,null,null,null,null,null,null,null,null,null,null,null,null,null,null,null,null,null,null,null,null,null,null,null,null,null,null,null,null,null,null,null,null,null,null,null,null,null,null,null,null,null,null,null,null,null,null,null,"DYS456",116,116]
["DYS635",4,null,null,null,"GT38072","X","Y",10,11,10,11,12,12,15,16,13,14,28,29,19,24,16,18,12,13,11,13,12,12,22,23,6,7,8,8,15,15,15,16,16,24,12,15.3,11,15,11,13,20,21.2,12,12,7,7,11,12,12,12,11,13,13,14,8,11,9,10,13,13,9,10,11,12,17,17,14,16,11,12,16,16,13,14,11,13,11,12,14,14,12,13,12,14,9,9,12,14,11,13,13,15,11,15,12,21,28,16,11,10,15,21,25,13,11,13,17,14,10,15,16,16,18,13,11,22,12,null,null,null,null,null,null,null,null,null,null,null,null,null,null,null,null,null,null,null,null,null,null,null,null,null,null,null,null,null,null,null,null,null,null,null,null,null,null,null,null,null,null,null,null,null,null,null,null,null,null,null,null,null,null,null,null,null,null,null,null,null,null,null,null,null,null,null,null,null,null,null,null,null,null,null,null,null,null,null,null,null,null,null,null,null,null,null,null,null,null,null,null,null,null,null,null,null,null,null,null,null,null,null,null,null,null,null,null,null,null,null,null,null,null,null,null,null,null,null,null,null,null,null,null,null,null,null,null,"Y-GATA-H4",117,117]
["DYS390",4,null,null,null,"GT38073","X","Y",12,12,12,13,10,12,15,17,12,14,28,32.200000000000003,17,18,16,18,11,11,10,11,13,15,21,22,9.3000000000000007,9.3000000000000007,11,11,14,21,15,16,20,22,17,17.3,15,16,10,10,12,13,10,12,12,12,12,20,7,12,13,14,12,16,12,13,10,11,13,16,9,10,10,10,14,17,14,18,10,12,16,16,12,14,12,12,11,12,14,15,18,18,14,14,9,10,10,12,11,14,13,15,11,11,14,17,30,14,12,12,14,23,25,12,13,15,17,16,11,11,14,19,16,9,12,22,13,null,null,null,null,null,null,null,null,null,null,null,null,null,null,null,null,null,null,null,null,null,null,null,null,null,null,null,null,null,null,null,null,null,null,null,null,null,null,null,null,null,null,null,null,null,null,null,null,null,null,null,null,null,null,null,null,null,null,null,null,null,null,null,null,null,null,null,null,null,null,null,null,null,null,null,null,null,null,null,null,null,null,null,null,null,null,null,null,null,null,null,null,null,null,null,null,null,null,null,null,null,null,null,null,null,null,null,null,null,null,null,null,null,null,null,null,null,null,null,null,null,null,null,null,null,null,null,null,"DYS385a",118,119]
["DYS439",4,null,null,null,"GT38075","X","Y",12,12,11,11,11,11,12,14,15,16.2,30,30,19,21,16,17,12,13,10,13,10,14,22,23,6,9.3000000000000007,8,8,15,17,14,15,15,18,15,16,15,16,11.3,15,24.2,28.2,11,12,7,10,13,19,12,13,10,14,13,13,8,11,11,11,13,13,9,10,10,10,17,17,14,18,8,13,16,16,12,13,11,13,13,14,14,15,15,16,10,13,8,10,12,12,11,11,15,15,11,11,13,20,30,15,10,10,16,20,22,11,11,13,15,14,11,13,14,17,19,12,11,27,12,null,null,null,null,null,null,null,null,null,null,null,null,null,null,null,null,null,null,null,null,null,null,null,null,null,null,null,null,null,null,null,null,null,null,null,null,null,null,null,null,null,null,null,null,null,null,null,null,null,null,null,null,null,null,null,null,null,null,null,null,null,null,null,null,null,null,null,null,null,null,null,null,null,null,null,null,null,null,null,null,null,null,null,null,null,null,null,null,null,null,null,null,null,null,null,null,null,null,null,null,null,null,null,null,null,null,null,null,null,null,null,null,null,null,null,null,null,null,null,null,null,null,null,null,null,null,null,null,"DYS576",120,120]
["DYS392",3,null,null,null,"GT38076","X","Y",9,11,8,12,11,11,13,13,13,15.2,32.200000000000003,32.200000000000003,23,25,14,15,11,12,8,10,13,15,20,22,6,9,8,11,15,18,14,15,18,20,11,15,11,16,10,11,21,24.2,13,14,10,12,13,18,11,12,13,14,13,15,11,11,11,11,13,17,9,10,8,9,14,17,15,17,8,10,9,16,11,12,14,15,11,13,14,16,12,16,14,15,10,12,11,12,13,14,14,15,11,11,12,21,28,15,10,11,15,20,22,11,11,14,18,15,12,14,14,15,21,11,9,21,12,null,null,null,null,null,null,null,null,null,null,null,null,null,null,null,null,null,null,null,null,null,null,null,null,null,null,null,null,null,null,null,null,null,null,null,null,null,null,null,null,null,null,null,null,null,null,null,null,null,null,null,null,null,null,null,null,null,null,null,null,null,null,null,null,null,null,null,null,null,null,null,null,null,null,null,null,null,null,null,null,null,null,null,null,null,null,null,null,null,null,null,null,null,null,null,null,null,null,null,null,null,null,null,null,null,null,null,null,null,null,null,null,null,null,null,null,null,null,null,null,null,null,null,null,null,null,null,null,"DYS570",121,121]
["DYS643",5,null,null,null,"GT38078","X","Y",11,11,8,13,11,11,11,14,12,15,29,31.2,24,25,14,17,13,13,9,10,13,14,21,24,7,8,8,11,17,18,13,13,17,24,16,18.3,16,16,10,14,13,17,9,12,7,14,11,11,12,13,13,13,14,15,9,13,9,9,14,17,8,10,11,11,18,23,15,16,8,10,16,16,12,12,13,15,12,13,13,16,15,18,10,14,9,10,11,12,11,11,15,16,11,12,13,18,29,14,11,12,15,23,25,12,14,13,17,16,12,11,13,18,17,10,12,22,12,null,null,null,null,null,null,null,null,null,null,null,null,null,null,null,null,null,null,null,null,null,null,null,null,null,null,null,null,null,null,null,null,null,null,null,null,null,null,null,null,null,null,null,null,null,null,null,null,null,null,null,null,null,null,null,null,null,null,null,null,null,null,null,null,null,null,null,null,null,null,null,null,null,null,null,null,null,null,null,null,null,null,null,null,null,null,null,null,null,null,null,null,null,null,null,null,null,null,null,null,null,null,null,null,null,null,null,null,null,null,null,null,null,null,null,null,null,null,null,null,null,null,null,null,null,null,null,null,"DYS643",122,122]
["DYS393",4,null,null,null,"GT38081","X","Y",12,13,11,11,12,12,14,17,14,14,28,31.2,23,23,15,16,12,13,9,12,10,10,23,24,6,6,8,11,16,17,13,16,18,24,16.3,18.3,11,16,11,11,18,20,9,9,16,17,18,20,11,12,13,14,13,16,11,11,9,11,12,15,9,9,9,11,17,18,17,18,10,10,14,17,11,13,7,11,13,14,13,14,15,17,13,13,9,11,12,12,11,13,14,14,11,14,13,19,29,16,11,12,15,23,23,12,13,13,16,18,12,11,13,18,18,10,12,22,14,null,null,null,null,null,null,null,null,null,null,null,null,null,null,null,null,null,null,null,null,null,null,null,null,null,null,null,null,null,null,null,null,null,null,null,null,null,null,null,null,null,null,null,null,null,null,null,null,null,null,null,null,null,null,null,null,null,null,null,null,null,null,null,null,null,null,null,null,null,null,null,null,null,null,null,null,null,null,null,null,null,null,null,null,null,null,null,null,null,null,null,null,null,null,null,null,null,null,null,null,null,null,null,null,null,null,null,null,null,null,null,null,null,null,null,null,null,null,null,null,null,null,null,null,null,null,null,null,"DYS533",123,123]
["DYS458",4,null,null,null,"GT38083","X","Y",10,12,9,13,8,13,14,17,13.2,14,28,30,18,25,15,17,11,12,8,9,10,15,20,24,9.3000000000000007,9.3000000000000007,8,9,17,19,13,14,17,19,14,15,15,15,10,11,23.2,27.2,9,11,5,18,11,17,7,12,10,11,14,15,11,11,9,10,14,15,9,9,9,10,14,17,14,17,12,13,16,16,12,12,11,13,12,13,14,16,15,17,14,14,9,11,10,11,10,11,13,15,11,15,12,20,28,14,10,10,16,22,22,13,11,13,15,14,11,14,15,16,20,12,11,25,11,null,null,null,null,null,null,null,null,null,null,null,null,null,null,null,null,null,null,null,null,null,null,null,null,null,null,null,null,null,null,null,null,null,null,null,null,null,null,null,null,null,null,null,null,null,null,null,null,null,null,null,null,null,null,null,null,null,null,null,null,null,null,null,null,null,null,null,null,null,null,null,null,null,null,null,null,null,null,null,null,null,null,null,null,null,null,null,null,null,null,null,null,null,null,null,null,null,null,null,null,null,null,null,null,null,null,null,null,null,null,null,null,null,null,null,null,null,null,null,null,null,null,null,null,null,null,null,null,"DYS481",124,124]
["DYS385a",4,null,null,null,"GT38086","X","Y",10,12,12,12,9,11,11,15,13,14,29,31,20,24,16,17,9,12,12,12,12,13,19,20,6,7,8,10,14,15,13,14,22,23,14,15,13,15,11,11,14,27.2,9,9,5,12,11,19,7,12,10,11,13,15,8,11,10,11,15,16,10,11,9,10,19,23,15,15,10,10,16,17,12,14,9,13,13,13,15,15,12,13,13,13,9,10,11,12,12,14,14,14,11,15,12,20,28,14,10,10,16,20,23,12,11,13,14,14,11,14,14,18,20,12,11,25,12,null,null,null,null,null,null,null,null,null,null,null,null,null,null,null,null,null,null,null,null,null,null,null,null,null,null,null,null,null,null,null,null,null,null,null,null,null,null,null,null,null,null,null,null,null,null,null,null,null,null,null,null,null,null,null,null,null,null,null,null,null,null,null,null,null,null,null,null,null,null,null,null,null,null,null,null,null,null,null,null,null,null,null,null,null,null,null,null,null,null,null,null,null,null,null,null,null,null,null,null,null,null,null,null,null,null,null,null,null,null,null,null,null,null,null,null,null,null,null,null,null,null,null,null,null,null,null,null,"DYS549",125,125]
["DYS456",4,null,null,null,"GT38087","X","Y",10,12,8,12,10,12,13,19,13,14,29,29,20,24,17,18,12,12,9,10,11,13,22,22.2,9.3000000000000007,9.3000000000000007,8,10,17,19,13,14,15,18.3,15,15.3,15,16,10,11,27.2,27.2,9,10,10,12,12,21,11,12,13,13,13,14,8,11,9,9,13,16,8,9,8,10,17,17,15,16,8,10,16,16,12,13,9,13,7,13,12,13,15,17,10,13,10,11,11,12,11,14,13,14,11,14,13,20,30,17,10,10,15,22,23,14,11,13,16,15,12,11,13,18,19,12,12,21,11]
["Y-GATA-H4",4,null,null,null,"GT38089","X","Y",10,11,11,12,11,13,14,15,13,15,29,31.2,17,23,16,18,11,12,9,10,13,13,21,22,7,9.3000000000000007,8,9,14,16,13,15,18,18,16,17.3,15,16,10,11,20,22,9,12,10,17,11,11,11,11,10,10,14,15,12,12,11,12,13,16,9,9,9,10,14,18,15,17,10,11,9,16,11,13,13,13,11,14,14,14,15,17,10,14,9,9,10,12,11,11,14,14,11,15,13,19,29,14,10,12,15,23,23,12,13,13,16,16,12,11,14,17,17,10,12,22,13]
["DYS385b",4,null,null,null,"GT38091","X","Y",11,12,11,11,11,12,15,18,13,14,30,31,18,20,17,17,12,12,8,10,12,13,21,24,7,8,9,12,17,17,13,14,20,23,11,16.3,12,16,11,14,25.2,27.2,10,11,12,17,17,18,7,12,13,13,12,14,11,12,11,11,15,15,9,9,9,9,14,17,14,17,12,12,16,17,13,14,12,13,12,14,13,15,12,13,14,14,8,10,12,12,11,13,9,16,11,15,13,20,29,15,10,10,15,20,23,11,12,14,15,13,11,15,16,16,21,13,12,26,14]
["F13A01",4,null,null,null,"GT38092","X","Y",11,12,9,11,10,11,13,16,13,14,29,31,17,19,15,16,10,13,9,12,12,13,18,23,9,9.3000000000000007,8,8,15,16,14,15,17,18.3,16,18.3,11,16,10,13,18,26.2,10,10,11,14,11,18,12,12,10,11,13,14,13,13,11,11,13,16,8,10,8,9,17,18,16,17,8,10,16,20,11,12,11,13,13,14,13,14,15,17,13,14,9,10,11,12,11,11,14,14,11,15,14,19,31,14,10,12,15,23,25,13,13,13,16.2,16,11,11,11,17,17,10,12,22,13]
["F13B",4,null,null,null,"GT38093","X","Y",11,12,11,12,11,11,15,18,14,14,30,32.200000000000003,20,23,15,17,9,12,8,10,13,13,20,24,6,7,8,8,16,17,15,16,18,24,15,19.3,15,17,11,11.3,20,23.2,13,13,7,8,12,17,11,12,13,14,13,14,8,9,9,11,13,14,9,9,10,11,14,17,15,17,12,12,9,16,10,11,11,13,12,12,13,13,16,18,14,14,9,10,11,13,11,11,13,16,11,11,13,20,30,13,10,10,14,21,23,11,11,13,16,16,11,15,17,17,19,13,12,21,12]
["FESFPS",4,null,null,null,"GT38094","X","Y",10,11,11,14,12,13,13,17,13,13,31.2,33.200000000000003,20,26,14,15,11,11,9,12,13,15,24,26,6,8,8,10,14,16,13,14,20,23,13,16,17,17,11,11,22.2,25.2,10,13,11,12,11,19,7,11,10,13,14,15,10,11,11,11,15,16,8,9,9,10,14,17,15,16,12,13,16,16,11,13,11,13,14,14,14,14,12,13,10,13,9,10,11,11,11,14,13,13,11,11,13,19,29,15,11,12,15,23,23,11,13,13,16,15,12,11,12,20,16,10,12,23,13]
["LPL",4,null,null,null,"GT38095","X","Y",10,12,10,12,11,12,14,20,14,15,28,30,19,23,15,15,12,12,11,11,10,16,18,22,9.3000000000000007,9.3000000000000007,8,11,14,19,13,16,20,21,12,16,14,16,11,14,27.2,29.2,10,11,5,12,11,13,11,12,13,14,14,14,10,10,8,11,13,16,9,10,11,11,17,18,15,15,12,12,9,16,11,12,11,13,11,12,14,15,16,19,11,14,8,9,12,12,11,11,13,15,11,15,14,20,31,14,10,9,15,22,23,12,12,12,15,17,11,13,13,19,18,10,11,24,13]
["Penta_C",5,null,null,null,"GT38097","X","Y",12,12,11,13,9,11,15,15,14,14,29,30,21,25,17,18,12,12,8,11,10,13,20,23,6,9.3000000000000007,8,8,16,17,13,14,21,26,12,17,15,16,10,14,17,28.2,9,10,7,12,12,18,11,12,14,14,13,15,11,11,8,9,12,14,10,10,10,11,17,17,16,16,10,12,9,9,12,13,11,14,7,13,13,13,13,15,10,13,8,10,12,13,11,12,13,16,11,14,12,20,28,14,10,10,16,23,22,11,11,13,15,15,10,13,14,15,19,12,12,24,12]
[null,null,null,null,null,"GT38098","X","Y",10,11,12,12,11,11,13,17,11,12,29,30,17,25,16,16,11,12,10,12,14,15,21,22,7,9.3000000000000007,8,11,15,16,14,16,18.3,23,12,18.3,15,16,11,11,30.2,30.2,9,12,11,13,11,14,7,12,10,13,12,14,8,13,9,11,15,16,9,9,9,9,17,17,17,17,10,10,16,16,12,13,13,14,12,15,13,14,12,13,10,14,10,12,12,13,10,11,12,13,11,15,14,20,32,15,10,10,14,21,23,11,12,14,14,14,11,15,16,16,18,12,12,26,12]
[null,null,null,null,null,"GT38100","X","Y",12,12,11,12,10,13,15,16,16,16,28,30,17,23,17,17,11,13,10,12,10,16,21,24,7,9.3000000000000007,8,9,16,17,15,15,19,24,15,16,15,16,11,14,20,30.2,9,13,7,10,11,18,7,11,13,14,14,15,8,9,9,10,13,15,8,9,10,11,17,18,15,16,8,10,15,16,12,13,13,14,12,13,13,16,12,13,13,14,9,9,12,12,15,15,14,15,11,15,13,19,29,14,11,12,15,24,23,12,13,13,17,16,12,11,14,17,17,10,12,21,13]
[null,null,null,null,null,"GT38106","X","Y",10,11,8,12,11,12,16,16,15,17,27,30,17,20,15,17,11,12,8,9,10,15,21,23,7,9.3000000000000007,8,8,15,19,12,15,20,21,16,16.3,16,17,14,14,15,19,12,13,7,10,11,11,11,12,13,13,14,14,11,12,10,11,15,16,9,9,8,11,14,17,18,18,8,10,16,18,12,14,11,11,11,14,13,14,17,18,13,13,10,12,11,13,11,14,11,15,11,11,13,19,29,14,11,12,15,23,24,12,13,13,17,15,12,11,11,18,16,11,11,22,12]
[null,null,null,null,null,"GT38107","X","Y",11,12,8,8,11,12,13,15,13,14,28,31.2,19,20,14,16,12,12,10,12,10,14,24,24,8,9.3000000000000007,8,9,14,15,13,15,17,22,14,17.3,16,17,10,11,16,20,8,9,9,16,11,19,11,12,13,13,13,14,11,12,11,11,14,16,8,10,10,11,17,18,15,17,10,10,16,17,11,13,12,14,13,13,13,15,12,16,13,14,7,10,10,11,12,14,13,15,11,11,12,20,27,13,10,10,15,24,22,12,11,13,16,14,11,13,14,16,19,13,11,25,12]
[null,null,null,null,null,"JA44327","X","Y",10,12,9,11,10,12,14,15,12,14,31,31.2,18,20,15,16,12,12,8,10,13,14,22,24,9,11,8,11,16,16,14,16,19,21,11,17.3,13,16,13,14,17,28.2,9,13,5,9,13,19,11,12,11,14,14,14,9,10,12,12,13,15,10,10,8,9,17,18,15,17,10,12,9,18,11,13,9,11,13,13,14,14,12,15,10,13,11,11,11,13,11,13,14,15,14,15,13,19,29,14,11,12,15,23,24,12,14,13,17,15,12,12,14,19,18,10,12,22,11]
[null,null,null,null,null,"JM28315","X","Y",10,12,9,11,9,13,12,16,14,14,28,30,23,23,15,17,11,11,11,12,13,15,22,25,9.3000000000000007,9.3000000000000007,10,12,16,17,15,15,18,19,15,17.3,16,16,10,11,17,27.2,11,13,9,18,12,18,12,12,13,14,12,14,11,13,10,11,14,15,8,9,10,10,14,23,14,17,10,11,15,16,11,13,11,13,12,15,13,14,13,15,11,14,9,11,11,12,11,11,12,15,11,11,13,19,29,14,11,12,15,23,24,13,14,13,18,16,12,11,15,18,19,10,12,22,14]
[null,null,null,null,null,"JT51178","X","Y",10,13,10,12,12,13,12,13,14,14,28,30,19,24,15,15,12,12,9,13,10,14,21.2,26,9.3000000000000007,9.3000000000000007,8,8,17,18,13,16,19,21,15,15,14,16,11,15,23.2,28.2,9,13,16,16,16,21,12,12,11,14,13,14,9,12,9,9,12,13,8,10,9,9,14,18,14,15,10,12,16,16,12,13,7,13,12,12,13,13,15,17,13,13,10,10,12,13,11,12,13,15,11,14,13,19,29,14,11,12,15,24,24,13,14,13,17,16,12,11,16,19,17,10,12,22,13]
[null,null,null,null,null,"JT51211","X","Y",10,12,13,14,9,11,16,22,12,15,29,31,20,25,18,18,11,11,8,9,10,13,18,25,6,9.3000000000000007,8,8,17,17,13,16,17,18,15.3,18.3,15,16,14,14,21.2,22.2,12,14,14,17,12,12,11,12,10,14,13,14,10,11,11,11,16,16,9,9,9,9,24,24,14,16,10,10,16,16,13,13,11,15,13,14,14,17,12,12,13,13,9,11,12,13,11,14,14,15,11,11,13,19,29,14,10,12,15,24,24,11,13,13,17,15,12,11,14,19,18,10,12,22,13]
[null,null,null,null,null,"JT51331","X","Y",11,11,11,12,11,12,15,16,14,15.2,28,29,17,20,15,16,12,13,10,12,14,15,20,26,7,9,9,11,16,16,14,16,14,19,15,16,17,17,10,14,19,21,9,9,12,15,12,20,7,12,10,11,14,16,12,12,9,10,14,16,9,9,10,10,14,18,14,18,9,10,9,10,12,13,11,11,12,13,14,15,13,15,10,10,10,11,12,13,13,14,14,15,11,15]
[null,null,null,null,null,"JT51332","X","Y",7,12,9,12,10,11,15,15,13,14,30,32.200000000000003,17,25,15,16,10,13,10,11,11,12,19,24,6,8,8,9,17,19,12,13,18,19,14,16,15,15,11,11,18,18,9,11,8,10,12,12,11,12,11,11,13,15,10,12,10,11,13,13,9,9,8,11,14,17,15,17,7,12,9,9,12,13,15,17,12,12,12,14,12,14,10,14,9,10,9,12,13,13,14,14,11,14]
[null,null,null,null,null,"JT51334","X","Y",11,11,11,12,9,12,17,19,13,14,28,35,23,24,15,16,11,13,10,11,12,13,22,23,6,7,8,10,17,17,13,15,18,18,14,15,16,17,11.3,11.3,21,31.2,8,10,7,15,11,12,9,11,11,13,15,16,11,12,11,11,15,16,9,9,8,9,17,17,16,18,8,12,9,19,12,12,11,15,13,13,15,15,15,17,13,14,10,11,11,12,14,14,13,16,11,14,13,21,30,16,10,11,14,22,21,14,11,15,17,16,11,17,18,19,18,13,12,24,11]
[null,null,null,null,null,"JT51335","X","Y",10,12,11,11,12,13,12,20,13,15.2,27,31,20,23,15,17,9,12,10,11,13,14,24,26,7,9.3000000000000007,7,8,15,16,13,15,16,21,14,15,15,17,11,14,18,18,8,11,13,13,12,20,12,12,12,14,13,15,9,11,9,9,14,16,8,9,10,10,18,24,15,15,9,12,9,17,13,14,11,15,12,17,15,16,12,15,12,12,9,10,11,11,11,15,12,14,11,13,13,18,29,14,11,12,14,23,24,12,13,12,17,16,12,11,14,19,16,10,13,22,13]
[null,null,null,null,null,"JT51336","X","Y",10,10,9,11,10,11,15,18,14,17.2,28,35,22,25,15,16,11,11,10,10,10,13,22,30.2,9,9.3000000000000007,11,12,14,16,12,14,17,19,14.3,17.3,15,17,10,14,19,29.2,11,11,11,13,12,18.3,8,12,11,14,13,15,12,12,9,11,15,16,9,10,10,10,15,17,15,17,8,9,9,10,11,12,10,16,11,12,13,14,15,16,13,14,8,11,12,12,14,15,13,14,13,14,12,18,30,13,10,9,14,22,25,11,11,14,18,15,11,15,17,18,18,10,11,23,11]
[null,null,null,null,null,"JT51338","X","Y",8,12,12,12,11,11,20,21,13,14,30,31,17,22,15,16,11,13,10,11,13,14,22,26,9,9.3000000000000007,6,9,17,18,13,15,16,20,14,15,11,17,11,12,25.2,27.2,10,13,14,16,11,20,12,13,11,13,14,14,11,12,9,10,14,15,9,9,8,9,14,24,16,18,7,12,9,9,13,14,7,10,13,13,13,14,14,16,10,13,7,9,11,13,14,14,14,14,13,13,14,20,31,17,10,11,14,21,21,11,11,13,15,15,11,17,19,17,18,12,10,25,12]
[null,null,null,null,null,"JT51462","X","Y",11,12,11,11,10,11,15,18,14,15.2,29,30,19,21,15,15,12,12,10,11,15,16,22,22,7,7,11,11,16,16,12,14,15,17,14,15,16,17,11,12,18,19,8,13,9,18,12,15,11,12,14,14,13,13,11,13,10,13,15,16,8,9,10,10,20,20,15,16,7,10,9,17,11,13,11,13,13,17,12,14,12,15,12,13,7,12,12,13,11,13,13,14,15,16,14,20,31,17,11,11,14,21,22,12,11,13,16,15,10,15,17,16,14,12,12,27,11]
[null,null,null,null,null,"JT51463","X","Y",11,14,11,12,9,14,12,18,13,13,30,31,19,23,15,15,11,13,9,10,11,12,22,23,9,9.3000000000000007,8,10,17,18,12,13,17,23,13,15,14,15,11,11,19,20,10,12,8,16,12,14,7,12,10,11,13,15,10,12,11,11,12,14,9,9,10,11,18,18,16,16,9,9,9,9,13,14,10,16,12,12,13,16,13,16,10,14,9,9,12,12,13,15,14,16,15,16,13,20,32,15,10,10,14,21,21,11,11,14,18,15,11,16,16,15,17,14,10,22,12]
[null,null,null,null,null,"JT51464","X","Y",10,11,11,12,12,12,15,18,15,15.2,28,31.2,17,19,15,18,10,13,10,11,11,15,23,25,7,8,8,8,15,19,14,16,17.3,22,14,14,15,16,11,14,17,18,9,10,12,18,11,12,12,13,13,13,12,14,10,12,10,11,14,14,9,9,10,11,20,20,14,14,9,12,9,17,11,12,9,13,12,17,12,16,15,18,10,12,7,10,11,12,13,15,14,14,11,16,14,21,32,15,10,11,14,22,21,11,11,14,17,15,12,16,18,16,19,15,11,28,11]
[null,null,null,null,null,"JT51465","X","Y",10,11,11,12,10,12,15,16,12,13,32.200000000000003,33,19,20,16,16,11,13,8,9,16,16,21,22,7,8,8,8,16,17,11,15,18,18,13,15,11,17,11,12,17,21,9,12,5,14,11,16,12,12,11,11,14,14,12,12,11,11,14,17,9,9,8,12,14,14,15,18,7,9,9,9,12,14,10,12,12,13,13,15,15,17,10,13,8,11,12,14,13,14,12,12,11,14,14,21,31,16,10,11,14,23,22,11,11,14,17,13,10,16,17,16,14,12,11,27,13]
[null,null,null,null,null,"JT51467","X","Y",10,12,11,12,9,11,12,19,12,13,29,31.2,20,23,15,18,11,13,8,9,11,12,23,24,8,8,11,11,16,16,12,12,17,18,15,16,11,14,10,12,14,31.2,9,14,5,13,12,18,7,12,13,14,12,12,10,11,11,11,14,17,8,9,9,11,17,17,17,18,12,13,9,19,11,13,9,10,13,13,11,13,14,18,12,14,9,10,12,13,13,14,12,14,11,15,14,23,34,15,10,10,14,17,24,12,11,13,17,13,13,11,11,16,17,13,11,25,11]
[null,null,null,null,null,"JT51468","X","Y",7,10,8,14,10,11,12,15,13,13,29,32.200000000000003,18,21,16,17,11,13,10,11,12,15,22,24,6,7,7,11,15,18,12,15,17,18,16.3,16.3,11,15,11.3,15,21,26.2,2.2000000000000002,12,7,14,14,21,12,12,13,14,12,15,10,12,9,9,14,15,8,8,10,12,20,20,14,17,10,12,9,18,11,12,11,13,13,15,12,13,14,14,13,14,7,10,11,12,13,14,14,14,11,15,13,19,30,15,11,12,15,23,24,12,13,13,17,16,11,11,14,18,18,10,14,22,13]
[null,null,null,null,null,"JT51471","X","Y",10,13,12,12,9,13,16,16,10,11,28,33.200000000000003,20,22,15,16,11,11,8,10,12,13,28,31.2,6,7,8,8,16,16,12,13,18,18,14,15,11,16,11,11.3,14,15.2,7,8,7,13,12,19.3,9,12,10,14,12,15,10,12,11,11,15,17,9,10,9,11,14,17,14,16,8,9,9,16,11,12,10,13,11,13,13,16,14,15,10,11,9,9,12,13,13,14,14,14,11,12,13,21,31,15,10,11,14,23,21,12,11,13,16,15,13,18,18,15,18,12,11,24,11]
[null,null,null,null,null,"JT51472","X","Y",10,12,11,12,10,11,19,20,14,14,29,29,22,23,15,17,12,12,8,10,12,13,21,21,7,9,6,11,17,17,13,14,18,19,11,14,16,17,12,14,18,22,10,11,8,15,11,12,12,12,11,14,15,15,10,12,10,11,12,15,8,9,10,11,18,18,15,17,7,10,13,16,12,13,11,11,12,12,10,14,15,18,13,14,10,12,12,12,12,15,14,14,11,14,14,20,32,14,10,11,14,23,25,10,11,13,15,16,14,11,14,18,18,10,12,23,12]
[null,null,null,null,null,"JT51475","X","Y",7,10,12,12,10,11,12,17,14,14,28,31,16,19,17,17,12,13,11,11,12,13,21,21,7,8,6,8,15,18,15,15,19,22,13,15,16,17,14,15,14,14,7,10,12,18,12,17,11,12,13,14,12,15,9,12,9,11,15,16,8,9,9,11,14,20,17,17,10,12,9,9,9,14,11,16,12,13,14,15,13,15,10,14,10,10,12,12,14,15,14,14,11,14,14,20,32,15,10,11,14,21,21,12,11,13,17,14,11,16,17,16,19,11,11,27,11]
[null,null,null,null,null,"JT51476","X","Y",8,10,11,11,10,13,15,18,12,15,29,30,19,26,16,16,11,11,8,10,14,14,23,23,7,8,6,8,16,17,14,15,17,22,11,17,15,17,14,14,10.199999999999999,24.2,2.2000000000000002,5,10,10,11,12,12,12,11,14,14,15,9,13,9,10,16,16,9,9,10,11,14,14,14,14,7,10,9,19,11,11,9,11,12,14,14,14,15,15,10,10,9,12,12,13,11,13,12,14,11,14,13,18,29,14,11,12,15,23,25,12,14,13,17,17,12,11,13,17,17,10,13,25,12]
[null,null,null,null,null,"JT51477","X","Y",10,10,12,12,9,11,13.2,16,12.2,13,28,29,17,22,14,16,13,13,10,10,15,15,25,28,7,7,6,10,15,18,14,15,16,17,13,13,11,15,11,12,26.2,27.2,8,11,7,8,12,20,12,13,11,12,14,14,8,10,10,12,15,15,9,9,9,12,14,18,17,17,7,10,13,14,12,12,7,14,14,14,11,15,12,16,10,10,9,12,11,12,14,14,14,16,13,13,12,20,30,16,11,8,17,21,22,11,12,13,18,15,9,16,16,20,18,12,13,25,13]
[null,null,null,null,null,"JT51478","X","Y",10,12,12,12,8,10,18,19,13,14,27,29,18,21,17,17,12,12,9,11,15,15,21,23,7,9.3000000000000007,11,12,14,16,14,15,17,20.100000000000001,14,15.3,15,15,12,14,14,17.3,9,12,7,14,13,19,11,12,12,13,13,16,10,11,9,10,14,15,9,9,9,12,14,17,14,14,8,12,9,9,12,13,7,11,13,17,13,15,15,20,12,13,8,9,11,12,10,13,14,14,11,11,13,21,30,15,10,11,13,22,21,13,11,15,17,17,11,16,17,15,17,13,11,25,11]
[null,null,null,null,null,"JT51481","X","Y",12,12,11,11,11,11,17,20,13,14.2,30,30,21,22,14,16,11,12,10,12,14,14,23,24,7,8,6,9,17,17,14,15,15,18,12,16.3,11,17,10,10,17,21,9,12,8,14,13,13,12,12,14,14,13,15,11,13,10,10,15,16,8,9,9,11,14,23,14,15,8,11,16,16,12,13,11,11,13,15,13,13,12,18,11,14,9,9,11,12,11,14,13,13,11,13,13,21,30,17,10,11,14,21,21,14,11,14,16,15,11,17,19,15,18,13,11,25,11]
[null,null,null,null,null,"JT51482","X","Y",9,10,11,11,10,13,12,13,14,14.2,28,32.200000000000003,21,22,16,17,10,11,8,13,14,14,20,26,9,9,6,11,15,16,14,15,15,17,13,15,15,16,12,14,17,27.2,11,11,12,13,12,13,7,12,13,14,13,15,11,11,12,12,14,14,9,9,9,10,20,23,16,18,7,10,9,13,12,12,10,11,13,14,12,13,13,13,14,14,9,10,12,12,12,15,13,13,11,14,14,22,31,15,10,11,14,22,21,11,11,13,16,15,12,15,17,16,19,13,11,29,11]
[null,null,null,null,null,"JT51484","X","Y",11,11,11,12,9,11,15,19,14,14,28,29,20,22,16,17,11,13,8,9,12,12,24,24,7,9.3000000000000007,6,8,16,17,12,14,15,18,16.3,18.3,16,16,12,14,20,23.2,11,13,8,12,12,13,12,12,14,14,12,13,8,11,10,11,14,16,9,9,11,12,14,17,14,19,7,8,9,11,11,12,9,10,12,12,11,14,15,17,13,14,7,10,12,14,10,13,14,16,12,12,13,21,30,17,10,11,14,21,21,13,11,14,16,16,11,17,19,16,19,13,11,25,11]
[null,null,null,null,null,"JT51485","X","Y",10,11,8,12,9,10,12,14,13.2,14.2,27,29,17,21,15,16,11,11,12,12,14,14,22,25,7,9.3000000000000007,8,11,17,18,13,15,18,19,12,14,15,15,12,14,16,20,2.2000000000000002,11,14,18,12,23,9,11,11,13,14,15,10,11,11,11,13,14,9,9,11,12,17,18,15,17,8,9,9,9,13,13,9,14,11,13,13,16,11,13,10,13,7,8,11,12,13,15,14,14,14,14,12,20,30,15,10,11,14,22,21,12,11,13,15,15,12,16,18,15,18,14,12,28,11]
[null,null,null,null,null,"JT51486","X","Y",7,11,11,11,11,13,18,20,13,16.2,31.2,33.200000000000003,21,21,16,16,8,12,8,10,14,14,22,23,7,7,9,11,17,17,14,15,16,20,14,15,15,17,11.3,14,16,28.2,2.2000000000000002,9,5,14,9,13,7,12,13,14,15,15,9,11,12,12,13,16,9,9,8,11,14,20,15,17,8,11,9,16,11,12,10,11,12,15,15,15,12,15,10,13,6,9,12,12,10,11,14,16,12,14,15,21,33,15,11,11,14,22,21,13,11,13,16,16,12,17,17,14,20,14,11,28,11]
[null,null,null,null,null,"JT51487","X","Y",12,12,12,12,12,13,16,19,12,14.2,28,29,19,23,15,17,10,12,11,11,14,14,23,23,7,8,6,8,18,18,12,13,17,17,15,17,11,15,12,14,19,26.2,2.2000000000000002,2.2000000000000002,7,12,16,19,12,12,11,13,12,13,11,12,11,11,15,15,9,10,9,12,17,18,16,17,10,12,9,11,14,14,12,14,12,13,14,16,14,15,10,13,10,12,11,13,12,14,14,15,11,14,13,21,30,17,10,11,14,21,22,12,11,13,15,15,10,15,16,18,14,12,11,27,12]
[null,null,null,null,null,"JT51488","X","Y",11,12,11,13,8,13,16,19,13,15.2,28,28,20,23,15,16,10,13,10,11,12,13,22,26,7,9,8,11,15,17,13,14,17,18,14,15,11,11,14,14,20,26,7,11,9,10,12,13,7,9,11,14,12,15,12,12,9,11,14,16,9,9,10,10,17,23,14,15,9,13,9,9,12,12,9.1,11,12,16,10,16,12,15,13,13,7,11,10,13,11,13,12,14,11,12,14,20,33,15,10,11,14,21,21,12,11,15,18,15,11,16,16,18,18,13,11,24,11]
[null,null,null,null,null,"JT51489","X","Y",9,13,13,13,11,12,15,16,14,14.2,29,30,16,23,15,15,12,13,9,11,14,14,25,27,7,9,8,11,16,17,13,14,16,22,13,14,16,17,11,14,17,26.2,2.2000000000000002,11,8,13,12,17,11,12,10,14,13,15,11,11,11,12,12,15,9,9,8,8,14,23,15,17,8,9,9,16,12,12,10,15,13,14,12,14,13,15,12,14,9,11,12,13,14,14,13,15,11,15,13,21,30,15,10,11,14,21,21,11,11,13,16,16,11,17,18,15,19,15,11,26,11]
[null,null,null,null,null,"JT51494","X","Y",10,11,13,14,10,11,17,17,14.2,15,29,33.200000000000003,22,25,15,16,11,12,10,12,14,15,22,24,7,7,8,10,15,17,15,15,20,22,13,15,8,17,10,12.3,19,19,9,9,8,18,13,17,12,12,13,14,14,14,11,12,11,12,16,17,9,9,8,10,17,20,15,15,7,9,9,9,13,14,11,15,12,13,12,13,12,12,13,15,9,10,12,12,13,14,12,12,11,13,13,21,30,15,10,11,14,21,21,13,11,13,17,15,12,17,20,14,18,14,10,28,11]
[null,null,null,null,null,"JT51495","X","Y",10,11,10,14,9,11,17,20,14.2,15,28,29,20,22,16,16,11,12,8,10,12,16,24,25,8,9,8,9,16,18,12,14,18,19,11,16,12,16,14,14,19,30.2,9,12,7,14,13,15,10,12,10,13,14,14,9,11,9,10,12,17,8,9,8,9,17,20,14,14,8,12,9,18,13,13,11,14,12,17,13,15,13,17,10,11,9,10,11,11,13,14,13,15,10,15,12,19,28,15,11,12,15,24,24,12,13,13,17,16,12,11,14,19,17,12,12,22,13]
[null,null,null,null,null,"JT51496","X","Y",10,12,12,12,12,13,15,17,13.2,14,28,29,23,25,16,19,12,12,8,11,12,14,22,26,6,6,8,8,16,16,13,15,16,17,15,19.3,11,17,11,11.3,15,17,7,10,5,10,13,18,7,12,11,14,15,15,10,10,11,12,16,16,9,9,9,10,14,17,15,17,7,10,9,17,12,13,11,13,14,14,15,16,15,17,13,14,11,11,12,13,13,13,13,14,11,15,14,20,31,15,11,11,14,21,21,12,11,13,18,15,11,16,17,16,18,13,12,21,12]
[null,null,null,null,null,"JT51498","X","Y",10,12,12,13,11,12,14,19,14,15,29,29,19,19,16,17,11,13,10,11,13,13,22,23,6,9,8,9,15,18,12,15,15,20,13,13,15,16,11,14,18,28.2,10,11,7,11,13,19,7,12,13,14,14,14,10,12,11,12,14,15,8,10,8,11,17,18,15,16,10,12,14,19,12,13,12,14,13,13,14,15,15,15,12,12,8,10,9,13,14,15,14,14,15,15,13,19,29,14,11,12,15,23,25,13,14,13,17,15,12,11,14,18,17,10,12,22,13]
[null,null,null,null,null,"JT51499","X","Y",11,12,11,11,11,12,13,16,11,12.2,30,30,17,26,15,18,9,12,10,11,14,14,22,26,7,9.3000000000000007,8,8,16,18,13,15,17,19,15,17.3,14,16,11,13,18,20,11,13,8,10,11,14,11,12,13,15,13,17,12,12,11,12,13,17,8,9,8,11,20,23,14,15,9,10,9,18,12,13,13,13,12,14,13,14,15,16,10,13,10,10,11,12,11,14,14,15,13,14,12,20,28,14,11,10,16,23,22,11,11,13,14,15,11,13,14,16,20,11,11,24,12]
[null,null,null,null,null,"JT51826","X","Y",10,11,8,13,9,11,13,22,13,15.2,30,31,19,20,15,17,11,11,8,11,10,13,19,26,9,9.3000000000000007,10,12,16,18,12,15,19,20,16,17.3,15,17,10,11,14,17,11,12,10,15,11,12,7,12,13,14,14,15,11,12,11,12,14,15,8,9,8,9,14,17,14,14,8,10,16,18,12,12,9.1,13,12,13,13,14,15,17,10,13,9,11,13,14,13,14,13,14,11,15,12,19,27,14,10,12,14,23,24,11,14,12,14,16,11,11,14,19,17,10,12,22,13]
[null,null,null,null,null,"JT52076","X","Y",12,12,8,8,11,12,16,21,14,15.2,30,32.200000000000003,18,20,15,16,11,11,11,12,12,14,21,22,8,9.3000000000000007,8,11,15,18,16,16,20,21,17.3,17.3,16,16,10,10,16.3,18,9,13,17,17,10,13,11,12,14,14,12,12,12,12,11,11,15,15,8,8,8,10,14,17,14,17,10,12,16,17,12,12,11,11,13,14,16,16,13,17,13,14,9,9,11,14,11,11,14,15,11,11,12,20,28,14,10,10,17,22,22,11,11,13,14,14,10,13,14,16,19,12,11,25,12]
[null,null,null,null,null,"JT52345","X","Y",12,13,11,13,11,12,15,17,14,16.2,30,32.200000000000003,18,20,14,17,12,13,11,12,13,16,23,24,6,6,8,12,15,15,14,15,18,23,11,17.3,15,15,10,11,20,20.2,9,12,11,12,12,13,7,13,14,14,12,15,10,12,9,10,13,16,10,10,9,9,14,23,17,17,10,12,9,14,13,13,13,15,13,13,12,13,13,17,13,14,9,10,11,14,11,13,13,16,11,11,14,19,29,14,11,12,15,23,23,12,13,13,17,16,12,11,14,17,17,10,12,22,13]
[null,null,null,null,null,"JT52346","X","Y",12,14,11,13,11,11,13,15,14,16,28,31,18,20,16,17,11,12,9,10,11,16,23,24,6,7,8,12,14,17,13,14,18,18,16,17.3,11,11,10,15,20,21.2,11,13,7,11,11,12,12,12,13,13,14,15,12,12,11,11,13,13,10,10,10,10,18,18,14,17,10,12,16,19,11,13,14,14,13,14,14,15,14,17,13,14,9,10,11,12,11,11,14,14,11,14,13,19,29,14,12,12,16,23,24,11,13,13,17,15,12,11,16,18,15,10,12,22,13]
[null,null,null,null,null,"MT94803","X","Y",11,13,11,12,11,12,14,18,13,13,28,32.200000000000003,17,17,16,17,11,13,8,10,14,15,23,25,9.3000000000000007,9.3000000000000007,8,9,14,18,13,16,19,20,12,16.3,15,16,12,14,19,22.2,9,13,12,12,13,13,11,12,11,14,13,13,10,11,9,9,13,13,9,9,11,13,17,18,14,15,10,10,15,18,11,12,11,13,12,14,14,14,17,17,13,14,9,9,11,12,11,12,13,14,11,15,13,19,30,14,10,12,15,24,24,12,13,13,19,17,13,11,14,18,17,10,13,22,13]
[null,null,null,null,null,"MT94807","X","Y",12,13,8,11,10,12,14,20,14,15.2,28,29,17,23,15,16,12,12,8,10,12,13,20,20,9.3000000000000007,9.3000000000000007,9,12,16,17,13,14,18,23,16,19.3,14,15,11,11,18,21.2,10,11,15.3,17,13,19,12,13,14,14,12,14,11,12,11,12,13,15,8,10,10,11,17,18,14,15,8,10,9,17,12,13,11,13,11,12,15,16,13,15,14,14,9,10,11,12,11,11,14,15,11,15,13,19,29,14,11,13,15,23,24,13,13,13,18,16,12,12,12,17,18,10,13,22,12]
[null,null,null,null,null,"MT94815","X","Y",10,11,9,12,12,13,13,14,14,16,29,30,17,19,15,18,11,11,10,12,10,15,21,23,6,9.3000000000000007,8,8,15,16,13,15,18,20,15,16.3,11,16,11,15,18,28.2,9,12,11,17,12,12,12,12,10,14,13,15,10,12,11,11,14,15,8,9,9,9,14,17,14,17,10,12,16,16,12,13,11,13,13,14,14,14,16,18,13,14,9,11,12,13,11,14,13,14,11,15,13,19,29,14,10,12,15,23,24,14,13,13,19,15,12,11,14,17,18,11,11,23,13]
[null,null,null,null,null,"MT94817","X","Y",10,12,12,12,11,12,16,16,13,15,29,32.200000000000003,24,26,15,18,11,12,9,10,12,14,18,20,8,9.3000000000000007,8,10,17,19,13,14,15,15,11,17,15,15,11,12,24.2,25.2,9,13,7,7,11,13,7,7,10,13,13,14,11,12,8,10,13,13,10,10,10,10,17,18,16,17,8,10,9,16,12,12,11,13,11,11,15,16,13,15,10,14,9,10,12,12,13,14,14,15,11,12,13,19,29,14,11,9,15,23,24,12,13,13,19,16,12,11,16,17,17,10,12,22,12]
[null,null,null,null,null,"MT94818","X","Y",10,10,8,9,11,11,13,20,14,14,29,30,20,26,17,17,11,12,9,10,12,15,22,22,6,9.3000000000000007,8,9,16,18,14,14,22,22,16,18,11,16,13,14,15,23,9,13,7,11,13,14,12,12,11,13,13,13,9,11,9,11,16,16,9,10,11,11,14,19,15,18,8,10,15,16,13,13,11,11,12,14,14,15,13,17,13,14,9,10,12,14,11,14,14,16,11,14,13,19,29,14,11,12,15,23,24,12,13,13,15,16,12,11,14,18,17,11,12,22,13]
[null,null,null,null,null,"MT94826","X","Y",11,12,11,13,12,12,13,14,14,16,30,31,22,26,14,16,12,13,10,11,13,13,23,27,7,9,8,8,17,18,13,14,19,25,13,16,15,16,10,12,15,19,13,14,11,14,11,12,12,12,13,13,14,15,10,11,10,12,12,14,9,10,8,11,17,23,14,14,10,12,16,17,12,12,7,9,12,14,14,14,13,17,14,14,10,10,11,13,11,11,13,14,11,11,13,20,30,13,10,10,14,21,24,12,11,13,17,18,12,16,18,17,22,12,12,22,12]
[null,null,null,null,null,"MT94827","X","Y",11,13,11,13,12,12,15,18,14,15,29,30,20,24,16,17,10,13,9,10,13,13,24.2,25,7,9,11,11,19,20,14,14,22,24,15,15.3,11,16,10,14,20,29.2,9,12,11,18,12,20,12,13,13,13,13,15,11,11,9,11,15,15,9,9,11,12,14,23,15,16,8,10,16,18,12,13,7,13,11,12,12,14,12,17,13,14,9,10,12,12,11,15,14,16,11,15,12,20,28,14,10,10,16,21,23,11,11,13,15,14,11,14,15,17,22,12,11,25,12]
[null,null,null,null,null,"MT94829","X","Y",10,13,8,11,9,12,17,17,13,14,31.2,33.200000000000003,23,23,15,17,9,9,8,11,10,13,20,22,8,9.3000000000000007,8,9,17,19,13,13,19,22,12,16,11,11,11,14,15,30.2,8,13,11,17,12,14,7,12,10,13,15,16,11,13,11,11,13,15,9,9,10,10,14,18,17,18,8,10,9,17,12,13,7,13,11,11,13,14,15,17,13,13,9,11,11,14,11,14,14,14,11,15,13,19,29,14,10,12,15,23,24,12,13,13,18,15,12,11,15,17,18,10,12,21,13]
[null,null,null,null,null,"MT94833","X","Y",11,12,11,12,12,12,12,16,14,14,30,31,17,17,11,15,7,12,10,11,12,13,21,24,7,9.3000000000000007,8,11,16,19,14,15,17,20,12,15,16,16,12,14,15,27.2,9,9,7,17,12,19,7,12,11,14,10,14,11,11,12,12,13,16,9,9,9,10,18,18,14,16,10,10,9,16,12,14,13,15,12,14,12,13,13,13,13,14,8,9,12,13,11,13,15,15,11,11,13,20,30,15,10,10,16,21,22,11,11,13,15,14,12,14,14,16,18,13,12,26,12]
[null,null,null,null,null,"MT94834","X","Y",10,10,9,11,11,12,13,15,14,14.2,28,29,17,24,15,16,9,11,8.1,9,8,11,21.2,22,7,8,9,11,16,19,14,16,18,21,16,16.3,16,17,11.3,11.3,21,28.2,11,14,10,14,11,12,7,13,13,14,13,14,9,11,8,11,15,15,8,9,9,11,17,18,17,18,8,12,16,17,12,13,11,13,11,12,13,15,13,17,13,14,9,11,11,11,11,14,14,14,11,15,13,19,29,14,11,12,15,24,23,11,13,13,17,16,12,11,15,20,18,9,12,23,13]
[null,null,null,null,null,"MT94835","X","Y",13,14,11,13,8,11,17,18,13,14.2,28,31.2,16,20,15,18,11,12,10,11,10,11,20,24,8,9.3000000000000007,11,11,14,17,14,16,21,22,11,17.3,15,16,14,14,19,31,12,13,12,12,11,19,12,12,13,13,13,14,11,12,8,10,12,15,9,9,9,10,14,18,15,16,8,10,9,16,12,13,11,11,13,14,11,14,17,17,10,13,10,11,11,12,11,11,13,13,11,12,14,19,30,14,11,11,14,21,23,10,16,14,14,15,12,11,14,16,19,11,11,20,12]
[null,null,null,null,null,"MT94838","X","Y",11,12,11,11,10,13,12,18,12,13,29,31,20,24,17,19,9,13,8,8,8,12,20,24,9.3000000000000007,9.3000000000000007,8,8,17,18,14,16,21,23,12,15,15,16,11,11,22.2,27.2,9,10,12,12,12,13,7,11,13,13,12,16,9,12,10,11,13,15,8,9,10,10,18,23,15,15,10,12,16,17,11,12,9,12,11,12,13,13,13,17,14,14,9,10,11,12,11,13,13,13,11,12,13,19,29,14,10,12,15,23,24,13,13,13,17,16,12,11,15,18,16,10,12,23,12]
[null,null,null,null,null,"MT94839","X","Y",12,13,11,11,9,13,12,13,14,16.2,31.2,32.200000000000003,17,19,15,18,11,12,9,10,13,13,20,21,9,9,8,11,16,19,13,14,20,22,16,17,15,16,14,14,17,20.2,10,13,10,13,12,13,12,12,14,14,13,14,8,11,11,11,13,16,8,9,10,10,14,23,14,16,12,13,15,16,13,13,7,13,13,14,13,15,13,17,10,14,10,11,11,12,11,11,13,15,11,12,14,20,31,15,11,11,14,23,25,10,11,13,15,15,13,11,14,16,17,10,12,23,13]
[null,null,null,null,null,"MT94842","X","Y",11,11,8,11,12,12,11,12,13,14,27,29,17,23,15,16,12,12,9,12,13,16,22,22.2,8,10,8,8,17,19,12,14,19,24,17,17.3,16,16,10,14,18,18,9,13,14,14,12,13,12,12,13,14,13,14,10,11,9,11,16,17,8,8,9,10,17,18,14,15,8,10,16,16,13,13,11,14,14,14,13,16,13,15,14,14,9,9,12,12,11,15,13,14,11,11,12,19,28,16,10,9,16,21,24,12,11,12,16,13,12,8,17,18,17,9,12,23,13]
[null,null,null,null,null,"MT94843","X","Y",11,12,11,12,11,11,12,16,14,14,31.2,33.200000000000003,17,24,17,17,11,12,8,9,14,16,20,25,6,9,8,10,16,18,13,15,18,18.3,13,14,15,16,10,13,17,26.2,10,13,5,12,11,18,11,12,10,13,14,15,12,13,8,11,15,17,8,9,10,12,17,24,17,17,10,10,15,16,13,13,11,14,12,14,14,15,15,17,13,14,9,10,12,12,11,11,13,15,12,15,12,20,28,14,10,10,16,22,22,12,11,12,15,14,11,13,14,18,19,11,11,25,12]
[null,null,null,null,null,"MT94846","X","Y",11,12,11,11,9,12,16,21,14,14,30,30,17,24,15,16,11,12,9,11,13,13,20,25,7,9.3000000000000007,8,11,17,19,12,13,17,20,16,17.3,14,16,11,14,15,26.2,10,11,11,13,11,13,12,12,11,14,13,15,11,11,11,12,12,13,9,9,9,9,14,17,15,16,8,10,9,16,12,12,11,16,12,14,13,14,13,15,14,15,9,10,11,12,11,15,14,15,11,15,13,19,29,14,11,12,15,23,24,12,13,13,17,15,12,11,15,17,17,10,12,23,13]
[null,null,null,null,null,"MT94848","X","Y",10,10,11,11,11,12,14,14,13,16,28,28,19,19,16,17,11,13,8,12,12,13,20,22.2,9,9.3000000000000007,10,12,16,18,13,15,17,21,12,18.3,11,15,11.3,14,22.2,28.2,12,12,11,13,11,13,12,12,10,14,12,15,11,12,11,11,13,14,8,9,9,10,17,18,17,17,8,10,15,17,13,13,9,11,11,12,15,15,12,17,10,13,9,9,12,13,11,14,13,14,11,15,13,0,30,13,10,10,14,21,24,12,11,13,15,17,13,16,16,18,20,11,12,22,14]
[null,null,null,null,null,"MT94850","X","Y",11,12,11,11,11,12,14,16,13,14,28,31.2,18,23,14,15,10,11,11,12,8,10,19,19,6,7,8,9,17,18,14,16,19,21,13,17.3,11,14,11,12,23.2,24.2,12,14,5,10,11,11,11,12,11,14,14,14,12,13,10,13,14,16,9,9,8,8,17,23,14,17,10,10,17,19,10,12,11,11,13,13,13,14,13,15,13,13,10,11,12,14,11,11,14,14,12,15,12,20,28,16,10,10,16,22,22,11,11,13,15,14,12,13,14,18,21,12,11,25,11]
[null,null,null,null,null,"MT94853","X","Y",11,12,12,13,12,12,13,18,13,14,28,30,16,19,18,18,11,13,8,10,12,14,22,23,7,9.3000000000000007,8,12,16,18,13,14,18,20,13,15.3,15,16,10,11,25.2,29.2,9,14,12,14,12,18,12,12,10,14,14,16,8,12,11,12,13,15,9,10,11,11,14,17,17,17,8,8,16,16,12,12,9,13,12,12,13,13,17,17,10,13,9,9,10,12,11,14,14,15,11,16,13,19,29,14,11,12,15,23,23,13,13,13,18,16,11,10,14,19,17,10,13,22,12]
[null,null,null,null,null,"MT94855","X","Y",9,10,11,11,10,14,13,17,13,14,29,30,24,24,15,15,11,12,10,10,13,14,19,21,9,10,8,11,18,19,13,17,18,24,15.3,18.3,17,17,11,14,14,30.2,12,14,13,13,11,14,12,12,10,13,13,14,11,12,11,11,13,14,8,10,9,11,14,17,16,17,10,10,16,16,11,13,12,15,12,14,13,14,17,18,14,14,8,9,12,12,11,11,12,16,11,11,14,19,30,14,10,12,15,24,23,13,13,13,17,17,12,11,15,16,18,10,12,22,13]
[null,null,null,null,null,"MT94858","X","Y",10,10,11,12,9,11,15,18,13,13,30.2,31.2,18,23,15,18,11,12,9,10,13,14,18,22,8,8,8,11,14,14,12,15,15,18,16,16.3,11,16,10,14,15,18,8,12,7,12,13,15,7,12,11,13,13,15,12,12,9,10,13,15,8,10,8,9,14,20,15,17,10,12,16,17,12,12,12,13,13,14,13,16,12,17,12,13,9,12,11,12,11,15,13,16,11,14,13,19,29,14,11,12,15,23,25,10,13,13,18,16,12,11,14,19,18,10,13,22,13]
[null,null,null,null,null,"MT94859","X","Y",10,13,9,11,9,12,13,17,13.2,14,29,30,19,23,16,17,11,13,9,11,11,11,20,26,6,9,8,11,18,18,14,19,18.3,22,15,15.3,14,16,11,12.3,12,16,11,13,5,13,11,19,11,12,12,13,14,19,11,12,12,12,14,17,10,10,8,9,17,18,14,17,10,10,9,15,11,13,13,14,12,13,13,15,14,15,10,14,7,10,11,14,12,14,14,14,11,15,14,19,31,15,10,10,14,20,23,11,12,14,15,14,10,15,15,16,20,11,12,28,12]
[null,null,null,null,null,"MT94866","X","Y",11,12,8,12,12,13,12,16,14,14,29.2,30,17,17,15,15,11,12,10,11,12,13,22,22.2,9.3000000000000007,9.3000000000000007,8,9,17,20,13,14,17.3,20,14,15,16,17,10,11,19,31.2,11,12,13,13,12,13,12,12,13,14,13,13,9,12,9,11,15,15,9,10,9,10,17,18,15,17,10,10,16,16,13,14,11,13,12,14,14,15,12,17,13,13,9,9,11,13,10,11,14,16,15,15,13,19,30,14,11,12,15,23,24,12,15,12,18,17,12,11,16,18,17,10,13,24,13]
[null,null,null,null,null,"MT94868","X","Y",12,12,9,11,9,12,12,17,14,14,27,32.200000000000003,20,25,16,17,11,11,8,11,12,14,20,23,9.3000000000000007,9.3000000000000007,8,11,14,16,13,14,17,18,12,12,15,16,10,11,16,22.2,9,10,7,11,13,15,12,12,10,13,14,15,8,12,9,13,13,16,10,10,8,9,17,17,14,17,10,10,14,16,12,13,11,11,12,12,13,13,12,17,13,13,10,11,11,14,11,12,13,14,15,16,13,19,29,14,11,12,16,23,23,12,13,13,17,16,12,11,14,18,17,10,12,22,12]
[null,null,null,null,null,"MT94875","X","Y",9,10,11,12,12,12,14,16,14,15.2,29,32.200000000000003,19,23,16,18,11,12,8,9,8,13,18,25,6,6,8,12,16,19,15,16,19,21,12,13,16,17,10,11,15,21.2,12,14,7,11,11,15,12,12,11,14,12,14,11,13,9,11,14,16,8,9,8,8,17,17,14,15,10,11,9,15,11,12,7,13,11,12,14,15,12,17,13,13,9,9,11,12,11,11,13,14,11,14,13,19,29,14,11,12,15,24,24,11,13,13,17,17,11,11,14,17,18,10,12,19,15]
[null,null,null,null,null,"MT94877","X","Y",11,12,11,12,11,12,15,16,12,13,32.200000000000003,32.200000000000003,17,20,18,18,11,12,9,9,8,15,21,22.2,9,9.3000000000000007,8,10,17,18,14,14,18,21,17,17.3,15,16,11,15,17,28.2,15,16,10,12,13,13,7,12,13,14,13,14,10,11,7,9,13,15,9,9,8,11,17,17,14,17,10,12,16,17,12,13,11,14,13,13,11,14,17,18,10,13,9,10,12,13,11,13,13,13,11,11,13,20,31,15,10,11,14,24,25,10,11,13,15,15,12,11,14,18,19,10,12,23,12]
[null,null,null,null,null,"MT94880","X","Y",12,12,11,12,11,12,16,16,12,13,28,29,20,25,14,14,11,12,10,11,12,14,22,23,7,9.3000000000000007,11,11,15,17,13,17,20,20,12,17.3,15,15,11,14,28.2,30.2,8,10,7,11,11,12,11,12,13,14,12,13,11,13,9,9,13,16,8,9,9,10,14,18,14,16,8,10,15,16,11,13,11,12,12,12,13,15,13,15,14,14,9,9,11,12,11,14,14,15,11,11,13,19,29,14,11,12,15,23,23,12,13,13,18,16,12,11,14,17,17,10,12,22,13]
[null,null,null,null,null,"MT94882","X","Y",11,12,13,14,9,13,15,16,14,14,30,30.2,21,25,15,16,11,12,8,9,13,13,19,23,6,9.3000000000000007,8,11,17,18,15,16,21,23,12,17,11,15,11,11.3,20,24.2,13,14,12,15,12,18,11,11,11,11,13,14,11,11,11,12,13,16,8,9,9,11,14,17,14,16,8,10,17,18,12,12,11,14,11,13,12,13,13,17,10,13,9,12,12,12,11,13,14,16,11,11,13,19,28,14,10,12,15,23,25,12,13,13,18,16,12,11,15,20,17,10,12,24,13]
[null,null,null,null,null,"MT94883","X","Y",12,12,10,12,12,12,15,20,12,13,30,31,21,25,16,16,11,11,10,13,10,11,23,24,7,9.3000000000000007,8,11,17,18,14,14,18,25,10,11,16,16,10,14,29.2,30.2,10,12,5,14,11,11,7,13,10,11,14,16,12,12,11,12,15,16,9,10,8,10,17,23,14,16,10,11,16,16,13,13,11,11,14,14,13,14,15,17,13,14,7,12,10,11,10,14,13,15,11,15,13,18,29,14,12,12,15,23,25,12,14,13,17,16,12,11,13,19,17,10,12,25,13]
[null,null,null,null,null,"MT94884","X","Y",11,12,12,12,11,13,13,17,14,15,30,31.2,17,19,15,16,12,13,9,10,13,15,22,24,7,9.3000000000000007,8,8,17,19,13,13,20,23,12,15.3,11,15,10,14,19,27.2,11,13,5,13,11,11,7,11,13,14,14,14,10,10,9,9,13,16,8,9,9,10,17,18,14,17,8,12,9,16,12,13,11,14,11,12,13,14,12,13,13,14,10,10,12,12,14,14,13,15,11,12,13,20,30,16,11,10,15,22,25,11,12,13,16,16,12,12,17,19,19,13,12,26,11]
[null,null,null,null,null,"MT94886","X","Y",12,13,12,13,9,12,12,15,13,13.2,31.2,31.2,20,24,15,15,9,12,10,11,12,12,22,24,6,9.3000000000000007,9,11,15,19,13,13,21,22,12,15,16,16,11,12,18,27.2,13,17,5,5,18,20,11,12,11,13,14,17,8,10,9,9,13,13,8,9,9,10,17,23,15,18,8,10,9,16,12,13,11,14,13,14,14,14,17,17,11,13,9,9,11,12,11,13,14,14,11,12,13,19,32,15,10,11,14,24,25,10,11,13,15,15,12,11,14,18,20,10,12,23,12]
[null,null,null,null,null,"MT94888","X","Y",10,11,8,9,12,13,12,17,15.2,16,29.2,30.2,17,20,15,16,11,12,7,11,13,14,21,23,9.3000000000000007,9.3000000000000007,8,11,16,17,13,14,18,22,15.3,16,16,18,10,11,20,29.2,9,14,7,16,11,18,7,12,10,13,15,16,11,12,12,12,13,13,9,9,9,11,17,18,14,15,11,12,16,17,13,13,7,9,7,13,14,14,13,17,10,14,9,10,11,12,11,11,9,15,11,14,12,19,28,15,10,9,16,21,24,12,11,12,16,13,11,14,16,17,17,9,12,23,13]
[null,null,null,null,null,"MT94892","X","Y",11,12,9,11,9,12,15,15,13,13,29,32.200000000000003,16,17,14,15,9,12,9,9,13,15,22,22,6,9.3000000000000007,9,11,18,19,15,15,18,18,12,17.3,15,16,10,13,14.2,21.2,12,13,11,15,19,20,12,12,10,13,14,14,10,12,9,9,13,13,9,9,9,9,14,17,14,15,8,10,9,16,11,12,11,13,13,14,14,16,12,13,10,14,7,9,12,14,11,11,14,16,14,15,12,20,28,14,10,10,16,22,22,11,11,13,14,14,11,13,14,17,19,12,11,24,12]
[null,null,null,null,null,"MT94893","X","Y",11,13,9,12,11,12,14,14,13,16,28,32.200000000000003,17,24,14,17,12,13,10,11,12,13,19,24,6,9,10,11,16,17,12,13,20,21,12,13,15,16,11.3,14,19,27.2,9,13,11,12,11,19,12,13,11,14,14,14,11,11,9,12,13,16,8,9,10,12,18,23,14,17,12,12,16,16,13,13,13,13,12,14,13,14,13,18,10,11,9,9,11,12,11,14,14,14,11,15,13,19,29,15,11,11,15,23,24,12,13,13,17,15,11,11,15,19,19,10,12,22,13]
[null,null,null,null,null,"MT95085","X","Y",8,11,11,12,9,12,15,18,13,13,28,28,17,23,15,15,9,10,8,11,15,15,22.2,25,6,9,9,12,13,15,8,12,17,19,11,13,16,17,11,11.3,15,27.2,9,11,8,14,11,12,12,13,11,12,15,15,9,12,9,10,14,14,8,9,8,10,14,18,14,17,10,10,17,17,11,13,14,16,11,15,14,15,13,17,13,14,10,12,11,11,12,14,13,14,11,11,12,19,30,16,10,10,14,17,22,11,11,12,16,15,12,12,12,17,18,10,11,27,12]
[null,null,null,null,null,"MT95087","X","Y",11,12,12,12,9,11,13,20,12.2,13,27,31.2,20,27,14,18,12,13,8,8,13,14,25,28,7,8,6,8,16,17,8,15,17,20,14,18.3,15,17,12,14,17,23,9,10,15,15,15,18,12,12,12,14,14,16,10,11,9,12,16,16,8,9,9,9,14,20,14,16,7,12,9,9,12,13,11,14,11,15,13,15,15,17,13,13,8,9,12,13,10,13,11,15,11,13,13,19,29,14,10,12,14,23,24,12,13,13,17,16,12,11,15,18,17,9,12,21,13]
[null,null,null,null,null,"MT95095","X","Y",9,12,12,12,11,12,16,20,10,12,28,29,17,20,15,17,8,13,10,12,13,14,23,27,6,7,10,10,14,19,14,14,17.100000000000001,19.3,12,16.3,10,15,11,13,16,19,2.2000000000000002,7,5,16,12,19,12,12,10,13,14,15,9,12,10,12,12,13,9,9,9,11,14,17,14,15,10,13,9,9,12,13,7,11,12,13,13,13,12,15,10,14,8,11,11,12,14,14,14,14,11,11,13,21,30,15,10,11,14,22,21,11,11,13,17,15,12,16,16,15,19,14,11,27,11]
[null,null,null,null,null,"MT95098","X","Y",10,13,11,12,9,9,12,19,13,16.2,28,29,24,25,14,16,12,13,8,10,15,16,21,22,7,8,8,11,16,16,15,15,18,20,14,16.3,8,17,14,14,16,16,11,13,5,19,18,23,12,13,11,13,14,15,10,12,10,11,14,17,8,9,10,11,14,20,15,17,8,8,9,18,11,12,11,13,11,12,11,15,12,14,10,13,10,11,12,13,14,15,11,13,11,13,12,19,28,14,11,11,15,22,25,11,11,13,18,15,11,14,15,15,18,12,11,26,13]
[null,null,null,null,null,"MT95102","X","Y",10,11,11,12,9,11,13,18,15,15,30.2,33,19,25,14,17,11,13,10,12,14,16,23,26,7,9.3000000000000007,8,8,17,18,16,16,18,19,13,16.3,11,15,12,14,19,27.2,5,14,9,12,11,19,12,12,10,14,13,14,11,12,9,10,12,14,9,9,9,10,17,20,15,17,7,8,9,9,11,13,11,11,11,13.3,14,15,11,12,10,10,11,12,10,12,14,14,14,15,15,16,13,20,31,16,10,11,14,22,21,13,11,13,17,15,12,16,17,17,22,14,12,28,13]
[null,null,null,null,null,"MT95104","X","Y",9,12,11,12,9,11,16,22,13,14,29,35,19,24,16,17,13,13,8,11,12,14,23,24,6,7,6,8,16,17,12,14,18,20,12,15,11,11,12,14,21.2,26.2,9,13,12,12,12,18,7,12,13,14,13,17,12,13,11,12,14,16,9,9,10,11,14,20,15,16,10,10,9,11,11,12,10,11,12,14,13,14,13,14,10,14,8,10,13,13,11,14,14,16,11,14,13,19,29,14,10,12,15,23,24,11,13,13,19,16,11,11,14,17,18,10,12,22,13]
[null,null,null,null,null,"MT95105","X","Y",11,12,13,13,12,13,17,17,11,14,28,30,18,19,14,17,11,13,10,11,14,14,20,24,6,7,8,8,17,18,13,15,19,23,13,14,11,15,11,11,18,26.2,8,11,9,11,14,14,12,13,13,14,15,17,11,11,11,12,15,15,9,10,8,11,14,18,15,16,7,10,9,9,12,13,13,13,12,13,11,15,14,18,10,13,8,9,11,12,11,14,14,16,13,16,13,20,30,15,11,8,14,20,22,11,11,14,15,15,11,16,20,16,18,13,11,23,12]
[null,null,null,null,null,"MT95106","X","Y",10,12,11,12,11,13,19,20,13,15.2,29,32.200000000000003,19,21,15,16,9,13,7,8,14,14,16.2,26,7,8,9,9,15,17,13,16,17,18,14,15,15,17,12,14,18,28.2,8,13,11,14,18,19,11,11,11,14,15,15,11,12,11,12,14,15,9,9,9,12,17,20,14,17,7,12,9,17,13,14,14,15,12,14,15,15,13,15,10,14,8,9,11,11,14,14,14,14,11,11,13,21,30,17,13,11,13,21,21,11,11,13,18,16,11,18,18,18,17,13,10,25,12]
[null,null,null,null,null,"MT95114","X","Y",10,11,8,12,8,9,13,14,13,15.2,29,30,23,27,16,16,8,13,9,12,13,14,22,26,6,7,7,8,15,18,12,14,15,20,16.3,16.3,15,17,11,11,17,20,10,13,5,9,17,17,12,12,13,13,14,15,10,12,9,11,14,15,8,9,9,11,14,24,15,18,8,10,9,14,12,14,10,11,12,13,14,14,15,15,12,14,9,9,12,13,14,15,14,16,11,14,13,19,30,14,11,12,15,23,23,12,14,13,16,15,12,11,14,17,19,10,13,22,12]
[null,null,null,null,null,"MT95124","X","Y",11,13,11,12,8,10,14,20,13,14,28,28,19,21,16,16,8,12,10,13,13,13,21,23,7,9.3000000000000007,6,8,17,18,13,15,18,19,13,15.3,16,16,11,12.3,19,21,10,11,7,17,20,20,7,11,10,13,13,15,10,12,10,12,16,16,9,9,9,10,18,20,14,17,10,10,9,13,12,14,12,14,13,14,11,13,13,15,10,14,10,11,11,12,13,15,14,16,11,14,12,19,29,15,11,12,15,24,24,11,13,13,17,16,12,11,14,18,17,10,11,23,13]
[null,null,null,null,null,"MT95356","X","Y",11,11,12,12,9,12,15,18,14,15,28,30,22,22,15,18,11,13,11,11,13,15,21,23,6,7,9,10,16,18,15,17,18,18,15,16.3,10,13,10,11,15,27.2,8,10,11,11,12,17,8,12,10,13,11,14,9,12,9,12,14,17,8,9,10,12,14,17,14,16,7,8,9,16,11,13,11,11,11,14,16,17,14,14,12,13,9,10,11,12,11,15,14,15,14,16,13,20,30,15,11,11,14,23,25,10,11,13,15,17,13,11,15,17,17,10,12,23,12]
[null,null,null,null,null,"MT95357","X","Y",11,12,10,11,11,12,14,17,12,14.2,29,32.200000000000003,21,21,15,17,9,12,8,9,14,16,18.2,21,7,9.3000000000000007,10,11,15,16,14,15,16,21,16,16.3,15,17,10,11,13.2,14,2.2000000000000002,10,8,14,13,20,12,12,10,11,14,15,10,10,10,12,14,17,8,9,10,11,14,24,15,18,8,9,16,17,11,12,11,14,12,13,14,16,13,15,10,15,8,8,12,13,12,14,13,15,12,14,13,21,30,17,10,11,14,21,21,12,11,14,16,14,11,18,18,17,19,13,11,26,12]
[null,null,null,null,null,"MT95358","X","Y",8,12,11,12,12,13,17,21.2,14,14.2,28,29,23,24,17,17,10,15,10,11,13,14,19,25,9,10,7,8,14,15,11,14,16,18,14,16,11,17,12,14,16,20,6,14,10,13,17,19,12,12,13,14,16,16,9,12,10,10,16,17,9,9,9,11,14,19,16,16,8,10,9,18,9,12,10,10,13,15,15,15,15,18,10,13,10,10,12,13,13,13,11,14,14,14,12,23,30,15,10,10,14,17,24,12,11,14,19,14,11,11,11,18,13,13,11,25,11]
[null,null,null,null,null,"MT95362","X","Y",7,11,11,11,11,11,14,20,13.2,14,27,30,22,25,15,17,12,13,10,11,12,16,22,22.2,7,9,8,11,15,16,13,15,17,19,16,17.3,15,15,12,14,18,31.2,12,14,7,14,12,18,8,12,11,13,15,15,10,12,9,9,15,17,9,9,8,8,14,17,14,17,10,12,17,17,12,13,9,10,12,17,14,15,14,15,13,14,9,10,12,12,13,13,14,15,15,16,13,19,29,15,11,12,15,24,23,13,13,13,17,16,12,11,14,17,17,10,12,22,12]
[null,null,null,null,null,"MT95364","X","Y",12,12,11,12,11,11,12,14,11,13,29,29,16,17,16,16,11,11,10,10,12,13,24,24,8,9,10,11,17,17,12,14,18,19,14,16.3,11,15,11,14,25.2,26.2,9,17,14,14,13,21,11,12,12,13,13,14,11,11,9,9,13,16,9,9,9,11,17,20,16,19,7,8,9,9,12,13,9,11,13,14,11,16,12,14,10,14,8,10,12,13,13,14,13,14,13,14]
[null,null,null,null,null,"MT95368","X","Y",7,10,11,12,11,13,12,19,14,14.2,30,38,21,22,15,16,12,12,8,13,13,13,19,21,7,8,6,10,15,20,15,16,17,17,16,17.3,10,17,11,11,17,17,8,8,5,11,12,19,11,12,14,14,14,14,10,12,9,11,12,17,9,10,10,10,17,20,17,17,10,12,9,19,12,13,7,7,12,13,14,14,14,15,12,14,9,11,12,15,12,14,14,14,13,14,13,21,32,15,10,11,14,22,21,11,11,13,16,15,13,16,17,15,18,15,11,27,12]
[null,null,null,null,null,"MT95369","X","Y",10,11,8,12,8,9,13,17,12,14,31,31.2,17,23,14,17,12,13,8,8,12,13,22,26,7,8,8,11,15,17,12,14,17,19,15,16.3,15,18,11,12,19,27.2,11,12,7,15,17,18,11,11,10,10,13,15,11,12,11,11,14,16,8,9,9,12,18,20,14,14,7,9,9,9,12,13,13,16,11,13,14,14,12,17,10,10,8,9,13,13,11,15,13,14,14,15,12,19,28,14,11,11,14,24,25,11,11,13,18,15,11,14,20,15,19,11,13,25,12]
[null,null,null,null,null,"MT95371","X","Y",11,11,11,12,11,11,12,13,10,14.2,31,31.2,19,24,14,17,11,12,8,11,12,15,22,24,7,7,8,11,17,17,14,17,18,18,15,16,16,16,11,14,19,26.2,8,11,11,16,19,19,12,13,11,13,14,14,11,12,10,12,16,16,8,9,8,11,14,18,14,16,8,8,16,17,12,13,9,16,12,14,12,12,12,18,13,15,10,10,11,12,13,15,11,15,11,15,12,"19,20",29,15,11,10,17,21,22,11,11,13,16,15,12,13,15,18,16,12,14,27,14]
[null,null,null,null,null,"MT95372","X","Y",8,11,11,14,9,11,14,16,12,13,30,33,21,24,15,17,8,10,8,12,9,14,19,24,6,6,9,9,16,18,13,16,19,20,14,15,14,16,11,12,25.2,25.2,3.2,9,7,11,11,13,8,12,12,14,13,15,10,12,11,12,14,16,9,9,9,10,17,20,14,16,7,7,9,9,9,11,7,10,11,13,14,14,13,15,10,13,9,10,11,12,12,13,13,14,11,15,13,19,29,14,11,12,14,23,24,13,13,14,17,16,11,11,14,18,17,10,13,23,13]
[null,null,null,null,null,"MT95373","X","Y",10,11,12,14,11,12,14,18,12,12,28,29,23,23,15,17,11,12,10,11,13,14,22,25,8,9,9,9,17,17,13,15,17,22,13,14,16,16,11,12,16,19,10,13,7,11,12,19,7,12,13,14,14,15,8,12,10,11,14,17,9,9,9,10,17,20,14,15,7,10,9,17,12,14,10,12,12,13,15,15,13,13,10,13,8,9,11,11,13,15,13,14,14,15,13,20,31,16,10,11,14,20,21,14,11,15,16,15,11,17,17,18,17,13,12,25,12]
[null,null,null,null,null,"MT95379","X","Y",11,12,12,12,11,13,16,18,13,14,30,32,16,23,16,17,12,13,8,10,14,16,21,22,6,8,9,11,15,16,15,15,16,18,16.3,17.3,15,17,12,12,17,20,9,9,7,13,12,15,11,12,13,14,12,15,11,12,11,13,13,16,9,9,8,11,20,20,15,17,7,12,9,9,12,13,11,11,11,13,14,14,14,15,12,12,9,11,12,14,14,14,12,13,11,11,14,20,31,17,10,11,14,20,22,13,11,13,16,16,10,16,16,18,15,12,11,27,11]
[null,null,null,null,null,"MT95600","X","Y",12,13,11,12,12,13,12,16,14,14,32.200000000000003,33.1,17,17,16,16,11,13,11,12,13,16,20,25,7,9,8,8,16,16,12,13,19,22,12,15,15,17,10,11,16,16,10,11,12,12,14,14,10,11,13,14,13,14,12,12,9,13,15,15,9,10,8,9,17,18,13,18,10,12,16,18,12,12,13,13,13,14,11,16,15,17,13,14,8,9,12,13,12,13,13,14,11,15,13,19,30,14,10,11,14,22,24,12,15,13,17,17,12,15,17,18,19,12,11,29,12]
[null,null,null,null,null,"MT95744","X","Y",12,12,9,10,9,12,12,15,13,13,30,31.2,18,20,14,16,10,11,10,10,12,14,19,27,6,6,8,8,17,19,13,15,18,20,17,17.3,15,16,11,14,18,28.2,9,13,14,15,11,14,7,11,10,14,15,16,10,12,9,11,14,15,9,10,9,12,14,14,15,15,9,10,16,17,13,14,11,14,12,14,13,17,16,18,10,13,9,10,12,12,11,14,14,15,11,15,13,19,31,16,10,11,14,23,25,10,11,13,15,17,12,12,14,19,17,10,12,22,11]
[null,null,null,null,null,"MT95855","X","Y",10,11,11,13,10,12,14,16,9,14,27,29,22,22,14,15,11,13,10,11,13,14,23,24,7,7,10,11,18,19,12,14,18,21,11,17.3,15,16,11,14,27.2,30.2,8,10,12,12,11,18,7,7,14,14,14,14,11,11,9,10,13,14,8,9,8,10,14,14,14,15,8,10,16,17,13,13,11,15,11,12,13,14,13,15,12,13,10,10,12,12,13,14,14,16,12,12,13,21,30,16,10,11,14,20,21,13,11,14,16,15,12,14,19,14,19,13,11,28,11]
[null,null,null,null,null,"MT96356","X","Y",11,11,11,11,11,12,16,16,12,15,29,30,20,22,16,16,10,11,8,12,14,14,21,22,9.3000000000000007,10,8,11,15,17,12,14,16,18,14,14,15,15,11,11.3,20,30.2,9,12,12,13,12,14,11,11,13,14,14,15,11,12,10,12,14,16,8,8,11,11,17,17,15,18,8,12,16,16,12,14,13,16,12,13,13,15,13,16,13,14,9,10,12,13,11,13,13,15,11,16,13,18,29,14,11,12,14,23,24,12,13,13,18,15,11,11,14,18,17,10,12,22,13]
[null,null,null,null,null,"MT97121","X","Y",10,12,10,11,11,14,13,19,14,14,30,30,17,17,15,17,11,12,11,12,10,14,22,23,7,8,8,9,16,17,12,13,19,25,15,16,15,16,11,14,28.3,30.2,10,12,7,20,11,11,12,12,13,14,15,15,9,11,9,11,15,16,9,10,9,9,18,18,17,17,8,10,9,9,12,14,11,11,11,11,13,14,15,15,10,10,9,10,12,12,11,12,14,19,11,11,14,18,30,14,9,12,15,23,25,12,14,13,16,17,12,11,13,18,17,10,13,25,12]
[null,null,null,null,null,"MT97122","X","Y",11,11,11,14,11,12,12,15,14,15,28,32.200000000000003,19,25,17,17,11,11,9,11,10,10,18,20,7,7,9,11,16,17,14,14,17,21,11,14,15,16,11,14,15,27.2,12,16,10,11,12,14,7,12,10,14,15,15,9,10,10,11,13,13,8,9,10,11,14,17,14,15,10,10,9,16,12,12,13,14,12,13,15,15,13,13,13,14,9,10,11,13,11,12,14,16,11,11,13,18,29,14,11,12,15,23,25,13,14,13,18,17,12,11,13,18,18,10,13,25,12]
[null,null,null,null,null,"MT97123","X","Y",11,12,11,11,12,13,15,18,13,13,29,30,17,24,17,18,10,12,8,8,10,12,23,24,9.3000000000000007,9.3000000000000007,10,11,14,17,13,13,17,21,11,12,16,16,10,13,14,32.200000000000003,13,14,7,11,12,14,11,12,13,14,14,14,12,13,11,12,13,15,10,10,9,11,14,23,17,17,10,12,9,16,12,13,11,12,11,11,13,13,13,15,10,14,9,9,12,12,12,13,14,14,15,15,13,19,30,14,11,12,15,23,22,11,13,13,17,16,12,11,14,18,18,10,12,22,13]
[null,null,null,null,null,"MT97124","X","Y",10,11,11,11,9,9,11,17,13,16,29,30,16,19,14,15,10,12,10,13,11,14,22,24,9.3000000000000007,9.3000000000000007,11,11,14,17,14,14,15,20,16.3,18.3,15,15,10,12,26.2,28.2,9,12,7,12,11,17,10,13,13,14,12,15,12,12,9,11,13,15,9,9,9,9,14,17,14,15,10,10,16,16,12,12,11,13,13,13,14,15,13,16,10,10,10,10,11,12,11,14,13,15,11,16,13,21,30,13,10,10,14,21,24,12,11,13,16,16,12,17,18,18,20,12,12,22,12]
[null,null,null,null,null,"MT97125","X","Y",11,12,8,11,12,13,14,16,14.2,15,30,30,18,25,14,15,12,12,12,12,10,11,23,25,7,9.3000000000000007,8,11,17,18,13,17,18,22,15,15,14,16,11,14,20,29.2,11,12,17,19,11,11,12,12,14,14,14,15,11,12,9,9,13,16,9,9,8,9,17,18,16,18,10,10,9,16,11,13,11,13,11,12,14,16,13,17,10,13,10,10,10,13,11,14,15,15,11,15,13,21,29,15,9,9,14,22,23,11,11,12,14,16,11,13,16,16,18,10,12,22,11]
[null,null,null,null,null,"MT97126","X","Y",10,10,12,12,12,13,14,14,12,13,29,31,23,24,15,16,12,12,11,12,12,14,21,23,6,6,8,11,16,19,15,15,18,18,16,17.3,14,15,11,11,16,28.2,10,12,7,12,11,12,11,12,13,13,15,17,10,12,11,12,15,15,9,9,8,8,17,17,17,18,8,10,16,16,11,12,11,13,12,12,13,14,13,17,10,13,10,10,11,11,11,11,14,15,11,14,14,18,30,14,10,12,16,25,23,12,13,13,17,16,12,12,14,18,18,9,13,22,13]
[null,null,null,null,null,"MT97131","X","Y",12,12,12,14,10,11,11,16,14,15.2,30,33.200000000000003,23,25,16,18,11,13,8,12,10,12,22,23,7,9.3000000000000007,8,8,16,18,13,16,17,17.3,15,17.3,11,16,14,15,24.2,32.200000000000003,9,13,5,13,12,21,11,12,13,14,14,15,8,11,8,11,13,15,9,10,8,10,17,18,15,16,9,12,15,16,12,13,11,14,11,12,14,17,13,16,13,14,9,9,13,13,11,14,14,14,11,11,13,19,29,14,11,12,15,23,25,13,13,13,17,16,12,11,13,19,17,10,11,22,13]
[null,null,null,null,null,"MT97136","X","Y",10,10,11,12,12,13,15,18,13,16,29,31,17,24,15,15,11,12,9,10,12,14,21,21,9,9,8,12,17,17,13,14,18,23,12,15.3,16,16,11,14,19.2,29.2,12,13,7,16,12,12,12,12,13,14,14,15,10,11,9,10,14,16,9,9,10,10,17,17,16,17,8,11,16,16,12,13,11,14,12,13,13,15,13,13,13,13,9,10,11,13,11,13,14,15,11,15,12,20,28,14,10,10,16,23,22,12,11,13,14,14,11,12,13,18,20,12,11,24,11]
[null,null,null,null,null,"MT97139","X","Y",10,12,11,12,9,12,17,19,15,15,29,30,21,24,15,17,11,11,10,12,11,13,22,24,9,9.3000000000000007,8,11,16,18,13,15,19,21,14,17.3,16,17,11,11.3,16,28.2,10,12,12,12,11,12,11,12,13,14,13,15,10,11,8,10,14,15,9,9,11,11,14,17,17,18,8,10,16,16,13,14,11,11,11,13,14,15,17,18,13,14,8,9,12,14,11,12,13,14,11,11,13,20,30,16,11,11,14,23,25,11,11,13,15,16,13,11,14,16,20,10,12,25,13]
[null,null,null,null,null,"MT97141","X","Y",10,12,13,13,12,13,13,18,13,15,30,30,20,25,17,18,9,12,9,13,10,12,22,23.2,6,6,8,10,14,15,13,16,18,21,15.3,16,14,16,10,11,27.2,27.2,12,13,7,18,11,11,12,13,10,14,12,13,10,12,9,10,15,15,10,10,9,9,17,23,14,14,8,12,17,19,12,13,11,12,11,14,13,14,17,18,14,14,9,10,12,12,11,13,14,15,11,11,13,19,31,14,11,12,15,24,24,12,13,13,20,15,13,11,15,18,16,10,12,22,13]
[null,null,null,null,null,"MT97145","X","Y",10,10,12,14,11,11,19,19,14,14,31,33.200000000000003,18,25,17,18,9,13,10,11,12,14,21,24,6,9.3000000000000007,8,9,18,18,13,15,17,19,15.3,17.3,15,16,10,12,19,25.2,10,13,12,12,12,21,7,12,10,11,12,13,11,11,10,11,12,13,8,10,8,10,17,17,14,17,10,12,9,16,12,13,11,12,12,13,13,14,18,18,13,14,8,12,11,11,10,11,14,15,11,15,13,19,29,14,11,12,14,23,24,12,13,13,16,15,12,9,14,17,17,10,12,22,12]
[null,null,null,null,null,"MT97150","X","Y",12,13,12,13,11,13,12,14,12,13,29,31,18,24,14,19,10,11,8,12,11,15,22,25,7,9.3000000000000007,8,10,14,18,13,15,18,21,15,16,11,15,10,11,28.2,30.2,11,12,7,13,12,14,12,12,14,15,13,14,11,12,9,11,13,15,9,9,8,10,14,18,15,17,8,10,9,17,13,13,7,7,11,13,14,14,12,13,13,13,10,11,11,12,11,11,14,14,14,16,13,19,29,14,11,12,15,23,23,11,13,13,17,16,12,11,13,16,17,10,12,22,12]
[null,null,null,null,null,"MT97152","X","Y",11,11,8,10,11,13,12,16,13,14,28,33.200000000000003,17,23,16,18,12,13,9,9,11,13,22,22,7,9,11,11,17,18,15,16,18,23,15.3,16.3,15,15,11,11,16,28.2,12,13,5,9,12,20,12,12,11,14,14,14,8,11,9,11,13,16,9,9,10,11,17,24,15,17,8,12,9,16,13,13,7,13,13,13,15,15,13,17,10,13,10,10,11,11,9,14,13,13,11,14,13,19,29,14,11,11,15,23,23,12,13,13,16,16,11,12,14,19,17,10,12,22,11]
[null,null,null,null,null,"MT97155","X","Y",12,13,9,12,9,13,14,14,14,14,29,32.200000000000003,17,17,14,17,11,12,8,8,13,13,19,22,8,9.3000000000000007,8,8,16,18,15,15,17.3,18,12,15.3,15,18,10,14,18,28.2,11,13,7,7,12,17,11,12,13,13,15,15,11,12,8,11,13,14,8,9,8,9,14,17,14,15,12,12,16,17,12,13,7,14,13,14,13,13,12,18,13,14,10,12,12,13,11,12,13,15,11,15,13,20,29,14,10,10,16,21,22,11,11,13,16,14,12,13,14,14,20,12,11,26,12]
[null,null,null,null,null,"MT97156","X","Y",11,13,12,12,12,14,18,19,14,14,32.200000000000003,33.200000000000003,19,24,16,17,12,13,10,13,12,13,22,27,9.3000000000000007,9.3000000000000007,8,11,16,18,13,15,15,19,15,15,11,11,11,12,18,34.200000000000003,12,13,15,15,12,20,12,13,13,13,15,15,11,12,11,12,13,16,9,9,11,11,17,18,17,17,12,12,16,16,12,14,7,13,12,14,12,14,17,17,13,13,9,10,11,11,11,14,13,15,11,14,13,19,29,14,11,12,15,25,24,12,13,13,18,16,12,10,13,17,17,10,13,22,14]
[null,null,null,null,null,"MT97158","X","Y",12,13,9,11,9,13,13,16,14,14,29,31.2,17,25,15,17,11,12,12,12,12,13,21,24,6,9.3000000000000007,8,11,15,15,14,15,19,20,16,16.3,11,17,11,14,20,22.2,9,12,12,15,11,12,7,11,13,14,10,13,8,10,11,11,16,16,9,10,8,9,17,18,14,14,10,10,9,16,11,13,7,13,11,12,13,13,12,17,10,13,10,11,11,12,11,12,16,16,11,15,14,20,31,15,11,11,14,23,25,10,11,13,15,15,13,11,14,16,17,10,12,23,12]
[null,null,null,null,null,"MT97159","X","Y",11,12,12,13,11,11,15,19,14,15.2,30,34.200000000000003,18,22,14,20,9,12,9,12,11,13,21,25,6,7,8,8,15,16,15,17,17,21,15,16,15,16,11,14,20,28.2,9,10,5,10,11,18,12,12,10,13,12,13,11,12,9,9,13,15,9,9,8,11,14,24,14,15,8,10,16,17,12,13,11,13,13,14,14,14,12,14,14,14,9,11,11,13,11,12,13,14,11,14,13,19,29,14,10,12,15,23,25,12,13,13,17,15,13,11,15,17,18,9,13,22,13]
[null,null,null,null,null,"MT97163","X","Y",8,11,12,13,9,11,12,12,14,15,29,33.200000000000003,20,25,16,16,9,13,8,13,11,13,22,23,8,10,8,8,16,18,13,15,19,21,11,17.3,14,16,11,11,18,20,9,11,7,11,11,18,7,12,13,14,12,13,11,12,9,10,13,16,9,10,9,10,14,17,14,15,8,10,9,16,12,12,11,12,12,12,13,16,12,18,13,14,8,9,12,12,11,14,14,15,11,15,13,19,29,14,11,12,15,24,24,13,13,13,17,15,13,11,14,21,17,10,12,22,13]
[null,null,null,null,null,"MT97164","X","Y",10,12,11,11,11,13,15,19,13,14,29,30,18,19,15,16,12,12,10,10,11,12,23,24,6,8,5,8,17,18,13,15,19,21,15.3,15.3,16,16,11,11.3,15,34,10,11,10,19,10,14,12,12,13,14,13,15,10,12,12,12,13,16,9,10,8,9,14,24,14,16,8,10,16,16,11,11,11,15,11,14,12,14,17,17,13,13,9,9,11,11,11,14,13,13,11,12,14,18,30,14,12,12,15,23,24,12,13,13,17,16,12,11,14,18,18,10,13,22,12]
[null,null,null,null,null,"MT97165","X","Y",11,12,11,12,11,11,13,17,16,16,29,30,20,26,18,18,12,12,8,10,12,15,20,22,8,9.3000000000000007,8,8,18,18,14,15,17,23,17,17.3,15,16,11,15,19,32.200000000000003,12,14,7,16,11,18,7,12,13,14,11,12,8,10,12,12,15,15,8,9,10,10,17,17,14,18,8,11,9,16,10,12,9,15,12,13,13,15,13,17,13,14,10,10,11,13,11,14,14,15,11,15,12,19,28,14,10,12,15,23,24,12,13,13,19,16,12,11,14,18,18,10,12,22,13]
[null,null,null,null,null,"MT97166","X","Y",11,13,12,12,11,11,14,17,14,14,29,30,17,20,16,16,11,13,9,12,14,14,19,24,6,9.3000000000000007,8,8,16,18,15,15,18,22,15,17.3,15,16,14,15,19,19,7,9,5,14,11,11,12,12,13,13,14,14,12,12,9,12,16,16,8,10,9,10,17,18,17,18,8,8,16,16,12,13,13,14,12,12,13,15,13,15,13,14,9,10,11,12,14,14,14,14,11,11,13,19,29,14,11,12,15,23,24,11,12,13,17,15,11,12,14,17,17,11,12,22,13]
[null,null,null,null,null,"MT97167","X","Y",12,13,12,12,12,13,15,15,11,14,31,32.200000000000003,17,21,15,16,12,13,10,12,10,14,18,22,7,7,11,12,15,17,12,13,18,22,16,17.3,15,16,11,11,20,28.2,12,12,7,7,12,19,11,12,11,14,15,16,10,13,9,11,13,17,8,8,8,9,18,19,15,17,8,13,17,19,11,13,14,17,12,13,14,16,12,13,13,14,9,9,11,13,11,14,13,14,11,11,12,20,28,14,10,10,16,22,22,12,12,13,15,14,11,12,13,16,18,11,11,25,12]
[null,null,null,null,null,"MT97172","X","Y",11,12,11,12,9,12,16,18,14,15.2,29,31,17,22,15,15,11,12,9,12,13,15,23,23,7,7,8,8,16,18,13,16,15,21,16,17.3,11,15,10,11,22,33.200000000000003,9,11,5,14,11,19,12,12,11,13,14,15,9,10,9,11,12,14,10,10,9,9,17,23,14,17,10,10,16,18,12,14,11,13,9,12,13,15,15,17,10,11,9,11,11,13,11,15,14,15,14,15,12,19,28,16,10,9,16,22,24,11,11,12,18,13,11,13,18,16,17,9,12,23,13]
[null,null,null,null,null,"MT97173","X","Y",10,14,12,12,11,12,14,15,13,15,29,30,20,21,15,15,12,13,7,11,13,16,21,22,7,9.3000000000000007,11,11,16,16,13,16,17,17,15,16,11,15,10,11,17,30.2,9,12,12,12,11,12,11,12,11,13,13,14,8,11,9,11,14,15,9,9,8,8,14,24,16,17,12,12,17,17,13,14,9,11,12,13,13,14,13,18,13,14,9,9,12,12,11,14,13,14,11,12,12,20,28,14,9,10,16,23,22,11,11,13,15,14,11,13,14,16,20,13,11,26,12]
[null,null,null,null,null,"MT97176","X","Y",11,13,11,13,10,13,12,12,14,14,30,31,16,24,15,18,11,12,12,12,14,15,21,24,6,9.3000000000000007,8,8,15,16,13,14,19,24,12,18.3,15,16,11,12,21,28.2,12,13,13,17,12,12,12,12,11,14,10,13,10,11,9,11,13,16,9,9,8,9,17,18,16,17,8,12,9,16,12,15,7,7,11,14,13,15,15,17,10,11,9,10,11,12,11,11,14,14,12,12,13,19,30,14,11,12,15,23,24,12,13,13,16,17,12,11,14,18,17,10,12,22,13]
[null,null,null,null,null,"MT97178","X","Y",12,13,10,12,11,11,15,17,15,15.2,30,30,24,26,15,16,12,13,9,11,9,13,18,23,9.3000000000000007,9.3000000000000007,8,11,17,18,13,13,17.3,22,14.3,16.3,11,11,11,11,17,29.2,10,12,7,10,11,18,7,11,11,11,14,15,11,12,9,9,13,13,8,9,9,9,14,18,14,17,8,8,16,17,12,13,7,11,11,11,14,15,13,17,13,14,10,10,12,13,11,12,9,14,11,15,12,20,28,15,10,10,16,21,22,11,11,13,14,14,11,13,14,16,21,12,12,26,12]
[null,null,null,null,null,"MT97179","X","Y",11,12,9,10,9,11,14,16,12,12,32.200000000000003,32.200000000000003,23,25,15,15,12,12,11,11,13,14,20,21,7,9.3000000000000007,8,11,17,17,14,14,20,21,12,14,15,16,10,14,18,25.2,11,12,7,9,11,14,12,12,10,13,13,14,9,12,9,9,12,14,8,9,9,9,17,18,14,14,10,10,17,19,12,13,9,11,12,13,13,13,13,18,13,13,7,9,10,11,11,14,12,13,11,11,12,21,28,15,11,10,16,20,23,11,11,14,16,15,12,14,15,14,18,12,9,21,13]
[null,null,null,null,null,"MT97184","X","Y",10,11,9,11,9,11,13,16,12,13,28,30,20,21,14,15,12,13,12,12,12,13,22,23,8,9.3000000000000007,8,11,17,18,14,14,18,19,16.3,17.3,14,16,11,11.3,26.2,27.2,12,12,10,12,12,18,7,13,13,13,13,15,11,12,11,11,15,17,9,10,10,11,14,18,14,17,8,13,15,16,11,12,7,11,12,12,14,14,13,15,10,13,9,10,11,11,11,11,14,16,12,15,13,19,29,14,10,12,15,24,24,11,13,13,17,15,12,11,15,18,18,10,13,22,13]
[null,null,null,null,null,"MT97185","X","Y",10,11,8,12,13,13,13,20,13,15,33,33.200000000000003,20,20,14,17,11,12,11,12,10,14,21,22,6,9.3000000000000007,8,11,16,19,13,13,17,22,15,16,16,16,10,11,22,29.2,13,14,12,22,11,11,11,12,11,13,14,14,12,12,9,11,12,15,10,10,8,11,14,17,15,17,10,10,9,20,12,12,9,14,11,13,13,14,13,13,13,14,9,10,10,12,11,14,12,13,11,11,13,19,31,15,11,11,15,23,24,12,13,13,17,16,14,11,15,17,16,10,12,21,14]
[null,null,null,null,null,"MT97186","X","Y",11,12,8,13,12,12,13,16,14,15,30,30,18,18,15,17,12,12,10,11,12,13,20,20,6,9.3000000000000007,8,11,14,15,13,13,17,18,12,17.3,11,15,11,11,12,25.2,9,13,7,17,12,19,11,12,13,14,14,15,9,12,9,10,13,13,9,9,8,9,14,17,14,14,10,12,13,16,12,13,9,11,12,12,13,14,13,17,10,13,10,12,12,13,12,13,13,14,11,11,13,19,29,14,11,12,15,23,24,12,13,13,17,16,12,11,14,17,16,10,13,22,14]
[null,null,null,null,null,"MT97187","X","Y",10,12,11,12,12,13,15,16,12,15,28,30,19,23,15,17,11,13,8,11,8,15,22,22,9.3000000000000007,9.3000000000000007,8,8,16,17,13,16,17,22,12,16,11,16,10,12,17,28.2,10,11,8,12,11,14,7,12,10,13,13,14,11,12,11,11,13,14,9,9,8,9,14,18,16,17,12,12,16,17,11,11,13,13,12,12,12,14,13,16,14,14,8,10,11,11,11,13,14,14,11,11,14,20,32,15,10,9,14,21,23,11,12,15,15,15,10,12,15,15,17,12,12,27,12]
[null,null,null,null,null,"MT97188","X","Y",11,12,8,11,11,12,13,14,13,16,28,30,17,23,16,16,11,13,9,10,12,13,21,22,7,9,11,11,17,17,14,17,15,23,12,14,15,17,10,15,27.2,28.2,10,14,7,17,12,19,12,12,10,13,14,15,10,11,9,11,13,13,8,9,8,9,18,18,16,17,10,10,9,16,11,13,7,15,13,17,13,15,15,17,14,14,10,11,11,12,10,11,15,15,11,11,13,19,29,13,11,12,15,23,24,13,13,12,16,15,13,10,15,18,17,10,12,21,14]
[null,null,null,null,null,"MT97189","X","Y",10,12,10,12,12,12,12,16,13,13,30,30,20,25,16,16,11,12,11,12,10,14,20,22,6,6,8,11,16,17,13,14,17,21,12,16,11,17,10,11,21,29.2,9,13,11,14,11,14,7,7,14,14,13,14,9,12,11,11,13,15,8,10,10,10,14,17,14,16,8,10,16,18,12,12,11,13,13,14,13,14,12,13,13,14,9,10,10,11,11,15,14,15,11,11,13,19,29,14,11,12,15,23,24,13,13,13,17,15,12,11,15,18,17,10,12,23,13]
[null,null,null,null,null,"MT97192","X","Y",12,12,11,11,11,12,17,21,13,15,28,29,20,24,15,15,11,13,8,10,11,13,19,21,9.3000000000000007,9.3000000000000007,8,9,18,19,14,15,18,22,12,16,11,15,11,14,20.2,30.2,12,13,5,12,12,19,7,12,13,13,14,15,10,10,11,12,15,16,9,10,9,9,17,18,14,17,12,12,9,17,11,13,12,13,13,14,12,13,17,18,10,14,9,9,11,11,12,14,13,16,11,15,13,19,28,14,11,12,15,23,24,12,13,13,17,15,12,11,15,17,16,11,12,21,13]
[null,null,null,null,null,"MT97195","X","Y",12,12,9,12,12,12,13,18,13,14.2,30,30.2,25,25,16,18,12,13,10,10,12,13,22,23,8,9.3000000000000007,8,11,16,19,15,16,19,21,12,17.3,11,17,14,14,16,21.2,9,12,5,16,11,12,12,12,10,11,14,14,10,11,11,12,13,13,9,10,10,11,14,23,14,15,8,11,16,16,13,13,14,16,12,13,13,15,13,13,13,14,10,11,11,11,13,13,13,14,11,11,12,19,28,14,10,10,16,21,23,11,11,13,15,14,12,13,15,16,17,12,11,25,12]
[null,null,null,null,null,"MT97196","X","Y",10,11,12,12,9,12,13,16,13,16,28,30.2,20,25,15,18,11,13,9,12,13,16,20,20,9.3000000000000007,9.3000000000000007,8,8,14,18,13,14,22,22,12,16,11,16,10,15,27.2,27.2,9,11,11,13,13,17,7,12,12,13,16,17,8,11,12,12,13,15,9,10,8,10,17,23,16,17,8,10,16,16,10,11,12,13,11,13,13,13,13,17,13,14,9,10,11,11,11,11,14,15,11,15,13,21,29,14,11,12,15,24,23,12,13,13,17,17,11,11,14,17,15,10,12,"22,23",13]
[null,null,null,null,null,"MT97199","X","Y",11,11,11,12,11,12,15,15,14,14,28,30,19,19,17,17,11,11,10,11,14,15,21,25,6,9.3000000000000007,9,11,16,16,15,16,21,21,13,15,15,17,14,14,22.2,30.2,12,12,10,11,11,12,12,13,11,14,13,14,8,11,11,12,14,16,9,10,9,12,17,17,14,17,8,10,15,16,12,12,13,14,12,12,14,14,13,17,14,14,9,9,11,12,11,11,14,15,11,14,12,19,28,14,11,13,15,23,24,12,13,13,17,17,12,11,13,16,17,10,13,22,13]
[null,null,null,null,null,"MT97200","X","Y",10,12,11,11,12,12,16,18,14,15,30,30,19,24,14,17,12,13,10,12,13,13,21,22,9,9.3000000000000007,8,8,16,17,13,16,18,19,11,12,15,17,10,14,26.2,28.2,11,12,10,11,11,14,7,12,13,13,13,14,12,13,9,12,13,18,9,10,9,10,17,18,14,15,8,10,17,19,11,12,7,15,11,13,13,14,12,15,13,14,10,11,12,12,13,14,13,16,11,11,13,19,29,14,11,12,15,23,23,12,13,13,16,17,11,11,13,17,17,10,12,22,13]
[null,null,null,null,null,"OT05560","X","Y",10,12,12,12,11,11,19,19,11,13.2,30,36,17,21,16,18,12,13,8,11,13,13,25,26,6,7,8,8,13,18,13,15,17,19,15,16.3,14,19,11,11,18,26.2,2.2000000000000002,12,7,17,11,20,12,12,10,14,12,13,9,9,11,11,13,16,9,9,10,11,17,20,14,17,9,10,17,17,11,15,10,13,11,14,13,14,17,17,10,12,8,8,11,12,13,14,14,15,11,11,13,19,29,14,10,12,15,23,24,12,13,12,18,16,12,11,14,18,17,10,12,26,12]
[null,null,null,null,null,"OT05562","X","Y",12,12,11,13,9,12,15,18,11,12,29,29,16,17,15,16,12,14,8,12,13,13,25,26,9,9,8,8,15,17,10,13,15,20.100000000000001,13,14,15,15,11,11.3,19,27.2,11,11,5,12,11,12,11,12,12,14,12,15,9,11,10,11,15,15,9,10,11,12,20,20,15,15,7,10,9,9,13,14,14,14,12,13,11,14,16,17,14,14,10,10,11,13,11,15,14,15,11,12,13,20,29,14,11,12,15,23,24,12,13,13,17,16,12,11,14,18,16,10,12,22,13]
[null,null,null,null,null,"OT05563","X","Y",7,11,11,12,11,12,15,15,13,14,28,32.200000000000003,23,26,16,16,12,13,7,11,13,16,19,23,7,7,8,9,17,18,14,15,18,19,13,14,11,16,11,14,13,18,9,11,11,16,13,15,7,11,13,13,14,14,12,12,11,11,16,16,9,9,9,9,18,20,14,17,7,10,13,13,11,12,11,14,13,13,14,15,15,15,10,14,9,9,14,14,11,12,13,14,8,11,13,20,30,16,10,11,14,20,21,12,11,16,17,16,12,16,17,17,18,13,11,26,11]
[null,null,null,null,null,"OT05565","X","Y",10,10,8,12,8,13,13,15,13,15.2,28,30,21,26,16,17,13,13,8,11,14,14,19,25,7,9,6,8,16,16,13,13,18,19.100000000000001,13,13,10,17,11,15,16,16,2.2000000000000002,8,8,16,11,12,9,12,13,14,13,13,11,12,11,11,14,16,9,9,8,11,14,20,17,18,7,8,16,16,11,12,15,16,12,12,13,16,14,14,13,14,8,11,11,12,12,15,12,14,11,14,13,20,29,14,11,13,15,24,25,12,13,13,19,16,12,11,11,16,17,10,12,22,13]
[null,null,null,null,null,"OT05568","X","Y",7,10,11,13,9,9,17,18,13,14,30,36,19,20,16,17,11,13,10,11,13,15,21,23,7,8,7,11,17,19,14,15,15,20,16,16.3,17,17,11,11,17,20,2.2000000000000002,2.2000000000000002,12,14,12,20,8,12,13,13,14,15,11,11,11,12,14,17,9,9,8,10,17,20,14,17,8,12,9,9,13,13,9,11,11,12,12,13,15,15,13,14,8,11,12,12,14,15,13,14,14,14,13,19,29,14,10,12,15,23,22,12,13,13,19,15,12,11,14,19,19,10,12,23,11]
[null,null,null,null,null,"OT05569","X","Y",10,12,11,13,8,11,12,15,11,12.2,28,33.200000000000003,17,25,15,17,12,13,8,11,13,15,21,23,7,8,11,11,15,16,11,13,18,24,15,15,14,15,10,11,20,20,8,13,7,13,11,17,7,11,14,14,13,15,9,11,10,11,15,16,9,10,11,11,18,18,17,17,7,8,9,9,11,13,10,12,12,14,14,15,12,17,12,13,10,10,10,12,13,15,12,14,12,15,13,19,30,14,10,12,15,24,26,12,13,13,17,15,12,11,14,17,17,10,12,23,13]
[null,null,null,null,null,"OT05570","X","Y",10,10,11,11,11,12,14,17,14,15,29,31.2,22,23,16,18,12,12,10,10,12,13,19,23,7,8,10,11,14,18,13,16,19,20,14,15.3,14,16,11,13,26.2,26.2,9,14,12,12,11,18,7,7,13,14,13,15,11,13,10,10,15,15,9,10,11,11,18,19,16,17,10,12,9,9,12,13,9,11,12,12,14,14,14,15,14,14,9,10,12,12,13,14,13,14,11,15,12,20,29,15,10,8,17,21,23,13,11,13,16,16,11,14,17,17,17,12,12,27,12]
[null,null,null,null,null,"OT05575","X","Y",10,12,8,12,12,12,14,19,12,15,28,29,19,20,16,16,11,11,8,10,13,16,20,21,7,9,10,11,14,17,14,15,16,21,12,15.3,16,16,11,14,22,26.2,11,12,8,12,12,18,12,13,11,13,15,15,9,12,9,9,16,17,9,10,8,10,15,17,17,18,7,12,9,9,12,14,11,14,11,12,14,15,15,15,10,14,9,10,13,13,11,13,13,15,14,14,13,19,30,14,11,12,15,23,24,12,13,13,17,16,10,13,14,18,17,11,12,22,13]
[null,null,null,null,null,"OT05576","X","Y",8,11,11,12,9,9,15,18,13,14.2,29,30,16,19,16,17,12,12,9,12,13,13,21,23,7,8,8,8,16,20,15,15,17,19.100000000000001,12,15,10,15,10,12,20,26.2,2.2000000000000002,7,8,8,11,18,11,12,12,13,16,16,10,11,11,11,16,17,9,9,11,12,14,20,14,16,10,12,9,15,12,12,9,11,13,13,12,14,13,15,14,14,8,12,11,12,13,14,13,14,11,12,13,21,31,15,10,12,14,21,21,11,11,12,17,15,12,16,17,15,18,14,11,28,12]
[null,null,null,null,null,"OT05578","X","Y",9,11,9,11,9,10,13,16,12.2,14.2,30,30,20,23,14,15,10,12,10,11,8,11,21,22,6,8,10,11,15,16,14,15,16,20,16.3,16.3,15,17,11,12,17,30.2,8,12,13,20,11,12,10,12,10,13,14,15,11,12,9,11,15,15,9,10,10,11,17,18,16,17,7,7,9,14,12,13,11,11,11,17,13,14,15,18,10,10,9,9,11,14,11,14,14,15,13,15,13,19,30,15,10,11,14,24,21,11,11,14,17,16,10,15,16,16,19,12,12,26,11]
[null,null,null,null,null,"OT05582","X","Y",10,10,10,12,9,13,12,16,14,15.2,29,33.200000000000003,19,20,16,18,11,12,8,12,13,14,20,21,8,9,8,11,15,17,13,16,15,23,13,14,11,17,11,14,17,19,7,12,5,9,15,19,7,12,10,13,12,13,11,11,11,11,15,15,9,9,11,11,14,20,14,17,8,10,9,9,12,12,12,14,12,12,15,15,16,17,13,13,9,9,12,13,12,12,14,15,12,15,14,21,31,15,10,11,14,23,21,13,11,13,17,15,12,15,16,15,18,13,11,28,12]
[null,null,null,null,null,"OT05587","X","Y",10,12,10,12,11,12,17,18,13,14,28,29,19,25,15,18,11,13,10,10,10,13,22,24,7,9,10,11,15,17,14,17,21,21,16,16.3,16,16,14,14,19,28.2,8,11,5,7,12,20,12,12,12,12,13,14,8,12,11,12,13,16,9,9,9,10,17,18,15,15,8,12,9,11,12,13,7,11,12,13,14,15,15,16,10,13,10,11,13,13,14,15,13,14,11,12,14,19,30,14,11,12,14,23,23,12,11,13,16,15,12,11,14,17,15,10,12,23,13]
[null,null,null,null,null,"OT05588","X","Y",11,13,12,13,9,11,18,21,13.2,15,27,30.2,23,24,15,16,12,12,10,11,9,13,25,25,8,9,9,10,15,17,13,14,16,21,12,14,11,11,11,11,16,18,10,13,14,16,14,20,12,12,11,14,12,13,7,10,10,11,14,17,8,9,8,8,17,20,15,15,7,8,9,11,12,13,11,12,13,13.3,13,14,15,15,14,14,11,11,12,13,12,14,14,15,11,11,13,21,30,15,10,11,14,21,23,12,11,15,15,18,11,17,19,19,16,13,11,25,12]
[null,null,null,null,null,"OT05589","X","Y",7,12,11,12,9,14,17,19,13,14,28,29,17,19,16,16,12,12,10,11,15,16,19,23,8,9,9,9,15,16,13,14,18,23,12,15,11,15,11,14,18,28.2,2.2000000000000002,7,13,15,15,19,7,9,10,11,14,15,9,12,9,11,16,17,9,9,8,11,18,18,15,17,8,14,9,16,11,12,14,16,12,12,13,14,14,16,13,14,8,11,12,12,13,15,14,14,14,15,13,19,30,14,11,12,15,24,24,13,13,13,17,16,12,11,14,19,18,10,14,22,13]
[null,null,null,null,null,"OT05591","X","Y",12,12,12,12,9,13,15,19,14,14.2,28,28,19,21,14,17,11,11,9,10,11,14,22,25,7,8,8,10,13,16,16,16,17,21,14,17.3,11,14,11,11,18,27.2,2.2000000000000002,11,5,11,12,13,12,12,10,13,13,15,9,12,11,12,14,15,8,9,8,11,15,20,14,14,7,10,9,11,11,12,15,16,13,14,12,16,15,15,14,14,7,11,11,13,10,15,14,14,11,14,13,20,29,14,10,10,16,21,23,11,11,13,15,14,11,13,14,16,20,12,11,25,11]
[null,null,null,null,null,"OT05592","X","Y",8,11,9,12,10,11,16,18,11,15.2,30,32.200000000000003,18,23,17,17,10,12,8,12,13,13,22,26,7,9.3000000000000007,8,9,16,17,12,13,20,24,16,16,16,17,10,14,16,29.2,11,12,16,16,12,19,7,12,13,14,14,15,12,12,9,11,13,14,9,9,10,11,18,18,16,17,12,12,9,9,13,14,10,14,12,13,14,15,14,17,10,14,9,12,12,12,11,13,14,14,11,13,13,20,30,13,10,10,14,23,23,13,11,13,14,15,12,16,17,15,19,14,12,21,12]
[null,null,null,null,null,"OT05593","X","Y",10,12,11,12,9,9,18,19,13,14,28,32.200000000000003,21,24,16,17,11,12,7,11,12,14,24,27,7,8,8,8,15,17,13,16,17,19,14,14,17,18,11,14,18,29.2,5,11,8,15,12,12,11,13,11,13,14,14,11,11,10,12,16,17,8,9,11,11,14,17,15,17,10,12,9,9,10,12,9,13,12,13,11,14,15,15,12,14,9,11,12,12,15,16,14,15,11,15,14,18,30,14,11,12,14,23,24,12,13,13,16,16,12,11,16,18,17,10,13,22,12]
[null,null,null,null,null,"OT05594","X","Y",10,11,12,12,10,12,16,20,12,15.2,30,31.2,18,21,16,17,11,12,10,10,13,15,21,25,7,9,8,8,15,15,13,14,17,23,13,15,8,11,11,14,14,20,9,10,10,18,18,21,7,12,13,13,15,16,11,12,11,11,14,14,8,9,10,11,17,20,14,18,8,12,9,17,13,13,16,16,13,13,13,14,14,15,13,15,7,10,13,13,13,14,12,14,11,16,12,19,28,14,11,12,15,22,25,11,11,13,17,15,11,14,14,16,20,12,11,26,13]
[null,null,null,null,null,"OT05597","X","Y",10,11,11,13,9,12,10,15,10,15,29,35,17,23,15,15,10,12,8,9.3000000000000007,12,16,20,29,7,9.3000000000000007,9,12,15,17,11,15,17,19,11,16,15,17,10,11,20,30.2,12,13,8,8,11,20,12,12,13,14,9,16,11,12,9,11,15,16,9,10,8,11,14,17,16,17,7,10,9,9,12,13,15,17,12,16,12,13,12,15,12,14,9,11,12,13,12,14,13,14,11,14,12,21,28,15,10,10,16,21,22,11,11,13,16,15,12,12,15,17,19,11,9,22,12]
[null,null,null,null,null,"OT05598","X","Y",11,12,11,12,11,12,12,14,12.2,14,30,30,23,23,15,18,12,13,11,12,12,15,19,22,9,9,9,10,17,17,14,17,17,19,12,15,16,16,11,14,15,19,5,10,5,17,11,20,12,12,12,13,12,14,10,12,9,13,12,14,8,9,12,12,17,17,14,15,8,10,9,11,11,11,7,11,12,12,13,15,13,17,11,13,9,11,11,12,14,15,13,13,11,15,13,21,30,16,10,11,14,21,21,12,11,15,16,15,12,17,19,17,22,12,11,25,11]
[null,null,null,null,null,"OT05599","X","Y",10,11,11,13,9,12,16,17,14,15,28,29,18,19,15,18,8,11,8,9,13,14,22,25,7,7,8,11,16,19,14,15,17,18,14,16,10,12,11,14,18,18,2.2000000000000002,11,8,12,12,12,7,11,11,11,14,18,9,13,9,11,14,16,9,9,11,11,20,23,15,17,8,12,9,9,12,12,12,15,13,13,13,14,14,18,13,14,8,11,11,12,10,13,11,13,11,14,12,"18,20",29,15,10,9,16,19,22,12,12,13,16,15,11,13,15,19,17,13,11,27,12]
[null,null,null,null,null,"OT05600","X","Y",10,12,11,13,11,13,15,15,11,13,29,33.200000000000003,17,19,15,17,10,12,11,12,15,15,19,20,7,8,9,10,14,19,13,17,20,20,12,14,12,16,11,15,18,19,8,8,5,8,18,24,11,12,11,13,13,13,8,8,9,11,12,12,9,9,8,11,14,17,14,18,8,8,9,9,14,14,9,11,13,16,12,12,15,16,10,13,8,10,12,13,11,11,13,13,13,14,12,19,28,14,11,12,15,23,24,11,13,13,15,16,12,11,14,17,17,11,13,22,13]
[null,null,null,null,null,"OT05601","X","Y",9,12,12,13,13,14,16,19,11,14,27,30,20,25,16,16,10,12,8,10,15,16,22,26,8,9.3000000000000007,9,11,15,20,16,17,17,20,12,13,10,16,12,14,17,28.2,12,12,7,7,13,18,10,11,13,14,13,16,9,10,10,10,13,14,8,9,9,9,18,18,16,18,7,7,9,9,10,13,9,11,13,14,13,14,15,16,14,16,8,9,12,12,13,14,14,15,11,11,13,21,30,17,10,11,14,21,22,13,11,14,16,18,11,17,17,18,16,13,11,24,11]
[null,null,null,null,null,"OT05603","X","Y",11,12,12,13,9,11,16,17,13,14,28,28,17,18,15,17,12,13,10,10,12,13,20,25,8,9.3000000000000007,6,9,18,18,12,13,18,20,10,15,15,15,11,11,14,19,10,11,10,18,11,12,12,12,11,14,14,15,11,11,10,13,14,17,8,9,9,9,20,24,15,17,12,12,9,17,12,13,7,11,11,12,13,16,13,15,14,14,9,10,13,13,14,14,14,14,14,14,13,21,31,15,10,11,14,21,21,12,9,13,16,15,12,15,18,15,19,13,11,28,11]
[null,null,null,null,null,"OT05888","X","Y",10,11,11,11,10,13,16,20,11,12,31.2,36,18,20,15,17,12,13,9,11,13,14,19,20,7,8,8,11,16,18,14,14,17,18,13,16,16,17,11,14,17,19,9,11,12,14,12,20,10,12,11,14,13,15,10,11,9,10,14,14,9,9,11,11,14,14,14,17,7,8,9,16,12,12,12,14,12,14,12,14,14,14,14,14,10,10,12,12,11,14,14,14,11,11,14,20,31,16,10,11,14,22,22,11,11,13,17,15,10,16,17,16,14,13,11,27,13]
[null,null,null,null,null,"OT05890","X","Y",7,8,10,12,11,12,12,18,13,14,30,32.200000000000003,19,22,16,17,11,12,9,10,16,16,19,24,7,8,6,11,16,18,14,17,17,21,13,14,12,17,10,11.3,19,28.2,2.2000000000000002,12,13,17,12,14,11,12,13,14,14,16,10,11,11,11,14,16,8,9,8,12,17,18,15,15,10,12,17,17,9,12,11,12,12,14,13,14,11,17,12,14,10,11,12,15,12,14,14,15,11,14,12,20,29,15,10,8,17,20,22,12,11,13,18,15,12,14,15,18,15,12,12,29,13]
[null,null,null,null,null,"OT05892","X","Y",8,11,12,12,9,12,13,17,13,14,29,35,24,25,15,18,11,11,10,10,12,14,23,24,7,8,9,10,17,17,14,15,17,21,11,14,11,14,11,14,19,27.2,2.2000000000000002,8,8,17,12,19,9,12,14,14,14,14,12,12,10,11,14,15,9,9,10,11,14,17,17,17,8,8,9,17,11,12,9,13,12,13,13,14,13,15,14,15,9,10,12,12,12,15,14,15,12,13,12,20,28,14,10,10,16,22,23,11,11,12,15,14,11,14,14,17,20,12,11,25,12]
[null,null,null,null,null,"OT05893","X","Y",11,11,11,11,10,13,15,17,13,15,28,30,17,25,15.2,16,10,11,8,12,13,14,24,26,7,9,8,9,16,17,15,15,17,17,17,17,10,15,11,14,17,18,2.2000000000000002,9,5,7,17,19,12,12,13,14,15,16,10,12,10,11,16,16,9,9,11,11,20,20,17,18,8,12,9,9,10,12,10,12,12,13,14,15,12,12,12,12,11,12,12,13,11,14,14,15,11,12,13,21,30,17,10,11,14,21,21,11,11,15,16,17,11,16,18,16,17,14,11,25,13]
[null,null,null,null,null,"OT05896","X","Y",11,12,12,12,11,11,18,18,14,14,30,30,20,22,15,17,11,12,10,10,14,15,19,25,8,9,8,10,15,18,15,15,18,18,13,16.3,15,15,11,12,18,19,12,14,11,14,13,18,12,13,11,13,12,15,10,13,9,9,15,16,9,9,8,12,20,23,14,15,8,9,9,9,12,13,11,16,12,13,12,14,14,16,10,14,11,11,12,12,11,14,13,14,11,14,13,21,31,16,10,11,14,21,21,11,11,15,16,16,10,16,18,17,17,13,11,25,11]
[null,null,null,null,null,"OT05897","X","Y",12,13,11,12,11,13,15,17,14,14.2,27,30,16,21,16,18,12,12,8,8,13,13,22,23,7,8,11,11,16,18,13,15,18,25,14,14,15,17,13,13,19,22,10,11,7,7,12,12,7,9,13,13,13,17,10,12,10,10,14,17,9,9,10,11,20,20,14,14,8,12,9,14,12,14,7,10,12,13,11,13,12,18,13,14,7,9,11,13,10,14,14,15,11,11,13,21,30,14,10,11,13,21,21,12,11,13,16,16,11,16,17,17,17,13,11,24,11]
[null,null,null,null,null,"OT05898","X","Y",8,11,12,13,11,11,17,17,14,16.2,29,32.200000000000003,23,23,14,15,8,12,8,13,13,15,19,22,8,9,6,9,15,17,12,13,15,21,15,16.3,10,17,14,14.3,17,19,11,11,5,9,11,12,8,12,11,13,13,13,9,11,9,10,14,14,9,9,9,10,17,20,16,17,7,9,16,16,12,13,11,13,12,13,12,14,15,17,14,14,10,11,13,13,12,13,13,15,11,14,13,21,30,15,10,10,16,19,22,12,12,13,17,15,11,12,13,16,17,9,10,24,13]
[null,null,null,null,null,"OT05899","X","Y",7,11,12,12,9,11,15,16,13,15.2,28,32.200000000000003,20,21,13,16,8,11,11,12,13,14,22,22,7,7,7,10,16,17,13,15,15,18,14,15.3,12,17,11,14,17,20.2,2.2000000000000002,12,8,8,12,18,11,12,13,13,15,15,11,12,11,12,12,14,9,10,11,11,14,17,14,15,7,8,9,11,10,13,9,14,11,13,11,14,11,12,12,13,9,9,11,12,11,13,14,15,11,14,13,21,31,15,10,11,14,21,22,12,11,13,15,15,12,16,17,16,19,13,10,28,11]
[null,null,null,null,null,"OT06795","X","Y",12,12,8,9,12,13,13,14,13,16.2,29,30,20,24,17,17,11,13,11,11,11,17,23,26,7,9,8,9,17,18,12,12,17,19,11,15,11,15,11,11.3,18,22.2,9,9,11,15,13,18,7,12,13,13,14,15,9,11,9,13,14,14,10,10,9,10,18,18,16,17,10,12,16,16,12,14,12,13,13,14,14,15,12,17,13,14,10,11,12,13,11,11,14,14,11,15,12,19,30,13,10,10,15,20,25,11,12,12,20,14,12,12,16,19,16,11,11,23,12]
[null,null,null,null,null,"OT07785","X","Y",11,12,11,11,9,9,12,16,13,14,30,30.2,17,17,15,18,11,13,12,12,10,12,20,23,6,7,8,8,16,17,13,14,19,22,14,15.3,11,14,10,11,12,20,8,10,12,19,18,20,12,12,11,13,15,15,8,11,9,10,13,17,9,10,9,11,17,18,17,17,10,11,16,16,12,14,7,13,13,13,11,13,12,15,13,14,11,11,12,13,11,11,14,16,11,14,12,19,28,14,11,12,15,24,23,12,13,14,17,16,12,11,14,17,18,10,12,22,13]
[null,null,null,null,null,"PT83535","X","Y",12,13,12,13,11,12,15,16,13,15,27,32.200000000000003,19,23,14,15,11,12,7,8,13,13,20,20,7,9.3000000000000007,8,10,14,14,13,14,20,20,15.3,16.3,15,16,14,14,20.2,25.2,9,13,7,7,11,19,11,12,14,14,13,14,10,13,9,9,15,16,9,10,9,10,23,23,15,16,8,12,16,16,11,13,9,11,11,12,13,14,17,17,14,16,9,10,11,13,11,14,13,14,11,15,13,19,29,14,11,12,15,23,24,12,13,13,18,14,12,11,15,17,20,10,13,22,13]
[null,null,null,null,null,"PT83862","X","Y",10,12,11,13,11,14,15,17,13.2,14,27,30,16,21,15,15,11,12,9,12,13,13,26,27,9,9,8,10,16,18,13,15,16,25,15,16,11,15,10,12,21,25.2,2.2000000000000002,11,12,13,12,19,12,12,13,13,12,13,9,12,10,12,16,16,9,9,8,11,14,17,15,17,8,13,9,13,11,13,9,16,13,13,13,15,11,13,13,13,10,12,12,12,13,15,14,15,14,15,13,21,31,16,10,11,14,21,21,13,11,14,16,15,12,16,19,15,20,13,11,28,11]
[null,null,null,null,null,"PT83867","X","Y",11,12,11,12,12,13,16,16,11,13,27,28,21,22,15,16,12,13,8,13,11,15,19,22,7,9.3000000000000007,8,8,15,19,12,14,15,20,15,16.3,14,17,11,14,26.2,31.2,9,13,11,12,18,19,10,12,11,13,15,15,11,11,9,11,14,16,9,9,9,10,14,17,15,17,9,10,9,9,11,11,9,10,12,13,11,12,12,12,14,14,10,11,12,13,14,14,11,14,15,15,14,20,30,16,10,11,14,21,21,12,11,13,17,14,11,16,17,15,20,13,10,26,11]
[null,null,null,null,null,"PT83872","X","Y",12,12,12,12,9,11,18,19,13,13,32.200000000000003,35,19,21,16,17,9,11,10,11,13,16,21,26,6,7,6,10,15,17,14,15,16,17,13,16,15,17,14,14,18,19,9,12,12,12,18,19,11,12,13,16,12,14,12,13,11,11,14,15,9,9,10,12,20,24,14,17,7,8,18,18,12,13,11,15,12,13,15,15,15,18,10,10,10,10,13,14,14,14,14,14,15,16,13,21,30,17,10,11,14,21,21,12,11,15,17,18,11,17,19,19,17,12,11,25,11]
[null,null,null,null,null,"PT83880","X","Y",10,10,10,11,10,12,12,16,13,14,28,33.200000000000003,21,23,14,17,11,11,7,10,12,14,23,24,7,9,9,10,17,18,12,12,18,23,11,18.3,15,16,11,14,13,18,8,11,8,15,13,20,7,13,13,13,12,15,12,12,11,12,14,15,8,9,8,9,17,18,15,16,8,10,9,11,12,13,11,16,13,17,14,14,15,17,12,12,9,10,10,13,13,15,14,15,12,15,13,21,31,15,10,11,14,21,21,11,12,13,17,14,11,16,17,16,17,14,11,27,11]
[null,null,null,null,null,"PT83885","X","Y",8,9,10,10,11,12,15,18,12,15,30,31,20,25,15,17,9,13,9,10,11,13,25,27,6,9,8,11,16,19,13,14,17,18.3,13,15,10,16,11,14,19,19,2.2000000000000002,13,7,15,13,15,7,12,14,15,14,16,10,14,10,11,14,14,10,10,8,11,17,18,14,15,10,12,9,17,13,13,7,12,12,13,11,14,14,16,14,14,8,8,12,13,11,15,13,15,11,15,13,19,29,14,11,12,15,23,24,12,13,13,17,17,12,11,14,18,18,10,13,22,13]
[null,null,null,null,null,"PT83891","X","Y",11,11,12,12,11,11,12,16,13,14.2,30,32.200000000000003,19,22,15,16,8,12,11,11,12,15,22,23,7,9,8,9,17,17,13,14,15,17.3,15,16,12,15,12,13,19,26.2,7,9,8,10,12,19,12,13,14,14,14,14,10,12,9,11,14,14,9,9,10,12,14,18,14,15,12,12,9,17,12,13,10,11,12,14,11,12,13,19,14,14,10,10,12,12,11,14,13,15,13,13,12,21,31,15,11,10,14,17,23,12,11,13,16,14,12,12,12,17,16,12,11,24,12]
[null,null,null,null,null,"PT83897","X","Y",10,11,12,13,8,13,16,17,12,12.2,30,30,17,22,15,17,12,15,9,11,14,15,22,26,7,9.3000000000000007,7,8,15,16,11,14,15,20,14,16,16,16,14,14,13,17,2.2000000000000002,7,8,12,15,18,12,12,10,14,15,15,9,11,11,12,14,16,8,8,8,9,14,18,17,17,7,8,13,17,12,13,10,14,13,14,12,14,14,15,14,14,9,10,12,12,10,14,12,14,11,11,13,21,30,15,10,11,14,22,21,12,11,14,17,15,11,16,16,15,19,15,10,23,11]
[null,null,null,null,null,"PT83907","X","Y",8,12,9,11,11,14,17,18,11,14,28,28,16,21,16,16,12,13,9,10,13,14,19,24,6,7,8,11,15,19,13,15,19,21,12,15,17,17,10,11,16,21,2.2000000000000002,12,12,15,11,18,11,12,12,13,13,15,12,12,11,12,15,16,8,9,10,11,17,20,15,17,9,12,9,18,12,12,10,11,12,12,12,15,15,15,10,13,11,11,11,12,11,14,14,14,12,14,13,21,31,15,10,11,14,22,21,12,11,13,15,15,12,15,19,15,19,13,11,28,12]
[null,null,null,null,null,"PT83909","X","Y",12,12,13,13,12,14,13,16,12,12,30,30,21,23,14,17,13,13,11,11,13,15,20,20,7,8,9,9,16,19,14,15,15,18,16,16.3,10,15,11,14,16,17,2.2000000000000002,8,5,14,11,13,7,12,11,11,15,15,11,11,10,11,15,17,9,10,10,11,17,23,18,18,7,8,9,17,12,13,11,11,12,13,15,15,17,18,10,14,9,10,12,12,13,15,12,14,11,13,13,21,30,15,10,11,14,21,23,12,11,13,15,14,10,15,17,16,14,12,11,26,12]
[null,null,null,null,null,"PT83918","X","Y",10,10,9,12,9,11,14,18,12,15.2,29,29,23,26,14,16,12,13,10,11,12,14,23,25,9,9.3000000000000007,8,9,15,17,14,14,16,23,15,16.3,15,16,10,11.3,21,23.2,5,11,17,20,11,19,7,12,13,13,12,13,10,11,9,9,15,15,9,9,9,10,14,14,13,14,10,10,9,9,12,12,11,12,12,14,14,14,12,17,10,13,10,11,12,13,12,13,14,15,11,11,14,22,32,16,10,11,14,21,21,13,11,13,20,15,12,15,18,18,16,13,11,29,12]
[null,null,null,null,null,"PT83978","X","Y",7,13,11,12,10,11,15,17,12.2,13,28,29,21,21,17,17,12,12,8,9,15,15,22,24,7,7,7,8,16,17,13,14,18,19.3,12,15,16,17,11,12,16,19,7,11,12,15,13,19,8,12,10,14,14,15,11,12,10,10,15,17,9,9,10,11,20,20,14,17,7,8,11,16,13,13,11,13,11,15,14,15,15,16,10,10,10,11,12,12,14,14,13,16,10,12,13,"19,20",30,15,10,9,16,20,22,12,11,13,15,15,11,14,17,14,19,13,14,26,12]
[null,null,null,null,null,"PT84185","X","Y",10,10,11,12,9,12,18,20,14,18.2,30,30,24,25,14,17,12,13,10,10,12,18,18.2,22,7,8,9,11,15,17,12,14,18,20,16.3,16.3,11,16,11,11.3,29.2,31,5,12,13,16,11,19,11,12,11,14,15,15,11,12,9,11,16,16,9,9,11,11,14,22,15,17,7,7,9,11,11,11,10,10,11,13,13,14,15,15,10,13,7,10,11,12,14,15,14,15,14,16,12,21,29,14,11,11,14,24,21,11,11,14,17,15,11,16,16,16,20,13,10,25,12]
[null,null,null,null,null,"PT84189","X","Y",11,12,11,11,11,11,15,17,12.2,15.2,29,31,21,21,14,16,8,12,8,9,12,15,22,24,7,9,8,11,16,17,12,14,18,19,17,17,11,15,11,14,14,15,8,13,5,15,12,12,12,13,13,14,13,16,11,12,9,11,14,17,9,9,9,10,14,17,16,18,7,8,9,17,9,12,11,16,12,13,12,13,12,18,10,14,10,10,12,12,14,14,14,14,11,13,14,21,31,15,10,11,14,21,21,11,12,14,17,16,11,14,17,15,17,13,11,25,12]
[null,null,null,null,null,"PT84198","X","Y",10,12,12,12,11,11,15,16,11,14,29,29,21,23,15,15,11,12,9,10,12,14,19,28,7,8,6,11,15,17,14,16,15,17,14,16,15,17,12,14,18,29.2,12,12,13,13,18,19,11,12,13,13,13,15,11,11,9,10,16,16,8,8,9,12,14,20,14,16,7,8,9,18,12,13,12,14,12,13,13,15,16,18,12,12,11,11,11,12,13,14,14,14,14,14,13,22,31,16,10,11,14,21,21,12,11,13,18,16,12,17,18,17,15,13,11,29,12]
[null,null,null,null,null,"PT84208","X","Y",10,12,11,13,11,11,12,20,13,15,27,29,16,19,16,17,11,13,10,11,14,14,20,26,6,7,9,10,16,18,11,14,18,19,13,15,15,16,10,11,19,31.2,9,15,13,16,12,19,12,12,11,13,10,13,9,11,9,11,13,15,9,10,8,9,17,18,14,17,10,12,9,17,12,13,7,9,12,14,13,14,12,18,10,14,11,11,13,13,12,13,15,15,11,11,13,19,29,14,10,11,15,23,24,13,13,12,16,15,13,11,14,18,17,10,12,22,13]
[null,null,null,null,null,"PT84212","X","Y",10,12,11,12,9,12,16,17,12.2,13,31,31.2,17,19,15,17,12,12,8,9,12,13,22,29,9,9.3000000000000007,8,8,14,16,13,15,17,20,11,14,15,16,11,11,15,23,8,13,5,13,12,13,7,12,11,13,16,17,9,10,9,10,15,16,8,9,7,9,14,20,14,16,10,13,9,14,11,12,9,11,13,14,15,15,13,16,10,14,7,12,12,13,12,14,13,14,13,15,13,20,30,15,11,11,14,21,21,11,11,13,16,15,11,15,18,17,19,14,11,25,11]
[null,null,null,null,null,"PT84215","X","Y",7,11,12,12,9,11,15,16,13,14,31.2,32,19,23,15,16,12,12,8,9,12,14,22,22,8,9.3000000000000007,8,11,14,16,14,15,19,25,12,17,14,16,11,11,23.2,34,9,11,5,13,12,20,12,12,14,15,16,16,9,10,9,11,17,17,9,9,8,8,17,20,17,19,8,8,9,16,11,15,11,14,13,14,14,16,12,17,10,14,9,10,12,14,14,14,13,14,11,15,13,21,30,15,10,11,14,21,21,11,11,13,16,15,11,16,17,15,19,14,11,22,11]
[null,null,null,null,null,"PT84227","X","Y",8,10,11,12,9,11,12,22,13,13,31.2,32.200000000000003,18,20,15,17,9,12,10,11,12,15,20,22,6,8,8,9,15,16,11,13,15,20,13,17.3,11,15,11,13,14,19,11,11,12,16,13,15,11,12,13,14,14,17,12,13,11,11,13,14,9,10,9,11,14,20,14,16,8,10,9,16,12,12,10,12,11,16,11,13,13,15,10,14,10,10,11,12,14,14,14,14,11,13,13,20,29,15,10,10,15,19,24,12,12,15,16,14,11,16,16,18,18,11,11,25,11]
[null,null,null,null,null,"PT84232","X","Y",9,10,12,13,11,12,14,20,13.2,14,27,28,19,21,15,16,9,10,8,10,13,14,20,25,7,7,8,9,15,19,13,14,18,20,14,15,15,15,10,11,14,18,11,11,5,14,13,18,7,12,10,14,16,16,9,11,10,10,16,17,9,9,8,9,17,20,16,17,7,11,9,18,12,14,13,15,13,13,13,14,14,15,10,10,9,9,12,12,10,12,13,15,11,14,13,19,29,15,10,12,15,23,25,13,13,12,17,16,12,11,15,17,17,10,12,22,12]
[null,null,null,null,null,"PT84241","X","Y",12,13,12,13,11,13,16,17,13,15.2,29,29,22,22,14,18,11,12,10,10,10,14,23,25,6,7,8,8,18,18,13,16,17,18,10,14,15,17,10,11,20,26.2,11,11,13,16,11,12,12,12,13,13,13,14,10,12,9,12,13,17,9,9,9,11,14,14,14,15,7,8,9,16,12,12,12,15,12,12,12,13,15,15,13,14,9,10,11,12,13,14,14,14,11,15,13,19,30,16,10,11,14,23,25,12,11,13,14,15,12,11,13,17,19,10,12,23,12]
[null,null,null,null,null,"PT84248","X","Y",10,12,11,12,9,14,15,18,13,13,31,31,22,22,14,16,12,12,10,12,14,15,22,22,6,9.3000000000000007,8,9,15,19,12,14,15,18,16,16.3,15,16,11,14,14,25.2,9,11,7,12,11,15,8,12,13,13,12,14,12,12,9,10,14,14,9,9,11,12,17,18,15,17,10,13,9,10,12,12,11,17,11,13,11,15,15,15,10,13,10,11,11,13,13,15,14,15,11,14,13,19,30,14,11,11,15,23,24,11,13,13,17,17,11,11,13,18,18,10,12,22,12]
[null,null,null,null,null,"PT84251","X","Y",12,12,11,11,11,12,13,15,13,14,30,30,17,21,17,19,11,13,8,10,14,15,22,24,8,9.3000000000000007,8,11,17,18,12,14,18,18,13,16.3,15,17,11,12,16.2,28.2,10,11,11,14,14,15,7,12,10,14,12,14,11,12,9,12,14,14,8,8,10,11,14,20,14,14,8,8,9,17,10,11,11,13,13,15,12,14,12,16,10,10,9,11,10,12,13,13,14,14,11,14,13,21,30,14,10,11,13,21,21,11,12,13,16,16,11,17,18,18,12,13,11,26,11]
[null,null,null,null,null,"PT84349","X","Y",11,12,9,13,8,12,13,15,14,15,31,32.200000000000003,20,22,16,17,11,12,7,12,10,14,18,23.2,6,6,8,8,16,17,12,14,17,22,13,14,15,16,11,14,18,27.2,12,12,7,20,11,12,7,12,15,15,13,14,10,11,11,12,13,15,8,9,9,11,14,18,16,18,10,10,16,16,12,13,14,17,11,12,14,15,15,15,13,14,7,9,11,11,12,14,13,13,12,15,15,20,31,13,9,10,14,21,24,10,11,13,18,16,12,13,14,18,22,12,11,27,11]
[null,null,null,null,null,"PT84411","X","Y",11,12,8,12,9,10,12,16,13,15,31.2,33.200000000000003,18,20,14,17,10,12,8,13,11,14,21,25,7,9.3000000000000007,11,12,18,19,13,14,19,21,15,17.3,10,17,11,11,14,17,12,16,5,10,12,22.3,12,12,13,13,15,16,9,11,11,12,13,15,9,10,10,12,18,18,15,18,8,10,17,17,13,13,7,12,11,12,12,13,13,17,10,14,10,11,13,13,13,15,12,15,11,11,13,21,29,16,10,11,13,21,21,13,11,15,16,16,11,16,17,15,17,13,13,25,11]
[null,null,null,null,null,"PT85278","X","Y",10,12,11,14,11,11,17,17,14,14,31,33.200000000000003,19,25,16,18,11,12,11,12,15,15,21,27,6,7,10,10,18,19,13,13,18,26,14,16,15,15,10,14,19,26.2,13,13,9,16,15,18,12,12,13,14,12,17,10,12,11,12,16,17,8,9,9,10,17,18,15,18,10,10,9,16,11,12,13,14,12,13,13,14,13,15,10,13,9,12,12,12,11,12,13,14,11,11,13,18,29,15,11,12,15,23,23,12,13,13,18,15,12,11,14,19,18,10,12,22,12]
[null,null,null,null,null,"PT86478","X","Y",10,11,9,14,12,12,12,18,14,17,28,29,25,25,16,18,10,11,8,8,10,12,19,21,6,9.3000000000000007,8,8,15,15,13,14,18,21,14,15.3,15,16,10,11,17,19,11,13,7,7,12,19,11,12,10,11,13,13,9,11,11,11,15,15,9,9,8,11,14,17,15,16,8,10,16,17,11,13,11,14,12,13,13,14,13,17,13,14,9,9,11,12,11,12,9,14,11,11,12,19,28,14,11,12,15,24,23,12,13,13,17,17,11,10,14,17,16,10,12,23,13]
[null,null,null,null,null,"TT50705","X","Y",11,12,11,11,11,12,17,17,14,14,31,31,18,23,17,17,11,12,8,11,12,14,21,22,6,9.3000000000000007,8,11,17,17,14,15,16,22,15,17.3,11,17,11.3,15,15,28.2,9,13,12,13,12,17,12,12,11,14,13,14,12,12,10,11,14,15,8,9,8,9,14,18,16,17,10,12,9,18,11,12,9,11,11,12,13,13,12,15,13,14,9,10,11,11,11,13,14,15,15,16,13,19,30,15,11,12,15,23,24,12,13,13,17,16,11,11,13,21,18,10,14,22,12]
[null,null,null,null,null,"TT50916","X","Y",8,9,11,13,12,13,15,16,13,14.2,27,28,20,25,14,18,9,11,8,10,13,15,22,23,7,9,10,11,14,15,13,15,17,21,14,15,17,17,11,14,20,20,2.2000000000000002,13,12,17,12,16,11,12,10,13,13,14,10,13,10,12,13,16,9,9,9,11,17,18,15,17,7,7,9,9,12,13,14,16,12,14,15,16,15,17,10,13,11,11,11,12,11,13,14,14,11,15,13,19,29,14,10,12,15,23,24,12,13,13,18,15,12,11,14,17,18,11,12,23,13]
[null,null,null,null,null,"TT51023","X","Y",11,12,9,11,10,11,15,17,13,14,30,32.200000000000003,17,25,16,16,11,12,10,11,10,14,23,25,7,7,8,8,17,18,13,14,18,19,15,16,15,15,10,11,25.2,28.2,9,12,13,15,18,19,7,13,13,14,12,13,9,10,9,12,13,16,8,9,9,9,14,17,14,15,8,9,16,19,13,13,11,14,13,13,12,13,17,17,14,14,9,9,12,12,11,13,14,15,11,15,12,23,29,15,11,10,16,23,21,11,11,15,18,15,11,13,16,15,18,12,10,22,12]
[null,null,null,null,null,"TT51208","X","Y",11,12,9,11,9,10,15,21,12,13,30,31.2,23,24,16,18,11,12,10,12,11,15,21,23,6,9.3000000000000007,8,11,15,17,13,15,17,17,13,15,15,16,10,10,21.2,29.2,2.2000000000000002,6,10,12,17,18,12,12,14,16,13,15,9,12,9,9,15,15,9,10,8,9,17,23,14,17,9,10,9,17,12,12,11,13,12,12,13,15,12,17,10,10,7,9,11,11,11,13,16,16,11,14,13,19,30,15,11,12,15,23,25,12,13,14,17,16,12,11,14,18,18,10,12,23,14]
[null,null,null,null,null,"TT51399","X","Y",10,12,10,10,10,11,12,13,13,14,29,32.200000000000003,20,25,15,15,7,11,11,12,13,13,25,27,6,7,8,12,16,18,15,15,20,24,11,14,16,16,10,14,18,24.2,12,13,10,19,11,13,7,12,13,13,14,15,13,14,9,11,13,14,9,10,8,9,17,18,15,17,8,8,16,16,12,13,11,13,12,13,13,13,14,15,13,15,9,10,12,12,14,14,14,14,11,11,13,20,30,13,10,11,14,22,24,12,16,13,17,15,12,14,17,18,18,11,11,25,13]
[null,null,null,null,null,"TT51511","X","Y",11,12,9,9,11,12,13,22,12,13,30,32.200000000000003,16,17,15,17,12,12,8,10,12,14,20,25,7,7,11,11,15,16,13,14,17,19,12,17.3,15,16,10,10,17,18,11,12,13,17,14,23.3,11,12,13,14,14,15,8,13,9,10,13,16,9,10,10,11,14,23,15,17,8,12,9,16,13,13,13,15,13,13,13,13,15,17,13,15,10,11,11,12,11,13,13,14,11,11,13,19,29,15,11,12,15,24,23,13,13,13,18,15,12,11,14,18,16,10,12,21,13]
[null,null,null,null,null,"TT51530","X","Y",10,11,9,10,10,13,13,15,13,14,31,31.2,21,21,15,18,11,12,10,11,12,14,23,26,7,9.3000000000000007,11,12,16,18,12,14,20,21,16,16,16,16,10,14,15,26.2,11,12,5,18,14,21.3,11,12,11,14,14,15,12,12,11,12,14,14,9,10,10,12,17,17,14,18,8,10,16,17,12,13,11,11,12,14,13,15,17,18,14,14,7,8,11,12,12,13,14,14,11,11,12,20,28,13,10,11,14,22,23,13,13,14,18,16,12,15,18,19,18,10,12,24,12]
[null,null,null,null,null,"TT51683","X","Y",10,12,12,14,9,11,12,18,14,14,28,30,18,23,15,15,12,13,9,12,10,13,21,22,6,9,8,9,14,17,12,14,21,22,13,17.3,11,15,10,12,28.2,30.2,10,13,10,14,12,13,11,13,11,14,14,17,11,13,9,9,13,14,8,9,9,9,14,18,14,17,10,12,16,16,12,13,9,11,12,12,13,14,12,14,10,14,7,11,11,12,11,11,14,14,11,14,14,18,30,14,10,12,15,25,24,12,13,13,16,16,12,11,14,18,17,9,12,22,12]
[null,null,null,null,null,"TT51689","X","Y",10,12,8,12,9,12,12,14,14.2,15,28,29,17,19,15,17,11,11,10,12,13,13,22,22,6,7,11,11,16,18,13,13,17,20,13,19.3,11,15,12,14,20,26.2,9,13,7,15,12,14,12,12,13,15,13,13,8,10,8,12,13,14,9,9,9,10,17,23,16,17,8,10,9,15,12,13,13,15,12,14,13,14,13,20,14,14,9,10,12,14,10,12,11,13,11,11,12,21,29,14,10,10,16,21,23,12,11,13,15,14,11,14,14,18,20,12,11,24,12]
[null,null,null,null,null,"TT51702","X","Y",12,12,11,12,11,12,13,18,12,16.2,27,31,21,25,14,16,10,11,9,11,13,14,23,24,9,9.3000000000000007,8,11,17,17,15,16,17,18.3,13,17.3,15,15,10,13,18,25.2,12,12,7,12,17,18,7,11,14,15,13,15,11,12,11,11,14,15,10,10,8,10,14,18,15,17,10,10,9,16,11,11,11,12,12,12,13,14,12,15,10,13,9,11,12,12,11,12,14,15,11,12,13,19,29,14,11,12,15,23,24,12,13,13,17,16,12,11,14,18,16,10,13,23,14]
[null,null,null,null,null,"TT51703","X","Y",11,12,9,12,11,11,14,19,13,14,29,30,21,25,15,18,12,13,9,9,14,14,20,21,9.3000000000000007,9.3000000000000007,8,11,15,18,13,15,18.3,19,15,17,11,15,10,11.3,17,25.2,9,10,7,12,11,12,11,13,10,13,13,16,10,12,10,12,15,15,8,9,8,9,14,24,14,15,8,10,16,16,12,12,13,15,12,14,13,13,15,15,13,14,7,10,11,12,11,11,14,15,11,11,14,20,32,13,9,10,14,22,24,12,12,14,17,15,12,15,17,16,19,12,11,26,14]
[null,null,null,null,null,"UA16899","X","Y",11,12,11,12,12,13,14,17,14,14,28,29,24,24,15,17,11,11,10,11,10,13,18,21,5,7,11,11,15,18,13,14,17.3,20,16.3,17.3,15,16,11,14,14,24.2,9,14,7,16,11,11,7,12,11,13,14,15,12,12,10,11,13,16,9,9,8,8,14,14,16,17,10,11,16,16,13,13,11,11,11,13,11,16,15,17,13,13,9,10,12,13,12,14,15,15,11,14,14,19,30,14,10,12,15,23,23,11,13,13,18,15,12,11,14,18,17,10,12,22,12]
[null,null,null,null,null,"UA16924","X","Y",12,12,11,12,11,12,13,15,12,14,30,30,17,23,16,18,12,12,9,9,13,14,22,23,7,9,8,9,17,19,15,15,23,27,12,17,12,16,11,14,17,19,10,12,12,13,11,12,7,7,10,10,13,17,11,11,11,12,11,15,9,10,8,11,14,17,14,17,8,10,16,16,12,13,11,13,12,13,14,15,13,15,14,15,9,10,11,11,11,14,13,16,11,15,13,18,30,14,11,12,14,23,24,12,13,13,17,15,11,11,14,18,18,10,12,23,13]
[null,null,null,null,null,"UT57283","X","Y",11,11,11,13,9,11,11,21,14,14,28,30,21,23,16,18,9,10,11,12,11,12,21,23,7,9.3000000000000007,8,11,16,17,12,14,18,19,15,16,15,16,11,11,19,27.2,9,14,12,12,11,14,7,12,10,11,14,15,9,11,11,11,13,14,9,10,9,12,14,14,15,17,8,10,16,17,12,13,11,13,12,13,15,15,16,17,13,13,8,9,11,12,13,14,14,14,11,15,12,20,28,14,10,10,16,20,22,11,11,13,15,15,11,13,14,18,18,13,11,26,12]
[null,null,null,null,null,"UT57286","X","Y",10,10,10,14,12,12,15,20,13,15,28,28,16,19,17,18,11,12,10,10,10,12,22,25,6,9.3000000000000007,8,9,17,17,14,14,18,23,13,19.3,15,16,10,10,18,24.2,8,13,12,12,11,12,12,12,10,13,12,14,10,11,9,12,13,13,9,10,8,9,14,17,14,17,10,12,9,16,11,12,9,11,11,12,13,14,14,15,13,14,10,10,12,12,12,13,14,15,11,11,13,18,29,14,11,12,15,24,24,11,14,13,17,17,12,11,13,19,17,10,13,26,13]
[null,null,null,null,null,"UT57300","X","Y",10,12,8,12,9,12,10,13,12,13,28,28,17,20,15,16,12,12,8,13,10,15,20,21,9.3000000000000007,9.3000000000000007,8,9,15,19,15,16,19.3,23,17.3,17.3,16,17,10,10,25.2,28.2,6,12,7,17,17,19,11,11,10,14,14,15,11,12,8,9,14,15,7,10,9,10,14,14,15,18,8,12,16,16,10,13,13,15,13,13,14,14,16,17,13,13,9,12,11,12,11,11,14,16,11,14,13,19,30,15,10,10,14,21,23,11,12,14,15,14,10,14,14,17,18,12,12,27,13]
[null,null,null,null,null,"UT57312","X","Y",11,12,10,11,10,12,16,18,13,14.2,28,33.200000000000003,18,19,17,17,12,12,11,12,13,14,23,24,9.3000000000000007,9.3000000000000007,8,8,16,17,12,13,17,17,12,17.3,16,17,14,14,15,26.2,9,13,12,12,12,14,11,12,14,14,14,15,11,11,12,12,14,15,9,10,8,8,17,17,14,15,10,10,16,16,11,12,7,9,14,14,13,14,17,17,10,13,9,10,11,12,10,10,14,14,11,11,13,19,29,14,11,12,15,25,24,13,13,13,17,15,12,11,15,18,19,10,12,21,13]
[null,null,null,null,null,"UT58298","X","Y",11,13,11,12,12,13,17,20,14,14,30,31.2,19,20,15,15,11,11,9,11,12,13,23,24,6,9.3000000000000007,8,11,17,18,13,15,19,20,17.3,17.3,15,16,10,11,17,31.2,12,13,5,15,12,12,11,12,13,14,14,15,10,12,10,11,13,14,9,10,8,10,17,23,15,16,10,11,9,17,11,13,12,13,12,13,13,13,12,13,14,14,10,11,11,12,11,11,14,16,11,11,12,19,28,15,10,9,16,22,24,12,11,12,16,14,11,13,17,15,17,9,11,24,14]
[null,null,null,null,null,"UT58300","X","Y",12,12,8,13,10,11,12,17,13,14,31.2,31.2,20,23,17,17,11,13,10,11,13,13,21,25,6,9.3000000000000007,8,11,16,17,14,15,17,18,12,16,16,16,11.3,13,21.2,23.2,9,12,11,17,12,20,12,12,14,14,13,14,12,13,11,11,13,17,9,9,8,11,14,17,15,17,10,12,9,16,12,12,14,14,11,12,15,16,12,17,10,14,9,10,10,11,11,14,12,16,11,15,14,19,29,14,11,12,15,23,24,12,13,13,17,16,12,11,14,17,17,10,13,23,13]
[null,null,null,null,null,"UT58310","X","Y",11,12,12,13,11,11,12,15,12,16,29,30,20,23,15,16,12,12,8,9,12,14,25,26,6,6,8,11,16,17,13,14,23,23,15,18.3,14,15,11,14,19,28.2,11,12,5,13,11,11,12,12,13,13,13,16,11,12,9,9,15,15,8,10,11,12,14,14,14,18,10,12,9,17,12,13,13,13,13,13,13,15,17,17,13,14,9,10,12,13,11,14,14,15,11,14,13,19,29,14,10,12,14,25,23,12,14,13,17,15,12,11,15,17,17,10,12,22,12]
[null,null,null,null,null,"UT58321","X","Y",11,12,11,11,12,13,13,15,14,15,27,29,17,25,14,16,11,11,10,11,13,15,22,24,9.3000000000000007,9.3000000000000007,8,8,15,18,13,13,19,26,11,12,11,16,10,12,22.2,30.2,9,12,5,7,11,17,11,12,11,14,15,15,11,12,8,9,13,14,9,9,8,9,14,23,14,18,10,12,9,17,11,13,12,13,10,11,13,13,13,16,10,14,9,9,12,13,11,14,13,15,11,11,13,19,30,14,11,12,15,23,25,12,14,13,17,15,13,11,15,18,18,11,12,23,12]
[null,null,null,null,null,"UT58335","X","Y",10,11,12,12,11,11,14,15,15,16,29,29,17,23,14,17,11,13,9,12,11,14,21,24,7,8,8,8,18,19,14,14,18,22,13,15,15,16,10,14,22.2,22.2,12,14,12,12,11,14,12,12,13,14,12,13,11,12,11,12,12,14,8,9,8,9,18,23,14,17,10,12,16,17,13,14,11,11,11,13,13,14,12,13,10,14,9,10,9,12,11,14,14,16,14,16,14,19,30,12,11,12,16,23,23,11,13,13,18,15,13,11,14,18,16,10,11,24,13]
[null,null,null,null,null,"UT58336","X","Y",12,14,12,13,12,13,14,18,14,16,30,32.200000000000003,17,25,14,16,13,13,11,13,11,12,22,24,9,9.3000000000000007,8,9,16,17,13,16,17,18,14,16,15,16,11,15,20,25.2,12,14,5,11,11,11,11,12,13,14,12,14,9,11,10,11,13,17,9,9,8,10,17,18,15,18,12,12,16,16,12,13,9,15,11,12,12,13,12,17,13,14,9,10,11,11,12,12,13,15,11,11,14,19,30,14,11,12,15,23,24,12,13,13,17,16,12,11,14,19,18,10,13,22,13]
[null,null,null,null,null,"WA29572","X","Y",11,13,8,12,9,12,15,18,13,14,29,30,18,25,15,17,12,15,7,11,12,13,20,21,7,9.3000000000000007,8,9,14,17,13,15,17,17,15,15.3,15,15,10,14,16,27.2,11,13,5,7,11,11,7,7,12,13,14,14,10,11,9,12,14,16,9,10,9,10,14,17,15,17,10,12,9,16,11,13,11,11,12,13,14,15,13,17,13,14,9,9,11,11,11,11,14,15,11,11,12,21,29,14,10,10,16,21,22,11,11,13,15,14,11,13,14,16,18,12,10,25,12]
[null,null,null,null,null,"WT51345","X","Y",11,12,11,11,10,13,13,13,12,13,29,29,23,26,15,16,11,11,8,10,13,14,20,22,7,9.3000000000000007,8,8,17,19,15,16,18,19,14,16,14,16,11,12,29.2,31.2,9,13,12,17,17,19,11,12,13,13,15,15,10,10,8,11,13,15,8,9,9,11,14,17,14,18,10,10,16,16,11,12,13,15,11,12,14,15,15,17,14,14,10,11,11,12,11,11,13,16,11,15,13,19,30,14,12,12,15,23,23,12,13,13,17,17,11,11,14,18,17,10,12,22,14]
[null,null,null,null,null,"WT51358","X","Y",11,12,11,12,9,13,20,22,13,14,30,31,21,24,14,18,10,10,11,13,11,13,19,19,7,9.3000000000000007,9,11,15,16,13,13,17,21,11,13,11,11,10,11,17,19.2,13,14,12,14,11,19,12,12,13,13,13,16,10,11,8,9,15,16,8,9,9,10,17,17,16,17,8,10,16,16,13,14,7,13,12,13,14,14,15,16,13,14,9,10,11,13,11,11,13,15,15,16,13,18,29,16,10,11,16,23,23,12,13,13,15,16,12,11,14,18,15,10,12,22,11]
[null,null,null,null,null,"WT51378","X","Y",10,10,8,12,9,11,12,15,13,13,30,31,19,21,15,18,11,11,9,9,13,13,19,23,6,9,8,8,16,16,14,15,20,20,11,17.3,13,15,10,11.3,20,34,9,9,11,12,11,11,11,12,10,13,13,14,10,10,9,11,15,17,8,10,9,9,17,18,16,18,8,10,16,17,12,13,7,11,12,12,14,14,13,17,13,14,9,10,11,12,11,11,13,14,16,16,13,19,29,14,11,12,15,23,23,12,13,12,16,17,12,11,14,19,17,8,13,22,14]
[null,null,null,null,null,"WT51507","X","Y",12,12,12,14,11,11,12,16,12,13.2,31,31,20,24,15,16,11,11,9,11,13,15,22,25,6,9.3000000000000007,8,9,17,17,12,13,17,21,10,16,8,11,11,12,16,28.2,8,10,12,17,12,18,12,12,10,14,15,15,9,11,11,12,15,16,9,9,11,11,17,17,15,16,8,8,11,13,10,13,9,13,12,14,14,15,13,13,12,13,9,9,11,12,13,13,14,14,14,15,12,21,29,15,10,11,14,22,21,12,11,15,17,15,11,17,17,16,17,13,11,25,12]
[null,null,null,null,null,"WT52457","X","Y",11,12,11,11,12,12,12,17,14,15,29,31,19,23,15,16,11,11,10,10,16,16,20,23,6,9,8,8,16,18,15,16,20,21,13,16,16,16,11,14,17,18,9,11,5,18,12,12,12,12,13,14,12,17,11,11,11,12,13,13,8,9,9,10,17,18,15,17,8,10,16,18,11,13,13,13,11,13,14,14,12,17,10,14,10,11,12,13,11,13,14,15,12,15,13,19,29,14,10,12,14,24,23,12,13,13,17,15,11,11,15,19,18,10,12,22,12]
[null,null,null,null,null,"WT52480","X","Y",11,12,11,12,9,9,16,16,12,14,30,31,25,25,15,18,10,12,8,10,13,13,21,21,8,9,8,10,14,19,13,14,19,21,14,16.3,11,15,11,14,29.2,32,10,13,5,12,12,19,7,12,11,14,14,14,11,12,10,12,13,16,9,10,8,9,17,17,14,15,10,12,9,17,12,13,10,13,12,14.3,13,15,15,17,10,15,9,10,11,11,13,14,16,16,11,15,13,19,29,14,11,12,15,23,23,12,13,13,18,16,12,12,15,19,19,10,12,22,11]
[null,null,null,null,null,"WT52490","X","Y",10,12,8,11,11,11,12,19,13,13,28,28,18,18,17,18,10,12,8,11,14,15,22,22,6,9.3000000000000007,9,9,14,14,13,14,19,21,15.3,17,11,15,10,11,17,23.2,9,11,12,15,13,14,12,12,10,11,15,16,10,13,11,12,15,16,9,10,8,10,14,17,14,17,10,10,14,16,10,13,7,11,12,12,14,15,13,14,13,13,9,12,11,13,11,11,13,15,11,14,13,19,29,14,11,12,16,23,23,12,13,13,17,17,12,11,14,20,17,10,12,22,13]
[null,null,null,null,null,"Y12","X","Y",11,12,8,9,12,13,15,17,14,17,28,32.200000000000003,16,20,17,17,11,13,10,10,12,14,21,22,7,9.3000000000000007,11,11,16,18,14,15,15,17,17,18.3,11,11,10,11,17,28.2,9,13,10,12,11,18,11,12,14,14,13,14,9,9,10,11,13,13,10,10,8,8,17,17,14,15,8,10,9,16,11,13,12,13,12,14.3,13,14,13,15,13,14,9,9,11,12,11,11,14,14,11,11,12,20,28,14,10,10,16,22,22,11,11,13,14,14,11,13,13,17,19,13,11,24,12]
[null,null,null,null,null,"Y17","X","Y",10,12,12,12,11,13,15,16,13,13,28,30,17,19,16,17,13,13,8,10,14,15,24,25,7,9.3000000000000007,8,11,16,17,13,15,21,21,11,14,16,17,10,10,17,23.2,8,9,5,12,14,22,8,9,11,13,15,15,9,12,11,11,14,15,9,10,10,11,17,20,15,16,7,13,9,13,12,13,13,16,12,12,15,15,14,15,14,14,11,12,12,12,13,13,15,15,14,15,13,21,30,17,10,11,14,22,21,12,11,14,16,15,12,15,20,14,19,14,11,29,11]
[null,null,null,null,null,"Y22","X","Y",10,11,8,14,9,10,15,16,12,14,30,30.2,18,19,13,15,8,11,10,10,14,14,19,27,6,7,8,11,14,16,13,13,17,21,13,17.3,15,16,14,14,17,17,11,11,11,14,11,13,12,12,13,14,14,14,10,11,9,10,16,16,9,11,8,12,17,18,16,17,7,10,9,15,11,12,11,15,9,12,11,13,15,18,10,14,9,10,11,11,14,15,13,16,11,13,13,18,29,14,11,12,14,23,24,12,13,13,16,15,11,11,14,20,16,9,12,22,13]
[null,null,null,null,null,"Y23","X","Y",12,12,9,14,9,14,15,22,12,13,29,30,17,22,16,16,13,13,11,12,11,14,26,27,6,7,8,11,15,18,13,14,17.3,18,11,17.3,15,15,10,12,21.2,27.2,9,11,7,10,12,18,11,12,13,13,12,14,9,10,11,11,14,15,10,10,10,11,20,20,14,17,8,13,16,17,12,13,9,13,12,12,14,14,15,17,10,12,9,10,11,12,11,15,15,15,11,15,14,18,31,14,11,12,14,23,24,12,13,13,17,15,11,11,15,17,17,10,11,23,13]
[null,null,null,null,null,"Y28","X","Y",10,10,10,11,11,11,12,14,14.2,15,31.2,32.200000000000003,17,19,17,17,11,12,9,10,14,15,21,22,9.3000000000000007,9.3000000000000007,8,9,15,19,13,14,18,19,14,17.3,12,15,11,14,16,19,9,14,17,18,11,12,11,11,13,14,13,13,10,13,9,9,15,16,8,9,11,11,14,18,14,15,10,12,9,16,11,13,9,15,12,12,13,14,12,17,12,14,9,10,11,12,11,13,14,14,11,14,13,19,29,14,10,12,15,23,24,12,13,13,17,15,13,16,16,19,17,10,12,22,13]
[null,null,null,null,null,"Y30","X","Y",12,12,11,13,11,13,15,16,12,15,28,29,20,21,14,16,13,13,8,13,12,13,20,25,6,6,8,8,14,18,14,14,17,22,14,17.3,11,16,11,14,27.2,29.2,9,16,11,12,13,14,12,12,11,14,13,14,12,12,11,11,12,13,9,9,9,10,14,17,14,16,8,10,9,17,11,12,9,13,12,12,13,13,15,17,11,13,9,10,11,11,10,11,14,16,14,16,12,19,29,13,10,10,14,21,24,12,11,13,15,17,11,15,18,17,22,11,12,23,13]
[null,null,null,null,null,"Y38","X","Y",11,13,8,11,11,11,12,14,13,14.2,27,32.200000000000003,22,24,17,17,10,12,8,12,12,13,20,23,6,9.3000000000000007,8,11,16,19,15,16,19,21,13,13,15,16,10,13,17,28.2,8,12,11,12,11,14,12,12,10,13,13,14,10,12,9,11,13,15,8,9,9,10,18,18,15,16,8,13,9,16,13,14,11,13,12,15,12,14,13,15,13,13,10,10,11,12,11,12,12,15,11,16,14,18,30,14,11,12,14,23,24,13,13,13,17,15,11,12,15,17,17,10,12,22,13]
[null,null,null,null,null,"Y5","X","Y",11,12,12,12,11,13,12,15,13,15,28,30,18,24,15,17,10,11,8,13,15,16,21,24,6,9.3000000000000007,9,9,17,19,13,13,23,24,12,17,11,15,11,11,15,19,11,12,5,19,12,17,11,11,13,13,15,16,9,12,9,10,13,13,10,10,8,9,18,23,14,16,7,13,9,19,12,14,11,11,11,14,14,14,12,16,13,14,9,10,12,12,11,13,14,16,11,14,14,22,31,13,10,10,14,22,24,14,11,13,15,17,12,16,18,17,19,11,12,22,12]
[null,null,null,null,null,"ZA08588","X","Y",11,13,8,12,11,13,14,16,14,15.2,30,30,18,23,17,18,12,13,8,10,11,14,21,25,7,9.3000000000000007,7,11,17,18,14,19,15,20,12,17,15,16,11.3,16,18,29.2,5,12,13,18,15,18,11,12,13,14,14,14,10,11,9,10,13,15,8,10,9,9,14,14,17,17,10,12,9,16,13,13,9,13,11,12,14,14,15,17,13,14,10,12,12,12,11,14,13,14,11,13,13,18,28,14,12,12,15,23,23,14,13,13,16,15,12,11,14,17,18,10,12,22,13]
[null,null,null,null,null,"ZC08844","X","Y",12,13,9,14,11,12,16,17,13,14,28,30,19,20,15,16,11,12,10,11,12,13,21,22,8,9.3000000000000007,8,8,15,15,13,15,18,19,11,14,16,17,11,11,26.2,27.2,11,11,7,13,10,11,12,12,10,13,13,14,11,12,11,11,14,14,8,9,9,11,14,17,14,17,10,12,9,16,12,12,11,11,12,13,14,14,15,17,13,14,9,11,11,13,11,11,11,14,12,15,13,18,29,14,11,12,15,23,23,12,13,13,17,15,12,11,13,17,17,10,12,23,13]
[null,null,null,null,null,"ZT79306","X","Y",8,13,12,13,9,10,14,15,13,14,27,29,19,22,16,18,11,13,10,11,14,15,23,24,7,8,8,8,15,15,13,14,15,15,11,14,15,15,11,12,19,23.2,11,11,11,12,18,19,12,12,14,14,11,16,10,11,9,11,14,15,9,9,10,11,17,17,16,17,8,12,9,9,13,13,10,11,12,13,12,13,14,17,10,10,10,11,11,12,10,13,13,16,13,14,12,21,30,15,10,11,14,21,21,12,11,13,17,15,11,16,17,16,20,10,10,27,11]
[null,null,null,null,null,"ZT79311","X","Y",11,12,11,13,10,11,15,16,13,15,28,29,21,22,15,15,11,11,10,12,14,15,23,24,7,9.3000000000000007,10,11,16,19,13,13,15,18,13,13,15,16,10,11,20,28.2,9,12,7,8,18,18,11,11,13,13,11,12,11,11,10,11,14,17,9,9,10,11,20,20,15,17,7,10,9,16,11,14,11,15,13,13,12,16,12,15,13,13,8,11,11,12,12,14,12,14,11,14,13,20,33,17,10,11,14,21,21,12,11,14,15,15,11,15,15,15,19,13,12,24,11]
[null,null,null,null,null,"ZT79336","X","Y",10,11,11,12,9,9,11,15,13.2,13.2,29,31,21,25,15,16,11,12,8,10,14,15,23,25,7,8,8,11,14,17,14,17,15,18,15,15,11,11,11.3,12,20,28.2,2.2000000000000002,9,5,14,11,17,12,13,14,14,14,16,11,12,9,12,15,17,9,10,9,10,14,17,17,18,7,12,9,16,13,14,11,11,12,14,11,11,15,17,13,13,9,10,13,13,12,14,13,14,11,11,13,19,29,14,10,12,15,24,24,12,13,13,17,15,11,11,15,18,17,10,12,22,13]
[null,null,null,null,null,"ZT79340","X","Y",10,12,9,13,9,12,18,18,13,14,30,32.200000000000003,22,22,16,16,8,13,7,12,14,15,22,24,7,8,8,9,18,18,15,16,17,18,11,15.3,14,15,10,11,15,23,8,11,7,9,16,16,7,10,10,11,13,15,9,9,11,12,14,14,9,9,9,12,17,17,16,17,7,12,9,9,12,13,10,11,12,13,14,16,15,16,10,10,9,11,12,12,10,14,14,15,12,13,13,21,30,16,9,11,14,21,21,11,11,14,17,15,11,16,16,16,20,13,11,25,11]
[null,null,null,null,null,"ZT79837","X","Y",11,13,11,12,12,14,14,15,13.2,14,28,30,23,23,14,18,11,12,11,12,13,16,21,23,9.3000000000000007,9.3000000000000007,8,9,15,15,15,16,18,19,16,17,15,16,11.3,15,12.2,28.2,10,12,13,15,11,12,12,12,13,14,12,15,10,12,8,8,13,16,9,10,10,12,14,17,17,18,9,10,17,18,11,12,7,13,11,12,13,14,12,18,10,10,10,11,11,11,11,11,13,14,11,14,14,19,29,14,11,12,15,24,24,13,14,12,17,15,12,12.2,14,18,17,10,12,22,12]
[null,null,null,null,null,"ZT79899","X","Y",10,12,11,12,11,11,15,17,12,13,29,30,17,24,15,17,7,13,9,10,13,14,21,27,7,9,9,11,16,17,13,15,19,23,12,15,15,17,10,13,22.2,28.2,9,11,11,13,13,21.3,12,13,13,13,13,14,9,12,10,10,13,14,8,10,9,10,14,17,16,17,9,10,9,16,12,13,11,11,12,13,12,14,13,17,10,14,10,11,11,12,11,14,14,15,11,12,13,20,30,15,11,12,15,23,24,12,13,13,18,16,12,11,14,17,17,10,14,23,13]
[null,null,null,null,null,"ZT79976","X","Y",12,12,10,13,10,11,10,16,13,15,30,31.2,17,23,16,16,11,12,9,11,13,14,23,24,8,8,8,11,15,18,14,16,15,18,15,17.3,17,17,10,14,16,22.2,12,13,5,15,11,18,7,11,13,14,14,14,11,14,9,11,13,14,9,9,8,10,14,14,17,18,8,10,13,16,12,13,9,11,13,14,14,15,12,17,11,14,9,10,12,13,11,14,14,14,14,16,13,21,31,15,10,11,14,21,21,12,11,13,19,14,12,17,17,15,19,14,11,27,11]
[null,null,null,null,null,"ZT80090","X","Y",7,12,13,13,13,14,17,18,13,15,30,32.200000000000003,17,22,16,17,12,12,11,12,14,14,21,25,7,8,11,12,16,17,14,15,18,23,14,15.3,10,15,10,14,19,22.2,10,11,7,8,11,20,7,12,14,14,13,13,9,12,11,12,13,14,9,9,11,12,17,17,16,16,8,10,9,9,11,13,12,13,12,12,13,13,12,14,13,13,9,9,11,12,11,14,13,14,15,16,12,19,28,14,11,12,15,23,24,12,13,13,17,16,12,11,14,18,17,10,12,22,13]
[null,null,null,null,null,"ZT80133","X","Y",7,11,11,12,11,13,15,17,14,14,30,31,24,25,15,15,12,12,9,10,10,13,21,25,9,9,8,8,17,18,13,14,19,19,11,12,15,15,11,14,23.2,27.2,9,9,11,13,11,20,11,12,13,14,13,15,9,13,10,10,12,14,9,9,11,11,17,18,14,15,8,12,16,19,11,11,11,11,12,12,13,17,15,18,10,15,9,11,12,13,11,15,14,15,11,11]
[null,null,null,null,null,"ZT80255","X","Y",11,13,12,12,8,9,12,17,13,14,30.2,31,16,17,16,17,11,12,8,10,12,15,19,24,9.3000000000000007,9.3000000000000007,8,10,18,18,14,14,18,19,11,17.3,11,16,11,14,13,17,13,14,7,12,12,17,12,13,10,13,14,15,12,14,8,11,13,17,9,10,9,10,14,18,15,18,8,10,9,16,10,14,12,15,11,13,13,15,12,15,13,14,9,9,11,12,11,11,14,15,11,15,12,19,28,15,10,9,16,20,24,14,11,13,16,13,11,14,19,16,19,9,12,24,13]
[null,null,null,null,null,"ZT80358","X","Y",10,12,9,11,12,12,12,15,13,15,30,31.2,17,18,14,18,11,12,8,11,14,15,23,26,8,9.3000000000000007,8,11,16,16,13,16,20,21,16,18.3,14,15,10,11,23.2,30.2,11,12,9,12,18,20,12,13,11,13,13,15,10,11,9,9,15,16,8,10,9,9,17,23,16,17,8,10,16,17,12,14,7,14,12,13,13,16,10,13,11,14,8,9,11,13,12,14,14,14,11,14,12,18.5,29,16,10,10,14,20,23,11,11,12,17.2,16,11,13,19,16,18,11,11,25,12]
[null,null,null,null,null,"ZT80634","X","Y",12,12,10,13,10,12,12,15,12,15,28,30,19,24,15,15,12,13,10,11,15,15,19,20,9,9.3000000000000007,8,11,17,18,13,16,17,20,17.3,17.3,15,15,10,10,29.2,30.2,11,13,7,11,17,21.3,11,12,13,14,13,15,11,12,10,12,13,15,8,9,9,9,14,17,14,15,10,10,14,16,12,13,7,11,11,12,14,14,15,20,10,13,8,10,12,12,13,13,14,15,14,15,14,20,30,13,9,10,14,21,24,10,12,13,19,16,11,13,14,17,23,12,11,27,11]
[null,null,null,null,null,"ZT80659","X","Y",10,12,8,8,8,12,14,16,13,13,30,33.200000000000003,17,17,15,17,8,12,8,11,10,14,23,27,7,9.3000000000000007,8,12,16,16,14,15,18.3,20,15,16,15,17,10,14,24.2,29.2,9,12,10,13,19,21.3,7,11,13,14,12,14,10,12,9,11,15,16,9,9,8,11,14,17,15,20,7,8,9,16,13,14,13,15,11,12,13,13,12,14,13,14,9,10,12,12,11,14,13,14,11,15,13,19,29,13,11,12,15,24,24,13,13,13,16,17,12,14,14,16,18,11,12,22,13]
[null,null,null,null,null,"ZT80718","X","Y",10,12,9,12,11,12,13,15,13,15,29,31.2,19,24,14,15,10,13,9,10,10,12,23,23,8,10,8,11,16,19,13,16,20,21,12,14,15,16,10,11,18,33,8,13,10,15,12,19,11,12,13,14,13,14,10,11,9,10,15,15,9,10,9,9,18,23,15,16,10,10,15,16,12,12,11,11,13,13,14,15,12,15,13,14,9,10,11,12,11,14,14,14,11,11,13,19,29,13,11,12,15,23,24,12,13,13,17,16,12,11,14,18,16,10,12,22,13]
[null,null,null,null,null,"ZT80786","X","Y",10,11,9,12,9,9,15,16,14,14,29,30,19,22,15,18,11,12,9,11,13,15,20,23,7,8,11,12,15,20,14,14,15,18,15.3,16,11,15,11,14,19,30.2,9,12,12,16,15,20,7,13,12,13,14,16,11,13,9,12,13,14,9,10,9,9,14,17,14,15,8,8,16,18,11,12,9,13,11,11,13,15,12,13,14,14,8,10,11,12,11,12,15,16,14,15,12,20,30,14,11,10,14,21,23,11,11,12,17.2,16,11,13,18,18,17,10,11,26,12]
[null,null,null,null,null,"ZT80870","X","Y",11,12,9,13,11,12,13,20,13.2,14,29,34,18,23,17,18,12,13,8,8,11,14,21,23,6,9,8,12,15,16,13,13,17,17.3,10,12,15,15,10,10,17,20,9,12,12,13,11,19.3,12,12,10,13,14,14,12,12,9,12,13,16,8,9,8,11,14,17,14,14,8,10,9,16,12,13,7,13,11,13,13,14,15,17,11,14,10,10,11,12,11,11,14,15,11,15,12,19,29,15,10,9,16,24,24,12,11,12,16,13,11,13,16,16,17,9,12,23,12]
[null,null,null,null,null,"ZT81068","X","Y",11,11,8,12,8,11,14,17,14,15,28,29,19,19,17,17,10,12,10,10,13,15,22,27,6,7,8,11,16,17,14,14,15,16,12,15,15,15,11,14,12.2,29.2,9,12,7,11,12,18,11,12,14,14,14,15,10,10,9,13,13,17,9,10,9,11,18,18,14,14,10,12,9,9,12,13,7,15,12,12,13,16,17,18,10,14,9,11,11,12,11,13,13,14,12,16,14,18,30,14,11,12,14,23,24,12,13,13,17,15,11,12,14,17,18,10,12,22,11]
[null,null,null,null,null,"ZT81076","X","Y",10,11,12,12,11,14,16,20,14,15,28,28,20,23,17,18,11,12,9,10,13,15,20,25,6,9,8,11,16,17,13,14,17.3,18,15.3,17.3,15,16,11,11,20.2,26.2,9,9,14,25,11,12,7,12,14,14,14,14,11,11,11,11,14,16,9,9,8,10,17,18,17,17,9,10,9,16,12,13,9,16,12,14,13,14,17,18,13,13,9,10,12,12,11,11,13,14,11,11,12,18,28,14,11,12,14,23,24,11,14,13,17,15,12,11,14,19,17,12,12,21,13]
[null,null,null,null,null,"ZT81387","X","Y",11,11,9,13,12,13,16,18,13,14,28,32.200000000000003,19,24,18,18,11,11,10,11,13,15,21,22,7,7,6,9,16,19,14,14,15,18,12,16,15,15,11,14,18,26.2,11,13,7,12,11,17,12,12,13,13,12,14,10,10,9,11,12,15,9,9,9,10,17,18,14,15,8,10,16,17,11,14,11,13,12,13,14,14,17,19,10,13,9,10,11,11,11,11,13,15,11,11,13,19,30,15,10,11,14,24,25,10,11,13,16,15,12,11,14,18,19,10,12,23,12]
[null,null,null,null,null,"AF01C","X","Y",10,11,11,11,11,13,12,17,13,13,30.2,31.2,16,19,16,17,11,13,7,9,13,13,22,25,6,9,8,8,16,17,13,14,17,20,12,16.3,15,16,10,10,13,33.200000000000003,null,null,null,null,null,null,7,12,10,14,13,15,10,11,11,12,13,14,9,9,10,10,17,18,15,17,8,13,null,null,11,12,null,null,11,12,13,14,12,16,13,14,null,null,11,12,11,14,9,14]
[null,null,null,null,null,"AF03A","X","Y",11,11,8,10,10,11,14,24,12,15.2,28,30.2,18,19,16,17,11,11,11,11,14,15,21,25,9,9.3000000000000007,8,9,17,17,13,16,23,25,13,16,11,11,11,14,17,18,null,null,null,null,13,14,12,13,10,14,14,16,11,12,12,12,14,16,9,10,8,9,17,18,14,15,12,12,null,null,12,14,null,null,12,13,12,16,12,17,14,14,null,null,11,14,13,14,13,15]
[null,null,null,null,null,"AF03Ba","X","Y",12,12,12,14,11,11,14,17,14.2,15,30,30,22,23,15,15,11,12,10,10,12,13,20,27,7,7,9,9,15,16,11,13,18,18,15,18.3,17,17,11,14,14,20,null,null,null,null,null,null,11,12,13,14,14,16,12,12,9,13,16,16,8,9,9,11,17,18,15,16,10,10,null,null,12,12,null,null,11,13,13,16,13,17,10,14,null,null,12,12,14,15,14,15]
[null,null,null,null,null,"AF04H","X","Y",12,12,9,11,10,11,13,13,12,14,30,31,17,23,15,17,12,12,8,10,13,14,25,26,6,7,6,8,14,18,14,18,18,20,16,17,15,16,10,10,25.2,28.2,null,null,null,null,null,null,8,12,13,14,12,14,10,13,10,13,14,15,9,9,10,10,17,18,14,17,8,10,null,null,13,13,null,null,13,13,12,14,15,17,14,15.3,null,null,11,12,13,14,14,14]
[null,null,null,null,null,"AF05H","X","Y",11,12,8,11,13,15,15,19,12,14,29,30,17,20,15,15,11,11,9,9,13,14,24,26,7,9.3000000000000007,8,9,17,17,13,14,15,20,15,16.3,11,15,10,11.3,26.2,30.2,null,null,null,null,null,null,12,13,10,14,14,15,11,12,8,9,13,17,9,9,8,12,14,18,15,16,10,12,null,null,11,14,null,null,12,14,14,15,12,17,13,14,null,null,12,12,11,11,15,15]
[null,null,null,null,null,"AF07H","X","Y",11,12,10,11,10,12,11,13,12,14,28,31,23,24,15,16,7,9,8,10,14,16,22,23,7,9,11,11,16,18,14,14,18,18,13,15,15,17,10,10,17,21,null,null,null,null,null,null,7,12,14,14,13,14,10,11,11,11,14,16,9,9,9,10,17,17,14,16,10,10,null,null,12,13,null,null,12,12,15,15,12,17,14,14,null,null,11,12,11,11,11,14]
[null,null,null,null,null,"AF08A","X","Y",10,11,8,12,9,11,14,14,14,14.2,28,31.2,18,24,16,16,11,12,7,8,15,16,22,23,9,9,8,11,17,17,14,14,18,22,14,17.3,11,15,14,14,20.2,28.2,null,null,null,null,12,12,7,11,13,14,15,16,9,13,9,12,13,16,8,9,8,11,14,18,17,17,10,10,null,null,11,12,null,null,14,14,16,16,17,18,13,13,null,null,11,12,11,11,14,16]
[null,null,null,null,null,"AF09C","X","Y",11,12,11,14,12,13,13,16,15,15,30.2,32.200000000000003,17,20,15,16,9,13,11,12,10,14,21,21,7,9,8,8,15,19,14,15,18,20,12,18.3,15,16,11,11,14,18,null,null,null,null,null,null,11,12,13,14,13,15,12,12,11,11,14,17,9,10,8,12,14,14,14,15,12,12,null,null,12,12,null,null,7,11,13,14,12,15,13,14,null,null,11,12,11,11,13,13]
[null,null,null,null,null,"AF100H","X","Y",10,12,9,11,9,11,15,17,14,14,29,30,19,24,15,16,7,12,11,12,13,13,22,23,7,9,8,12,16,17,13,18,19,21,14,15.3,15,16,11,14,18,26.2,null,null,null,null,null,null,11,12,12,13,15,15,10,12,10,11,14,16,9,9,9,9,14,23,15,16,10,10,null,null,13,15,null,null,13,13,13,13,12,15,14,14,null,null,11,12,11,14,14,14]
[null,null,null,null,null,"AF10H","X","Y",11,12,9,11,11,12,15,20,12.2,13.2,30,33.200000000000003,20,25,15,15,11,11,8,11,13,14,19,27,6,8,11,12,16,17,14,15,20,20,14,16,15,16,10,11,15,24.2,null,null,null,null,null,null,11,12,10,10,14,15,12,13,9,9,13,14,9,9,9,11,17,17,17,17,10,10,null,null,13,13,null,null,14,14,13,14,14,17,13,14,null,null,10,12,14,14,14,14]
[null,null,null,null,null,"AF11C","X","Y",11,12,9,11,12,13,11,17,13,14.2,31,32.200000000000003,19,25,17,17,11,12,8,12,13,13,19,24,6,9.3000000000000007,8,11,16,19,15,15,21,21,14,18.3,16,16,10,10,17,23.2,null,null,null,null,null,null,7,7,10,14,12,12,11,12,10,11,13,16,9,10,8,9,14,18,14,15,10,10,null,null,12,14,null,null,13,14,14,15,12,18,10,13,null,null,11,12,11,13,14,14]
[null,null,null,null,null,"AF12H","X","Y",10,12,12,12,5,11,17,19,13,15.2,29,29,22,25,16,17,11,12,8,11,14,14,19.2,21,7,9,8,10,15,16,13,14,20,22,14,16,15,16,10,14,18,27.2,null,null,null,null,null,null,10,12,13,14,13,15,9,12,11,12,12,16,8,9,10,12,17,18,15,15,10,12,null,null,10,12,null,null,12,14,13,14,13,15,13,13,null,null,11,12,11,13,11,14]
[null,null,null,null,null,"AF14H","X","Y",9,11,12,12,11,12,14,17,12,16.2,30,30,23,26,16,20,11,11,7,8,13,13,24,26,6,7,11,12,15,18,13,14,20,22,15,16,15,16,10,11,24.2,27.3,null,null,null,null,null,null,7,12,13,14,15,15,11,12,11,11,15,15,8,10,8,11,17,23,15,17,8,12,null,null,11,13,null,null,12,12,12,13,15,16,13,14,null,null,11,13,15,15,13,13]
[null,null,null,null,null,"AF15H","X","Y",10,12,8,11,11,12,15,19,13,14,30,32.200000000000003,17,17,17,18,12,12,11,12,14,14,22,26,6,7,9,10,16,17,15,16,15,18,15,16,15,16,12,14,20,27.2,null,null,null,null,null,null,11,12,11,13,13,14,11,12,11,12,14,17,8,9,9,9,17,18,14,15,8,12,null,null,12,13,null,null,12,14,14,14,17,18,12,14,null,null,12,12,11,14,13,15]
[null,null,null,null,null,"AF16B","X","Y",7,11,11,11,9,13,17,19,12,14.2,27,29,18,20,14,17,10,12,10,12,11,12,21,22,6,8,8,12,15,20,13,13,21,22,15,15.3,10,17,11,12,24.2,28,null,null,null,null,null,null,12,12,13,14,14,15,12,13,11,12,13,16,8,9,9,9,14,23,14,14,8,8,null,null,11,13,null,null,11,12,12,17,12,15,10,13,null,null,12,12,12,14,13,14]
[null,null,null,null,null,"AF17B","X","Y",10,13,11,13,9,9,15,20,13,17.2,29,30,24,24,15,16,8,13,9,10,15,16,22,23,9.3000000000000007,9.3000000000000007,8,11,16,17,13,14,20,21,17.3,17.3,14,16,11,14,17,18,null,null,null,null,null,null,8,11,12,14,12,12,10,12,9,9,14,15,9,10,10,11,17,17,16,17,10,12,null,null,12,13,null,null,14,14.2,15,15,14,15,13,14,null,null,11,11,11,15,13,15]
[null,null,null,null,null,"AF19A","X","Y",11,12,10,12,8,9,13,18,13,13,29,31.2,20,24,16,18,11,13,11,12,12,13,20,23,7,9,11,11,17,18,13,15,19,19,12,16,16,17,12,12,28.2,29.2,null,null,null,null,12,12,7,11,13,14,15,16,12,12,11,12,15,15,7,8,9,9,14,17,14,15,12,13,null,null,11,12,null,null,12,14,15,16,11,16,13,14,null,null,11,13,13,13,14,15]
[null,null,null,null,null,"AF19H","X","Y",10,12,9,11,9,10,13,18,14,16.2,25,33.200000000000003,19,23,15,15,11,11,10,11,10,15,19,22,9,9,6,8,14,16,13,15,20,22,15,16,15,17,11,14,27.2,29.2,null,null,null,null,null,null,7,11,13,14,15,16,9,10,10,12,15,15,10,10,8,9,14,17,14,16,13,14,null,null,11,13,null,null,11,12,12,12,13,17,10,14,null,null,11,13,13,14,14,14]
[null,null,null,null,null,"AF20H","X","Y",10,12,11,12,11,11,11,12,15,16,29,30,17,25,14,16,11,13,9,10,12,15,21,21,6,6,8,11,16,16,14,14,20,21,12,15,11,16,11.3,15,18,24.2,null,null,null,null,null,null,7,12,12,14,14,15,11,11,9,12,13,14,10,10,8,10,17,17,16,18,10,12,null,null,12,13,null,null,12,12,12,14,13,17,14,14,null,null,11,12,11,13,14,16]
[null,null,null,null,null,"AF22A","X","Y",11,11,12,14,9,13,15,16,13,13,29,32.200000000000003,19,26,16,17,9,10,8,13,10,17,21,23,9,9,8,8,16,19,14,14,18,20,15,18.3,15,17,10,11,16,20,null,null,null,null,13,21.3,7,12,13,13,14,15,11,12,9,11,13,15,9,9,9,11,14,18,15,17,8,12,null,null,12,12,null,null,12,13,13,14,12,17,13,14,null,null,11,13,11,13,13,15]
[null,null,null,null,null,"AF23C","X","Y",10,12,11,11,11,13,12,14,12,13,30,31.2,17,17,16,18,12,12,9,13,9,13,22,25,6,9.3000000000000007,8,11,15,15,12,15,18,19,14,15,15,16,12,14,17,30.2,null,null,null,null,null,null,7,11,13,13,14,14,10,12,9,11,14,15,9,10,10,10,17,17,14,17,8,9,null,null,11,12,null,null,11,12,13,14,12,15,10,11,null,null,11,11,11,11,14,16]
[null,null,null,null,null,"AF25A","X","Y",10,11,11,11,8,13,14,16,13,15,27,29,23,23,16,17,11,12,9,10,10,13,20,24,6,9.3000000000000007,8,8,16,16,14,16,17,18,15,16.3,16,16,10,11,16,27.2,null,null,null,null,11,13,7,11,13,13,15,15,9,12,9,12,14,16,8,10,9,10,17,18,16,17,10,12,null,null,13,13,null,null,12,12,14,14,14,17,10,14,null,null,11,12,11,11,15,16]
[null,null,null,null,null,"AF26B","X","Y",10,12,9,12,9,13,21,22,13,16.2,31.2,35,19,25,16,17,11,12,8,10,13,17,22,24,6,8,8,9,18,20,14,15,18,23,12,14,15,15,11,11,20,27.2,null,null,null,null,null,null,11,12,10,13,12,13,9,9,9,11,12,16,9,10,8,12,17,20,14,17,7,8,null,null,12,13,null,null,12,12,14,14,17,18,14,14,null,null,14,14,11,14,14,14]
[null,null,null,null,null,"AF27A","X","Y",11,12,8,12,11,11,15,17,14,14,29,30,17,18,16,16,11,12,10,12,13,14,22,23,6,7,8,8,17,19,12,14,22,25,16,17,15,17,10,12,21,29.2,null,null,null,null,19,19,7,7,13,13,13,14,12,12,9,11,15,17,8,10,8,10,18,23,14,14,8,12,null,null,13,13,null,null,12,12,13,14,12,17,14,14,null,null,12,12,11,14,13,13]
[null,null,null,null,null,"AF28B","X","Y",11,11,12,13,8,11,12,17,12.2,15.2,30,33.200000000000003,21,23,13,15,12,13,8,12,14,14,20,23,8,9,6,9,15,15,13,14,16,19,14,16,10,11,11.3,12,13.2,20,null,null,null,null,null,null,9,12,14,14,15,17,10,12,10,12,15,16,9,9,10,11,18,20,15,18,7,7,null,null,13,14,null,null,12,13,14,16,12,15,13,14,null,null,12,12,13,14,14,14]
[null,null,null,null,null,"AF29H","X","Y",12,13,12,13,12,14,12,14,15,15.2,29,31.2,19,20,15,18,10,11,11,12,12,13,23,25,7,7,8,11,16,16,13,14,20,20,13,17.3,11,16,10,11,18,27.2,null,null,null,null,null,null,7,12,10,13,12,13,9,10,9,9,13,16,9,10,9,9,14,23,14,17,10,12,null,null,13,13,null,null,12,14,12,15,12,15,13,14,null,null,10,13,14,15,13,14]
[null,null,null,null,null,"AF30A","X","Y",11,12,9,10,9,10,12,13,13.2,15,32.200000000000003,32.200000000000003,19,19,15,17,10,10,11,12,12,13,22,24,6,7,8,11,14,19,13,16,17,24,14,16,15,17,10,11,20,27.2,null,null,null,null,11,18,11,12,13,13,14,14,9,14,11,11,15,16,9,9,9,9,14,17,14,14,8,10,null,null,13,14,null,null,11,14,13,14,12,16,14,14,null,null,12,13,11,13,13,15]
[null,null,null,null,null,"AF31B","X","Y",10,10,11,12,9,12,17,21,12,16.2,29,29,17,25,16,17,12,13,10,10,13,15,25,27,6,7,9,11,16,19,13,14,17,19,15,16,11,15,13,13,17,20,null,null,null,null,null,null,12,12,13,14,12,15,11,12,11,11,12,16,8,9,9,9,17,18,15,17,7,10,null,null,12,12,null,null,12,14,10,14,15,16,10,14,null,null,12,12,14,15,13,14]
[null,null,null,null,null,"AF32A","X","Y",11,12,9,12,10,11,13,15,14,15.2,30,30,19,23,15,15,10,13,11,13,10,10,22,22,8,9,8,11,18,19,15,15,20,25,12,14,11,15,12,12,21,22,null,null,null,null,11,13,7,7,12,14,14,15,9,14,9,12,13,15,9,9,8,9,14,17,15,15,10,12,null,null,13,13,null,null,11,12,14,15,12,16,13,14,null,null,11,13,11,13,12,13]
[null,null,null,null,null,"AF34A","X","Y",10,11,8,11,9,12,14,17,14,14,30,32.200000000000003,17,19,16,16,10,11,10,10,14,16,21,24,9,9.3000000000000007,8,11,17,18,15,16,18,19,15,18.3,11,15,11,12,22.2,25.2,null,null,null,null,12,13,7,11,12,14,14,15,12,13,11,11,13,13,10,10,9,9,17,17,14,15,10,10,null,null,12,13,null,null,8,12,13,16,12,16,10,11,null,null,13,14,12,14,13,15]
[null,null,null,null,null,"AF34H","X","Y",10,11,10,13,9,13,14,18,13,15,30,30,17,26,15,16,11,12,11,11,11,13,22,22,6,7,8,10,15,17,15,16,19,20,12,17.3,14,15,10,11,17,26.2,null,null,null,null,null,null,12,12,13,14,13,14,11,12,11,12,15,15,9,9,9,10,17,23,15,17,8,12,null,null,12,12,null,null,13,14,14,15,12,17,13,14,null,null,12,13,13,15,13,14]
[null,null,null,null,null,"AF36A","X","Y",10,12,8,12,11,13,16,17,14,14,30,32,18,24,14,15,12,13,10,11,14,14,19,19,6,9,9,11,14,18,13,15,19,22,12,12,15,16,11,14,24.2,25.2,null,null,null,null,11,18,7,8,13,14,12,15,9,11,11,11,14,14,9,9,8,11,14,14,14,18,8,12,null,null,10,13,null,null,10,13,15,15,12,19,11,14,null,null,10,10,12,13,14,16]
[null,null,null,null,null,"AF37C","X","Y",11,12,11,11,11,12,12,13,13,14,28,28,17,18,15,15,11,12,11,12,8,13,22,23,6,9.3000000000000007,8,11,14,18,14,15,17,17,13,18.3,15,16,10,11,23.2,30.2,null,null,null,null,null,null,11,12,13,14,14,15,10,12,10,10,13,14,8,9,9,11,14,17,14,14,12,13,null,null,11,11,null,null,12,14,13,14,17,17,14,14,null,null,11,12,11,12,14,14]
[null,null,null,null,null,"AF38C","X","Y",10,12,12,13,11,11,12,13,14,14,30,33.200000000000003,19,19,15,19,11,12,9,10,10,14,21,24,6,9.3000000000000007,8,9,17,17,13,14,18,21,11,16,16,16,14,14,17,29.2,null,null,null,null,null,null,11,12,10,13,14,15,11,12,11,12,15,17,9,10,10,11,14,14,14,17,8,10,null,null,13,13,null,null,12,14,13,13,15,17,13,13,null,null,13,13,11,14,13,16]
[null,null,null,null,null,"AF39B","X","Y",8,11,11,13,11,11,17,19,10,13,28,31.2,17,22,16,16,11,12,8,10,12,13,21,21,7,9.3000000000000007,9,11,15,15,13,16,18,21,12,13,14,15,11,14,18,27.2,null,null,null,null,null,null,8,12,11,13,15,15,10,13,10,11,15,15,8,9,8,10,14,14,14,16,7,12,null,null,12,12,null,null,12,13,14,14,15,15,13,14,null,null,14,15,11,13,14,15]
[null,null,null,null,null,"AF41A","X","Y",11,12,8,10,11,13,16,21,13,14,30,31,18,18,15,18,9,11,11,11,13,14,23,25,7,9,8,8,18,20,14,15,18,19,13,18.3,15,16,10,14,15,24.2,null,null,null,null,11,19,7,11,13,14,14,15,12,12,9,12,14,16,8,10,10,11,17,18,14,14,10,12,null,null,14,14,null,null,11,11,14,16,14,14,10,14,null,null,10,11,11,14,13,16]
[null,null,null,null,null,"AF42A","X","Y",12,13,8,8,9,10,13,14,14,15.2,29,31,21,24,15,18,10,12,11,12,15,15,24,25,7,9,8,9,17,19,13,13,17,18,14,15,15,16,12,12,29.2,30.2,null,null,null,null,13,14,7,11,13,13,15,15,12,12,9,11,14,15,9,9,9,10,14,18,14,14,8,12,null,null,11,12,null,null,11,14,15,15,12,18,10,14,null,null,12,12,11,11,14,15]
[null,null,null,null,null,"AF43C","X","Y",11,11,8,12,9,10,13,15,13,13,28,31.2,19,20,17,18,12,13,8,10,12,13,20,23,6,9,8,10,17,19,15,17,17,18,16,17.3,11,16,10,14,24.2,28.2,null,null,null,null,null,null,11,12,14,14,13,14,9,12,10,10,14,16,9,9,9,9,17,18,14,16,10,10,null,null,11,12,null,null,12,13,13,15,17,17,13,14,null,null,11,12,11,11,14,14]
[null,null,null,null,null,"AF45A","X","Y",10,11,8,9,9,10,13,15,14,14,29,33.200000000000003,17,24,15,15,9,12,11,12,10,15,23,24,9,9,11,11,16,17,13,16,18,19,13,17.3,15,16,10,11,20,28.2,null,null,null,null,12,13,7,7,13,14,14,15,12,12,9,12,13,17,9,10,9,10,18,18,14,15,8,8,null,null,13,15,null,null,12,13,13,17,17,17,10,13,null,null,11,13,11,14,15,15]
[null,null,null,null,null,"AF45C","X","Y",11,12,11,14,12,13,12,16,15,16.2,30,31.2,16,23,15,15,11,13,10,10,12,13,20,23,6,6,8,9,14,17,14,15,17,21,15,18,11,16,10,14,20,26.2,null,null,null,null,null,null,7,11,10,13,13,13,13,13,11,12,13,15,9,10,9,10,14,18,15,18,10,12,null,null,12,13,null,null,11,11,14,15,13,15,10,14,null,null,11,11,11,11,13,14]
[null,null,null,null,null,"AF46H","X","Y",9,12,12,13,11,13,15,18,13,14.2,30,36,20,20,15,16,10,11,10,10,11,14,19,25,9,9,11,11,15,15,13,15,17,26,14,15,11,16,11,11.3,25.2,26.2,null,null,null,null,null,null,7,11,14,14,14,15,11,12,12,13,13,14,9,9,8,11,14,17,15,17,8,9,null,null,12,13,null,null,12,14,11,12,14,15,10,14,null,null,11,11,11,12,13,16]
[null,null,null,null,null,"AF47B","X","Y",8,10,12,13,10,13,17,18,13,13,30.2,32.200000000000003,15,16,15,16,11,13,8,12,14,17,21,26,7,8,8,11,16,20,13,15,18,23,10,15,15,15,11,14,17,20,null,null,null,null,null,null,12,12,10,10,14,17,12,12,11,12,15,16,8,8,11,12,14,17,14,16,7,10,null,null,11,13,null,null,12,13,13,16,15,16,10,14,null,null,11,12,10,14,12,13]
[null,null,null,null,null,"AF48H","X","Y",11,12,9,14,10,12,16,17,14,16.2,29,31.2,19,20,15,16,11,11,10,13,14,15,26,27,7,9.3000000000000007,8,9,16,16,14,15,18,19,15,18.3,16,16,10,11,17,18,null,null,null,null,null,null,7,12,13,14,14,15,12,13,9,11,14,15,8,10,9,11,17,20,14,14,8,8,null,null,12,13,null,null,12,13,13,15,13,17,13,14,null,null,11,11,11,13,14,15]
[null,null,null,null,null,"AF50A","X","Y",12,13,8,11,9,10,13,22,13,13.2,29,32.200000000000003,19,23,16,17,9,10,9,11,10,15,22,25,6,7,8,9,17,19,13,13,19,21,14,16,15,17,10,11,21,27.2,null,null,null,null,13,18,7,12,14,15,14,14,11,12,12,12,13,14,8,9,9,9,17,17,14,16,8,10,null,null,13,13,null,null,12,12,15,15,12,12,14,14,null,null,12,13,11,11,14,14]
[null,null,null,null,null,"AF51C","X","Y",12,13,12,12,12,14,15,17,14,14,29,31.2,17,21,16,17,11,12,10,12,13,14,18,26,6,9.3000000000000007,11,11,15,17,15,15,19,21,11,14,11,17,11,12,27.2,31.2,null,null,null,null,null,null,11,11,11,13,14,15,10,15,11,12,13,13,10,10,8,9,17,24,15,16,8,9,null,null,12,13,null,null,13,14,14,14,15,17,14,14,null,null,10,10,11,11,14,14]
[null,null,null,null,null,"AF52H","X","Y",12,12,9,11,11,11,14,17,13.2,15,28,29,22,23,16,17,12,13,11,12,12,13,24,30,7,9.3000000000000007,8,8,14,18,14,14,17,21,17,17.3,16,16,10,10,27.2,30.2,null,null,null,null,null,null,7,7,13,14,13,14,9,12,10,11,15,17,8,9,8,10,17,17,16,17,8,10,null,null,12,12,null,null,12,14,13,14,15,17,12,13,null,null,11,11,13,14,13,15]
[null,null,null,null,null,"AF53C","X","Y",10,11,12,12,9,11,12,16,14.2,15,28,29,19,25,17,17,10,11,10,11,12,13,21,25,6,9.3000000000000007,10,11,17,18,13,16,18,18,15.3,16,16,16,12,14,16,16,null,null,null,null,null,null,7,11,14,14,14,15,11,12,11,12,12,16,8,8,8,8,17,23,15,16,10,10,null,null,11,12,null,null,11,12,14,16,12,15,10,10,null,null,11,11,11,14,13,14]
[null,null,null,null,null,"AF54H","X","Y",11,12,11,12,11,13,12,19,13,13.2,30,31.2,20,23,15,18,11,13,10,10,12,13,21,23,6,8,8,10,18,19,14,14,15,20,15,17.3,16,16,11.3,14,18,18,null,null,null,null,null,null,11,12,12,14,12,14,10,12,11,12,14,15,9,9,9,9,18,18,17,18,8,13,null,null,12,13,null,null,13,14,12,14,15,17,10,14,null,null,13,13,11,12,15,15]
[null,null,null,null,null,"AF56A","X","Y",11,12,9,12,9,9,15,16,13,15.2,29,30,19,24,15,18,10,10,11,12,15,16,20,20,8,9,8,8,14,17,12,13,17,20,16,18.3,11,17,11,14,20,26.2,null,null,null,null,14,18,7,12,13,13,14,14,10,10,9,10,13,15,9,9,9,10,14,17,14,14,10,10,null,null,11,13,null,null,12,12,13,13,12,17,11,13,null,null,12,13,11,13,13,14]
[null,null,null,null,null,"AF57B","X","Y",11,12,9,12,11,11,16,18,13,14,29,29,22,23,15,16,11,12,8,8,8,14,22,23,8,9,8,9,17,18,15,15,18,19,13,14,15,17,10,14,18,21,null,null,null,null,null,null,8,11,13,14,13,17,11,12,11,11,14,17,9,9,9,10,20,20,16,17,10,12,null,null,13,13,null,null,12,17,12,16,15,16,13,13,null,null,12,13,13,14,14,14]
[null,null,null,null,null,"AF57H","X","Y",11,11,8,8,10,11,12,16,14,15,30,30,17,20,15,16,12,12,10,11,13,15,21,24,7,7,8,8,16,18,13,13,18.3,20,15.3,15.3,16,16,10,10,15,18,null,null,null,null,null,null,12,12,11,14,14,15,9,12,9,9,13,15,8,9,8,9,18,23,14,16,12,12,null,null,11,12,null,null,12,13,11,15,14,17,13,13,null,null,10,12,11,11,13,15]
[null,null,null,null,null,"AF59H","X","Y",10,10,9,9,12,13,13,16,15.2,15.2,28,30,17,19,16,16,7,10,11,13,12,15,24,27,6,6,11,12,15,16,15,16,18,21,15,16,11,16,10,14,13,27.2,null,null,null,null,null,null,7,12,11,14,12,12,12,13,9,10,13,15,8,9,9,10,17,17,16,17,10,12,null,null,12,13,null,null,12,13,13,14,13,13,14,14,null,null,13,13,11,14,14,14]
[null,null,null,null,null,"AF60C","X","Y",10,11,8,12,11,12,14,21,12,14,29,31.2,19,19,18,18,11,12,9,10,13,13,21,22,7,7,8,12,16,17,15,16,16,21,16,17.3,16,16,12,14,19,28.2,null,null,null,null,null,null,11,12,10,13,14,15,8,10,10,11,13,16,8,9,7,9,14,17,17,17,10,10,null,null,12,13,null,null,12,12,13,14,13,18,13,14,null,null,11,12,11,11,14,14]
[null,null,null,null,null,"AF61H","X","Y",10,12,11,12,10,12,12,14,14,15,30,31.2,17,21,15,16,12,13,10,11,13,13,21,23,6,8,9,9,15,17,11,13,19,21,15,17.3,16,17,11,12,16,16,null,null,null,null,null,null,7,12,13,15,15,16,10,11,9,12,12,16,8,8,12,12,14,20,14,17,8,10,null,null,12,13,null,null,13,13,13,13,12,18,14,14,null,null,11,12,11,11,15,16]
[null,null,null,null,null,"AF62A","X","Y",11,12,11,13,9,11,13,14,14.2,15.2,28,32.200000000000003,20,20,14,15,13,13,8,8,11,14,24,24,6,7,11,11,14,17,13,16,17,19,13,15,15,16,9.1,12,25.2,25.2,null,null,null,null,18,19,7,12,13,14,14,14,11,12,11,12,14,16,9,10,9,10,14,14,14,14,8,8,null,null,10,12,null,null,12,14,15,15,15,16,14,14,null,null,12,12,11,11,13,15]
[null,null,null,null,null,"AF63C","X","Y",10,12,11,12,11,12,12,15,13,13,27,31.2,17,18,15,15,11,13,7,11,13,16,21,23,7,9.3000000000000007,8,9,14,17,14,14,22,24,15,15,11,16,11.3,14,19,29.2,null,null,null,null,null,null,12,13,11,13,13,15,12,14,11,11,13,13,9,9,8,12,14,18,14,16,10,10,null,null,13,13,null,null,11,11,13,13,17,18,14,14,null,null,11,12,11,11,14,15]
[null,null,null,null,null,"AF64C","X","Y",11,12,9,11,11,12,17,17,13,14,29,29,21,24,15,16,11,12,8,12,11,12,20,21,9,9.3000000000000007,9,10,16,17,14,15,17.3,19,15,15.3,11,16,11,15,28.2,29.2,null,null,null,null,null,null,11,11,13,14,15,16,9,11,10,11,13,15,9,9,8,9,14,23,14,18,10,10,null,null,12,12,null,null,11,11,13,14,13,17,14,14,null,null,11,11,11,13,14,14]
[null,null,null,null,null,"AF66B","X","Y",7,12,12,13,12,12,14,14,13,13,28,32.200000000000003,26,26,16,17,11,12,10,10,14,15,20,26,8,8,7,11,19,19,12,14,18,19,13,18,16,17,11,11,16,18,null,null,null,null,null,null,7,11,13,13,13,13,12,12,10,11,16,17,9,9,8,11,18,20,18,18,8,8,null,null,11,13,null,null,12,12,12,12,15,15,13,14,null,null,11,11,12,13,14,15]
[null,null,null,null,null,"AF66C","X","Y",10,12,11,12,10,12,12,17,14,16,28,31.2,18,19,17,18,11,12,10,10,14,15,25,25,7,10,8,11,17,19,13,14,19,21,13,16,15,15,13,14,18,30.2,null,null,null,null,null,null,12,12,14,14,13,14,10,12,11,11,12,13,9,9,8,11,17,17,14,15,10,10,null,null,12,13,null,null,11,13,13,15,13,17,13,15,null,null,11,11,10,11,13,14]
[null,null,null,null,null,"AF68B","X","Y",10,12,12,12,12,13,12,18,11,11,29,32,25,26,16,17,11,13,10,10,13,14,23,25,6,6,6,9,15,16,12,14,18,18,16,16.3,15,17,10,14,14,22,null,null,null,null,null,null,11,12,13,14,13,14,10,11,11,12,13,16,9,9,9,11,14,18,15,15,10,10,null,null,12,13,null,null,11,12,14,14,13,15,14,14,null,null,12,13,11,14,14,15]
[null,null,null,null,null,"AF69C","X","Y",10,12,12,12,12,14,15,15,12,15,30,32.200000000000003,17,19,14,17,12,13,9,11,8,12,20,21,9,9.3000000000000007,8,8,17,18,14,15,18.3,21,12,18.3,15,16,11,14,21,22.2,null,null,null,null,null,null,7,11,14,14,14,16,12,12,10,11,14,16,8,9,9,10,17,17,17,17,10,11,null,null,12,12,null,null,11,14,13,16,13,17,14,14,null,null,11,12,11,14,14,15]
[null,null,null,null,null,"AF70H","X","Y",11,12,9,12,10,11,15,16,13,15,32.200000000000003,32.200000000000003,17,17,15,17,12,12,11,11,13,15,24,25,7,9.3000000000000007,8,12,16,17,13,14,15,19,14,15,15,15,10,15,19,26.2,null,null,null,null,null,null,11,12,13,14,13,15,9,14,11,12,13,13,8,10,10,11,14,17,14,16,10,13,null,null,10,13,null,null,11,12,14,14,12,14,10,13,null,null,11,12,11,14,14,15]
[null,null,null,null,null,"AF71H","X","Y",7,12,10,14,10,11,14,17,13.2,14,30,34,24,25,15,17,12,12,10,11,10,14,24,26,7,7,10,10,15,16,13,13,15,18,13,15.3,10,16,11,13,14,21,null,null,null,null,null,null,7,11,14,14,11,17,12,13,9,11,14,16,9,9,10,11,17,20,14,15,8,10,null,null,12,13,null,null,11,12,14,15,14,18,13,14,null,null,11,12,12,15,14,15]
[null,null,null,null,null,"AF72C","X","Y",10,11,11,11,11,12,14,18,14,15,29,30,19,24,17,18,9,10,10,11,13,14,20,22,6,9.3000000000000007,8,8,14,18,13,15,17,19,12,15,16,16,11,14,17,24.2,null,null,null,null,null,null,7,7,13,13,13,13,10,12,10,12,13,13,8,9,9,11,17,17,14,15,10,12,null,null,12,13,null,null,12,14.2,14,15,15,16,14,14,null,null,11,12,11,12,12,14]
[null,null,null,null,null,"AF74B","X","Y",10,11,13,14,11,13,14,16,12,13,30,33.200000000000003,18,19,15,16,12,12,8,10,14,14,24,30.2,7,8,9,11,15,15,13,16,16,18,12,14,11,16,10,12,19,31.2,null,null,null,null,null,null,10,11,10,16,14,14,11,12,9,11,14,15,9,9,10,12,18,18,15,18,9,12,null,null,11,13,null,null,12,14,14,14,16,17,14,14,null,null,11,12,11,15,13,15]
[null,null,null,null,null,"AF75B","X","Y",12,12,12,12,11,14,15,17,12,13,28,28,17,19,14,14,8,13,10,10,14,17,26,30,7,7,8,10,11,15,14,16,18,20,14,14,10,17,12,14,23.2,26.2,null,null,null,null,null,null,7,12,14,14,16,17,10,13,10,10,13,14,9,10,8,11,14,20,15,16,8,12,null,null,11,12,null,null,13,14,14,14,12,15,10,13,null,null,11,12,12,15,14,14]
[null,null,null,null,null,"AF75C","X","Y",10,11,8,11,13,14,13,17,13,14,28,31,17,18,14,16,12,12,11,11,13,14,19,24,9,9.3000000000000007,11,11,17,18,13,15,17,21,11,16.3,15,17,10,11,20,27.2,null,null,null,null,null,null,12,12,11,13,14,15,10,10,9,11,13,15,9,9,8,9,14,18,16,17,10,10,null,null,11,12,null,null,11,12,13,15,13,13,10,10,null,null,11,13,11,11,12,14]
[null,null,null,null,null,"AF76C","X","Y",10,12,13,14,11,13,13,17,13,14,29,29,22,24,17,17,10,13,8,8,13,14,18,22,8,9.3000000000000007,8,9,16,18,13,14,17,19,11,15.3,15,16,10,11,27.2,27.2,null,null,null,null,null,null,11,12,11,13,14,16,10,10,9,9,13,16,9,10,8,11,17,17,16,18,10,10,null,null,12,13,null,null,13,14,13,14,13,17,10,10,null,null,10,12,13,14,14,14]
[null,null,null,null,null,"AF78B","X","Y",10,12,11,13,12,12,16,17,13,14,29,29,17,25,15,16,11,12,8,8,11,12,24,27,7,7,6,10,15,15,12,14,18,18,14,16,11,14,11,13,17,18,null,null,null,null,null,null,11,12,11,13,13,15,10,10,11,11,13,15,8,9,11,11,17,20,14,15,8,10,null,null,11,12,null,null,12,13,12,14,15,15,11,14,null,null,11,12,11,13,12,14]
[null,null,null,null,null,"AF79A","X","Y",12,12,8,8,12,12,14,15,13,14,29,30.3,17,23,17,18,11,12,11,11,10,11,18,21,8,9,8,8,17,17,17,17,20,21,15,18.3,11,17,10,11,20,27.2,null,null,null,null,14,17,7,12,10,13,14,14,9,9,9,12,14,16,9,10,9,10,14,17,14,14,11,12,null,null,13,16,null,null,11,13,13,15,17,17,13,13,null,null,13,13,11,12,13,15]
[null,null,null,null,null,"AF80A","X","Y",10,12,10,12,11,14,13,15,14,15,30,30,24,25,16,17,10,11,11,11,13,15,21,27,6,6,8,9,16,17,15,15,17,20,14,18,17,17,12,14,19,28.2,null,null,null,null,13,18,7,12,13,14,15,15,12,12,9,11,13,14,9,10,9,11,17,18,14,17,12,12,null,null,12,13,null,null,12,12,15,15,17,18,11,13,null,null,13,14,13,13,12,15]
[null,null,null,null,null,"AF81B","X","Y",7,12,11,12,9,12,16,17,13,13,30,30,16,22,15,16,8,11,8,11,14,16,23,23,7,9.3000000000000007,8,9,15,15,12,13,18,18,16,16.3,11,14,12,14,18,20,null,null,null,null,null,null,7,12,13,15,12,15,10,11,11,12,15,17,8,9,10,10,14,14,14,16,7,7,null,null,11,14,null,null,12,13,11,14,15,15,13,13,null,null,11,12,12,14,13,14]
[null,null,null,null,null,"AF82C","X","Y",10,12,9,12,13,13,13,15,13,13,30,31.2,17,20,15,15,12,13,10,12,13,14,21,23,7,9.3000000000000007,8,9,16,17,13,14,18,22,12,18.3,14,14,11,15,19,29.2,null,null,null,null,null,null,12,12,10,14,14,15,11,12,12,12,16,16,9,10,10,10,14,14,14,17,10,12,null,null,13,13,null,null,12,13,13,14,12,15,13,13,null,null,11,11,10,11,13,14]
[null,null,null,null,null,"AF84A","X","Y",11,11,8,13,9,12,13,16,13,13,31.2,33.200000000000003,23,26,16,16,10,12,8,12,10,11,25,25,7,9,8,11,17,18,15,15,17,20,15,16,15,16,11,12,16,28.2,null,null,null,null,12,13,7,12,13,14,14,15,9,11,9,11,14,15,9,9,9,10,17,20,17,18,8,12,null,null,10,12,null,null,11,14,14,16,12,17,13,14,null,null,12,12,11,11,13,15]
[null,null,null,null,null,"AF84B","X","Y",11,11,12,12,11,12,16,19,11,13,28,29,17,25,16,16,10,12,10,11,13,13,18,20,8,9,11,11,14,16,13,14,20,22,12,15.3,11,15,11,14,20.2,28.2,null,null,null,null,null,null,11,11,10,10,12,15,11,12,9,11,16,16,9,9,9,11,14,18,15,17,7,10,null,null,13,14,null,null,11,13,13,13,13,14,13,14,null,null,11,12,12,14,14,15]
[null,null,null,null,null,"AF86A","X","Y",10,12,10,11,10,11,22,23,13.2,15.2,28,29,19,19,16,17,10,11,11,11,13,15,18,21,9,9,8,9,14,20,13,16,21,21,12,15,15,15,10,11,22,24.2,null,null,null,null,12,18,12,12,10,14,15,15,12,13,9,11,13,13,8,10,9,11,14,17,15,16,10,12,null,null,13,13,null,null,12,14,12,14,16,17,13,13,null,null,11,11,11,14,13,14]
[null,null,null,null,null,"AF87A","X","Y",10,12,9,11,11,12,17,17,14.2,15.2,31.2,32.200000000000003,20,22,15,16,12,13,11,12,15,15,19,25,8,9,11,11,18,18,13,14,18,18,16,17.3,11,16,10,12,20,27.2,null,null,null,null,10,17,7,11,13,13,10,14,11,12,9,11,14,14,10,10,9,10,17,17,14,14,10,10,null,null,12,13,null,null,12,12,13,15,12,12,13,13,null,null,11,12,11,11,13,14]
[null,null,null,null,null,"AF88C","X","Y",12,12,8,10,12,13,13,13,14,14,32.200000000000003,32.200000000000003,23,24,14,19,12,12,9,10,14,15,24,26,6,8,8,8,17,17,16,16,18,24,11,12,15,16,10,14,29.2,30.2,null,null,null,null,null,null,12,12,13,14,14,15,11,11,11,11,13,14,9,9,8,9,17,18,15,18,8,10,null,null,12,12,null,null,7,10,13,15,12,12,12,14,null,null,12,12,11,15,15,15]
[null,null,null,null,null,"AF88H","X","Y",10,11,9,12,9,11,16,16,14,16,29,32.200000000000003,17,23,16,17,12,12,11,12,13,14,19,24,6,6,12,12,16,16,13,14,17,20,14,17.3,15,16,10,10,16,23.2,null,null,null,null,null,null,11,12,11,14,12,13,9,12,10,11,14,14,9,9,8,10,17,17,14,15,9,12,null,null,12,13,null,null,14,15,14,15,12,16,10,13,null,null,12,13,11,11,14,14]
[null,null,null,null,null,"AF90A","X","Y",10,10,8,12,9,13,18,28,13,15.2,32.200000000000003,33,17,17,15,15,12,13,10,11,10,15,22,23,6,9,8,11,17,18,13,16,18,21,11,14,16,17,11,12,25.2,27.2,null,null,null,null,11,14,7,7,13,13,15,15,11,12,9,9,13,15,8,9,9,9,17,18,15,18,8,13,null,null,12,13,null,null,12,12,12,16,12,17,14,14,null,null,11,14,13,14,13,18]
[null,null,null,null,null,"AF90H","X","Y",10,10,11,13,11,13,13,14,11,15,28,29,18,22,15,15,12,12,11,12,14,15,23,24,6,9,11,12,16,19,17,17,18,20,14,17.3,16,17,11,14,19,27.2,null,null,null,null,null,null,12,12,10,10,13,14,11,12,9,11,13,14,9,10,9,10,18,23,16,17,8,10,null,null,12,13,null,null,12,13,13,15,13,13,14,14,null,null,11,13,11,11,14,14]
[null,null,null,null,null,"AF92H","X","Y",10,13,11,14,10,10,13,15,12,15.2,30,31,23,26,17,17,11,13,10,12,11,13,20,22,6,9.3000000000000007,8,11,16,18,16,16,19,21,15.3,17.3,11,15,10,10,17,28.2,null,null,null,null,null,null,7,12,13,13,14,16,9,11,9,9,14,14,9,10,9,10,14,17,14,17,9,12,null,null,12,13,null,null,12,13,13,15,12,15,14,14,null,null,11,14,11,14,13,14]
[null,null,null,null,null,"AF93B","X","Y",10,11,11,11,9,13,16,19,11,13.2,29,29,21,22,15,16,10,13,8,12,13,13,19.2,23,8,9,6,9,16,16,12,15,18,25,11,14,11,16,11,11.3,17,27.2,null,null,null,null,null,null,10,11,13,14,15,15,11,13,10,12,14,15,9,9,10,11,17,20,14,15,10,12,null,null,12,12,null,null,13,14,12,14,13,14,10,14,null,null,12,12,12,13,14,15]
[null,null,null,null,null,"AF94C","X","Y",10,12,8,10,11,13,14,16,13.2,15,28,28,19,20,16,17,11,12,8,12,13,13,21,22,9,9.3000000000000007,9,11,16,17,13,13,17,22,11,16,16,17,14,14,18,29.2,null,null,null,null,null,null,12,12,10,14,14,15,10,12,12,12,13,13,9,9,9,9,17,17,14,17,10,12,null,null,12,13,null,null,10,12,11,14,16,17,13,13,null,null,12,12,11,14,13,14]
[null,null,null,null,null,"AF95H","X","Y",12,14,8,9,11,13,17,18,14,16.2,31.2,33.200000000000003,20,23,15,16,9,11,9,11,13,14,23,25,6,7,8,8,16,17,13,14,18,19,12,17.3,11,15,11.3,14,25.2,30.2,null,null,null,null,null,null,7,12,11,13,12,13,8,12,9,12,13,16,8,9,9,9,17,18,17,17,10,12,null,null,11,13,null,null,13,14,11,14,13,17,11,11,null,null,11,11,11,11,14,15]
[null,null,null,null,null,"AF96H","X","Y",12,13,9,14,11,12,14,17,13.2,15,28,29,17,18,15,15,10,11,10,11,12,14,22,24,6,9.3000000000000007,9,11,14,17,11,16,18,21,13,15,16,17,11,11.3,17,29.2,null,null,null,null,null,null,7,12,11,14,15,17,10,12,9,10,15,16,9,10,9,10,14,23,17,17,10,12,null,null,10,13,null,null,12,13,13,13,13,17,13,14,null,null,11,12,11,15,14,14]
[null,null,null,null,null,"AF97C","X","Y",11,12,8,12,11,13,16,18,14,15,29,30,19,19,12,15,12,12,8,10,11,13,24,24,7,9,9,11,17,17,14,15,17,20,12,15.3,15,17,10,10,28.2,30.2,null,null,null,null,null,null,7,12,11,13,14,15,8,11,9,11,14,15,9,10,11,11,17,17,14,18,10,12,null,null,12,12,null,null,12,13,13,15,15,18,10,14,null,null,11,12,11,14,12,15]
[null,null,null,null,null,"AF98H","X","Y",12,12,8,12,10,12,13,17,13,14,31.2,32.200000000000003,20,25,16,17,11,13,11,11,15,15,23,23,6,7,11,12,16,19,13,14,19,21,14,14,15,16,12,15,17,27.2,null,null,null,null,null,null,7,7,13,13,11,16,9,10,9,12,14,14,9,9,9,10,17,17,15,17,10,13,null,null,13,13,null,null,11,14,13,14,13,15,11,13,null,null,11,12,11,15,13,14]
[null,null,null,null,null,"C01Ba","X","Y",10,12,11,13,11,12,17,19,13,14,28,29,17,17,15,16,12,12,8,9,10,15,24,25,7,9,8,10,16,17,12,15,18,19,16,16.3,15,15,9,13,20,30.2,null,null,null,null,null,null,7,12,11,11,13,16,10,13,9,9,14,14,9,9,9,10,14,14,14,17,10,10,null,null,13,13,null,null,11,12,14,16,14,15,10,14,null,null,11,12,14,14,11,13]
[null,null,null,null,null,"C02C","X","Y",11,11,10,11,10,12,14,15,14,15.2,29,31.2,17,23,15,18,11,13,9,12,11,13,25,26,9.3000000000000007,9.3000000000000007,8,8,16,17,13,13,18,18,13,16.3,15,15,11,14,22,30.2,null,null,null,null,null,null,12,12,11,14,14,16,11,12,9,10,13,13,9,9,9,10,17,17,14,15,8,12,null,null,11,12,null,null,15,15,13,15,12,15,10,15,null,null,12,13,11,14,14,14]
[null,null,null,null,null,"C03H","X","Y",10,11,11,12,12,13,14,16,14,16.2,28,28,19,21,16,18,11,11,10,10,10,12,25,27,6,8,8,9,17,18,13,15,18,19,15.3,15.3,15,16,10,14,15,29.2,null,null,null,null,null,null,12,12,10,13,14,14,11,12,9,11,16,17,10,10,9,10,17,17,14,17,8,10,null,null,11,13,null,null,7,13,15,15,16,18,13,14,null,null,10,13,11,15,13,14]
[null,null,null,null,null,"C04Ba","X","Y",9,11,10,12,9,10,18,18,12,13.2,28,29,17,24,15,16,12,12,10,12,12,14,22,24,8,9,11,11,15,18,11,14,18,19,11,14,14,16,11,14,12,18,null,null,null,null,null,null,9,12,13,14,15,15,11,13,9,10,15,16,9,9,9,12,18,18,15,16,7,7,null,null,12,12,null,null,13,14,12.3,12.3,12,15,14,14,null,null,12,13,11,14,14,14]
[null,null,null,null,null,"C05C","X","Y",10,12,8,11,11,13,15,18,13,14,30,30,19,20,16,18,11,11,8,10,13,14,22.2,23,9,9.3000000000000007,8,11,17,19,13,14,18.3,21,11,14,11,16,11,14,19,25.2,null,null,null,null,null,null,12,12,14,14,12,14,11,12,9,12,13,15,9,9,9,11,17,17,14,15,8,10,null,null,10,11,null,null,11,12,13,14,12,13,13,14,null,null,11,11,11,15,14,15]
[null,null,null,null,null,"C06A","X","Y",11,11,9,10,10,12,16,17,15,16,29,32.200000000000003,22,23,17,17,10,10,10,12,16,16,23,26,7,7,8,11,17,19,14,14,20,24,16,17.3,17,17,10,14,18,18,null,null,null,null,11,18,7,12,13,14,15,16,11,12,9,12,13,16,8,10,10,11,14,17,15,15,12,12,null,null,11,12,null,null,12,14,12,14,16,18,10,11,null,null,13,13,12,14,13,13]
[null,null,null,null,null,"C07C","X","Y",11,12,11,14,11,13,14,16,13,16,28,29,20,24,17,17,12,13,7,10,14,14,20,24,9,9.3000000000000007,8,8,17,18,14,15,19,20,17.3,17.3,16,16,14,14,13,19,null,null,null,null,null,null,12,12,13,14,12,13,10,12,11,12,14,15,9,9,8,9,14,14,17,18,8,11,null,null,12,12,null,null,12,13,14,14,15,18,10,10,null,null,11,12,11,15,12,14]
[null,null,null,null,null,"C08H","X","Y",11,11,8,10,11,13,13,14,14,15.2,30,32.200000000000003,17,19,15,15,11,12,10,10,13,14,20,22,7,9.3000000000000007,8,11,15,16,13,14,21,23,16,17.3,16,16,10,14,19,29.2,null,null,null,null,null,null,11,12,10,13,14,14,11,11,9,12,15,15,8,9,9,10,14,20,14,15,8,10,null,null,11,13,null,null,12,14,11,14,13,17,13,14,null,null,11,13,12,14,14,15]
[null,null,null,null,null,"C100B","X","Y",11,12,11,12,9,13,15,18,12,14,28,31,18,23,16,18,12,13,8,11,12,13,21,25,6,7,6,9,16,17,12,14,18,22,12,14,11,12,12,12,17,19,null,null,null,null,null,null,10,12,10,14,13,17,10,13,9,11,13,17,8,9,10,12,14,17,15,17,10,12,null,null,12,12,null,null,12,13,14,16,13,14,10,11,null,null,10,12,11,15,13,14]
[null,null,null,null,null,"C10B","X","Y",11,13,8,12,13,13,17,17,13.2,15,30,30,22,25,15,16,11,12,8,9,14,16,22,22,8,9.3000000000000007,8,11,17,17,13,14,20,20,16,17.3,14,15,11,14,14,21,null,null,null,null,null,null,12,13,13,13,14,15,11,11,9,11,13,13,9,9,10,11,17,20,17,17,10,10,null,null,11,12,null,null,12,14,12,13,12,18,14,14,null,null,11,13,11,14,10,13]
[null,null,null,null,null,"C11A","X","Y",12,12,8,12,10,11,14,15,13,14,30,31,18,23,14,16,12,13,8,11,11,14,20,23,9,10,8,8,17,18,12,13,18,21,15,16,17,17,11,14,29.2,31.2,null,null,null,null,12.3,17,7,12,13,14,13,14,11,11,11,12,13,13,9,10,10,10,14,18,14,14,8,12,null,null,11,14,null,null,12,13,13,16,12,16,13,14,null,null,11,11,13,14,12,16]
[null,null,null,null,null,"C12B","X","Y",7,12,10,12,8,12,14,15,12,14.2,29,31,18,25,12,15,11,12,11,11,11,14,18.2,25,7,7,9,11,16,19,13,14,20,24,14,15,17,17,10,12,18,36,null,null,null,null,null,null,7,11,10,11,14,17,11,12,11,11,15,15,9,10,8,11,14,14,14,15,10,12,null,null,12,13,null,null,11,12,12,13,12,14,13,14,null,null,12,15,11,14,13,14]
[null,null,null,null,null,"C13C","X","Y",10,10,8,11,11,12,16,19,13,14,30,30,17,22,16,17,11,13,7,10,14,16,21,25,8,9.3000000000000007,9,9,16,18,14,16,21,24,14,17.3,11,15,12,13,17,27.2,null,null,null,null,null,null,11,12,11,14,13,15,10,11,9,11,13,16,9,10,8,10,14,17,15,18,11,12,null,null,11,11,null,null,10,13,13,14,12,17,13,14,null,null,11,13,11,13,14,16]
[null,null,null,null,null,"C14H","X","Y",9,10,9,12,12,12,14,18,12,13,29,30,23,26,17,20,11,11,8,11,10,13,21,24,6,9.3000000000000007,9,12,15,16,14,15,19,22,12,15,11,15,10,10,16,27.3,null,null,null,null,null,null,7,11,14,14,15,15,12,12,11,11,14,15,8,9,8,9,18,23,15,17,8,12,null,null,13,13,null,null,12,13,13,13,15,17,13,14,null,null,11,12,11,15,13,13]
[null,null,null,null,null,"C15B","X","Y",12,13,11,12,13,13,15,15,11,14.2,28,30.2,20,24,14,15,12,12,10,11,12,13,20,27,7,7,9,12,15,19,12,15,16,19,11,16,14,17,11.3,13,18,30.2,null,null,null,null,null,null,11,12,10,14,14,15,9,10,11,11,14,15,9,9,11,11,14,23,14,16,8,12,null,null,12,13,null,null,12,14,12,13,15,16,14,14,null,null,13,14,14,15,14,15]
[null,null,null,null,null,"C17C","X","Y",10,10,11,12,10,11,15,16,13,15.2,28,30,17,23,14,16,11,11,8,12,13,13,22,22,6,8,8,11,17,17,14,17,17,20,12,16,15,16,11,11,21,30.2,null,null,null,null,null,null,7,12,13,13,12,14,11,11,10,12,15,16,8,9,9,10,14,17,15,17,10,10,null,null,13,14,null,null,11,12,14,14,12,16,14,14,null,null,11,11,11,12,14,15]
[null,null,null,null,null,"C18B","X","Y",10,11,11,12,11,11,12,14,12,12,30.2,32.200000000000003,23,24,15,16,10,11,11,12,14,15,19,21,7,9,8,11,14,17,13,15,18,24,11,18.3,15,16,13.3,15,17,28.2,null,null,null,null,null,null,11,12,10,10,13,14,11,12,10,11,13,16,9,10,9,11,17,17,15,18,8,10,null,null,12,12,null,null,11,11,13,15,13,15,10,13,null,null,12,13,14,14,13,15]
[null,null,null,null,null,"C19H","X","Y",10,10,9,12,9,9,12,18,14,14,29,33.200000000000003,23,23,15,18,11,11,10,11,10,13,19,26,7,9,8,8,15,16,14,15,17.3,22,15,16,15,15,10,11,28.2,29.2,null,null,null,null,null,null,7,11,11,13,14,16,9,11,12,12,15,15,8,10,9,11,17,17,14,16,13,13,null,null,13,13,null,null,11,12,12,13,17,17,10,13,null,null,11,11,13,14,14,14]
[null,null,null,null,null,"C20A","X","Y",12,13,11,13,13,13,13,15,12,14,30,30,19,23,15,16,10,11,10,11,13,16,20,25,9,9.3000000000000007,8,9,16,19,14,15,15,21,16,17,11,15,10,12,20,27.2,null,null,null,null,14,20,7,7,10,13,14,15,10,12,11,12,14,14,9,10,9,9,14,17,14,17,10,10,null,null,12,13,null,null,12,14,14,15,17,17,14,14,null,null,11,13,14,14,14,14]
[null,null,null,null,null,"C21C","X","Y",10,12,8,12,9,13,13,17,15,15.2,30,30,25,25,14,16,12,12,7,12,13,13,22,23,9.3000000000000007,9.3000000000000007,8,8,16,18,14,15,21,22,12,13,11,16,11,11,27.2,28.2,null,null,null,null,null,null,12,12,10,11,14,15,10,11,9,9,12,13,9,9,9,9,14,17,15,16,10,11,null,null,13,13,null,null,12,13,14,14,17,17,11,14,null,null,12,13,11,14,14,15]
[null,null,null,null,null,"C22C","X","Y",11,12,11,12,11,13,13,15,13,14,30,30,17,20,16,18,12,12,8,10,13,13,24,26,9,10,8,9,14,18,12,14,17.3,22,16,18.3,15,16,11.3,14,14,18,null,null,null,null,null,null,12,12,10,11,14,15,12,12,11,12,13,14,10,10,8,10,17,18,14,15,10,12,null,null,12,13,null,null,12,13,12,16,12,17,11,14,null,null,11,13,10,13,14,14]
[null,null,null,null,null,"C24C","X","Y",10,11,9,11,10,14,16,19,13,14,30.2,31.2,17,20,16,18,11,11,10,11,13,13,21,22,6,6,11,11,15,16,14,15,20,22,15,16.3,11,17,11,14,23.2,27.2,null,null,null,null,null,null,7,12,13,13,15,17,9,10,9,9,13,17,9,9,9,9,18,18,14,14,8,12,null,null,11,11,null,null,13,14,13,14,17,17,13,14,null,null,12,13,11,12,13,17]
[null,null,null,null,null,"C24H","X","Y",11,13,9,11,10,12,14,19,13,14,28,30,20,24,16,17,11,12,11,12,12,14,22.2,23,7,9,8,11,15,16,14,15,20,24,15,17.3,15,16,10,11,15,19,null,null,null,null,null,null,12,12,14,14,14,15,12,12,11,12,13,14,9,9,9,11,17,23,17,18,10,12,null,null,12,13,null,null,13,13,14,16,12,15,13,14,null,null,12,12,11,14,13,15]
[null,null,null,null,null,"C26C","X","Y",12,14,8,11,9,12,15,18,13,14,28,31,17,19,15,17,11,12,10,11,11,13,21,23,7,9,8,11,18,18,13,13,17,20,13,16.3,16,16,10,11,18,23.2,null,null,null,null,null,null,11,12,14,14,15,15,11,11,9,11,15,15,8,10,11,11,14,17,14,16,8,10,null,null,15,15,null,null,12,13,15,15,13,13,10,14,null,null,11,11,11,12,15,15]
[null,null,null,null,null,"C27H","X","Y",12,12,13,14,9,11,11,14,14,15,27,30,16,19,14,15,11,12,8,9,8,16,21,26,7,9,11,11,14,18,15,16,18,21,16,16,15,16,10,10,24.2,27.2,null,null,null,null,null,null,7,11,13,13,14,14,12,13,9,11,14,15,9,10,9,9,17,17,15,18,10,13,null,null,11,13,null,null,12,13,14,14,15,17,13,13,null,null,12,14,11,13,13,15]
[null,null,null,null,null,"C29A","X","Y",12,13,8,8,9,10,12,14,14,14.2,30,31,18,23,15,15,11,13,8,10,13,14,18,26,7,8,8,11,16,17,12,17,20,25,15,16,11,11,10,14,19,29.2,null,null,null,null,12,13,7,12,13,13,15,15,11,12,11,12,13,15,8,10,9,11,14,18,14,15,8,10,null,null,12,12,null,null,12,14,13,15,12,12,10,14,null,null,11,12,11,12,13,14]
[null,null,null,null,null,"C30A","X","Y",11,12,9,9,9,9,12,14,13,13.2,32.200000000000003,35.200000000000003,19,20,15,17,10,10,10,11,12,14,20.2,24,6,7,8,11,19,19,16,17,17,24,14,16,17,17,10,11,20,21.2,null,null,null,null,13,19,11,11,13,13,14,15,9,11,11,11,15,16,8,9,9,10,14,17,14,15,8,8,null,null,10,13,null,null,12,13,12,14,16,17,10,14,null,null,12,13,11,14,13,13]
[null,null,null,null,null,"C30H","X","Y",11,12,9,13,9,13,14,17,13.2,14,29,30,20,25,16,18,11,12,11,11,8,11,22,27,6,9,8,11,16,16,13,14,20,23,15.3,18.3,16,17,10,11,23.2,23.2,null,null,null,null,null,null,11,12,11,13,14,14,9,11,9,11,14,15,9,10,8,9,17,17,15,18,10,10,null,null,11,12,null,null,11,12,13,14,17,17,12,14,null,null,11,13,12,14,13,15]
[null,null,null,null,null,"C32C","X","Y",11,11,12,13,12,13,14,17,13,14,30,31.2,16,17,15,15,12,12,11,11,11,12,22,22,6,8,8,8,17,17,14,16,18,19,14,17.3,15,16,10,10,20,30.2,null,null,null,null,null,null,12,12,10,13,13,13,11,12,8,11,13,16,9,9,11,13,14,24,14,16,8,10,null,null,12,13,null,null,12,13,13,13,17,17,13,15.3,null,null,11,12,11,12,13,14]
[null,null,null,null,null,"C33C","X","Y",12,13,8,11,12,13,12,12,13,14.2,30,31.2,22,24,17,19,12,12,7,11,14,14,21,21,7,8,8,11,17,18,14,16,17,18,14,14.3,11,16,10,14,16,29.2,null,null,null,null,null,null,12,12,11,14,13,13,9,12,9,11,13,14,9,9,8,8,14,17,14,17,10,13,null,null,12,13,null,null,11,13,12,15,12,12,13,13,null,null,11,12,11,11,13,15]
[null,null,null,null,null,"C33H","X","Y",11,11,12,12,10,10,12,14,12.2,15,30,32,19,24,16,17,12,12,10,12,8,10,23,25,7,9,8,8,14,17,13,15,21,21,12,17.3,11,14,10,14,28.2,31.2,null,null,null,null,null,null,12,12,10,11,13,14,10,12,12,12,13,15,8,9,9,10,17,18,14,17,8,8,null,null,12,12,null,null,8,14,13,15,12,15,14,14,null,null,11,12,13,14,13,14]
[null,null,null,null,null,"C35B","X","Y",7,10,11,12,11,12,15,17,13,14,28,29,19,24,16,17,12,13,10,10,13,14,24,24,8,8,8,8,17,17,16,17,18,19,12,14,11,17,10,12,19,21,null,null,null,null,null,null,12,12,12,13,15,15,12,12,11,11,14,15,9,9,10,12,18,18,14,18,7,10,null,null,12,13,null,null,11,15,14,14,15,16,13,13,null,null,12,12,12,14,10,14]
[null,null,null,null,null,"C37A","X","Y",11,12,8,12,12,12,13,18,14,15,32.200000000000003,33,17,19,15,15,10,13,8,11,10,14,25,26,7,8,8,8,16,19,13,14,20,20,14,17.3,15,17,10,11,20,27.2,null,null,null,null,13,18,7,7,13,13,14,16,9,12,11,11,14,16,8,10,9,10,18,20,14,17,12,12,null,null,12,12,null,null,11,13,13,15,17,17,10,13,null,null,12,12,11,14,12,15]
[null,null,null,null,null,"C37H","X","Y",8,11,10,12,9,11,12,15,13,13.2,29,31,24,25,15,15,9,10,10,11,14,15,20,24,7,7,8,12,16,17,14,14,17,22,11,13,16,17,10,10,20,31.2,null,null,null,null,null,null,7,7,14,14,14,16,8,13,11,12,15,16,10,10,8,9,14,17,16,16,8,10,null,null,12,13,null,null,12,13,12,12,14,14,13,14,null,null,12,12,11,11,9,14]
[null,null,null,null,null,"C38H","X","Y",10,11,9,11,9,12,14,17,14,15,29,32.200000000000003,22,25,15,18,9,11,8,11,12,14,19,26,9,9,8,12,17,18,13,14,16,17,12,13,14,14,11,11.3,15,26.2,null,null,null,null,null,null,12,12,14,14,13,14,11,13,9,11,15,15,8,9,11,11,18,23,14,18,8,8,null,null,12,14,null,null,12,12,14,14,12,13,14,14,null,null,12,13,12,15,14,15]
[null,null,null,null,null,"C40A","X","Y",10,11,9,11,10,12,16,20,13,14,29,31.2,23,27,15,16,10,12,11,12,10,14,21,23,6,9,9,12,14,17,13,16,20,21,15,15,17,17,10,10,20,26.2,null,null,null,null,13,14,7,12,13,14,14,14,10,12,9,9,16,16,9,10,10,10,17,17,15,16,10,12,null,null,13,14,null,null,11,14,13,15,12,17,14,14,null,null,12,12,13,15,14,16]
[null,null,null,null,null,"C41B","X","Y",10,12,11,12,9,14,16,16,14,15.2,28,30,19,20,15,17,11,12,8,12,13,13,22,24,7,8,9,10,15,17,10,13,15,18,14,16.3,11,16,11,12,14,26.2,null,null,null,null,null,null,7,9,10,13,14,14,9,13,9,10,14,16,9,9,8,10,20,23,14,17,10,12,null,null,13,13,null,null,12,12,14,14,12,15,14,14,null,null,12,12,11,14,13,13]
[null,null,null,null,null,"C42H","X","Y",12,12,10,10,10,11,13,17,13.2,15,30,32,20,21,14,15,9,12,8,12,11,13,19,25,6,9.3000000000000007,8,9,15,20,13,14,19,20,15.3,17,16,16,10,12,20,28.2,null,null,null,null,null,null,12,12,10,13,14,14,10,12,10,11,15,15,8,10,8,9,17,17,16,18,10,10,null,null,13,14,null,null,12,12,13,15,12,16,13,14,null,null,12,13,11,11,14,14]
[null,null,null,null,null,"C43A","X","Y",9,10,8,11,11,12,13,16,13,16.2,30,30,22,25,16,16,11,11,11,11,13,13,19,22,6,7,8,8,16,19,13,14,20,21,15,17,11,11,11,12,16,21.2,null,null,null,null,11,18,7,12,13,13,14,15,12,13,11,11,13,14,9,9,8,11,17,18,14,17,12,13,null,null,12,12,null,null,11,12,13,14,12,17,14,14,null,null,12,13,11,15,13,14]
[null,null,null,null,null,"C44H","X","Y",10,11,12,14,12,12,13,14,13,15.2,28,29,23,23,15,16,9,11,10,11,11,13,26,26,6,7,8,11,16,16,13,14,18,22,12,15,15,16,10,11,19,30.2,null,null,null,null,null,null,7,12,13,13,15,15,12,12,9,12,13,13,8,9,9,9,17,17,14,15,8,13,null,null,11,13,null,null,12,12,12,13,12,17,10,14,null,null,13,14,14,15,13,14]
[null,null,null,null,null,"C45H","X","Y",10,12,9,12,12,13,17,22,14,15.2,28,29,17,24,15,18,11,11,11,12,13,14,21,22,9.3000000000000007,9.3000000000000007,8,8,18,18,13,16,21,21,14,15,15,16,10,11.3,29.2,30.2,null,null,null,null,null,null,7,7,13,13,13,14,11,13,9,11,13,14,9,9,11,11,14,18,15,17,10,11,null,null,12,12,null,null,12,13,13,15,13,17,13,13,null,null,12,12,11,13,12,16]
[null,null,null,null,null,"C47B","X","Y",8,11,12,12,12,13,15,17,13,13,30,30.2,16,21,15,15,10,12,8,8,10,14,23,26,7,7,10,11,19,20,13,16,20,23,11,15,15,15,11,14,19,20,null,null,null,null,null,null,12,12,10,14,15,17,12,13,11,12,15,15,8,10,9,11,14,20,14,17,8,10,null,null,11,13,null,null,12,13,12,16,12,15,13,14,null,null,12,13,11,14,13,14]
[null,null,null,null,null,"C47C","X","Y",10,12,11,13,11,12,13,17,13.2,15,30,30,19,19,15,17,10,10,11,11,10,13,21,22,8,9,11,12,16,16,15,15,18,22,15,16,15,15,14,15,19,19,null,null,null,null,null,null,7,12,11,13,14,14,10,12,8,12,14,16,9,10,9,11,14,18,16,17,8,10,null,null,12,13,null,null,12,12,14,15,13,13,13,14,null,null,11,12,12,13,12,12]
[null,null,null,null,null,"C48H","X","Y",12,12,8,9,10,11,16,16,13,14,29,31.2,18,20,15,16,11,11,12,13,14,14,22,27,7,8,8,9,16,18,14,15,18,19,15,16.3,14,16,10,14,17,32.200000000000003,null,null,null,null,null,null,7,12,13,14,13,14,12,12,9,11,13,15,8,9,9,9,17,17,14,15,8,10,null,null,12,13,null,null,12,12,14,15,13,17,13,13,null,null,11,12,11,11,14,14]
[null,null,null,null,null,"C49C","X","Y",10,12,11,11,11,13,14,15,13,14,30,31.2,16,23,18,18,13,13,11,12,13,14,19,21,8,9.3000000000000007,8,11,15,17,13,16,17.3,23,14,18.3,11,16,11,11.3,19,21,null,null,null,null,null,null,11,12,10,10,13,13,10,11,11,11,15,15,9,10,9,9,18,18,16,17,10,12,null,null,11,13,null,null,12,12,14,14,17,17,13,14,null,null,11,12,11,14,13,14]
[null,null,null,null,null,"C51C","X","Y",12,13,12,12,12,13,13,17,14,15.2,29,32.200000000000003,17,21,16,17,12,12,10,11,13,14,18,20,6,9.3000000000000007,11,11,15,15,13,15,21,22,11,15,14,17,12,13,15,27.2,null,null,null,null,null,null,11,11,11,15,14,15,12,15,11,11,13,15,9,10,8,8,14,24,15,16,8,10,null,null,12,13,null,null,12,13,14,15,15,18,10,14,null,null,10,12,11,12,14,14]
[null,null,null,null,null,"C52A","X","Y",11,13,10,11,9,9,13,14,12,15.2,28,31.2,19,22,15,15,12,13,10,10,12,15,23,24,6,7,8,8,17,17,13,14,19,20,12,13,11,15,10,11,22.2,28.2,null,null,null,null,13,14,7,7,14,14,13,13,9,12,9,12,15,15,8,10,9,9,17,18,14,15,12,12,null,null,11,12,null,null,13,14,13,14,12,17,12,14,null,null,12,13,12,13,13,13]
[null,null,null,null,null,"C53C","X","Y",10,11,8,12,9,10,12,16,14,14.2,28,28,25,25,17,18,10,12,10,10,13,15,21,21,6,7,9,11,18,18,13,13,18,25,15,16,16,16,11,12,16,24.2,null,null,null,null,null,null,11,12,10,14,13,15,12,12,11,12,12,14,8,10,8,8,17,18,16,17,10,12,null,null,12,12,null,null,11,12,13,14,15,17,10,14,null,null,11,12,11,14,14,14]
[null,null,null,null,null,"C54H","X","Y",10,11,8,12,12,13,19,19,13.2,15.2,29,31.2,22,23,15,18,11,12,10,11,11,13,22,23,6,9.3000000000000007,8,10,17,18,14,14,15,18,17.3,17.3,16,16,11.3,14,18,29.2,null,null,null,null,null,null,11,11,13,14,12,14,10,11,11,11,15,17,8,9,9,12,17,18,17,18,8,10,null,null,12,13,null,null,12,14,14,14,15,17,10,12,null,null,11,13,11,13,13,15]
[null,null,null,null,null,"C55H","X","Y",12,12,11,13,10,11,13,17,13,15.2,28,30,20,23,17,18,11,12,8,11,13,13,23,24,6,9,9,10,17,17,16,16,22,23,17,17.3,11,15,10,14,18,22,null,null,null,null,null,null,7,12,13,13,12,15,12,12,10,11,13,16,8,9,9,10,14,17,15,18,8,10,null,null,13,14,null,null,15,15,14,15,16,17,14,14,null,null,11,12,11,13,12,15]
[null,null,null,null,null,"C56C","X","Y",11,11,12,13,12,13,17,19,13,14,29,29,24,24,16,17,12,13,8,11,13,13,22,24,6,7,8,11,19,19,13,16,19,23,18.3,18.3,11,16,10,10,26.2,26.2,null,null,null,null,null,null,12,12,10,13,14,15,11,11,11,12,13,16,8,10,8,9,14,17,14,17,12,12,null,null,12,12,null,null,13,16,13,15,12,17,10,14,null,null,12,12,11,14,14,14]
[null,null,null,null,null,"C58B","X","Y",10,12,10,11,10,10,15,17,12,14,29,32.200000000000003,19,24,17,17,13,13,9,10,14,15,24,24,6,7,9,11,16,18,14,14,17,22,13,14,10,11,11,13,14,32.200000000000003,null,null,null,null,null,null,12,12,13,13,12,15,12,13,9,10,15,15,9,10,10,11,20,24,17,17,10,10,null,null,13,13,null,null,11,14,14,14,14,15,14,15,null,null,12,12,12,13,13,13]
[null,null,null,null,null,"C59H","X","Y",10,11,9,12,12,12,13,19,13,15.2,30,32.200000000000003,19,23,16,16,7,12,11,13,13,15,23,27,6,9,8,11,15,18,14,15,18,19,12,15,15,16,14,15,13,18,null,null,null,null,null,null,7,7,11,14,12,14,10,13,9,12,13,14,8,10,9,11,17,17,17,17,10,12,null,null,13,13,null,null,12,12,13,14,12,13,12,14,null,null,12,13,14,14,14,15]
[null,null,null,null,null,"C61A","X","Y",12,12,11,11,9,12,13,16,14,14.2,30,33.200000000000003,20,26,16,16,11,14,8,10,10,12,23,24,6,6,8,8,16,17,14,15,18,20,15,16,15,15,11,12,26.2,27.2,null,null,null,null,18,20,7,11,10,13,14,15,11,11,11,12,13,16,8,9,8,9,14,17,15,15,10,11,null,null,11,12,null,null,11,12,14,16,17,18,10,14,null,null,11,12,11,15,14,14]
[null,null,null,null,null,"C62B","X","Y",10,12,12,13,10,12,13,18,13,13,27,31.2,22,25,15,17,10,12,9,10,12,14,21,22,6,7,10,11,14,16,15,15,19,20,12,15,10,17,11,14,18,21,null,null,null,null,null,null,8,11,13,13,13,14,11,12,9,12,15,15,9,9,9,11,14,22,15,17,8,10,null,null,12,13,null,null,12,15,14,15,12,17,12,14,null,null,11,12,11,13,13,14]
[null,null,null,null,null,"C62H","X","Y",11,12,8,9,11,12,12,14,12,14,30,30,19,20,16,16,11,12,11,11,12,14,22,23,6,7,8,11,16,17,14,14,16,18,12,16,15,16,10,10,19,19,null,null,null,null,null,null,11,12,14,14,13,15,9,11,9,11,13,14,9,9,9,9,17,17,17,18,9,12,null,null,11,13,null,null,12,13,13,13,17,18,10,13,null,null,10,13,11,11,13,15]
[null,null,null,null,null,"C64B","X","Y",7,12,12,14,10,11,16,16,11,12,31,35,17,23,15,15,12,13,8,12,15,15,22,25,7,7,6,9,15,16,14,17,18,18,16,18.3,15,17,12,14,19,19,null,null,null,null,null,null,12,13,13,15,13,14,11,12,11,12,16,16,8,8,10,12,18,20,14,18,7,10,null,null,12,13,null,null,13,14,13,13,12,12,10,14,null,null,12,14,11,12,14,15]
[null,null,null,null,null,"C64H","X","Y",10,11,9,11,9,12,15,15,13,14,31.2,32.200000000000003,17,19,15,17,10,11,10,10,13,15,22,22,6,9,9,11,11,18,15,17,18,19,16,17,15,16,11,15,21,27,null,null,null,null,null,null,8,11,10,11,13,14,11,11,10,10,14,16,8,8,8,10,18,18,14,17,7,10,null,null,12,13,null,null,12,18,12,13,15,17,13,14,null,null,11,12,12,14,14,15]
[null,null,null,null,null,"C66B","X","Y",7,8,12,13,5,12,14,20,12,13,28,28,25,26,17,17,12,12,10,11,13,14,20,25,7,8,10,11,13,19,12,14,17,18,15,18,12,16,11,11,17,18,null,null,null,null,null,null,11,12,12,13,13,15,12,12,10,11,14,17,8,9,10,11,20,20,18,19,8,10,null,null,11,12,null,null,12,13,12,12,14,15,14,14,null,null,10,11,13,14,14,15]
[null,null,null,null,null,"C67H","X","Y",10,13,9,9,10,12,14,15,14,14,30,30,19,23,14,15,11,12,10,13,10,12,20,25,7,9.3000000000000007,9,9,15,17,13,16,18,21,16,16,15,16,10,14,26.2,27.2,null,null,null,null,null,null,7,12,10,13,15,15,12,14,9,13,13,16,10,10,8,9,17,23,14,15,8,10,null,null,13,13,null,null,12,12,12,14,17,17,13,14,null,null,12,13,11,11,14,14]
[null,null,null,null,null,"C69C","X","Y",11,12,11,12,13,14,15,18,14.2,15,32.200000000000003,32.200000000000003,17,23,14,15,11,13,9,10,8,13,21,22,9.3000000000000007,9.3000000000000007,8,10,14,18,13,14,17,21,12,18.3,14,16,11,14,17,21,null,null,null,null,null,null,7,12,14,14,15,16,10,12,9,11,15,16,9,9,9,10,14,17,17,17,10,10,null,null,11,12,null,null,11,12,13,13,17,17,14,14,null,null,12,12,11,14,13,14]
[null,null,null,null,null,"C71A","X","Y",10,12,11,11,9,12,14,17,13,14,29,30,17,24,16,17,9,10,9,12,13,14,20,22,8,9,8,8,17,18,13,13,20,26,17,17,15,16,10,11,20,26.2,null,null,null,null,13,14,7,7,13,13,14,15,7,12,10,10,14,14,8,9,9,11,14,17,14,17,10,10,null,null,11,13,null,null,11,12,13,14,12,12,11,12,null,null,12,12,11,11,14,15]
[null,null,null,null,null,"C71H","X","Y",7,11,12,14,11,12,14,14,14,14,30,31,19,25,14,17,12,12,9,11,12,14,21,24,6,7,8,10,15,18,13,15,18,20,13,14,16,17,11,13,21,27.2,null,null,null,null,null,null,7,13,14,14,14,17,11,12,9,9,14,16,8,9,10,10,17,20,14,15,8,10,null,null,11,12,null,null,11,12,13,15,17,18,13,13,null,null,11,12,14,15,14,14]
[null,null,null,null,null,"C73A","X","Y",11,12,9,12,9,9,16,22,14.2,14.2,29,30,18,18,15,15,11,11,12,12,10,14,22,24,9,9,8,8,17,17,12,13,19,20,15,18,11,15,11,14,21.2,30.2,null,null,null,null,12,18,12,12,13,14,14,15,12,13,9,11,14,14,8,9,10,10,14,18,14,14,8,8,null,null,13,13,null,null,14,14,14,15,12,16,11,14,null,null,10,13,11,12,13,15]
[null,null,null,null,null,"C74B","X","Y",11,11,12,13,11,11,16,16,13,15,30,33.200000000000003,18,22,16,17,0,0,8,10,10,14,20,30.2,6,8,8,9,15,15,13,15,18,18,14,18.3,15,16,11,12,28.2,31.2,null,null,null,null,null,null,10,11,13,16,14,14,12,13,10,11,14,15,8,9,9,10,17,18,18,18,8,12,null,null,12,13,null,null,14,14,13,14,14,16,10,14,null,null,11,13,11,14,13,13]
[null,null,null,null,null,"C75H","X","Y",10,12,11,11,10,12,12,13,13,13.2,29,30,19,24,15,15,11,12,8,12,13,13,22,27,7,7,8,8,14,15,15,15,17,19,15,16,15,16,10,14,19,22.2,null,null,null,null,null,null,7,13,10,13,14,14,12,12,11,11,14,15,9,9,10,10,17,17,16,18,12,13,null,null,12,13,null,null,12,14,13,16,12,15,13,14,null,null,12,13,11,13,13,13]
[null,null,null,null,null,"C76B","X","Y",10,13,9,11,12,12,14,16,11,15,28,29,20,24,15,16,9,11,8,9,10,11,18.2,22,7,9,8,8,15,18,13,15,16,17,14,15,11,16,11,11,27.2,28.2,9,11,10,14,20,24,null,null,null,null,null,null,null,null,null,null,null,null,null,null,null,null,null,null,null,null,null,null,null,null,null,null,null,null,null,null,null,null,null,null,null,null,null,null,null,null,null,null,null,null,null,null,13,21,30,15,10,11,14,21,21,14,11,13,17,15,12,16,17,17,20,15,12,26,11]
[null,null,null,null,null,"C78C","X","Y",10,12,11,12,11,12,15,17,13,14,28,32.200000000000003,18,23,17,17,12,12,10,12,12,14,21,23,6,8,8,10,16,17,15,15,16,22,12,13,16,16,10,10,22,31.2,null,null,null,null,null,null,12,12,13,13,13,13,12,12,9,10,13,15,9,10,9,9,14,18,17,17,13,13,null,null,13,13,null,null,11,14,13,16,15,17,10,13,null,null,10,12,11,13,15,15]
[null,null,null,null,null,"C79B","X","Y",10,11,12,13,11,12,13,20,11,14,30,32.200000000000003,17,22,15,16,9,12,10,10,13,16,21,25,7,7,8,9,16,17,13,16,15,23,15.3,16,16,16,13,14,13.2,26.2,null,null,null,null,null,null,11,13,11,13,15,16.3,11,11,9,11,15,15,9,9,10,10,20,20,16,19,8,10,null,null,12,13,null,null,12,12,14,15,13,18,10,13,null,null,13,13,12,12,14,15]
[null,null,null,null,null,"C80C","X","Y",12,12,8,12,13,13,14,17,13,14,30,30,16,17,15,15,13,13,10,11,12,13,23,23,9.3000000000000007,9.3000000000000007,9,9,15,18,13,17,19,21,16,17.3,16,17,10,14,15,18,null,null,null,null,null,null,12,12,14,14,14,14,10,12,11,11,12,13,9,10,9,9,14,17,14,15,10,10,null,null,12,13,null,null,12,12,15,17,17,17,10,14,null,null,11,13,11,13,14,16]
[null,null,null,null,null,"C80H","X","Y",10,11,9,12,11,12,13,14,14,14,29,30,17,23,15,15,11,12,9,11,13,13,22.2,25,8,9.3000000000000007,8,8,14,16,14,14,20,23,15,16,13,17,11,13,14,29.2,null,null,null,null,null,null,11,12,11,14,15,15,11,12,9,11,15,15,9,9,9,10,17,24,14,14,8,12,null,null,12,12,null,null,13,14,14,14,12,15,13,14,null,null,11,14,13,13,13,14]
[null,null,null,null,null,"C82B","X","X",11,11,11,12,11,12,14,18,14,15,28,31,16,23,17,17,10,12,9,11,12,14,26,28,9,9,8,8,15,17,16,16,16,17,14,16,11,15,12,14,20,26.2,null,null,null,null,null,null,7,12,10,11,13,14,9,10,11,11,14,16,9,10,8,9,14,14,16,17,8,10,null,null,12,13,null,null,12,13,12,14,12,15,12,14,null,null,12,14,8,11,16,16]
[null,null,null,null,null,"C83B","X","Y",10,11,9,10,12,13,16,17,12,12.2,30,34,19,23,16,16,12,12,9,10,14,14,21,28,7,9,9,11,17,18,13,14,18,18,14,14,15,15,12.3,14,17,25.2,null,null,null,null,null,null,7,12,10,11,13,13,9,11,10,11,12,16,8,9,10,11,14,20,15,18,10,11,null,null,12,12,null,null,12,12,13,14,15,18,11,13,null,null,12,12,12,15,14,14]
[null,null,null,null,null,"C84B","X","Y",11,13,12,12,12,12,19,19,12,13,28,31,17,22,16,17,10,12,10,10,13,15,20,24,7,8,11,11,14,17,14,14,18,22,15.3,17.3,15,17,11,12,15,28.2,null,null,null,null,null,null,11,11,10,12,15,15,11,11,10,11,15,16,9,9,10,11,14,14,15,19,7,7,null,null,12,14,null,null,11,12,13,13,13,15,10,13,null,null,11,12,14,14,14,15]
[null,null,null,null,null,"C84C","X","Y",10,11,11,12,12,12,14,16,14,15,30,30,16,19,17,18,8,12,11,12,10,16,21,21,7,8,8,8,16,16,14,15,21,22,15,18.3,15,16,10,10,15,27.2,null,null,null,null,null,null,11,12,13,14,12,15,12,12,11,11,13,15,8,10,8,10,17,18,15,17,8,12,null,null,12,12,null,null,11,12,13,15,13,17,13,14,null,null,11,12,11,11,14,15]
[null,null,null,null,null,"C84H","X","Y",11,13,12,14,12,12,13,18,14.2,15,29,30,19,23,16,17,7,9,8,10,10,14,24,26,6,8,11,12,16,16,12,14,19,20,16.3,17.3,16,17,11,11,26.2,29.2,null,null,null,null,null,null,11,12,10,10,13,14,13,13,10,11,11,14,8,8,9,9,14,17,15,17,12,13,null,null,12,13,null,null,13,14,13,14,15,17,13,14,null,null,12,13,11,14,14,14]
[null,null,null,null,null,"C85A","X","Y",9,12,12,12,9,14,13,15,14.2,15.2,30,32.200000000000003,18,19,15,15,13,13,8,10,13,14,21,23,7,9,8,11,16,17,13,16,18,18,13,16,15,17,10,14,24.2,26.2,null,null,null,null,14,21,7,12,13,14,14,14,11,11,9,12,14,15,8,9,11,11,14,18,15,15,10,12,null,null,13,13,null,null,12,12,12,15,12,16,11,14,null,null,12,14,13,14,13,14]
[null,null,null,null,null,"C85B","X","Y",8,12,11,14,11,11,15,18,12.2,14,28,29,21,24,15,15,12,13,8,12,14,15,24,24,9,10,6,11,16,19,14,15,15,19,16,16.3,17,17,11,11,14,25.2,null,null,null,null,null,null,11,13,11,14,13,15,10,12,11,11,14,15,9,9,10,11,18,18,14,16,13,13,null,null,12,12,null,null,11,13,12,14,12,16,11,14,null,null,13,14,11,15,13,15]
[null,null,null,null,null,"C85C","X","Y",11,12,12,13,11,11,12,16,14,14.2,30,31.2,17,21,17,17,12,12,10,12,10,12,22,23,8,9.3000000000000007,9,9,16,18,12,13,20,23,16,16,11,16,10,14,19,21,null,null,null,null,null,null,11,12,12,13,13,14,9,11,11,11,13,14,10,11,9,10,14,17,15,17,8,10,null,null,11,12,null,null,12,13,12,13,12,13,10,14,null,null,11,12,11,12,14,15]
[null,null,null,null,null,"C85H","X","Y",12,12,13,13,9,12,13,13,13,16,28,29,19,23,16,17,11,13,8,10,13,14,23,25,7,9,8,10,16,20,13,14,15,16,15,15,10,15,10,11,16,22.2,null,null,null,null,null,null,7,13,11,14,15,15,9,11,11,12,13,17,10,10,8,10,18,20,15,17,8,12,null,null,11,13,null,null,12,12,13,14,12,13,10,10,null,null,12,12,11,12,14,14]
[null,null,null,null,null,"C86A","X","Y",9,12,11,11,11,11,17,23,15.2,15.2,28,30,19,23,15,17,11,11,11,12,13,14,21,22,9,9,8,9,18,20,13,15,19,21,13,15,15,16,10,11,18,24.2,null,null,null,null,12,18,7,12,13,14,14,15,9,12,9,12,13,15,8,10,9,13,14,17,14,15,10,12,null,null,13,13,null,null,11,12,14,14,16,16,13,14,null,null,11,12,14,15,14,14]
[null,null,null,null,null,"C86B","X","Y",10,11,11,12,13,13,16,18,10,12,31,31.2,16,24,14,18,12,12,10,11,11,14,22,22,6,8,6,9,15,16,13,15,17,18,16,16.3,14,16,14,14,14,15,null,null,null,null,null,null,12,12,10,11,13,15,10,11,9,11,15,15,8,9,9,11,17,18,16,17,7,9,null,null,12,12,null,null,12,13,13,14,17,18,10,14,null,null,12,13,11,11,13,15]
[null,null,null,null,null,"C86C","X","Y",11,12,11,12,9,13,12,19,14,15,29,30,20,24,16,17,11,11,8,11,10,14,25,25,8,9.3000000000000007,8,9,18,19,16,17,18,19,17.3,17.3,15,15,10,11,17,19,null,null,null,null,null,null,12,12,13,14,12,15,9,10,11,12,13,15,8,9,8,10,17,17,14,18,12,13,null,null,11,12,null,null,11,13,13,16,12,17,14,14,null,null,12,13,11,14,13,14]
[null,null,null,null,null,"C86H","X","Y",9,11,11,13,11,12,19,19,11,15.2,28,29,24,25,15,17,12,13,8,10,10,14,22,22,6,9.3000000000000007,8,9,18,18,13,13,16,21,14,15,15,16,11,14,15,26.2,null,null,null,null,null,null,12,12,11,13,14,15,11,12,11,11,13,15,9,10,9,9,14,17,15,17,7,10,null,null,12,12,null,null,12,13,12,13,13,13,13,14,null,null,10,11,11,13,14,16]
[null,null,null,null,null,"C87A","X","Y",11,12,9,11,12,14,13,17,14,14.2,31,31.2,20,20,16,16,13,13,10,11,15,18,19,19,9,9,8,11,17,18,13,14,18,19,16,16,11,16,10,11,20,29.2,null,null,null,null,10,12,7,7,13,14,14,16,11,12,11,12,14,16,9,10,9,10,17,17,14,15,8,10,null,null,11,12,null,null,12,12,13,14,12,12,13,13,null,null,11,13,11,14,13,14]
[null,null,null,null,null,"C87B","X","Y",10,11,11,12,11,12,12,15,11,13.2,30.2,31,16,25,16,17,11,12,10,11,8,11,23,29,7,7,9,11,15,17,13,14,17,20,14,15,14,17,13,14,13,15.2,null,null,null,null,null,null,12,12,10,12,13,15,12,12,11,12,13,15,9,9,10,11,17,17,15,15,8,12,null,null,12,14,null,null,13,13,15,15,15,15,10,14,null,null,12,12,11,12,14,15]
[null,null,null,null,null,"C87C","X","Y",9,10,8,9,12,13,13,17,14,14,30,31.2,17,21,16,16,11,13,11,12,14,15,22,23,6,9.3000000000000007,8,11,17,19,14,14,17,21,12,15,15,16,10,13,16,19.2,null,null,null,null,null,null,7,7,11,11,13,14,12,12,11,11,13,13,10,10,10,11,14,17,15,15,10,12,null,null,11,12,null,null,12,13,12,14,14,17,11,13,null,null,12,13,11,13,11,14]
[null,null,null,null,null,"C87H","X","Y",11,12,11,14,9,11,11,12,12,13,29,29,19,19,17,18,10,11,9,10,15,16,20,25,6,9,7,8,14,17,14,14,18.3,20,11,14,16,16,10,11,20,29.2,null,null,null,null,null,null,11,12,11,13,14,16,10,11,9,11,13,14,8,10,12,13,14,14,14,17,8,12,null,null,11,13,null,null,10,13,12,16,15,16,10,14,null,null,11,12,11,11,13,14]
[null,null,null,null,null,"C88A","X","Y",10,11,11,12,9,12,14,18,13,13,29,32,23,24,15,16,7,11,12,12,11,16,21,22,7,7,8,11,14,17,15,15,18,22,13,17.3,16,17,10,11,26.2,30.2,null,null,null,null,11,17,7,7,12,13,12,14,11,13,11,11,13,14,7,10,9,9,14,18,14,14,8,12,null,null,12,13,null,null,11,13,12,13,14,16,10,11,null,null,12,13,11,13,12,14]
[null,null,null,null,null,"C88B","X","Y",10,12,11,12,12,14,19,20,13,15,29,31,17,22,17,18,12,12,8,8,14,16,24,29,7,9,8,11,17,19,14,15,19.100000000000001,21,11,13,15,16,11,11,14,27.2,null,null,null,null,null,null,12,12,13,14,13,14,9,12,9,9,14,15,9,9,8,11,17,20,14,16,8,10,null,null,12,13,null,null,5,12,13,13,14,15,15,15,null,null,12,12,11,13,13,14]
[null,null,null,null,null,"C88C","X","Y",12,12,10,12,11,12,13,16,13,14,30,32.200000000000003,23,23,16,19,10,12,8,10,15,16,22,26,8,9,8,8,15,17,14,16,19,24,11,15.3,11,15,10,14,26.2,30.2,null,null,null,null,null,null,12,12,13,13,13,15,11,12,10,11,13,16,9,10,8,11,17,18,14,15,8,10,null,null,12,13,null,null,7,14,13,13,12,13,12,14,null,null,12,12,11,11,15,15]
[null,null,null,null,null,"C88H","X","Y",10,12,8,12,10,11,16,16,14,14,29,30,17,19,14,16,11,12,10,12,13,13,19,19,6,6,11,12,16,16,13,14,19,20,14,17.3,15,16,10,14,16,19,null,null,null,null,null,null,12,12,11,13,12,13,12,12,10,12,13,14,8,9,8,8,14,17,14,17,12,13,null,null,12,13,null,null,12,15,14,15,12,16,13,13,null,null,11,12,11,14,14,14]
[null,null,null,null,null,"C89A","X","Y",11,12,11,13,13,13,13,16,13,13,31,33.200000000000003,17,20,15,16,9,11,10,12,13,16,22,25,6,9.3000000000000007,8,11,17,17,12,14,19,21,14,16,16,17,11,12,26.2,27.2,null,null,null,null,14,18,7,7,14,14,15,16,11,12,11,12,14,16,9,9,9,10,14,17,14,15,8,10,null,null,12,12,null,null,11,13,13,16,16,17,10,13,null,null,12,12,14,15,13,15]
[null,null,null,null,null,"C89B","X","Y",10,11,9,12,11,12,12,15,11,13,30,33.200000000000003,22,24,15,16,12,12,8,11,14,15,22,25,7,8,8,9,13,16,12,14,17,20,12,15,16,16,11,12,16,28.2,null,null,null,null,null,null,8,12,12,14,13,15,11,12,9,11,14,15,9,10,8,10,17,20,15,17,8,9,null,null,12,13,null,null,12,15,12,13,15,15,10,10,null,null,13,14,11,15,14,14]
[null,null,null,null,null,"C89C","X","Y",10,11,11,13,11,12,12,13,12,17,28,29,17,20,18,19,11,11,8,12,13,13,20,21,7,8,10,11,16,18,13,13,17,17,15,16,15,16,11,14,20,27.2,null,null,null,null,null,null,12,12,10,14,13,16,11,12,11,11,13,14,9,10,9,9,14,14,14,17,8,12,null,null,12,13,null,null,11,11,14,15,17,17,10,14,null,null,13,13,11,11,14,14]
[null,null,null,null,null,"C89H","X","Y",10,11,12,13,12,12,13,14,14,14,30,32.200000000000003,17,23,15,15,11,11,11,13,14,15,24,25,6,9.3000000000000007,10,12,18,18,13,17,20,23,16,17.3,15,16,11,14,19,32.200000000000003,null,null,null,null,null,null,7,12,11,14,15,16,12,12,11,11,13,15,9,9,9,9,17,17,14,14,10,12,null,null,12,14,null,null,12,13,12,14,15,17,10,13,null,null,11,12,13,14,14,16]
[null,null,null,null,null,"C90B","X","Y",11,11,8,12,10,12,14,17,13,14,28,29,17,21,15,15,10,11,8,9,10,15,21,26,6,9,9,12,14,18,12,12,17,18,12,17.3,14,16,10,14,17,20,null,null,null,null,null,null,12,12,12,14,14,15,11,12,10,11,16,16,8,8,8,9,14,14,15,16,12,12,null,null,12,13,null,null,13,13,12,13,14,18,11,14,null,null,11,12,12,13,13,14]
[null,null,null,null,null,"C90C","X","Y",11,11,11,12,8,10,14,16,14,14,29,32.200000000000003,25,25,15,15,12,12,9,11,11,13,23,24,9.3000000000000007,9.3000000000000007,8,8,16,16,14,15,17,19,14,16,14,16,11,11,22.2,28.2,null,null,null,null,null,null,11,12,11,13,13,14,9,11,11,12,13,15,9,10,9,9,14,14,15,17,10,11,null,null,11,13,null,null,9,11,14,15,17,17,14,14,null,null,11,12,14,15,9,14]
[null,null,null,null,null,"C90H","X","Y",10,12,11,12,9,13,13,13,15,15,28,32.200000000000003,18,19,15,18,7,12,8,12,10,14,21,23,7,9,11,12,16,17,13,17,15,18,14,16,15,16,11,11,25.2,27.2,null,null,null,null,null,null,12,12,10,10,13,14,11,11,9,13,13,16,9,9,9,9,18,18,16,17,10,12,null,null,12,12,null,null,12,12,12,15,13,15,13,14,null,null,12,13,11,11,13,14]
[null,null,null,null,null,"C91A","X","Y",12,12,8,8,9,10,13,15,13,14,30,30,19,24,15,16,11,12,10,11,10,11,17,24,7,9,8,8,17,17,13,15,18,20,15,15,15,16,11,12,23.2,27.2,null,null,null,null,12,14,7,12,13,14,14,15,9,12,11,12,15,16,7,9,11,11,14,20,14,15,8,10,null,null,10,10,null,null,12,12,13,14,12,17,10,15.3,null,null,11,12,11,14,14,14]
[null,null,null,null,null,"C91B","X","Y",10,13,12,13,10,11,15,19,10,12,28,29,22,24,14,15,9,11,8,10,14,15,22,24,6,8,7,8,16,16,13,16,18,20,11,14,14,15,11,11,14.2,26.2,null,null,null,null,null,null,9,12,11,14,14,15,10,12,9,10,13,15,9,9,8,10,14,18,14,17,7,8,null,null,12,14,null,null,13,13,11,14,12,14,13,14,null,null,11,14,14,14,12,13]
[null,null,null,null,null,"C91C","X","Y",11,12,12,12,11,12,16,16,13,13,31.2,32.200000000000003,17,26,18,18,7,11,8,10,13,16,23,24,8,9.3000000000000007,8,11,16,17,14,14,17,24,12,16,16,16,14,15,13,19,null,null,null,null,null,null,11,12,14,14,14,14,9,13,9,12,13,13,9,9,8,8,14,14,17,17,10,10,null,null,12,12,null,null,12,14.2,14,14,14,17,12,14,null,null,11,12,11,13,13,15]
[null,null,null,null,null,"C91H","X","Y",9,10,9,11,11,12,12,14,14.2,16.2,30,33.200000000000003,21,24,14,14,11,12,10,11,13,15,24,25,6,7,11,11,16,18,14,14,16,18,14,17.3,15,15,10,10,20,29.2,null,null,null,null,null,null,7,8,13,13,15,15,11,12,9,11,13,13,8,10,9,9,17,18,17,17,8,10,null,null,12,13,null,null,11,13,12,13,15,17,13,14,null,null,12,12,10,13,16,16]
[null,null,null,null,null,"C92A","X","Y",9,12,10,11,9,10,13,15,14,16.2,30,30,20,23,14,17,12,13,11,12,13,14,18,20,7,8,8,11,14,15,13,15,21,22,13,17.3,15,17,11,11,18,20,null,null,null,null,11,13,7,7,13,14,15,16,12,14,10,11,14,15,9,10,8,11,18,18,14,14,8,12,null,null,12,13,null,null,11,13,13,15,12,17,13,14,null,null,12,12,15,15,14,15]
[null,null,null,null,null,"C92B","X","Y",9,11,8,9,10,12,15,16,14,15,28,31.2,19,25,17,18,11,12,10,10,12,15,23,23,7,10,8,11,15,16,14,15,17,18,16.3,17,11,17,11,11,20,25.2,null,null,null,null,null,null,12,12,13,14,13,15,10,11,10,12,15,15,9,10,11,12,14,17,16,18,8,10,null,null,11,12,null,null,12,12,13,15,17,17,10,14,null,null,11,13,14,14,14,14]
[null,null,null,null,null,"C92C","X","Y",10,11,8,13,10,12,14,17,14,15,31,31.2,17,20,15,18,10,13,9,11,10,13,20,23,9,9.3000000000000007,8,8,14,17,15,15,20,20,14,15.3,16,16,14,14,14,22.2,null,null,null,null,null,null,12,12,13,14,13,13,10,11,11,11,13,16,9,10,9,10,14,17,16,17,10,10,null,null,11,12,null,null,11,13,13,14,13,15,10,13,null,null,11,12,11,12,15,16]
[null,null,null,null,null,"C92H","X","Y",10,11,12,14,10,11,12,15,12,14,30,30,23,26,17,17,10,11,8,12,13,14,20,25,6,8,8,8,16,16,14,16,19,19,14,17.3,11,15,10,11.3,17,19,null,null,null,null,null,null,7,12,13,14,15,16,9,12,9,9,14,15,9,10,9,10,17,17,14,17,8,9,null,null,13,13,null,null,12,13,12,15,12,17,14,14,null,null,11,14,14,14,12,14]
[null,null,null,null,null,"C93A","X","Y",11,14,9,13,10,11,14,15,14,14.2,31,32.200000000000003,18,19,15,16,10,13,8,12,10,14,22,23,7,9,8,11,16,17,13,16,18,21,15,15,15,16,11,11.3,26.2,27.2,null,null,null,null,18,19,7,12,13,14,14,15,12,13,9,12,13,16,8,10,9,11,14,14,14,15,8,12,null,null,12,14,null,null,11,12,14,15,16,17,14,14,null,null,12,12,13,13,13,15]
[null,null,null,null,null,"C93B","X","Y",10,11,11,11,12,13,15,19,13.2,14,29,30,16,21,15,16,13,13,8,11,13,17,23,23,9,9.3000000000000007,8,9,15,16,12,16,18,18.3,14,15.3,11,13,11,14,17,22,null,null,null,null,null,null,10,12,13,14,15,16,12,13,9,10,14,17,9,10,11,11,18,20,14,15,8,12,null,null,12,13,null,null,11,13,12,13,12,14,10,14,null,null,11,12,11,12,13,15]
[null,null,null,null,null,"C93C","X","Y",10,12,8,12,11,12,16,18,15,16,28,31,18,20,14,17,10,12,7,10,13,14,20,25,6,8,8,9,17,18,12,13,18,18,11,14,15,16,11.3,14,20,25.2,null,null,null,null,null,null,7,10,14,14,13,14,10,11,11,11,14,15,8,9,8,12,14,17,15,17,10,10,null,null,11,13,null,null,12,14,12,14,13,15,13,14,null,null,11,12,11,15,12,14]
[null,null,null,null,null,"C93H","X","Y",8,12,9,10,11,15,15,15,14,14,29,31,17,25,16,16,11,11,10,11,11,13,22,22,8,8,10,11,16,18,13,14,20,27,13,15.3,15,16,11,14,19,19,null,null,null,null,null,null,12,12,13,13,13,13,10,12,11,12,14,15,9,10,8,12,17,18,14,18,9,12,null,null,12,13,null,null,12,13,14,16,15,17,10,14,null,null,12,12,11,11,14,15]
[null,null,null,null,null,"C94A","X","Y",12,14,9,10,9,12,15,19,13,14.2,32.200000000000003,33.200000000000003,22,22,15,18,11,12,8,10,14,15,19,20,9,9.3000000000000007,8,12,18,18,14,15,18,18,15,15,11,16,10,12,27.2,28.2,null,null,null,null,11,18,7,12,13,14,14,14,11,11,9,11,13,16,9,10,10,11,14,18,14,14,8,12,null,null,12,13,null,null,12,12,15,15,12,18,13,13,null,null,12,12,11,11,15,16]
[null,null,null,null,null,"C94B","X","Y",10,12,11,12,9,11,14,17,12.2,14,29,31.2,19,22,15,15,12,13,10,10,13,15,18.2,23,6,7,9,11,18,19,12,15,18,23,14,14,11,12,11,14,11.2,20,null,null,null,null,null,null,7,11,14,14,13,15,11,11,11,12,14,15,9,9,9,10,18,20,14,17,7,10,null,null,12,13,null,null,11,13,13,14,13,15,10,14,null,null,12,12,11,13,14,15]
[null,null,null,null,null,"C94C","X","Y",10,12,8,10,12,13,14,19,13,15,27,28,17,20,16,16,11,11,8,12,13,14,21,21,8,9.3000000000000007,9,11,16,17,13,14,17,22,11,16,16,16,14,14,18,27.2,null,null,null,null,null,null,12,12,10,13,15,15,10,11,11,12,13,13,8,9,8,9,17,18,14,16,10,10,null,null,12,12,null,null,12,15,14,14,12,16,13,14,null,null,12,12,11,14,13,14]
[null,null,null,null,null,"C94H","X","Y",11,11,10,12,9,9,16,18,13,15,29,30,22,23,15,16,11,13,10,11,14,15,19,20,7,7,8,11,14,15,14,16,18,22,14,14,15,16,11.3,12,18,30.2,null,null,null,null,null,null,12,12,10,14,12,15,11,12,10,10,13,14,9,9,8,10,14,17,14,14,10,10,null,null,13,13,null,null,12,14,14,14,17,17,10,14,null,null,11,14,11,11,14,15]
[null,null,null,null,null,"C95A","X","Y",12,13,8,12,9,12,13,16,13,15.2,29,29,19,20,17,17,11,11,11,11,11,12,19,22,7,7,8,8,17,18,13,14,18,22,14,17,11,16,10,11,23.2,31.2,null,null,null,null,14,14,7,12,10,14,14,15,10,11,9,11,15,16,8,10,9,9,17,20,14,17,8,10,null,null,11,11,null,null,13,14,13,14,16,17,11,14,null,null,12,12,11,15,13,14]
[null,null,null,null,null,"C95B","X","Y",12,13,11,12,10,12,17,20,13,14,28,28,18,21,15,17,11,"OL ",10,10,12,13,21,28,7,8,6,9,18,18,12,14,15,19,13,14,14,15,11,12,23,29.2,null,null,null,null,null,null,7,13,11,11,13,16,11,11,10,11,13,14,9,10,11,11,18,24,14,17,7,10,null,null,12,13,null,null,13,17,13,15,11,17,10,14,null,null,12,12,14,15,14,14]
[null,null,null,null,null,"C95C","X","Y",12,13,8,13,9,12,17,19,15,15,29,33.200000000000003,19,21,14,16,9,11,10,12,13,13,23,27,6,7,9,9,18,18,15,15,17,19,16,17,14,16,10,12.3,15,31.2,null,null,null,null,null,null,7,11,10,14,13,14,11,12,9,12,13,14,9,10,8,8,18,18,17,17,10,10,null,null,12,13,null,null,12,13,14,15,15,17,14,14,null,null,11,12,11,13,14,14]
[null,null,null,null,null,"C95H","X","Y",12,14,9,10,11,14,15,18,14,15,31,33.200000000000003,20,24,15,15,9,11,11,12,14,15,20,23,6,7,8,8,15,16,14,14,18,19,16,17.3,11,16,11.3,15,21,25.2,null,null,null,null,null,null,7,12,13,13,13,16,12,12,9,12,13,16,8,8,9,9,17,18,16,17,12,12,null,null,11,13,null,null,13.2,14,11,14,13,13,10,11,null,null,11,12,11,14,14,14]
[null,null,null,null,null,"C96A","X","Y",10,11,8,11,9,11,15,21,14.2,16.2,30,31.2,24,25,15,16,11,12,10,12,10,13,20,21,6,6,8,12,14,18,13,13,18,21,15,16,11,15,10,11,26.2,27.2,null,null,null,null,11,14,7,7,14,14,13,14,12,12,9,9,13,15,10,10,9,9,17,17,14,17,8,12,null,null,12,12,null,null,11,14,12,14,14,17,10,14,null,null,11,12,11,14,13,14]
[null,null,null,null,null,"C96B","X","Y",11,12,12,12,12,13,16,16,11,13,28,30,22,22,15,16,10,12,9,11,11,14,22,24,6,7,8,11,16,19,13,14,15,18,12,16,15,17,10,12,20,27.2,null,null,null,null,null,null,11,12,12,13,14,14,9,12,9,10,15,16,8,9,9,11,14,18,14,17,7,9,null,null,12,13,null,null,12,12,13,13,14,15,10,14,null,null,11,14,11,15,14,14]
[null,null,null,null,null,"C96C","X","Y",10,13,11,13,11,12,13,13,14,15,30,30.2,17,17,15,15,12,13,8,12,12,12,22,22,6,9.3000000000000007,9,11,17,17,13,14,20,21,12,15,15,17,11,12.3,30.2,31.2,null,null,null,null,null,null,11,12,10,14,12,15,10,12,9,11,11,16,9,9,11,11,18,23,15,15,10,12,null,null,12,13,null,null,11,12,12,14,15,17,14,14,null,null,11,11,11,13,13,15]
[null,null,null,null,null,"C96H","X","Y",11,12,9,14,12,13,14,17,13,13.2,29,33,18,21,15,16,10,12,10,11,12,14,23,24,9,9.3000000000000007,8,11,17,17,11,13,18,21,13,14,16,17,11,11.3,22,29.2,null,null,null,null,null,null,11,12,11,13,15,17,10,11,10,11,14,16,10,10,9,9,14,17,14,17,10,10,null,null,13,13,null,null,11,13,12,13,17,17,14,14,null,null,12,14,11,15,14,14]
[null,null,null,null,null,"C97A","X","Y",10,12,8,11,9,12,14,14,14,15.2,28,32.200000000000003,19,22,16,18,8,10,11,11,12,16,22,23,7,9,11,12,14,18,13,14,20,25,15,17.3,11,17,11,11,15,28.2,null,null,null,null,17,17,7,7,13,14,15,15,10,12,9,11,13,13,8,9,8,11,17,17,14,17,12,12,null,null,11,13,null,null,13,13,12,14,16,17,14,14,null,null,10,13,13,13,10,14]
[null,null,null,null,null,"C97B","X","Y",9,11,9,12,10,11,12,17,14,15.2,30,33.200000000000003,18,25,15,17,7,13,10,12,13,15,24,25,6,9,8,10,17,17,11,15,16,19,14,17.3,11,17,14,14,19,28.2,null,null,null,null,null,null,8,12,11,14,12,16,9,12,9,12,14,15,8,9,9,10,17,17,15,17,12,14,null,null,13,13,null,null,13,13,14,16,15,15,13,14,null,null,10,12,14,15,13,13]
[null,null,null,null,null,"C97C","X","Y",11,12,8,9,11,11,15,18,14,14,29,29,19,23,15,17,11,12,10,11,10,11,24,26,9,9.3000000000000007,9,11,14,17,12,14,17,20,11,12,15,15,10,14,28.2,31.2,null,null,null,null,null,null,7,12,11,13,12,15,8,11,11,11,15,15,9,9,8,11,17,17,16,18,10,10,null,null,12,12,null,null,13,13,15,15,12,15,10,13,null,null,12,12,14,14,13,15]
[null,null,null,null,null,"C97H","X","Y",11,12,10,14,9,11,13,18,15,16,30,33.200000000000003,19,22,15,15,11,11,10,11,12,15,20,27,7,7,8,11,18,18,14,15,16,20,12,16.3,15,15,10,14,27.2,27.2,null,null,null,null,null,null,7,11,10,14,13,16,11,13,11,12,13,15,9,10,9,9,17,18,14,16,10,10,null,null,11,13,null,null,11,14,13,14,13,17,10,13,null,null,11,12,11,11,14,16]
[null,null,null,null,null,"C98A","X","Y",10,11,10,12,9,10,13,16,13,15,30,32,19,20,16,16,9,11,10,10,12,14,22,23,6,6,8,9,14,17,16,16,15,18,15,17,15,15,12,12,21,28.2,null,null,null,null,12,19,7,12,13,13,14,15,12,13,11,11,14,14,9,10,11,11,14,17,14,15,10,12,null,null,12,12,null,null,8,13,14,14,17,17,13,14,null,null,12,13,11,11,14,15]
[null,null,null,null,null,"C98B","X","Y",7,12,9,10,11,13,13,17,13,14.2,28,30,20,21,15,17,11,12,10,11,13,14,21,21,8,9.3000000000000007,8,10,11,15,12,16,18,19,14,17,11,15,11,11,17,21.2,null,null,null,null,null,null,12,12,10,13,14,16,8,11,9,11,13,15,9,10,8,12,17,20,14,16,7,10,null,null,13,13,null,null,13,15,13,13,17,17,10,11,null,null,11,12,11,15,14,16]
[null,null,null,null,null,"C98C","X","Y",10,11,9,12,9,12,15,15,14,15,29,36,17,21,16,18,11,12,9,12,11,15,23,26,6,7,8,12,18,18,12,15,20,24,16,16,11,16,10,15,26.2,31.2,null,null,null,null,null,null,7,12,10,11,13,16,11,12,9,11,14,14,10,10,8,9,17,17,14,15,8,12,null,null,13,14,null,null,12,13,14,15,15,18,14,14,null,null,12,12,11,13,15,15]
[null,null,null,null,null,"C98H","X","Y",12,12,12,12,10,13,13,15,14,14,32.200000000000003,32.200000000000003,20,23,14,16,13,13,10,11,8,15,21,23,7,7,8,11,16,18,13,14,21,21,12,14,15,15,11.3,15,17,19,null,null,null,null,null,null,7,10,10,13,16,16,9,12,9,12,12,14,9,9,10,10,17,17,15,15,8,13,null,null,13,13,null,null,13,14,13,14,13,15,10,11,null,null,11,12,11,11,13,14]
[null,null,null,null,null,"C99A","X","Y",10,13,11,12,9,11,15,15,14,16.2,31,31,18,19,16,19,9,11,8,11,12,13,20,23,7,9,11,11,16,18,13,13,17,18,13,17.3,15,17,11,11,20,24.2,null,null,null,null,13,16,7,7,13,14,14,15,11,12,9,12,14,16,8,9,10,11,17,18,14,15,8,10,null,null,12,13,null,null,12,13,14,15,17,17,11,14,null,null,13,14,11,11,13,14]
[null,null,null,null,null,"C99B","X","Y",9,11,12,13,11,12,15,19,14,15,28,28,19,23,16,18,11,12,9,10,12,14,22.2,24,8,9,11,11,15,16,13,14,21,23,13,14,11,16,10,10,14,17,null,null,null,null,null,null,12,12,10,13,14,14,12,12,9,11,13,15,9,10,8,10,14,18,15,17,10,10,null,null,12,13,null,null,12,13,12,15,13,14,10,10,null,null,11,12,12,13,13,14]
[null,null,null,null,null,"C99C","X","Y",11,12,12,12,12,12,15,17,13,14,28,30,19,20,17,18,11,12,8,13,12,17,20,21,6,7,8,11,16,20,13,16,15,19,13,17.3,15,16,10,11.3,23.2,27.2,null,null,null,null,null,null,7,12,11,14,12,14,10,12,10,11,15,16,9,9,10,10,18,23,16,18,10,12,null,null,12,12,null,null,11,12,13,14,15,17,13,13,null,null,11,12,11,14,13,14]
[null,null,null,null,null,"C99H","X","Y",10,11,8,9,8,11,14,18,15,16,30,30,17,23,15,17,12,13,8,10,13,13,19,24,9.3000000000000007,9.3000000000000007,8,11,16,17,14,17,16,18,12,15,15,17,11,14,18,27.2,null,null,null,null,null,null,11,12,12,14,12,15,12,12,11,12,14,15,9,9,8,10,17,17,14,18,10,10,null,null,11,13,null,null,12,13,13,14,17,17,11,13,null,null,11,14,11,11,14,15]

{"sheet":"DateTime","index":16,"n_rows":56,"n_cols":6,"rows_kept":56,"cut":false,"hidden":false,"merged":[]}
["Parameter","Value","Format","Status",null,"Whoops… Date-Time format issue!"]
["Date","2014-06-04T15:58:23.260","dd-mmm-yy","Valid"]
["Time",41794.665546990742,"hh:mm:s","Valid",null,"Different versions of Excel support different date and time formats."]
["DateTime","2014-06-04T15:58:23.260","dd-mmm-yy hh:mm:s","Valid",null,"The default formats (in Excel-eze, \"dd-mm-yy\" and \"hh:mm:ss\") are not valid for your system."]
[]
[null,null,null,null,null,"Please use Excel's standard Format menubar tool to format the contents of cells B2 and B3 (rows 2 and 3 of col 2)."]
[null,null,null,null,null,"to show the date (day, month and year) and time (hour, minute, second)."]
[null,null,null,null,null,"In the Excel system used to build this program, the date and time format tool is accessible from the"]
[null,null,null,null,null,"\"Number\" page of the \"Cells…\" entry of the \"Format\" menu of the MenuBar (Format > Cells… > Number)."]
[]
[null,null,null,null,null,"Use the \"Date\" item of the Number page to set the date format of cell B2 (row 2 col 2) and"]
[null,null,null,null,null,"the \"Time\" item to set the time format of cell B3 (row 3 col 2)."]
[null,null,null,null,null,"Once the contents of these two cells display to you satisfaction, click the Check It button below."]
[]
[null,null,null,null,null,"With any luck, you should never see this page (in this particular program) again!"]
[null,null,null,null,null,"If you encounter difficulties, please contact Dave Duewer (David.Duewer@NIST.gov) with details."]
[]
[]
[]
[]
[]
[]
[]
[]
[]
[]
[]
[]
[]
[]
[]
[]
[]
[]
[]
[]
[]
[]
[]
[]
[]
[]
[]
[]
[]
[]
[]
[]
[]
[]
[]
[]
[]
[]
[null,null,null,null,null,140]
[null,null,null,null,null,{"$f":"F55/200","v":0.7}]

{"sheet":"Work","index":17,"n_rows":0,"n_cols":0,"rows_kept":0,"cut":false,"hidden":false,"merged":[]}